{"text_format":"1","workbook":"xlsx","n_sheets":25,"sheets":["Komplett resultat","Prislista","D 9-10","Poängberäkning","H 9-10","D 11-12","H 11-12","D 13-14","H 13-14","D 15-16","H 15-16","D-17-","H 17-","Nya namn","Res D9-10","Res H9-10","Res D1-12","Res H11-12","Res D13-14","Res H13-14","Res D15-16","Res H15-16","Res D17-","Res H17- ","Manual"],"not_rendered":{"charts":0,"images":3,"macros":1,"external_links":1,"defined_names":11,"comments":0,"pivot_tables":0},"unopened":[],"bounds":{"document_bytes":16777216,"sheet_cells":100000,"rows_first":2000,"rows_last":500,"rows_between":2000,"halvings":0,"cell_chars":16384,"cell_head_chars":4096},"cells_cut":0,"cells_raw":0,"read":"whole","date_system":"1900"}

{"sheet":"Komplett resultat","index":0,"n_rows":657,"n_cols":27,"rows_kept":657,"cut":false,"hidden":false,"merged":[[587,16,588,17],[587,18,588,19],[588,4,588,5],[589,6,589,7],[589,8,589,9],[589,10,589,11],[589,12,589,13],[589,14,589,15],[589,16,589,17],[589,18,589,19],[586,7,586,13],[587,0,588,1],[587,2,588,3],[587,4,587,5],[587,6,588,7],[587,8,588,9],[587,10,588,11],[587,12,588,13],[587,14,588,15],[519,6,519,7],[519,8,519,9],[519,10,519,11],[519,12,519,13],[519,14,519,15],[517,16,518,17],[517,18,518,19],[519,16,519,17],[519,18,519,19],[462,14,462,15],[516,7,516,13],[517,0,518,1],[517,2,518,3],[517,4,517,5],[517,6,518,7],[517,8,518,9],[517,10,518,11],[517,12,518,13],[517,14,518,15],[518,4,518,5],[462,6,462,7],[462,8,462,9],[462,10,462,11],[462,12,462,13],[400,14,400,15],[459,7,459,13],[460,0,461,1],[460,2,461,3],[460,4,460,5],[460,6,461,7],[460,8,461,9],[460,10,461,11],[460,12,461,13],[460,14,461,15],[461,4,461,5],[400,6,400,7],[400,8,400,9],[400,10,400,11],[400,12,400,13],[320,14,321,15],[321,4,321,5],[322,6,322,7],[322,8,322,9],[322,10,322,11],[322,12,322,13],[322,14,322,15],[397,7,397,13],[398,0,399,1],[398,2,399,3],[398,4,398,5],[398,6,399,7],[398,8,399,9],[398,10,399,11],[398,12,399,13],[398,14,399,15],[399,4,399,5],[230,12,231,13],[230,14,231,15],[231,4,231,5],[41,7,41,13],[319,7,319,13],[320,0,321,1],[320,2,321,3],[320,4,320,5],[320,6,321,7],[320,8,321,9],[320,10,321,11],[320,12,321,13],[171,6,171,7],[171,8,171,9],[171,10,171,11],[171,12,171,13],[232,6,232,7],[232,8,232,9],[232,10,232,11],[232,12,232,13],[44,6,44,7],[44,8,44,9],[44,10,44,11],[44,12,44,13],[232,14,232,15],[229,7,229,13],[90,6,90,7],[90,8,90,9],[90,10,90,11],[90,12,90,13],[90,14,90,15],[169,0,170,1],[169,2,170,3],[169,4,169,5],[169,6,170,7],[169,8,170,9],[169,10,170,11],[169,12,170,13],[169,14,170,15],[170,4,170,5],[168,7,168,13],[171,14,171,15],[230,0,231,1],[230,2,231,3],[230,4,230,5],[230,6,231,7],[230,8,231,9],[230,10,231,11],[44,14,44,15],[88,0,89,1],[88,2,89,3],[88,4,88,5],[88,6,89,7],[88,8,89,9],[88,10,89,11],[88,12,89,13],[88,14,89,15],[89,4,89,5],[87,7,87,13],[42,6,43,7],[42,8,43,9],[42,10,43,11],[42,12,43,13],[42,14,43,15],[43,4,43,5],[1,0,2,1],[1,2,2,3],[1,4,1,5],[1,6,2,7],[1,8,2,9],[1,10,2,11],[1,12,2,13],[1,14,2,15],[42,0,43,1],[42,2,43,3],[42,4,42,5],[0,2,0,3],[2,24,3,27],[3,6,3,7],[3,8,3,9],[3,10,3,11],[3,12,3,13],[3,14,3,15],[3,16,3,17],[3,18,3,19],[3,20,3,21],[3,22,3,23],[1,16,2,17],[1,18,2,19],[1,20,1,21],[1,22,2,23],[2,4,2,5],[2,20,2,21],[0,7,0,13]]}
[null,null,{"$f":"CONCATENATE(\"Slutresultat DalaCupen\",\"  \",'D 9-10'!B1)","v":"Slutresultat DalaCupen  2016"},null,null,null,null,"Plac 99 = DNF eller DSQ"]
["D 9 -10",null,null,null,null,null,"Sälen GS",null,"Falun GS",null,"Norrbärke SL",null,"Borlänge SL",null,"Orsa GS"]
[null,null,null,null,"Poäng"]
["Plac","Född","Namn","Klubb","3 Bästa","Tot","Sö 24/1   Tot",null,"Sö 14/2      Tot",null,"Sö 21/2    Tot",null,"Lö 27/2   Tot",null,"Lö 2/4   Tot"]
[1,2006,"NORLING Julia","Leksands SLK",260,340,2,80,1,100,2,80,null,0,2,80]
[2,2007,"WESSUNG Lina","IFK Mora AK",220,264,3,70,null,0,3,70,2,80,9,44]
[3,2006,"ANDERSSON Siri","IFK Borlänge",205,247,null,0,2,80,5,55,3,70,10,42]
[4,2006,"ERKERS Hanna","Leksands SLK",164,164,null,0,3,70,null,0,4,60,17,34]
[5,2006,"JONSSON Lovisa","Sälens IF",155,155,1,100,null,0,null,0,null,0,5,55]
[6,2006,"LINDBERG Lisa","Arboga Alpina",148,148,null,0,null,0,1,100,null,0,7,48]
[7,2007,"GUSTAFSSON Wilma","Örebro SLF",147,147,4,60,99,0,6,50,null,0,14,37]
[8,2007,"BORGLJUNG Agnes","IFK Falun",115,115,null,0,4,60,null,0,5,55,null,0]
[9,2007,"SANDBERG Klara","Örebro SLF",103,103,5,55,null,0,7,48,null,0,null,0]
[10,2006,"CERWALL Sandra","Karlstads SLK",100,100,null,0,null,0,null,0,null,0,1,100]
[".",2006,"PETRELIUS Ellen","Kungsbergets AK",100,100,null,0,null,0,null,0,1,100,null,0]
[12,2007,"LINGEMYR Amanda","Gävle Alpina SK",82,82,null,0,6,50,null,0,null,0,19,32]
[13,2006,"VIKING Nike","Uppsala SLK",70,70,null,0,null,0,null,0,null,0,3,70]
[14,2006,"CERWALL Emilia","Karlskoga SLK",60,60,null,0,null,0,null,0,null,0,4,60]
[".",1900,"ANDERSSON Emma","Norrbärke SK Alpin",60,60,null,0,null,0,4,60,null,0,null,0]
[16,1900,"BÄCK Maja","IFK Falun",55,55,null,0,5,55,null,0,null,0,null,0]
[".",2006,"TJÄRNÅS Tilde","Vemdalens IF",50,50,null,0,null,0,null,0,null,0,6,50]
[".",2007,"TÖRNQVIST Ida","IFK Borlänge",50,50,null,0,null,0,null,0,6,50,null,0]
[19,2007,"AHLENIUS Clara","Orsa Alpina Klubb",48,48,null,0,7,48,null,0,null,0,null,0]
[".",2006,"KIEKSI Anna","IFK Borlänge",48,48,null,0,null,0,null,0,7,48,null,0]
[21,2006,"GEZELIUS Elin","IFK Mora AK",46,46,null,0,null,0,null,0,null,0,8,46]
[22,2006,"ROSBERG Ellinor","Kungsbergets AK",40,40,null,0,null,0,null,0,null,0,11,40]
[23,2007,"HEDLUND Gry","Kungsbergets AK",39,39,null,0,null,0,null,0,null,0,12,39]
[24,2006,"PETTERSSON Irma","Kungsbergets AK",38,38,null,0,null,0,null,0,null,0,13,38]
[25,2007,"LOFT Melina","Klövsjö Alpina",36,36,null,0,null,0,null,0,null,0,15,36]
[26,2007,"FJÄLLRYD Alice","Örebro SLF",35,35,null,0,null,0,null,0,null,0,16,35]
[27,2006,"WIKZELL Athena","Rättviks SLK",33,33,null,0,null,0,null,0,null,0,18,33]
[28,2007,"LODIN Astrid","Branäs AK",31,31,null,0,null,0,null,0,null,0,20,31]
[29,2007,"HÖGLUND Helle","IFK Mora AK",30,30,null,0,null,0,null,0,null,0,21,30]
[30,2007,"WIBORG Nova","Orsa Alpina Klubb",29,29,null,0,null,0,null,0,null,0,22,29]
[31,2006,"MAGNUSSON Irma","Västerås Slalomklubb",28,28,null,0,null,0,null,0,null,0,23,28]
[" ",2007,"ANDERSSON Tiffany","Avesta AK",0,0,null,0,99,0,null,0,null,0,null,0]
[" ",2007,"HAHLIN Elin","IFK Mora AK",0,0,null,0,null,0,null,0,null,0,null,0]
[" ",2006,"LINDSTRÖM Stella","Åre SLK",0,0,null,0,null,0,null,0,null,0,null,0]
[" "]
[" "]
[" "]
[" ",null,{"$f":"C1","v":"Slutresultat DalaCupen  2016"},null,null,null,null,"Plac 99 = DNF eller DSQ"]
["H 9 -10",null,null,null,null,null,"Sälen GS",null,"Falun GS",null,"Norrbärke SL",null,"Borlänge SL",null,"Orsa GS"]
[null,null,null,null,"Poäng"]
["Plac","Född","Namn","Klubb","3 Bästa","Tot","Sö 24/1   Tot",null,"Sö 14/2      Tot",null,"Sö 21/2    Tot",null,"Lö 27/2   Tot",null,"Lö 2/4   Tot"]
[1,2006,"LILJENBORG Liam","IFK Falun",300,380,1,100,1,100,1,100,2,80,99,0]
[2,2006,"ARAPOGLOU Pontus","Rättviks SLK",220,247,2,80,2,80,99,0,4,60,24,27]
[3,2006,"WESTLUND Elliot","Kungsbergets AK",200,200,null,0,null,0,null,0,1,100,1,100]
[4,2007,"PALMÉR Hugo","Örebro SLF",198,244,7,48,null,0,2,80,3,70,8,46]
[5,2006,"ÅKERSTRÖM Mattias","Örebro SLF",195,274,6,50,3,70,3,70,5,55,22,29]
[6,2007,"GRIMBERG Axel","IFK Falun",170,254,8,46,4,60,4,60,6,50,13,38]
[7,2007,"STRANDBERG Oliver","IFK Falun",121,121,13,38,6,50,null,0,99,0,18,33]
[8,2006,"FROST Olle","IFK Mora AK",120,120,4,60,null,0,null,0,null,0,4,60]
[9,2006,"LARSSON Felix","Uppsala SLK",80,80,null,0,null,0,null,0,null,0,2,80]
[10,2007,"HANSSON Julian","Sälens IF",79,79,10,42,null,0,null,0,null,0,14,37]
[11,2007,"KARELIUS Maximus","Sälens IF",78,78,12,39,null,0,null,0,null,0,12,39]
[12,2007,"WAHMAN Olle","Örebro SLF",75,75,11,40,null,0,null,0,null,0,16,35]
[13,2006,"KARLSSON Petter","Västerås Slalomklubb",70,70,null,0,null,0,null,0,null,0,3,70]
[".",2006,"PÅLSSON Max","Sälens IF",70,70,3,70,null,0,null,0,null,0,99,0]
[15,2006,"HARLIN Ludvig","IFK Falun",55,55,null,0,5,55,null,0,null,0,null,0]
[".",2006,"HJELMSTRÖM Carl","Uppsala SLK",55,55,null,0,null,0,null,0,null,0,5,55]
[".",2007,"JAKOBSSON Gustav","Norrbärke SK Alpin",55,55,null,0,null,0,5,55,null,0,null,0]
[".",2007,"OSKARSSON Ludvig","Sälens IF",55,55,5,55,null,0,null,0,null,0,null,0]
[19,2007,"HOLMSTRÖM Herman","IFK Mora AK",50,50,null,0,null,0,null,0,null,0,6,50]
[".",2006,"MOVERARE Sixten","Rättviks SLK",50,50,null,0,99,0,6,50,99,0,null,0]
[21,2006,"BERKEBO Daniel","IFK Borlänge",48,48,null,0,null,0,null,0,7,48,null,0]
[".",2006,"JOHANSSON Edwin","Bollnäs AK",48,48,null,0,null,0,null,0,null,0,7,48]
[".",2007,"LJUNGQVIST Lucas","IFK Falun",48,48,99,0,7,48,null,0,null,0,null,0]
[24,2006,"NORD Alexander","IFK Borlänge",46,46,null,0,null,0,null,0,8,46,null,0]
[25,2007,"BJÖRKMAN Oliver","IFK Mora AK",44,44,9,44,null,0,null,0,null,0,99,0]
[".",2006,"LUND Jonas","Järvsö IF",44,44,null,0,null,0,null,0,null,0,9,44]
[".",2007,"NOACK Måns","Gävle Alpina SK",44,44,null,0,null,0,null,0,9,44,null,0]
[28,2007,"OLSSON Theodor","Kils SLK",42,42,null,0,null,0,null,0,null,0,10,42]
[29,2006,"EDSTRÖM Hugo","Örebro SLF",40,40,null,0,null,0,null,0,null,0,11,40]
[30,2007,"HOLTH LYSTAD Filip","Valfjällets SLK",36,36,null,0,null,0,null,0,null,0,15,36]
[31,2006,"LUNDEBERG Filip","Västerås Slalomklubb",34,34,null,0,null,0,null,0,null,0,17,34]
[32,2006,"PÄNDEL Edvin","Gävle Alpina SK",32,32,null,0,null,0,null,0,null,0,19,32]
[33,2007,"MANI Oscar","Uppsala SLK",31,31,null,0,null,0,null,0,null,0,20,31]
[34,2007,"HOLMLUND Felix","Västerås Slalomklubb",30,30,null,0,null,0,null,0,99,0,21,30]
[35,2007,"DAHLBERG Nemo","Västerås Slalomklubb",28,28,null,0,null,0,null,0,null,0,23,28]
[" ",2007,"AXELSSON Lukas","IFK Mora AK",0,0,null,0,null,0,null,0,null,0,null,0]
[" ",2007,"HANSSON Kasper","Kungsbergets AK",0,0,null,0,null,0,null,0,null,0,null,0]
[" ",2006,"LANGER Aston","Uppsala SLK",0,0,null,0,null,0,null,0,null,0,null,0]
[" ",2006,"RÅDSTRÖM Teddy","Branäs AK",0,0,null,0,null,0,null,0,null,0,99,0]
[]
[]
[]
[null,null,{"$f":"C1","v":"Slutresultat DalaCupen  2016"},null,null,null,null,"Plac 99 = DNF eller DSQ"]
["D 11-12",null,null,null,null,null,"Sälen GS",null,"Falun GS",null,"Norrbärke SL",null,"Borlänge SL",null,"Orsa GS"]
[null,null,null,null,"Poäng"]
["Plac","Född","Namn","Klubb","3 Bästa","Tot","Sö 24/1   Tot",null,"Sö 14/2      Tot",null,"Sö 21/2    Tot",null,"Lö 27/2   Tot",null,"Lö 2/4   Tot"]
[1,2004,"SANDBERG Hilma","Rättviks SLK",250,310,3,70,1,100,null,0,2,80,4,60]
[2,2004,"WENGRUD Nova","Leksands SLK",215,287,2,80,2,80,5,55,13,38,17,34]
[3,2004,"ÅKERSTRÖM Matilda","Örebro SLF",195,259,4,60,11,40,2,80,5,55,27,24]
[4,2004,"ELIASSON Mimmi","Rättviks SLK",160,160,5,55,3,70,null,0,99,0,16,35]
[5,2004,"GATU Alma","Rättviks SLK",154,154,7,48,4,60,null,0,null,0,8,46]
[".",2004,"TÖRNQVIST Nova","IFK Borlänge",154,154,null,0,5,55,4,60,99,0,12,39]
[7,2004,"TÖRNQVIST Nellie","IFK Borlänge",144,152,null,0,7,48,7,48,7,48,43,8]
[8,2005,"LANDSTRÖM Moa","Västerås Slalomklubb",140,140,99,0,null,0,1,100,99,0,11,40]
[9,2005,"LINDBERG Julia","Leksands SLK",136,199,10,42,9,44,10,42,6,50,30,21]
[10,2005,"GUSTAFSSON Rebecka","Örebro SLF",134,136,9,44,6,50,11,40,null,0,49,2]
[11,2005,"BJÖRNHAGER Clara","Norrbärke SK Alpin",124,124,null,0,15,36,8,46,10,42,null,0]
[12,2004,"PERSSON Emma","IFK Borlänge",123,166,14,37,13,38,12,39,8,46,45,6]
[13,2005,"ANDERSSON Melinda","Örebro SLF",121,121,12,39,8,46,null,0,null,0,15,36]
[14,2004,"JOHANSSON Alice","Bollnäs AK",100,100,null,0,null,0,null,0,null,0,1,100]
[".",2005,"HOLMQVIST Emma","Järfälla AK",100,100,null,0,null,0,null,0,1,100,null,0]
[".",2004,"KANDELL Tuva","Leksands SLK",100,100,1,100,99,0,null,0,null,0,null,0]
[17,2005,"NYHEM Frida","Norrbärke SK Alpin",83,83,null,0,null,0,9,44,12,39,null,0]
[18,2004,"MICKELSSON Lisa","IF Hudik Alpin",80,80,null,0,null,0,null,0,null,0,2,80]
[19,2005,"SEGER Nellie","Norrbärke SK Alpin",78,78,null,0,null,0,13,38,11,40,null,0]
[20,2004,"ENGBERG Tindra","IFK Mora AK",76,76,6,50,null,0,null,0,null,0,25,26]
[21,2004,"LARSEN Ida","Gävle Alpina SK",74,74,null,0,null,0,null,0,14,37,14,37]
[22,2004,"SANDBERG Lovisa","Tunafors SK",70,70,null,0,null,0,null,0,null,0,3,70]
[".",1900,"ANDERSSON Matilda","Norrbärke SK Alpin",70,70,null,0,null,0,3,70,null,0,null,0]
[".",2005,"SANDBERG Ida","Örebro SLF",70,70,17,34,null,0,15,36,null,0,null,0]
[".",2004,"ZACHO Felicia","Landskrona SC",70,70,null,0,null,0,null,0,3,70,null,0]
[26,2005,"NYMAN Karin","Norrbärke SK Alpin",68,68,null,0,18,33,16,35,null,0,null,0]
[27,2005,"LUNDBERG Emma","Arboga Alpina",65,65,null,0,null,0,6,50,null,0,36,15]
[28,2005,"MÅRTENSSON Ester","Huddinge SK AF",60,60,null,0,null,0,null,0,4,60,null,0]
[29,2005,"VON REEDTZ Johanna","Gävle Alpina SK",56,56,null,0,null,0,null,0,9,44,39,12]
[30,2004,"ÖIEN Iris","Karlstads SLK",55,55,null,0,null,0,null,0,99,0,5,55]
[".",2005,"SAHLANDER Hilda","IFK Mora AK",55,55,15,36,null,0,null,0,null,0,32,19]
[".",2005,"WAHMAN Rut","Örebro SLF",55,55,8,46,null,0,null,0,null,0,42,9]
[33,2005,"FROST Elsa","IFK Mora AK",51,51,16,35,null,0,null,0,null,0,35,16]
[".",2005,"SILFWERPLATZ Maya","Malungs SLK",51,51,null,0,14,37,null,0,null,0,37,14]
[35,2004,"FORSBERG Karin","Sollentuna SLK",50,50,null,0,null,0,null,0,null,0,6,50]
[36,2004,"BJÖRKMAN Saga","Uppsala SLK",48,48,null,0,null,0,null,0,null,0,7,48]
[37,2005,"BENGTSSON Hilda","Bollnäs AK",44,44,null,0,null,0,null,0,null,0,9,44]
[38,2005,"BENGTSSON Linnea","Bollnäs AK",42,42,null,0,null,0,null,0,null,0,10,42]
[".",2005,"NILSSON Linn","Tunafors SK",42,42,null,0,10,42,null,0,null,0,null,0]
[40,2005,"GRANATH Nella","IFK Falun",40,40,null,0,12,39,null,0,null,0,50,1]
[".",2004,"MALMBERG Marissa","Sälens IF",40,40,11,40,null,0,null,0,null,0,null,0]
[42,2005,"DALSLÅEN Ellen","Sunne A K",38,38,null,0,null,0,null,0,null,0,13,38]
[".",2004,"MARRAKCHI Sara","Sälens IF",38,38,13,38,null,0,null,0,null,0,null,0]
[44,2005,"BJÖRKLUND Ellen","Norrbärke SK Alpin",37,37,null,0,null,0,14,37,null,0,null,0]
[45,2005,"MÅRTENSSON Tilda","Högby Alpina SLK",35,35,null,0,16,35,null,0,null,0,null,0]
[46,2004,"LARSSON Tilde","Uppsala SLK",34,34,null,0,null,0,null,0,null,0,17,34]
[".",2004,"MÖRTBERG Klara","Uppsala SLK",34,34,null,0,null,0,null,0,null,0,17,34]
[".",2004,"GROPGÅRD Ella","Leksands SLK",34,34,null,0,17,34,null,0,null,0,null,0]
[49,2005,"HEDLÖF Ebba","Gävle Alpina SK",31,31,null,0,null,0,null,0,99,0,20,31]
[50,2005,"LORENTSSON Moa","IFK Mora AK",30,30,null,0,null,0,null,0,null,0,21,30]
[51,2004,"TJÄRNESTIG Meja","Valfjällets SLK",29,29,null,0,null,0,null,0,null,0,22,29]
[52,2005,"RIHPA MANN Agnes","Vemdalens IF",28,28,null,0,null,0,null,0,null,0,23,28]
[53,2004,"DAHLBERG Meja","Västerås Slalomklubb",27,27,null,0,null,0,null,0,null,0,24,27]
[54,2004,"FERNSTEN Filippa","Arboga Alpina",25,25,null,0,null,0,null,0,null,0,26,25]
[55,2005,"BERG Hilda","IFK Mora AK",23,23,null,0,null,0,null,0,null,0,28,23]
[56,2005,"THOMASSON Sofia","Orsa Alpina Klubb",22,22,null,0,null,0,null,0,null,0,29,22]
[57,2005,"HÖGLUND Tilde","IFK Mora AK",20,20,null,0,null,0,null,0,null,0,31,20]
[58,2005,"HEDLUND Tea","Kungsbergets AK",18,18,null,0,null,0,null,0,null,0,33,18]
[59,2005,"WENGELIN Irma","Kungsbergets AK",17,17,null,0,null,0,null,0,null,0,34,17]
[60,2005,"BERGSTRÖM stina","Uppsala SLK",13,13,null,0,null,0,null,0,null,0,38,13]
[61,2005,"ULVENVALL Linn","Sollentuna SLK",11,11,null,0,null,0,null,0,null,0,40,11]
[62,2005,"KRISTOFFERSSON Nelly","Härnösands Alpina Klubb",10,10,null,0,null,0,null,0,null,0,41,10]
[63,2005,"AXELSSON Clara","IFK Mora AK",7,7,null,0,null,0,null,0,null,0,44,7]
[64,2005,"ROMBO Indra","IFK Mora AK",5,5,null,0,null,0,null,0,null,0,46,5]
[65,2005,"MAGNUSSON Elise","Uppsala SLK",4,4,null,0,null,0,null,0,null,0,47,4]
[66,2004,"LARSSON Wilmah","Båsenberga SLK",3,3,null,0,null,0,null,0,null,0,48,3]
[67,2005,"HOLLWIN ANDERSSON Lovisa","Norrköpings SK",1,1,null,0,null,0,null,0,null,0,51,1]
[67,2004,"FAST Ellen","IFK Sävsjö",1,1,null,0,null,0,null,0,null,0,52,1]
[" ",2005,"OLEBRO-LUNDHOLM Elsa","Gävle Alpina SK",0,0,null,0,null,0,null,0,null,0,99,0]
[" ",2004,"GUSTAFSSON Saga","Västerås Slalomklubb",0,0,null,0,null,0,null,0,99,0,null,0]
[" ",2005,"HEDERSTRÖM Ellen","Kungsbergets AK",0,0,null,0,null,0,null,0,99,0,null,0]
[" ",2005,"RYLANDER Elsa","Västerås Slalomklubb",0,0,null,0,null,0,null,0,null,0,null,0]
[" ",2004,"TYRÉN Klara","Bollnäs AK",0,0,null,0,null,0,null,0,null,0,null,0]
[" ",2005,"VIBERG Alma","IFK Sävsjö",0,0,null,0,null,0,null,0,null,0,null,0]
[]
[]
[]
[null,null,{"$f":"C1","v":"Slutresultat DalaCupen  2016"},null,null,null,null,"Plac 99 = DNF eller DSQ"]
["H 11-12",null,null,null,null,null,"Sälen GS",null,"Falun GS",null,"Norrbärke SL",null,"Borlänge SL",null,"Orsa GS"]
[null,null,null,null,"Poäng"]
["Plac","Född","Namn","Klubb","3 Bästa","Tot","Sö 24/1   Tot",null,"Sö 14/2      Tot",null,"Sö 21/2    Tot",null,"Lö 27/2   Tot",null,"Lö 2/4   Tot"]
[1,2004,"SÖDERLIND Linus","Örebro SLF",280,280,1,100,null,0,1,100,99,0,2,80]
[2,2004,"WIKZELL Dante","Rättviks SLK",210,260,4,60,2,80,null,0,3,70,6,50]
[3,2004,"WAHLBERG David","IFK Falun",186,186,2,80,3,70,null,0,15,36,null,0]
[4,2005,"ANDERSSON Erik","Båsenberga SLK",185,213,null,0,6,50,2,80,5,55,23,28]
[5,2005,"BOHM Adam","Huddinge SK AF",180,180,null,0,null,0,null,0,2,80,1,100]
[6,2005,"GRIMBERG Nils","IFK Falun",163,211,7,48,5,55,4,60,7,48,null,0]
[7,2004,"LISON ALMKVIST Beppe","Norrköpings SK",155,155,null,0,null,0,null,0,1,100,5,55]
[8,2005,"KARLSSON George","Arboga Alpina",150,150,null,0,null,0,3,70,10,42,13,38]
[9,2005,"LARSSON Måns","Sälens IF",118,118,3,70,7,48,null,0,null,0,null,0]
[10,2005,"MÖLLER Måns","Sollentuna SLK",106,106,null,0,null,0,null,0,4,60,8,46]
[11,2004,"SORBE Andre","Tunafors SK",100,100,null,0,1,100,null,0,null,0,99,0]
[12,2005,"WESTIN Linus","Örebro SLF",98,98,6,50,null,0,7,48,null,0,null,0]
[13,2005,"WENGELIN Albin","Kungsbergets AK",94,94,null,0,null,0,null,0,6,50,9,44]
[14,2005,"ANDERSSON Kalle","Norrbärke SK Alpin",92,92,null,0,99,0,5,55,14,37,null,0]
[15,2005,"HABING Erik","Sälens IF",88,88,5,55,null,0,null,0,null,0,18,33]
[16,2005,"LUNDQUIST Gabriel","Rättviks SLK",81,81,null,0,8,46,null,0,16,35,null,0]
[17,2004,"NORLINDER Felix","IFK Borlänge",80,80,null,0,null,0,6,50,99,0,21,30]
[18,2004,"LARSSON Albin","Sälens IF",70,70,null,0,null,0,null,0,null,0,3,70]
[".",2004,"STRÖMBERG Oscar","IFK Borlänge",70,70,null,0,null,0,null,0,13,38,19,32]
[20,2005,"HAGMAN John","Sollentuna SLK",60,60,null,0,null,0,null,0,null,0,4,60]
[".",2005,"LIND Carl","IFK Borlänge",60,60,null,0,4,60,null,0,99,0,null,0]
[22,2005,"EKLUND Hampus","Täby SLK",48,48,null,0,null,0,null,0,null,0,7,48]
[23,2004,"HOLMA Buster","IFK Lidingö Slalomklubb",46,46,null,0,null,0,null,0,8,46,null,0]
[".",2005,"JAKOBSSON Axel","Norrbärke SK Alpin",46,46,null,0,99,0,8,46,null,0,null,0]
[25,2004,"ABRAHAMSSON Sixten","IFK Falun",44,44,null,0,9,44,null,0,null,0,null,0]
[".",2005,"ERIKSSON Lucas","IFK Borlänge",44,44,null,0,null,0,null,0,9,44,null,0]
[27,2004,"HUSS Noel","Sollentuna SLK",42,42,null,0,null,0,null,0,null,0,10,42]
[28,2005,"JAEGERFALK Theo","Roslagens AK",40,40,null,0,null,0,null,0,null,0,11,40]
[".",2005,"DAHLBORG Fred","IFK Lidingö Slalomklubb",40,40,null,0,null,0,null,0,11,40,null,0]
[30,2005,"ENEQVIST Viktor","Djurgårdens IF AF",39,39,null,0,null,0,null,0,null,0,12,39]
[".",2004,"BOJFELT Sebastian","IFK Borlänge",39,39,null,0,null,0,null,0,12,39,null,0]
[32,2004,"LORD Max","Tunafors SK",37,37,null,0,null,0,null,0,null,0,14,37]
[33,2004,"NILSSON Hugo","Edsbyns IF Alpina Förening",36,36,null,0,null,0,null,0,null,0,15,36]
[34,2004,"HELLERSTEDT Isak","IFK Sävsjö",35,35,null,0,null,0,null,0,null,0,16,35]
[35,2004,"HERMANSSON Hugo","IFK Sävsjö",34,34,null,0,null,0,null,0,null,0,17,34]
[36,2005,"ÅNGSTRÖM Erik","Uppsala SLK",31,31,null,0,null,0,null,0,null,0,20,31]
[37,2004,"ELIASSON Noel","Arboga Alpina",29,29,null,0,null,0,null,0,null,0,22,29]
[38,2004,"WIBORG Noel","Orsa Alpina Klubb",27,27,null,0,null,0,null,0,null,0,24,27]
[39,2005,"OLLAS Filip","Edsbyns IF Alpina Förening",26,26,null,0,null,0,null,0,null,0,25,26]
[40,2004,"BERGELIN Calle","Båsenberga SLK",25,25,null,0,null,0,null,0,null,0,26,25]
[41,2004,"HJORTSTAM Aron","Västerås Slalomklubb",24,24,null,0,null,0,null,0,null,0,27,24]
[42,2005,"NORDSTRÖM Hampus","Boge SLK",23,23,null,0,null,0,null,0,null,0,28,23]
[43,2005,"JÖNSSON Albin","IFK Sävsjö",22,22,null,0,null,0,null,0,null,0,29,22]
[44,2005,"PETTERSSON August","IFK Grängesberg AK",21,21,null,0,null,0,null,0,99,0,30,21]
[45,2004,"EKELUND Isak","Gävle Alpina SK",20,20,null,0,null,0,null,0,null,0,31,20]
[46,2005,"LODIN Edvin","Branäs AK",19,19,null,0,null,0,null,0,null,0,32,19]
[" ",2004,"FÜHR Adrian","Båsenberga SLK",0,0,null,0,null,0,null,0,null,0,99,0]
[" ",2005,"MÅNSSON Arthur","Täby SLK",0,0,null,0,null,0,null,0,null,0,99,0]
[" ",2004,"PETERSSON Sam","Kungsbergets AK",0,0,null,0,null,0,null,0,null,0,99,0]
[" ",2004,"SVED Nils","IF Hudik Alpin",0,0,null,0,null,0,null,0,null,0,99,0]
[" ",2004,"NOACK Felix","Gävle Alpina SK",0,0,null,0,null,0,null,0,99,0,null,0]
[" ",2004,"PETTERSSON NOORD Nils","IFK Lidingö Slalomklubb",0,0,null,0,null,0,null,0,99,0,null,0]
[" ",2004,"REYNIER Lucas","Djurgårdens IF AF",0,0,null,0,null,0,null,0,null,0,null,0]
[" ",2005,"VESTBERG Rasmus","Väst Alpin SK Göteborg",0,0,null,0,null,0,null,0,null,0,null,0]
[]
[]
[]
[null,null,{"$f":"C1","v":"Slutresultat DalaCupen  2016"},null,null,null,null,"Plac 99 = DNF eller DSQ"]
["D13-14",null,null,null,null,null,"Sälen GS",null,"Falun GS",null,"Norrbärke SL",null,"Borlänge SL",null,"Orsa GS"]
[null,null,null,null,"Poäng"]
["Plac","Född","Namn","Klubb","3 Bästa","Tot","Sö 24/1   Tot",null,"Sö 14/2      Tot",null,"Sö 21/2    Tot",null,"Lö 27/2   Tot",null,"Lö 2/4   Tot"]
[1,2002,"JOBS Maja","Leksands SLK",250,271,null,0,1,100,2,80,3,70,30,21]
[2,2002,"LILJENBORG Lova","IFK Falun",200,283,2,80,4,60,9,44,4,60,12,39]
[3,2003,"BERGNER Emma","Malungs SLK",186,204,3,70,3,70,8,46,99,0,33,18]
[4,2002,"LAGGAR Karin","Rättviks SLK",171,171,10,42,99,0,1,100,null,0,22,29]
[5,2003,"LOVÉN Clara","Orsa Alpina Klubb",166,196,6,50,null,0,3,70,8,46,21,30]
[6,2002,"INGMARSSON Elvira","IFK Borlänge",155,218,9,44,6,50,5,55,6,50,32,19]
[7,2003,"EKSTRÖM Lisa","IFK Falun",151,176,5,55,8,46,6,50,99,0,26,25]
[8,2003,"OSKARSSON Hedvig","Sälens IF",148,148,1,100,7,48,null,0,null,0,null,0]
[9,2002,"VEDIN Erica","Malungs SLK",143,166,8,46,5,55,null,0,10,42,28,23]
[10,2002,"BORELIUS Emma","IFK Falun",137,137,4,60,99,0,null,0,11,40,14,37]
[11,2002,"FRIDÉN Ebba","Väst Alpin SK Göteborg",130,130,null,0,99,0,4,60,null,0,3,70]
[12,2002,"ANDERSSON Ella","Båsenberga SLK",123,123,null,0,9,44,7,48,99,0,20,31]
[13,2003,"NARVING Maja","Örebro SLF",122,122,11,40,null,0,null,0,5,55,24,27]
[14,2002,"WENGRUD Saga","Leksands SLK",121,168,12,39,10,42,11,40,18,33,37,14]
[15,2003,"FORSMAN Jennefer","IFK Borlänge",108,114,15,36,17,34,13,38,99,0,45,6]
[16,2002,"EDLUND Elin","IFK Falun",102,102,6,50,12,39,null,0,null,0,38,13]
[17,2002,"DAHLIN Ronja","IF Hudik Alpin",100,100,null,0,null,0,null,0,null,0,1,100]
[".",2002,"MALM Cecilia","Sollentuna SLK",100,100,null,0,null,0,null,0,1,100,null,0]
[19,2002,"BACK-NILSSON Anna","Leksands SLK",82,82,13,38,null,0,null,0,9,44,null,0]
[20,2002,"VON REEDTZ Sofia","Gävle Alpina SK",80,80,null,0,null,0,null,0,null,0,2,80]
[".",2002,"HELLMAN Josefine","IFK Falun",80,80,99,0,2,80,null,0,null,0,null,0]
[".",2002,"STRÖMSTEDT Ella-Carolina","Östersund-Frösö SLK",80,80,null,0,null,0,null,0,2,80,null,0]
[23,2003,"PERES Saga","IFK Falun",77,77,99,0,16,35,10,42,99,0,null,0]
[24,2003,"BÄCK Nellie","IFK Falun",67,67,null,0,19,32,null,0,16,35,null,0]
[".",2003,"NYMAN Ingrid","Norrbärke SK Alpin",67,67,null,0,21,30,14,37,null,0,null,0]
[26,2003,"ELFVING Alva","IFK Borlänge",66,66,17,34,null,0,null,0,19,32,null,0]
[27,2002,"NORLING Filippa","Leksands SLK",63,63,18,33,22,29,null,0,null,0,54,1]
[28,2002,"PETERSON Elin","Valfjällets SLK",60,60,null,0,null,0,null,0,null,0,4,60]
[29,2002,"HERLIN Annie","SK Vitesse",55,55,null,0,null,0,null,0,null,0,5,55]
[30,2002,"SILFWERPLATZ Matilda","Malungs SLK",54,54,null,0,13,38,null,0,null,0,35,16]
[31,2002,"LOFT Celine","Klövsjö Alpina",50,50,null,0,null,0,null,0,null,0,6,50]
[32,2002,"KLARÉUS Frida","Roslagens AK",49,49,null,0,null,0,null,0,12,39,41,10]
[33,2002,"ÅRSJÖ Maja","Norrköpings SK",48,48,null,0,null,0,null,0,null,0,7,48]
[".",2003,"LUNDÉN Lova","Sollentuna SLK",48,48,null,0,null,0,null,0,7,48,null,0]
[35,2002,"SJÖSTEN Tilde","Hjortens SK",46,46,null,0,null,0,null,0,null,0,8,46]
[36,2003,"AICHER Emma","Sundsvalls SLK",44,44,null,0,null,0,null,0,null,0,9,44]
[37,2002,"JANSSON Tova","Uppsala SLK",42,42,null,0,null,0,null,0,null,0,10,42]
[38,2002,"WESTLUND Ellen","Ekshärads SLK",40,40,null,0,null,0,null,0,null,0,11,40]
[".",2003,"FOLKESSON Elin","Malungs SLK",40,40,null,0,15,36,null,0,99,0,47,4]
[".",2003,"EKWALL Alva","IFK Falun",40,40,99,0,11,40,null,0,null,0,null,0]
[41,2002,"LÖVSTRAND Emilia","IFK Borlänge",39,39,null,0,null,0,12,39,99,0,null,0]
[42,2002,"EKLUND Mathilda","Täby SLK",38,38,null,0,null,0,null,0,null,0,13,38]
[".",2002,"GRIND My","IFK Borlänge",38,38,null,0,null,0,null,0,13,38,null,0]
[44,2003,"CARIS Ofelia","IFK Falun",37,37,null,0,14,37,null,0,null,0,null,0]
[".",2002,"SELINDER Elinor","Huddinge SK AF",37,37,null,0,null,0,null,0,14,37,null,0]
[".",2003,"WIDESTRAND Anna","Örebro SLF",37,37,14,37,null,0,null,0,null,0,null,0]
[47,2002,"HANSSON Mathilda","SK Vitesse",36,36,null,0,null,0,null,0,null,0,15,36]
[".",2002,"JACOBSEN Louise","Norrbärke SK Alpin",36,36,null,0,null,0,15,36,99,0,null,0]
[".",2002,"LJUNGGREN JONSSON Zara","Huddinge SK AF",36,36,null,0,null,0,null,0,15,36,null,0]
[50,2003,"OLERS Wilma","Sälens IF",35,35,null,0,null,0,null,0,null,0,16,35]
[".",2003,"SELANDER Ella","Örebro SLF",35,35,16,35,null,0,null,0,99,0,null,0]
[52,2003,"STERNFELDT Lova","Boge SLK",34,34,null,0,null,0,null,0,null,0,17,34]
[".",2002,"HEIKKINEN Lovisa","Orsa Alpina Klubb",34,34,99,0,18,33,null,0,null,0,51,1]
[".",2003,"DAHLBORG Stella","IFK Lidingö Slalomklubb",34,34,null,0,null,0,null,0,17,34,null,0]
[55,2002,"TJÄDER Jeanette","Bollnäs AK",33,33,null,0,null,0,null,0,null,0,18,33]
[56,2002,"EKMAN Isabelle","Gävle Alpina SK",32,32,null,0,null,0,null,0,null,0,19,32]
[57,2003,"SANDBERG Thea","IFK Falun",31,31,null,0,20,31,null,0,null,0,null,0]
[58,2003,"JALKESTEN Sophie","Huddinge SK AF",28,28,null,0,null,0,null,0,null,0,23,28]
[59,2002,"MICKELSSON Emelie","IF Hudik Alpin",26,26,null,0,null,0,null,0,null,0,25,26]
[60,2002,"STEINWALL Kajsa","IFK Sävsjö",25,25,null,0,null,0,null,0,null,0,26,25]
[61,2003,"RYDÉN Anné","Östersund-Frösö SLK",22,22,null,0,null,0,null,0,null,0,29,22]
[62,2002,"HOLLWIN ANDERSSON Klara","Norrköpings SK",20,20,null,0,null,0,null,0,null,0,31,20]
[63,2003,"HEDIN Elin","Karlstads SLK",17,17,null,0,null,0,null,0,null,0,34,17]
[64,2002,"AXBERG Wilma","Båsenberga SLK",15,15,null,0,null,0,null,0,null,0,36,15]
[65,null,"ABENIUS Lovisa","Väst Alpin SK Göteborg",12,12,null,0,null,0,null,0,null,0,39,12]
[66,2002,"BRAATZ Linnéa","Huddinge SK AF",11,11,null,0,null,0,null,0,null,0,40,11]
[67,2003,"AHLENIUS Linn","Orsa Alpina Klubb",9,9,null,0,null,0,null,0,null,0,42,9]
[68,2003,"GRAN Dorotea","SK Vitesse",8,8,null,0,null,0,null,0,null,0,43,8]
[69,2002,"BÄCKMAN Alma","Valfjällets SLK",7,7,null,0,null,0,null,0,null,0,44,7]
[70,2002,"PERSSON Elin","Roslagens AK",5,5,null,0,null,0,null,0,null,0,46,5]
[71,2003,"LUND Julia","Järvsö IF",4,4,null,0,null,0,null,0,null,0,47,4]
[72,2003,"KARLSSON Frida","Västerås Slalomklubb",2,2,null,0,null,0,null,0,null,0,49,2]
[".",2002,"DALSLÅEN Moa","Sunne A K",1,1,null,0,null,0,null,0,null,0,50,1]
[".",2003,"CERWALL Antonia","Karlskoga SLK",1,1,null,0,null,0,null,0,null,0,52,1]
[".",2003,"JOHNSSON Hanna","Västerås Slalomklubb",1,1,null,0,null,0,null,0,null,0,53,1]
[".",2003,"MATSDOTTER Engla","Orsa Alpina Klubb",1,1,null,0,null,0,null,0,null,0,55,1]
[72,2002,"ODEHEIM Ida","Västerås Slalomklubb",1,1,null,0,null,0,null,0,null,0,56,1]
[" ",2003,"STRIDH Alice","Örebro SLF",0,0,null,0,null,0,null,0,99,0,99,0]
[" ",2003,"FRESK Nike","Arboga Alpina",0,0,null,0,99,0,null,0,null,0,null,0]
[" ",2003,"HAGERIUS Alva","Örebro SLF",0,0,null,0,null,0,null,0,99,0,null,0]
[" ",2003,"HEDIN Frida","Karlstads SLK",0,0,null,0,null,0,null,0,null,0,null,0]
[" ",2003,"HJÄLM Max","IFK Grängesberg AK",0,0,99,0,null,0,99,0,null,0,null,0]
[" ",2002,"TJÄRNESTIG Ebba","Valfjällets SLK",0,0,null,0,null,0,null,0,null,0,null,0]
[]
[]
[]
[null,null,{"$f":"C1","v":"Slutresultat DalaCupen  2016"},null,null,null,null,"Plac 99 = DNF eller DSQ"]
["H 13-14",null,null,null,null,null,"Sälen GS",null,"Falun GS",null,"Norrbärke SL",null,"Borlänge SL",null,"Orsa GS"]
[null,null,null,null,"Poäng"]
["Plac","Född","Namn","Klubb","3 Bästa","Tot","Sö 24/1   Tot",null,"Sö 14/2      Tot",null,"Sö 21/2    Tot",null,"Lö 27/2   Tot",null,"Lö 2/4   Tot"]
[1,2002,"WAHLBERG Erik","IFK Falun",260,260,1,100,2,80,null,0,2,80,null,0]
[2,2002,"SVEDBERG Melvin","IFK Borlänge",250,320,2,80,3,70,1,100,99,0,3,70]
[3,2002,"PRAGNERT Adam","Örebro SLF",185,240,3,70,4,60,5,55,null,0,5,55]
[4,2003,"PALMÉR Adam","Örebro SLF",180,180,4,60,null,0,4,60,4,60,99,0]
[5,2002,"GILLBERG Oskar","Täby SLK",160,160,null,0,null,0,null,0,1,100,4,60]
[6,2002,"ANDERSSON Rasmus","Sälens IF",155,155,5,55,1,100,null,0,null,0,null,0]
[7,2002,"STRÖMBERG Samuel","IFK Borlänge",150,150,null,0,99,0,1,100,99,0,6,50]
[8,2002,"MICHELASSI Lapo","Uppsala SLK",136,178,null,0,7,48,9,44,9,44,10,42]
[9,2003,"ÖJERTEG Jesper","IFK Borlänge",134,162,13,38,8,46,6,50,99,0,23,28]
[10,2003,"MIDÉR Erik","Norrbärke SK Alpin",116,163,12,39,18,33,14,37,11,40,37,14]
[11,2002,"GATU Gustaf","Rättviks SLK",105,105,7,48,9,44,null,0,null,0,38,13]
[12,2002,"JOHANSSON Gustav","Högby Alpina SLK",101,101,null,0,null,0,null,0,5,55,8,46]
[".",2002,"HEDMAN Gustav","IFK Borlänge",101,101,null,0,5,55,null,0,8,46,null,0]
[14,2002,"RÖSNÄS Anton","Vemdalens IF",100,100,null,0,null,0,null,0,null,0,1,100]
[15,2003,"VOGT Kalle","Norrbärke SK Alpin",98,98,null,0,12,39,11,40,99,0,32,19]
[16,2002,"LANDER Linus","Sunne A K",80,80,null,0,null,0,null,0,null,0,2,80]
[".",2003,"LANDSTRÖM Simon","Västerås Slalomklubb",80,80,null,0,99,0,10,42,99,0,13,38]
[".",2002,"HOLMLUND Carl-Johan","Västerås Slalomklubb",80,80,null,0,null,0,8,46,99,0,17,34]
[".",2003,"FLODBERG Hugo","IFK Falun",80,80,11,40,11,40,null,0,null,0,null,0]
[20,2003,"PÅLSSON Erik","Norrbärke SK Alpin",74,74,null,0,16,35,12,39,null,0,null,0]
[21,2003,"FREDRIKSSON Isak","Norrbärke SK Alpin",72,72,null,0,17,34,13,38,null,0,null,0]
[22,2002,"GRANATH Gabriel","IFK Falun",70,70,99,0,99,0,3,70,null,0,99,0]
[".",2002,"HOLMQVIST Oscar","Järfälla AK",70,70,null,0,null,0,null,0,3,70,null,0]
[24,2003,"ANDERSSON Felix","Järfälla AK",50,50,null,0,null,0,null,0,6,50,null,0]
[".",2003,"LARSSON Kasper","Sälens IF",50,50,99,0,6,50,null,0,null,0,null,0]
[".",2003,"PETTERSON Simon","Örebro SLF",50,50,6,50,null,0,null,0,null,0,null,0]
[27,2003,"HOLMGREN Henrik","Djurgårdens IF AF",48,48,null,0,null,0,null,0,null,0,7,48]
[".",2002,"ANDREASSON Olle","Väst Alpin SK Göteborg",48,48,null,0,99,0,7,48,null,0,null,0]
[".",2003,"WESTLUND Charlie","Kungsbergets AK",48,48,null,0,null,0,null,0,7,48,null,0]
[30,2003,"BJÖRKMAN Filip","IFK Mora AK",46,46,8,46,null,0,null,0,null,0,99,0]
[31,2002,"FLODMARK Jonas","Uppsala SLK",44,44,null,0,null,0,null,0,null,0,9,44]
[".",2003,"PALMÉR Pontus","Kumla SF",44,44,9,44,null,0,null,0,null,0,null,0]
[33,2002,"BARCK Manfred","IFK Falun",42,42,null,0,10,42,null,0,null,0,null,0]
[".",2003,"SCHULTZ Anton","IFK Falun",42,42,10,42,null,0,null,0,null,0,null,0]
[".",2003,"WENGELIN Joel","Kungsbergets AK",42,42,null,0,null,0,null,0,10,42,null,0]
[36,2003,"ENEQVIST Hugo","Djurgårdens IF AF",40,40,null,0,null,0,null,0,null,0,11,40]
[37,2003,"BÅNG-ØYGARD Edwin","Kungsbergets AK",39,39,null,0,null,0,null,0,null,0,12,39]
[38,2002,"WERKMÄSTAR Johan","Rättviks SLK",38,38,99,0,13,38,null,0,null,0,null,0]
[39,2002,"TÄRNSBY Emil","Huddinge SK AF",37,37,null,0,null,0,null,0,null,0,14,37]
[39,2002,"LINDHOLM Adam","IFK Grängesberg AK",37,37,null,0,14,37,null,0,null,0,null,0]
[41,2003,"ÅNGSTRÖM Gustaf","Uppsala SLK",36,36,null,0,null,0,null,0,null,0,15,36]
[".",1900,"HJÄLM Max","IFK Grängesberg",36,36,null,0,null,0,15,36,null,0,null,0]
[".",2003,"PERSSON Victor","IFK Grängesberg AK",36,36,null,0,15,36,99,0,null,0,null,0]
[44,2003,"WELANDER Elis","Kungsbergets AK",35,35,null,0,null,0,null,0,99,0,16,35]
[45,2003,"HOLTH LYSTAD Oliver","Valfjällets SLK",33,33,null,0,null,0,null,0,null,0,18,33]
[46,2003,"LINDKVIST Alexander","Djurgårdens IF AF",32,32,null,0,null,0,null,0,null,0,19,32]
[47,2003,"FJÄLLRYD Axel","Örebro SLF",31,31,null,0,null,0,null,0,null,0,20,31]
[48,2003,"JALKESTEN Marcus","Huddinge SK AF",30,30,null,0,null,0,null,0,null,0,21,30]
[49,2003,"ENGSTRÖM Anton","Täby SLK",29,29,null,0,null,0,null,0,null,0,22,29]
[50,2003,"BJÖRKMAN Gustav","Uppsala SLK",27,27,null,0,null,0,null,0,null,0,24,27]
[51,2003,"MÖRTBERG David","Uppsala SLK",26,26,null,0,null,0,null,0,null,0,25,26]
[52,2003,"RYLANDER Jakob","Västerås Slalomklubb",25,25,null,0,null,0,null,0,null,0,26,25]
[53,2003,"MÖLLER Petter","Sollentuna SLK",24,24,null,0,null,0,null,0,null,0,27,24]
[54,2002,"SWANBERG Henrik","Västerås Slalomklubb",23,23,null,0,99,0,99,0,99,0,28,23]
[55,2003,"LUNDEBERG Viktor","Västerås Slalomklubb",22,22,null,0,null,0,null,0,null,0,29,22]
[56,2003,"BERLIN Rasmus","Båsenberga SLK",21,21,null,0,null,0,null,0,null,0,30,21]
[57,2003,"ULVENVALL Joel","Sollentuna SLK",20,20,null,0,null,0,null,0,null,0,31,20]
[58,2003,"TOLLAN Markus","Tunafors SK",19,19,null,0,null,0,null,0,null,0,32,19]
[59,2002,"VRETBLOM Martin","Kungsbergets AK",17,17,null,0,null,0,null,0,null,0,34,17]
[60,2002,"NILSSON Emil","Huddinge SK AF",16,16,null,0,null,0,null,0,null,0,35,16]
[61,2003,"BERGSTRÖM Oskar","Uppsala SLK",15,15,null,0,null,0,null,0,null,0,36,15]
[" ",2002,"LÖFGREEN Didrik","Saltsjöbadens SLK",0,0,null,0,null,0,null,0,null,0,99,0]
[" ",2003,"FLAM Gustav","Västerås Slalomklubb",0,0,null,0,null,0,null,0,null,0,null,0]
[" ",2002,"FORSMAN Carl Johan","Malungs SLK",0,0,null,0,null,0,null,0,99,0,null,0]
[" ",2002,"GRANQVIST Jesper","Edsbyns IF Alpina Förening",0,0,null,0,null,0,null,0,null,0,null,0]
[" ",2003,"KLYS Arvid","Leksands SLK",0,0,null,0,null,0,null,0,null,0,null,0]
[" ",2002,"NILSSON Frode","Västerås Slalomklubb",0,0,null,0,null,0,null,0,null,0,null,0]
[" ",2003,"STRAUSS Ian","IFK Lidingö Slalomklubb",0,0,null,0,null,0,null,0,null,0,null,0]
[" ",2003,"SZEGNER Sebastian","Täby SLK",0,0,null,0,null,0,null,0,null,0,null,0]
[" ",2003,"WESSLÉN Noah Bucht","Djurgårdens IF AF",0,0,null,0,null,0,null,0,null,0,null,0]
[" ",2003,"WREDMARK Fabian","IFK Lidingö Slalomklubb",0,0,null,0,null,0,null,0,null,0,null,0]
[]
[]
[]
[null,null,{"$f":"C1","v":"Slutresultat DalaCupen  2016"},null,null,null,null,"Plac 99 = DNF eller DSQ"]
["D 15-16",null,null,null,null,null,"Sälen GS",null,"Falun GS",null,"Norrbärke SL",null,"Borlänge SL",null,"Orsa GS"]
[null,null,null,null,"Poäng"]
["Plac","Född","Namn","Klubb","3 Bästa","Tot","Sö 24/1   Tot",null,"Sö 14/2      Tot",null,"Sö 21/2    Tot",null,"Lö 27/2   Tot",null,"Lö 2/4   Tot"]
[1,2000,"KLING ANDERSSON Ebba","IFK Borlänge",280,330,6,50,null,0,1,100,1,100,2,80]
[2,2001,"KARLSSON Kathrine","Arboga Alpina",154,154,null,0,null,0,4,60,7,48,8,46]
[3,2001,"GRANBOM Rebecca","Karlstads SLK",126,126,2,80,null,0,null,0,8,46,null,0]
[4,2000,"ANTFOLK Wilma","IFK Borlänge",109,109,12,39,null,0,null,0,3,70,null,0]
[5,2001,"ROBÈRT Ellen","Bollnäs AK",100,100,null,0,null,0,null,0,null,0,1,100]
[".",2000,"FLODBERG Hanna","IFK Falun",100,100,null,0,1,100,null,0,null,0,null,0]
[".",2000,"LARSSON Alice","Sälens IF",100,100,1,100,null,0,null,0,null,0,null,0]
[".",2001,"ZETTERLUND Alma","Norrbärke SK Alpin",100,100,21,30,null,0,3,70,null,0,null,0]
[9,2001,"HERTZBERG Anna","Karlstads SLK",98,98,7,48,null,0,null,0,6,50,null,0]
[10,2001,"ARNESSON Moa","Karlstads SLK",97,97,10,42,null,0,null,0,5,55,null,0]
[11,2001,"MAGNERYD Hanna","Norrbärke SK Alpin",80,80,null,0,null,0,2,80,99,0,null,0]
[".",2001,"RAZPOTNIK Lovisa","Västerås Slalomklubb",80,80,null,0,null,0,null,0,2,80,null,0]
[13,2000,"VESTMAN Andréa","Östersund-Frösö SLK",70,70,null,0,null,0,null,0,null,0,3,70]
[".",2000,"PETTERSON Elin","Örebro SLF",70,70,3,70,null,0,null,0,null,0,null,0]
[15,2000,"ENEQVIST Ebba","Saltsjöbadens SLK",60,60,null,0,null,0,null,0,null,0,4,60]
[".",2001,"KONDRADSSON Wilma","Sälens IF",60,60,4,60,null,0,null,0,null,0,null,0]
[".",2001,"SAKS Clara","Sollentuna SLK",60,60,null,0,null,0,null,0,4,60,null,0]
[18,2001,"ULLE Fia","Uppsala SLK",55,55,null,0,null,0,null,0,null,0,5,55]
[".",2001,"BÄCCMAN Elin","Karlstads SLK",55,55,5,55,null,0,null,0,null,0,null,0]
[".",2001,"HJÄLM Molly","IFK Grängesberg AK",55,55,null,0,null,0,5,55,null,0,null,0]
[21,2000,"SJÖSTEN Nellie","Hjortens SK",50,50,null,0,null,0,null,0,null,0,6,50]
[22,2001,"EKMYR Saga","Uppsala SLK",48,48,null,0,null,0,null,0,null,0,7,48]
[23,2001,"KANDELL Tilde","Leksands SLK",46,46,8,46,null,0,null,0,null,0,null,0]
[24,2001,"NORDSTRÖM Julia","Boge SLK",44,44,null,0,null,0,null,0,null,0,9,44]
[".",2001,"KARLSSON Alva","Avesta AK",44,44,9,44,null,0,null,0,null,0,null,0]
[".",2001,"VOGT Lisa","Norrbärke SK Alpin",44,44,null,0,99,0,99,0,9,44,null,0]
[27,2001,"VIKSTRÖM Tuva","Rättviks SLK",42,42,null,0,null,0,null,0,null,0,10,42]
[28,2001,"JALKESTEN Rebecka","Huddinge SK AF",40,40,null,0,null,0,null,0,null,0,11,40]
[".",2000,"ASKMAN Linn","Valfjällets SLK",40,40,11,40,null,0,null,0,null,0,null,0]
[30,2001,"MIDÉR Maja","Norrbärke SK Alpin",39,39,null,0,null,0,99,0,99,0,12,39]
[31,2001,"BJÖRKMAN Wilma","IFK Mora AK",38,38,13,38,null,0,null,0,null,0,null,0]
[32,2001,"STAM Nora","Kils SLK",37,37,14,37,null,0,null,0,null,0,null,0]
[33,2001,"ANDERSSON Madeleine","Örebro SLF",36,36,15,36,null,0,null,0,null,0,null,0]
[34,2001,"KYRK Clara","Grums SLK",35,35,16,35,null,0,null,0,null,0,null,0]
[35,2001,"ÖSTMARK Elsa","Gävle Alpina SK",34,34,17,34,null,0,null,0,null,0,null,0]
[36,2000,"SANDBERG Ahnoo","IFK Falun",33,33,18,33,null,0,null,0,null,0,null,0]
[37,2000,"HÅKANSSON Ida","Valfjällets SLK",32,32,19,32,null,0,null,0,null,0,null,0]
[38,2001,"MOLNSTRAND Ramona","Örebro SLF",31,31,20,31,null,0,null,0,null,0,null,0]
[39,2000,"JADING Rebecka","Idre SK",29,29,22,29,null,0,null,0,null,0,null,0]
[40,2001,"HELLGREN Stina","Idre SK",28,28,23,28,null,0,null,0,null,0,null,0]
[".",2000,"PETTERSSON Linn","Idre SK",28,28,23,28,null,0,null,0,null,0,null,0]
[42,2000,"HEDGREN Sofia","Malungs SLK",26,26,25,26,null,0,null,0,null,0,null,0]
[43,2000,"KINDBERG Ellen","Kils SLK",25,25,26,25,null,0,null,0,null,0,null,0]
[44,2000,"FROHM Ellen","Idre SK",24,24,27,24,null,0,null,0,null,0,null,0]
[45,2000,"SÖDERLIND Ida","Örebro SLF",23,23,28,23,null,0,null,0,null,0,null,0]
[46,2001,"KARLSSON Felicia","Valfjällets SLK",22,22,29,22,null,0,null,0,null,0,null,0]
[" ",2000,"BRANDÅS Agnes","Båsenberga SLK",0,0,null,0,null,0,null,0,null,0,99,0]
[" ",2000,"GÄFVERT Linn","Norrköpings SK",0,0,null,0,null,0,null,0,null,0,99,0]
[" ",2001,"AXELSSON Sofia","Mälaröarnas Alpina SK",0,0,null,0,null,0,null,0,null,0,null,0]
[" ",2001,"CARLSSON Emilia","Karlstads SLK",0,0,99,0,null,0,null,0,null,0,null,0]
[" ",2001,"HEDERSTRÖM Linnea","Kungsbergets AK",0,0,null,0,null,0,null,0,99,0,null,0]
[" ",2001,"KARLSSON Ronja","Valfjällets SLK",0,0,99,0,null,0,null,0,null,0,null,0]
[" ",2000,"LIND Felicia","IFK Borlänge",0,0,null,0,null,0,null,0,99,0,null,0]
[" ",2000,"WAHLGREN Sara","Idre SK",0,0,99,0,null,0,null,0,null,0,null,0]
[" ",2001,"WREDMARK Ofelia","IFK Lidingö Slalomklubb",0,0,null,0,null,0,null,0,null,0,null,0]
[]
[]
[]
[null,null,{"$f":"C1","v":"Slutresultat DalaCupen  2016"},null,null,null,null,"Plac 99 = DNF eller DSQ"]
["H 15-16",null,null,null,null,null,"Sälen GS",null,"Falun GS",null,"Norrbärke SL",null,"Borlänge SL",null,"Orsa GS"]
[null,null,null,null,"Poäng"]
["Plac","Född","Namn","Klubb","3 Bästa","Tot","Sö 24/1   Tot",null,"Sö 14/2      Tot",null,"Sö 21/2    Tot",null,"Lö 27/2   Tot",null,"Lö 2/4   Tot"]
[1,2001,"CONRADSSON Samuel","Högby Alpina SLK",200,200,null,0,null,0,2,80,3,70,6,50]
[2,2000,"BERGLUND Gusten","Karlstads SLK",180,180,2,80,null,0,null,0,1,100,null,0]
[3,2001,"SETTERSTRÖM Martin","Karlstads SLK",126,126,8,46,null,0,null,0,2,80,null,0]
[".",2000,"SUTHER Oliver","Rättviks SLK",126,126,25,26,1,100,null,0,null,0,null,0]
[5,2001,"MICHELASSI Hendrik","Uppsala SLK",114,114,null,0,null,0,3,70,99,0,9,44]
[6,2000,"GATU Mathias","Rättviks SLK",113,113,18,33,2,80,null,0,null,0,null,0]
[7,2000,"LUND Oskar","Idre SK",110,110,11,40,null,0,null,0,99,0,3,70]
[8,2001,"LARSSON Oscar-William","Uppsala SLK",102,102,null,0,null,0,4,60,99,0,10,42]
[9,2001,"VIKSTRÖM Alfred","Edsbyns IF Alpina Förening",100,100,null,0,null,0,null,0,null,0,1,100]
[".",2001,"JOHANSSON Timmy","Tunafors SK",100,100,null,0,null,0,1,100,99,0,null,0]
[".",2001,"SELLING Kevin","IFK Mora AK",100,100,1,100,null,0,null,0,null,0,null,0]
[12,2000,"RASK Noah","Boge SLK",80,80,null,0,null,0,null,0,null,0,2,80]
[13,2000,"SUNDBERG Edvin","Örebro SLF",70,70,3,70,null,0,null,0,99,0,null,0]
[14,2001,"LAGER Linus","Idre SK",68,68,23,28,null,0,null,0,99,0,11,40]
[15,2001,"ANDRÉN Odd","Idre SK",63,63,26,25,null,0,null,0,null,0,13,38]
[16,2001,"GRAN Herbert","SK Vitesse",60,60,null,0,null,0,null,0,null,0,4,60]
[".",2001,"OLSSON Linus","Valfjällets SLK",60,60,4,60,null,0,null,0,null,0,null,0]
[18,2000,"ENGLUND Joel","IF Hudik Alpin",55,55,null,0,null,0,null,0,null,0,5,55]
[".",2001,"JORÄLV Filip","Arvika SLK",55,55,5,55,null,0,null,0,99,0,null,0]
[20,2001,"MOBERG Erik","Karlstads SLK",50,50,6,50,null,0,null,0,null,0,null,0]
[21,2001,"KARLSSON Jonathan","Båsenberga SLK",48,48,null,0,null,0,null,0,null,0,7,48]
[".",2000,"SETTERSTRÖM Carl","Karlstads SLK",48,48,7,48,null,0,null,0,99,0,null,0]
[23,2001,"JOHNSSON Filip","Västerås Slalomklubb",46,46,null,0,null,0,null,0,null,0,8,46]
[24,2001,"HAGBERG Petter","Avesta AK",44,44,9,44,null,0,null,0,null,0,null,0]
[25,2000,"LINDSTRÖM Filip","Kumla SF",42,42,10,42,null,0,null,0,null,0,null,0]
[26,2001,"ÖNNERDAL Isac","Uppsala SLK",39,39,null,0,null,0,null,0,null,0,12,39]
[".",2001,"SCHMIDT Niklas","Idre SK",39,39,12,39,null,0,null,0,null,0,null,0]
[28,2001,"HANSSON Liam","Valfjällets SLK",38,38,13,38,null,0,null,0,null,0,null,0]
[29,2001,"STRÖMBERG Isac","Karlstads SLK",37,37,14,37,null,0,null,0,null,0,null,0]
[30,2001,"BRÅNANDER Gustav","Karlstads SLK",36,36,15,36,null,0,null,0,null,0,null,0]
[31,2001,"RAIJ Carl","Kils SLK",35,35,16,35,null,0,null,0,null,0,null,0]
[32,2001,"STJERNLÖF Philip","Avesta AK",34,34,17,34,null,0,null,0,null,0,null,0]
[33,2001,"LÖVKVIST Mattias","IFK Falun",32,32,19,32,null,0,null,0,null,0,null,0]
[34,2000,"HEDIN Johan","IFK Borlänge",31,31,20,31,null,0,null,0,null,0,null,0]
[35,2000,"FORSMAN Rickard","Malungs SLK",30,30,21,30,null,0,null,0,99,0,null,0]
[36,2001,"PALMÉR Albin","Kumla SF",29,29,22,29,null,0,null,0,null,0,null,0]
[37,2001,"HEDMAN Anton","IFK Borlänge",27,27,24,27,null,0,null,0,99,0,null,0]
[38,2000,"ANDRÉN Palle","Idre SK",24,24,27,24,null,0,null,0,null,0,null,0]
[" ",2001,"CERNY Alexander","Tunafors SK",0,0,null,0,null,0,null,0,null,0,99,0]
[" ",2001,"HJORTSTAM Albin","Västerås Slalomklubb",0,0,null,0,null,0,null,0,null,0,99,0]
[" ",2001,"DOUGHERTY Bastian","Orsa Alpina Klubb",0,0,null,0,null,0,null,0,null,0,null,0]
[" ",2000,"LINDSTRÖM Aaron","SK Vitesse",0,0,null,0,null,0,null,0,null,0,null,0]
[" ",2001,"NARKINIEMI Isak","Högby Alpina SLK",0,0,null,0,null,0,null,0,99,0,null,0]
[" ",2000,"NORDIN Linus","Täby SLK",0,0,null,0,null,0,null,0,99,0,null,0]
[" ",2001,"OSKARSSON Albin","Kumla SF",0,0,99,0,null,0,null,0,null,0,null,0]
[" ",2001,"ROSENQVIST Lukas","Sollentuna SLK",0,0,null,0,null,0,null,0,99,0,null,0]
[" ",2001,"SKOTTE Axel","IFK Mora AK",0,0,99,0,null,0,null,0,99,0,null,0]
[" ",2001,"TEGSTRÖM Pontus","Sollentuna SLK",0,0,null,0,null,0,null,0,99,0,null,0]
[" ",2000,"ZAUNBRECHER Fynn","Orsa Alpina Klubb",0,0,null,0,null,0,null,0,null,0,null,0]
[" ",2000,"ÖHMAN Edvin","Västerås Slalomklubb",0,0,null,0,null,0,null,0,99,0,null,0]
[]
[]
[]
[null,null,{"$f":"C1","v":"Slutresultat DalaCupen  2016"},null,null,null,null,"Plac 99 = DNF eller DSQ"]
["D 17-",null,null,null,null,null,"Sälen GS",null,"Falun GS",null,"Norrbärke SL",null,"Borlänge SL",null,"Orsa GS",null,"Falun SL",null,"Falun SL"]
[null,null,null,null,"Poäng"]
["Plac","Född","Namn","Klubb","3 Bästa","Tot","Sö 24/1   Tot",null,"Sö 14/2      Tot",null,"Sö 21/2    Tot",null,"Lö 27/2   Tot",null,"Lö 2/4   Tot",null,"Lö 16/1     Tot",null,"Sö 17/1   Tot"]
[1,1997,"MIDÉR Fanny","Norrbärke SK Alpin",374,374,99,0,3,70,1,100,1,100,2,80,99,0,27,24]
[2,1999,"WÄHL Emma","Norrbärke SK Alpin",365,373,1,100,5,55,3,70,2,80,4,60,43,8,99,0]
[3,1999,"HÅKONSEN Hanna","Norrbärke SK Alpin",255,255,null,0,4,60,2,80,null,0,1,100,99,0,36,15]
[4,1997,"ÖGREN Hanna","UHSK Umeå SK",200,200,null,0,null,0,null,0,null,0,null,0,1,100,1,100]
[5,1991,"HINDERS Anna","IFK Falun",158,158,null,0,2,80,null,0,null,0,null,0,15,36,10,42]
[6,1999,"DAHLIN Agnes","IF Hudik Alpin",140,140,null,0,null,0,null,0,null,0,null,0,3,70,3,70]
[7,1999,"FREDRIKSSON Evelina","Huddinge SK AF",122,122,null,0,null,0,null,0,null,0,null,0,10,42,2,80]
[8,1998,"STRANDBERG Ebba","Saltsjöbadens SLK",115,115,null,0,null,0,null,0,null,0,null,0,4,60,5,55]
[9,1999,"HENNING Emelie","Järfälla AK",108,108,null,0,null,0,null,0,null,0,null,0,7,48,4,60]
[10,1999,"DANNEWITZ Ida","Uppsala SLK",105,105,null,0,null,0,null,0,null,0,null,0,5,55,6,50]
[11,1984,"HINDERS Ida","IFK Falun",100,100,null,0,1,100,null,0,null,0,99,0,null,0,null,0]
[12,1998,"EDSÅS Karin","Åre SLK",94,94,null,0,null,0,null,0,null,0,null,0,8,46,7,48]
[13,1998,"AXELSSON Fanny","IFK Mora AK",90,90,null,0,null,0,null,0,null,0,null,0,9,44,8,46]
[".",1997,"OLOFSSON Elin","Åre SLK",90,90,null,0,null,0,null,0,null,0,null,0,6,50,11,40]
[15,1997,"NILSSON Emma","Huddinge SK AF",87,87,null,0,null,0,null,0,null,0,3,70,34,17,99,0]
[16,1997,"LIFVENDAHL Lisa","Sälens IF",80,80,null,0,null,0,null,0,null,0,null,0,2,80,99,0]
[17,1996,"JANSSON Sandra","Höghedens SLK",79,79,null,0,null,0,null,0,null,0,null,0,11,40,12,39]
[18,1996,"CHRISTENSEN Helena","Sundsvalls SLK",72,72,null,0,null,0,null,0,null,0,null,0,14,37,16,35]
[".",1999,"SIGURDSSON Linn","Järvsö IF",72,72,null,0,null,0,null,0,99,0,null,0,16,35,14,37]
[20,1999,"RIBRANT Mikaela","Järfälla AK",70,70,null,0,null,0,null,0,null,0,null,0,17,34,15,36]
[21,1998,"HAGERIUS Julia","Örebro SLF",67,67,null,0,null,0,null,0,null,0,null,0,22,29,13,38]
[22,1999,"SAKS Elin","Sollentuna SLK",64,64,null,0,null,0,null,0,null,0,null,0,21,30,17,34]
[23,1997,"CHRISTMANSSON Anna","Östersund-Frösö SLK",60,60,null,0,null,0,null,0,null,0,null,0,24,27,18,33]
[".",1999,"ÖSTLUND Amanda","Norrbärke SK Alpin",60,60,null,0,null,0,4,60,99,0,null,0,null,0,null,0]
[25,1999,"STRANDBERG Sanna","Sundsvalls SLK",59,59,null,0,null,0,null,0,null,0,null,0,23,28,20,31]
[26,1999,"LÖVSTRÖM Freja","Tunafors SK",55,55,null,0,null,0,null,0,null,0,5,55,null,0,null,0]
[".",1999,"ANDERSSON Ida-Stina","Norrbärke SK Alpin",55,55,null,0,null,0,5,55,null,0,null,0,null,0,null,0]
[28,1998,"LUNDBÄCK Emma","Huddinge SK AF",54,54,null,0,null,0,null,0,null,0,null,0,20,31,28,23]
[29,1997,"WEDIN Matilda","Uppsala SLK",53,53,null,0,null,0,null,0,null,0,null,0,30,21,19,32]
[30,1986,"HINDERS Elin","IFK Falun",50,50,null,0,6,50,null,0,null,0,null,0,null,0,null,0]
[31,1997,"OLSSON Klara","Uppsala SLK",49,49,null,0,null,0,null,0,null,0,null,0,31,20,22,29]
[32,1998,"MÅNGS Elin","Idre SK",48,48,null,0,null,0,null,0,null,0,null,0,29,22,25,26]
[33,1995,"OLSSON Hanna","Uppsala SLK",47,47,null,0,null,0,null,0,null,0,null,0,32,19,23,28]
[34,1999,"JENSEN Lovisa","Orsa Alpina Klubb",45,45,null,0,null,0,null,0,null,0,null,0,27,24,30,21]
[35,1998,"BROWALDH Siri","Djurgårdens IF AF",44,44,null,0,null,0,null,0,null,0,null,0,99,0,9,44]
[36,1999,"ANDERSSON Filippa","Täby SLK",41,41,null,0,null,0,null,0,null,0,null,0,37,14,24,27]
[37,1999,"MIDNÄS Wilma","Falköpings AIK SLK",40,40,null,0,null,0,null,0,null,0,null,0,36,15,26,25]
[38,1999,"BOIARDT Johanna","Östersund-Frösö SLK",39,39,null,0,null,0,null,0,null,0,null,0,12,39,99,0]
[39,1997,"ISRAELSSON Elsa","Sundsvalls SLK",38,38,null,0,null,0,null,0,null,0,null,0,13,38,99,0]
[40,1999,"ANTMAN Stina","Västerås Slalomklubb",36,36,null,0,null,0,null,0,null,0,null,0,35,16,31,20]
[41,1997,"RAIJ Sofia","Kils SLK",33,33,null,0,null,0,null,0,null,0,null,0,18,33,99,0]
[".",1998,"THUNELL Elida","Järvsö IF",33,33,null,0,null,0,null,0,null,0,null,0,40,11,29,22]
[43,1999,"ÅBERG Julia","Avesta AK",32,32,null,0,null,0,null,0,99,0,null,0,19,32,99,0]
[44,1999,"SAHLGREN Maja","Huddinge SK AF",30,30,null,0,null,0,null,0,null,0,null,0,99,0,21,30]
[45,1997,"NETINDER Julia","Uppsala SLK",29,29,null,0,null,0,null,0,null,0,null,0,41,10,32,19]
[46,1999,"ANDERSSON Vilma","Falköpings AIK SLK",27,27,null,0,null,0,null,0,null,0,null,0,42,9,33,18]
[47,1999,"SANDBERG Clara","Luleå AK",26,26,null,0,null,0,null,0,null,0,null,0,25,26,99,0]
[48,1997,"DELIN Hedda","IFK Lidingö Slalomklubb",25,25,null,0,null,0,null,0,null,0,null,0,26,25,99,0]
[49,1994,"JOHANSSON Amanda","Östersund-Frösö SLK",23,23,null,0,null,0,null,0,null,0,null,0,28,23,99,0]
[".",1999,"THORWID Alice","Sollentuna SLK",23,23,null,0,null,0,null,0,null,0,null,0,45,6,34,17]
[51,1996,"NYSTRÖM Amanda","Hestra Skid o SK",18,18,null,0,null,0,null,0,null,0,null,0,33,18,99,0]
[".",1997,"ÖSTERBERG Lina","Norrbärke SK Alpin",18,18,null,0,null,0,null,0,null,0,null,0,47,4,37,14]
[53,1996,"ULLBERG Malin","Sundsvalls SLK",16,16,null,0,null,0,null,0,null,0,null,0,99,0,35,16]
[54,1998,"ANDERSON Victoria","IFK Falun",13,13,null,0,null,0,null,0,null,0,null,0,99,0,38,13]
[".",1999,"KARLSSON Märta","Huddinge SK AF",13,13,null,0,null,0,null,0,null,0,null,0,38,13,99,0]
[56,1997,"DAHLGREN Evelina","Tunafors SK",12,12,null,0,null,0,null,0,null,0,null,0,39,12,99,0]
[57,1999,"FRIES Hedvig","IFK Borlänge",7,7,null,0,null,0,null,0,null,0,null,0,44,7,99,0]
[58,1998,"NYGÅRD Signe","Rättviks SLK",5,5,null,0,null,0,null,0,null,0,null,0,46,5,99,0]
[" ",1996,"ANDERSSON Ebba","Saltsjöbadens SLK",0,0,null,0,null,0,null,0,null,0,null,0,99,0,99,0]
[" ",1999,"DOUGHERTY Eira","Orsa Alpina Klubb",0,0,null,0,null,0,null,0,null,0,null,0,null,0,null,0]
[" ",1998,"EKMAN Ebba","Bollnäs AK",0,0,null,0,null,0,null,0,null,0,null,0,99,0,99,0]
[" ",1999,"LITZÉN Julia","Idre SK",0,0,null,0,null,0,null,0,null,0,null,0,99,0,99,0]
[" ",1999,"SVENINGSSON Filippa","Hestra Skid o SK",0,0,null,0,null,0,null,0,null,0,null,0,99,0,99,0]
[]
[]
[]
[null,null,{"$f":"C1","v":"Slutresultat DalaCupen  2016"},null,null,null,null,"Plac 99 = DNF eller DSQ"]
["H 17-",null,null,null,null,null,"Sälen GS",null,"Falun GS",null,"Norrbärke SL",null,"Borlänge SL",null,"Orsa GS",null,"Falun SL",null,"Falun SL"]
[null,null,null,null,"Poäng"]
["Plac","Född","Namn","Klubb","3 Bästa","Tot","Sö 24/1   Tot",null,"Sö 14/2      Tot",null,"Sö 21/2    Tot",null,"Lö 27/2   Tot",null,"Lö 2/4   Tot",null,"Lö 16/1     Tot",null,"Sö 17/1   Tot"]
[1,1998,"GRANATH Jona","IFK Falun",244,244,null,0,3,70,1,100,null,0,3,70,47,4,99,0]
[2,1966,"MICHELASSI Giannetto","Uppsala SLK",195,195,null,0,4,60,2,80,99,0,5,55,null,0,null,0]
[3,1999,"KARLBERG Lukas","Mälaröarnas Alpina SK",155,155,null,0,null,0,null,0,null,0,null,0,5,55,1,100]
[4,1996,"ÖSTMARK Anton","Gävle Alpina SK",150,150,null,0,null,0,null,0,null,0,null,0,3,70,2,80]
[5,1997,"KNUTSSON Oscar","Norrköpings SK",125,125,null,0,null,0,null,0,null,0,null,0,5,55,3,70]
[6,1980,"STRANDBERG Peter","IFK Falun",120,120,null,0,null,0,null,0,3,70,6,50,null,0,null,0]
[7,1999,"ANDERSSON Jonathan","Järfälla AK",116,116,null,0,null,0,null,0,1,100,null,0,35,16,99,0]
[8,1997,"NYMAN Fabian","Sälens IF",110,110,null,0,null,0,null,0,null,0,null,0,5,55,5,55]
[9,1999,"BRÄNDHOLM Jesper","Sälens IF",106,106,null,0,null,0,null,0,null,0,null,0,8,46,4,60]
[10,1983,"RAINER Niklas","IFK Borlänge",100,100,null,0,null,0,null,0,null,0,1,100,null,0,null,0]
[".",1995,"LIFVENDAHL Ludvig","Sälens IF",100,100,null,0,null,0,null,0,null,0,null,0,1,100,99,0]
[".",1999,"TEGMARK David","IFK Falun",100,100,null,0,1,100,null,0,99,0,null,0,null,0,null,0]
[13,1996,"SILFÄLT Johan","Valfjällets SLK",95,95,null,0,null,0,null,0,null,0,null,0,11,40,5,55]
[14,1997,"ERIKSSON Oskar","Sollentuna SLK",92,92,null,0,null,0,null,0,null,0,null,0,9,44,7,48]
[15,1995,"ERIKSSON Dennis","IFK Borlänge",83,83,null,0,null,0,null,0,null,0,null,0,14,37,8,46]
[16,1999,"KARLSSON Adam","Båsenberga SLK",80,80,null,0,null,0,null,0,null,0,2,80,null,0,null,0]
[".",1996,"KARLSSON Hampus","Gävle Alpina SK",80,80,null,0,null,0,null,0,null,0,null,0,2,80,99,0]
[".",1997,"LARSSON Måns","Huddinge SK AF",80,80,null,0,null,0,null,0,2,80,null,0,99,0,99,0]
[".",1971,"NILSSON Magnus","Tunafors SK",80,80,null,0,2,80,null,0,null,0,null,0,null,0,null,0]
[20,1999,"HAGBERG Johan","Avesta AK",79,79,null,0,null,0,null,0,null,0,null,0,16,35,9,44]
[21,1996,"JERNKROK Claes","Bollnäs AK",75,75,null,0,null,0,null,0,null,0,null,0,18,33,10,42]
[".",1999,"NILSSON Edvin","Sälens IF",75,75,null,0,null,0,null,0,null,0,null,0,16,35,11,40]
[23,1999,"JOHANSSON Filip","Östersund-Frösö SLK",74,74,null,0,null,0,null,0,null,0,null,0,15,36,13,38]
[24,1997,"FRISK Carl Fredrik","Väst Alpin SK Göteborg",66,66,null,0,null,0,null,0,99,0,null,0,22,29,14,37]
[25,1997,"NYSTRÖM Henrik","Sollentuna SLK",64,64,null,0,null,0,null,0,null,0,null,0,21,30,17,34]
[26,1997,"JORÄLV Daniel","Arvika SLK",62,62,null,0,null,0,null,0,99,0,null,0,24,27,16,35]
[27,1972,"ÅNGSTRÖM Claes","Uppsala SLK",60,60,null,0,null,0,null,0,null,0,4,60,null,0,null,0]
[".",1997,"SKÖRELID Jonathan","Bergsjö-Hassela AK",60,60,null,0,null,0,null,0,null,0,null,0,4,60,99,0]
[29,1999,"BERTILSSON Erik","Höghedens SLK",58,58,null,0,null,0,null,0,null,0,null,0,26,25,18,33]
[30,1999,"FONDBERG Keith Richard","Saltsjöbadens SLK",56,56,null,0,null,0,null,0,null,0,null,0,25,26,21,30]
[31,1997,"SMITH Anton","Göteborgs SLK",54,54,null,0,null,0,null,0,null,0,null,0,29,22,19,32]
[32,1997,"BERGMAN Martin","IFK Falun",53,53,null,0,null,0,null,0,null,0,null,0,27,24,22,29]
[33,1997,"EDVINSSON Mattias","Kiruna BK",50,50,null,0,null,0,null,0,null,0,null,0,28,23,24,27]
[34,1997,"HARTING Ludvig","Sollentuna SLK",49,49,null,0,null,0,null,0,null,0,null,0,30,21,23,28]
[35,1999,"NIVRE Fredrik","Uppsala SLK",44,44,null,0,null,0,null,0,null,0,null,0,31,20,27,24]
[36,1995,"SUNDSTRÖM Oscar","Gävle Alpina SK",42,42,null,0,null,0,null,0,null,0,null,0,10,42,99,0]
[37,1991,"GABRIELSSON Erik","IFK Falun",41,41,null,0,null,0,null,0,null,0,null,0,33,18,28,23]
[38,1999,"UHRAS Benjamin","Edsbyns IF Alpina Förening",40,40,null,0,null,0,null,0,null,0,null,0,37,14,25,26]
[39,1997,"KLAUSNER WALDESJÖ Jonathan","Örebro SLF",39,39,null,0,null,0,null,0,null,0,null,0,99,0,12,39]
[".",1997,"RUNDLÖF Marcus","Järfälla AK",39,39,null,0,null,0,null,0,null,0,null,0,12,39,99,0]
[41,1996,"ERIKSSON Johan","Roslagens AK",38,38,null,0,null,0,null,0,null,0,null,0,13,38,99,0]
[".",1999,"GUSTAFSON Wiliam","Uppsala SLK",38,38,null,0,null,0,null,0,null,0,null,0,49,2,15,36,null,null,null,null,null,null," "]
[43,1999,"BORNEMAR Marcus","Sollentuna SLK",37,37,null,0,null,0,null,0,null,0,null,0,39,12,26,25]
[44,1997,"LUNDIN Ludvig","Norrköpings SK",35,35,null,0,null,0,null,0,null,0,null,0,36,15,31,20]
[45,1997,"BENGTSSON SOHLMAN William","IFK Lidingö Slalomklubb",32,32,null,0,null,0,null,0,null,0,null,0,38,13,32,19]
[".",1997,"FAGERBLOM Albin","Falköpings AIK SLK",32,32,null,0,null,0,null,0,null,0,null,0,40,11,30,21]
[".",1994,"STENBERG Viktor","Huddinge SK AF",32,32,null,0,null,0,null,0,null,0,null,0,19,32,99,0]
[48,1997,"KARLSSON Filip","Uppsala SLK",31,31,null,0,null,0,null,0,null,0,null,0,99,0,20,31]
[".",1999,"LUNDQUIST Linus","Karlstads SLK",31,31,null,0,null,0,null,0,null,0,null,0,20,31,99,0]
[50,1998,"TÖRNQVIST David","IFK Borlänge",28,28,null,0,null,0,null,0,null,0,null,0,23,28,99,0]
[51,1999,"BERGMAN Jakob","IFK Falun",23,23,null,0,null,0,null,0,null,0,null,0,43,8,36,15]
[52,1998,"AXELSSON Adam","Avesta AK",22,22,null,0,null,0,null,0,null,0,null,0,41,10,39,12]
[".",1999,"SJÖSTRAND Oscar","Åre SLK",22,22,null,0,null,0,null,0,null,0,null,0,99,0,29,22]
[54,1999,"AXELSSON Fredrik","Karlstads SLK",19,19,null,0,null,0,null,0,null,0,null,0,32,19,99,0]
[".",1997,"KINDBERG Alfred","Kils SLK",19,19,null,0,null,0,null,0,null,0,null,0,46,5,37,14]
[56,1998,"WICKBERS Pontus","Bollnäs AK",18,18,null,0,null,0,null,0,null,0,null,0,99,0,33,18]
[57,1998,"ANTFOLK Alexander","IFK Borlänge",17,17,null,0,null,0,null,0,null,0,null,0,34,17,99,0]
[".",1999,"THERNSTRÖM Tobias","Sollentuna SLK",17,17,null,0,null,0,null,0,99,0,null,0,99,0,34,17]
[59,1997,"HEDBERG Filip","IFK Falun",16,16,null,0,null,0,null,0,null,0,null,0,48,3,38,13]
[".",1997,"ISRAELSSON Felix","Tunafors SK",16,16,null,0,null,0,null,0,null,0,null,0,99,0,35,16]
[61,1997,"BÜLOW Philip","Mullsjö Alpina SK",12,12,null,0,null,0,null,0,null,0,null,0,50,1,40,11]
[62,1999,"RAMNÖ Simon","Järfälla AK",9,9,null,0,null,0,null,0,null,0,null,0,42,9,99,0]
[63,1999,"DALMALM Oscar","Sollentuna SLK",7,7,null,0,null,0,null,0,null,0,null,0,44,7,99,0]
[64,1999,"GUSTAFSSON Benjamin","Sollentuna SLK",6,6,null,0,null,0,null,0,null,0,null,0,45,6,99,0]
[" ",1995,"ENGBERG Niclas","Täby SLK",0,0,null,0,null,0,null,0,null,0,null,0,99,0,99,0]
[" ",1998,"HARDEBERG Love","IFK Lidingö Slalomklubb",0,0,null,0,null,0,null,0,null,0,null,0,99,0,99,0]
[" ",1997,"SEBZDA William","Järfälla AK",0,0,null,0,null,0,null,0,null,0,null,0,99,0,99,0]

{"sheet":"Prislista","index":1,"n_rows":94,"n_cols":7,"rows_kept":94,"cut":false,"hidden":false,"merged":[[1,2,1,5]]}
[]
[null,null,{"$f":"CONCATENATE(\"Slutresultat Dalacupen\",\"  \",'D 9-10'!B1)","v":"Slutresultat Dalacupen  2016"}]
[]
[null,"Klass :","D 9 - 10"]
[null,"Placering","Född","Namn","Klubb","Poäng Bästa 3","Poäng Totalt"]
[null,1,2006,"NORLING Julia","Leksands SLK",260,340]
[null,2,2007,"WESSUNG Lina","IFK Mora AK",220,264]
[null,3,2006,"ANDERSSON Siri","IFK Borlänge",205,247]
[null,4,2006,"ERKERS Hanna","Leksands SLK",164,164]
[null,5,2006,"JONSSON Lovisa","Sälens IF",155,155]
[null,6,2006,"LINDBERG Lisa","Arboga Alpina",148,148]
[]
[null,"Klass :","H 9 - 10"]
[null,"Placering","Född","Namn","Klubb","Poäng Bästa 3","Poäng Totalt"]
[null,1,2006,"LILJENBORG Liam","IFK Falun",300,380]
[null,2,2006,"ARAPOGLOU Pontus","Rättviks SLK",220,247]
[null,3,2006,"WESTLUND Elliot","Kungsbergets AK",200,200]
[null,4,2007,"PALMÉR Hugo","Örebro SLF",198,244]
[null,5,2006,"ÅKERSTRÖM Mattias","Örebro SLF",195,274]
[null,6,2007,"GRIMBERG Axel","IFK Falun",170,254]
[]
[null,"Klass :","D 11-12"]
[null,"Placering","Född","Namn","Klubb","Poäng Bästa 3","Poäng Totalt"]
[null,1,2004,"SANDBERG Hilma","Rättviks SLK",250,310]
[null,2,2004,"WENGRUD Nova","Leksands SLK",215,287]
[null,3,2004,"ÅKERSTRÖM Matilda","Örebro SLF",195,259]
[null,4,2004,"ELIASSON Mimmi","Rättviks SLK",160,160]
[null,5,2004,"GATU Alma","Rättviks SLK",154,154]
[null,5,2004,"TÖRNQVIST Nova","IFK Borlänge",154,154]
[]
[null,"Klass :","H 11-12"]
[null,"Placering","Född","Namn","Klubb","Poäng Bästa 3","Poäng Totalt"]
[null,1,2004,"SÖDERLIND Linus","Örebro SLF",280,280]
[null,2,2004,"WIKZELL Dante","Rättviks SLK",210,260]
[null,3,2004,"WAHLBERG David","IFK Falun",186,186]
[null,4,2005,"ANDERSSON Erik","Båsenberga SLK",185,213]
[null,5,2005,"BOHM Adam","Huddinge SK AF",180,180]
[null,6,2005,"GRIMBERG Nils","IFK Falun",163,211]
[]
[null,"Klass :","D 13-14"]
[null,"Placering","Född","Namn","Klubb","Poäng Bästa 3","Poäng Totalt"]
[null,1,2002,"JOBS Maja","Leksands SLK",250,271]
[null,2,2002,"LILJENBORG Lova","IFK Falun",200,283]
[null,3,2003,"BERGNER Emma","Malungs SLK",186,204]
[null,4,2002,"LAGGAR Karin","Rättviks SLK",171,171]
[null,5,2003,"LOVÉN Clara","Orsa Alpina Klubb",166,196]
[null,6,2002,"INGMARSSON Elvira","IFK Borlänge",155,218]
[]
[null,"Klass :","H 13-14"]
[null,"Placering","Född","Namn","Klubb","Poäng Bästa 3","Poäng Totalt"]
[null,1,2002,"WAHLBERG Erik","IFK Falun",260,260]
[null,2,2002,"SVEDBERG Melvin","IFK Borlänge",250,320]
[null,3,2002,"PRAGNERT Adam","Örebro SLF",185,240]
[null,4,2003,"PALMÉR Adam","Örebro SLF",180,180]
[null,5,2002,"GILLBERG Oskar","Täby SLK",160,160]
[null,6,2002,"ANDERSSON Rasmus","Sälens IF",155,155]
[]
[null,"Klass :","D 15-16"]
[null,"Placering","Född","Namn","Klubb","Poäng Bästa 3","Poäng Totalt"]
[null,1,2000,"KLING ANDERSSON Ebba","IFK Borlänge",280,330]
[null,2,2001,"KARLSSON Kathrine","Arboga Alpina",154,154]
[null,3,2001,"GRANBOM Rebecca","Karlstads SLK",126,126]
[null,4,2000,"ANTFOLK Wilma","IFK Borlänge",109,109]
[null,5,2001,"ROBÈRT Ellen","Bollnäs AK",100,100]
[null,5,2000,"FLODBERG Hanna","IFK Falun",100,100]
[null,5,2000,"LARSSON Alice","Sälens IF",100,100]
[null,5,2001,"ZETTERLUND Alma","Norrbärke SK Alpin",100,100]
[]
[null,"Klass :","H 15-16"]
[null,"Placering","Född","Namn","Klubb","Poäng Bästa 3","Poäng Totalt"]
[null,1,2001,"CONRADSSON Samuel","Högby Alpina SLK",200,200]
[null,2,2000,"BERGLUND Gusten","Karlstads SLK",180,180]
[null,3,2001,"SETTERSTRÖM Martin","Karlstads SLK",126,126]
[null,3,2000,"SUTHER Oliver","Rättviks SLK",126,126]
[null,5,2001,"MICHELASSI Hendrik","Uppsala SLK",114,114]
[null,6,2000,"GATU Mathias","Rättviks SLK",113,113]
[]
[null,"Klass :","D 17-"]
[null,"Placering","Född","Namn","Klubb","Poäng Bästa 5","Poäng Totalt"]
[null,1,1997,"MIDÉR Fanny","Norrbärke SK Alpin",374,374]
[null,2,1999,"WÄHL Emma","Norrbärke SK Alpin",365,373]
[null,3,1999,"HÅKONSEN Hanna","Norrbärke SK Alpin",255,255]
[null,4,1997,"ÖGREN Hanna","UHSK Umeå SK",200,200]
[null,5,1991,"HINDERS Anna","IFK Falun",158,158]
[null,6,1999,"DAHLIN Agnes","IF Hudik Alpin",140,140]
[]
[null,"Klass :","H 17-"]
[null,"Placering","Född","Namn","Klubb","Poäng Bästa 5","Poäng Totalt"]
[null,1,1998,"GRANATH Jona","IFK Falun",244,244]
[null,2,1966,"MICHELASSI Giannetto","Uppsala SLK",195,195]
[null,3,1999,"KARLBERG Lukas","Mälaröarnas Alpina SK",155,155]
[null,4,1996,"ÖSTMARK Anton","Gävle Alpina SK",150,150]
[null,5,1997,"KNUTSSON Oscar","Norrköpings SK",125,125]
[null,6,1980,"STRANDBERG Peter","IFK Falun",120,120]

{"sheet":"D 9-10","index":2,"n_rows":90,"n_cols":33,"rows_kept":90,"cut":false,"hidden":false,"merged":[[2,4,2,5],[2,20,2,21],[0,2,0,15],[1,0,2,1],[1,2,2,3],[1,4,1,5],[1,6,2,7],[1,8,2,9],[1,10,2,11],[1,12,2,13],[1,14,2,15],[2,24,3,32],[3,6,3,7],[3,8,3,9],[3,10,3,11],[3,12,3,13],[3,14,3,15],[3,16,3,17],[3,18,3,19],[3,20,3,21],[3,22,3,23],[1,16,2,17],[1,18,2,19],[1,20,1,21],[1,22,2,23]]}
[null,2016]
["D 9 -10",null,null,null,null,null,"Sälen GS",null,"Falun GS",null,"Norrbärke SL",null,"Borlänge SL",null,"Orsa GS",null,null,null,null,null,null,null,"Deltävling",null,"1:a","2:a","3:e","4:e","5:e","6:e","7:e","8:e","9:e"]
[null,null,null,null,"Poäng",null,null,null,null,null,null,null,null,null,null,null,null,null,null,null,null,null,null,null,"De 5 bästa åken.                         "]
["Rang","Född","Namn","Klubb","3 Bästa","Totalt","Sö 24/1   Tot",null,"Sö 14/2      Tot",null,"Sö 21/2    Tot",null,"Lö 27/2   Tot",null,"Lö 2/4   Tot"]
[1,2006,"NORLING Julia","Leksands SLK",{"$f":"SUM(Y5:AA5)","v":260},{"$f":"H5+J5+L5+N5+P5+R5+T5+V5+X5","v":340},2,{"$f":"LOOKUP(G5,Poängberäkning!$B$6:$B$97,Poängberäkning!$C$6:$C$97)","v":80},1,{"$f":"LOOKUP(I5,Poängberäkning!$B$6:$B$97,Poängberäkning!$C$6:$C$97)","v":100},2,{"$f":"LOOKUP(K5,Poängberäkning!$B$6:$B$97,Poängberäkning!$C$6:$C$97)","v":80},null,{"$f":"LOOKUP(M5,Poängberäkning!$B$6:$B$97,Poängberäkning!$C$6:$C$97)","v":0},2,{"$f":"LOOKUP(O5,Poängberäkning!$B$6:$B$97,Poängberäkning!$C$6:$C$97)","v":80},null,{"$f":"LOOKUP(Q5,[1]Poängberäkning!$B$6:$B$97,[1]Poängberäkning!$C$6:$C$97)","v":0},null,{"$f":"LOOKUP(S5,[1]Poängberäkning!$B$6:$B$97,[1]Poängberäkning!$C$6:$C$97)","v":0},null,{"$f":"LOOKUP(U5,[1]Poängberäkning!$B$6:$B$97,[1]Poängberäkning!$C$6:$C$97)","v":0},null,{"$f":"LOOKUP(W5,[1]Poängberäkning!$B$6:$B$97,[1]Poängberäkning!$C$6:$C$97)","v":0},{"$f":"LARGE(($H5,$J5,$L5,$N5,$P5,$R5,$T5,$V5,$X5),1)","v":100},{"$f":"LARGE(($H5,$J5,$L5,$N5,$P5,$R5,$T5,$V5,$X5),2)","v":80},{"$f":"LARGE(($H5,$J5,$L5,$N5,$P5,$R5,$T5,$V5,$X5),3)","v":80},{"$f":"LARGE(($H5,$J5,$L5,$N5,$P5,$R5,$T5,$V5,$X5),4)","v":80},{"$f":"LARGE(($H5,$J5,$L5,$N5,$P5,$R5,$T5,$V5,$X5),5)","v":0},{"$f":"LARGE(($H5,$J5,$L5,$N5,$P5,$R5,$T5,$V5,$X5),6)","v":0},{"$f":"LARGE(($H5,$J5,$L5,$N5,$P5,$R5,$T5,$V5,$X5),7)","v":0},{"$f":"LARGE(($H5,$J5,$L5,$N5,$P5,$R5,$T5,$V5,$X5),8)","v":0},{"$f":"LARGE(($H5,$J5,$L5,$N5,$P5,$R5,$T5,$V5,$X5),9)","v":0}]
[{"$f":"A5+1","v":2},2007,"WESSUNG Lina","IFK Mora AK",220,264,3,{"$f":"LOOKUP(G6,Poängberäkning!$B$6:$B$97,Poängberäkning!$C$6:$C$97)","v":70},null,{"$f":"LOOKUP(I6,Poängberäkning!$B$6:$B$97,Poängberäkning!$C$6:$C$97)","v":0},3,{"$f":"LOOKUP(K6,Poängberäkning!$B$6:$B$97,Poängberäkning!$C$6:$C$97)","v":70},2,{"$f":"LOOKUP(M6,Poängberäkning!$B$6:$B$97,Poängberäkning!$C$6:$C$97)","v":80},9,{"$f":"LOOKUP(O6,Poängberäkning!$B$6:$B$97,Poängberäkning!$C$6:$C$97)","v":44},null,{"$f":"LOOKUP(Q6,[1]Poängberäkning!$B$6:$B$97,[1]Poängberäkning!$C$6:$C$97)","v":0},null,{"$f":"LOOKUP(S6,[1]Poängberäkning!$B$6:$B$97,[1]Poängberäkning!$C$6:$C$97)","v":0},null,{"$f":"LOOKUP(U6,[1]Poängberäkning!$B$6:$B$97,[1]Poängberäkning!$C$6:$C$97)","v":0},null,{"$f":"LOOKUP(W6,[1]Poängberäkning!$B$6:$B$97,[1]Poängberäkning!$C$6:$C$97)","v":0},{"$f":"LARGE(($H6,$J6,$L6,$N6,$P6,$R6,$T6,$V6,$X6),1)","v":80},{"$f":"LARGE(($H6,$J6,$L6,$N6,$P6,$R6,$T6,$V6,$X6),2)","v":70},{"$f":"LARGE(($H6,$J6,$L6,$N6,$P6,$R6,$T6,$V6,$X6),3)","v":70},{"$f":"LARGE(($H6,$J6,$L6,$N6,$P6,$R6,$T6,$V6,$X6),4)","v":44},{"$f":"LARGE(($H6,$J6,$L6,$N6,$P6,$R6,$T6,$V6,$X6),5)","v":0},{"$f":"LARGE(($H6,$J6,$L6,$N6,$P6,$R6,$T6,$V6,$X6),6)","v":0},{"$f":"LARGE(($H6,$J6,$L6,$N6,$P6,$R6,$T6,$V6,$X6),7)","v":0},{"$f":"LARGE(($H6,$J6,$L6,$N6,$P6,$R6,$T6,$V6,$X6),8)","v":0},{"$f":"LARGE(($H6,$J6,$L6,$N6,$P6,$R6,$T6,$V6,$X6),9)","v":0}]
[{"$f":"A6+1","v":3},2006,"ANDERSSON Siri","IFK Borlänge",205,247,null,{"$f":"LOOKUP(G7,Poängberäkning!$B$6:$B$97,Poängberäkning!$C$6:$C$97)","v":0},2,{"$f":"LOOKUP(I7,Poängberäkning!$B$6:$B$97,Poängberäkning!$C$6:$C$97)","v":80},5,{"$f":"LOOKUP(K7,Poängberäkning!$B$6:$B$97,Poängberäkning!$C$6:$C$97)","v":55},3,{"$f":"LOOKUP(M7,Poängberäkning!$B$6:$B$97,Poängberäkning!$C$6:$C$97)","v":70},10,{"$f":"LOOKUP(O7,Poängberäkning!$B$6:$B$97,Poängberäkning!$C$6:$C$97)","v":42},null,{"$f":"LOOKUP(Q7,[1]Poängberäkning!$B$6:$B$97,[1]Poängberäkning!$C$6:$C$97)","v":0},null,{"$f":"LOOKUP(S7,[1]Poängberäkning!$B$6:$B$97,[1]Poängberäkning!$C$6:$C$97)","v":0},null,{"$f":"LOOKUP(U7,[1]Poängberäkning!$B$6:$B$97,[1]Poängberäkning!$C$6:$C$97)","v":0},null,{"$f":"LOOKUP(W7,[1]Poängberäkning!$B$6:$B$97,[1]Poängberäkning!$C$6:$C$97)","v":0},{"$f":"LARGE(($H7,$J7,$L7,$N7,$P7,$R7,$T7,$V7,$X7),1)","v":80},{"$f":"LARGE(($H7,$J7,$L7,$N7,$P7,$R7,$T7,$V7,$X7),2)","v":70},{"$f":"LARGE(($H7,$J7,$L7,$N7,$P7,$R7,$T7,$V7,$X7),3)","v":55},{"$f":"LARGE(($H7,$J7,$L7,$N7,$P7,$R7,$T7,$V7,$X7),4)","v":42},{"$f":"LARGE(($H7,$J7,$L7,$N7,$P7,$R7,$T7,$V7,$X7),5)","v":0},{"$f":"LARGE(($H7,$J7,$L7,$N7,$P7,$R7,$T7,$V7,$X7),6)","v":0},{"$f":"LARGE(($H7,$J7,$L7,$N7,$P7,$R7,$T7,$V7,$X7),7)","v":0},{"$f":"LARGE(($H7,$J7,$L7,$N7,$P7,$R7,$T7,$V7,$X7),8)","v":0},{"$f":"LARGE(($H7,$J7,$L7,$N7,$P7,$R7,$T7,$V7,$X7),9)","v":0}]
[{"$f":"A7+1","v":4},2006,"ERKERS Hanna","Leksands SLK",164,164,null,{"$f":"LOOKUP(G8,Poängberäkning!$B$6:$B$97,Poängberäkning!$C$6:$C$97)","v":0},3,{"$f":"LOOKUP(I8,Poängberäkning!$B$6:$B$97,Poängberäkning!$C$6:$C$97)","v":70},null,{"$f":"LOOKUP(K8,Poängberäkning!$B$6:$B$97,Poängberäkning!$C$6:$C$97)","v":0},4,{"$f":"LOOKUP(M8,Poängberäkning!$B$6:$B$97,Poängberäkning!$C$6:$C$97)","v":60},17,{"$f":"LOOKUP(O8,Poängberäkning!$B$6:$B$97,Poängberäkning!$C$6:$C$97)","v":34},null,{"$f":"LOOKUP(Q8,[1]Poängberäkning!$B$6:$B$97,[1]Poängberäkning!$C$6:$C$97)","v":0},null,{"$f":"LOOKUP(S8,[1]Poängberäkning!$B$6:$B$97,[1]Poängberäkning!$C$6:$C$97)","v":0},null,{"$f":"LOOKUP(U8,[1]Poängberäkning!$B$6:$B$97,[1]Poängberäkning!$C$6:$C$97)","v":0},null,{"$f":"LOOKUP(W8,[1]Poängberäkning!$B$6:$B$97,[1]Poängberäkning!$C$6:$C$97)","v":0},{"$f":"LARGE(($H8,$J8,$L8,$N8,$P8,$R8,$T8,$V8,$X8),1)","v":70},{"$f":"LARGE(($H8,$J8,$L8,$N8,$P8,$R8,$T8,$V8,$X8),2)","v":60},{"$f":"LARGE(($H8,$J8,$L8,$N8,$P8,$R8,$T8,$V8,$X8),3)","v":34},{"$f":"LARGE(($H8,$J8,$L8,$N8,$P8,$R8,$T8,$V8,$X8),4)","v":0},{"$f":"LARGE(($H8,$J8,$L8,$N8,$P8,$R8,$T8,$V8,$X8),5)","v":0},{"$f":"LARGE(($H8,$J8,$L8,$N8,$P8,$R8,$T8,$V8,$X8),6)","v":0},{"$f":"LARGE(($H8,$J8,$L8,$N8,$P8,$R8,$T8,$V8,$X8),7)","v":0},{"$f":"LARGE(($H8,$J8,$L8,$N8,$P8,$R8,$T8,$V8,$X8),8)","v":0},{"$f":"LARGE(($H8,$J8,$L8,$N8,$P8,$R8,$T8,$V8,$X8),9)","v":0}]
[5,2006,"JONSSON Lovisa","Sälens IF",155,155,1,{"$f":"LOOKUP(G9,Poängberäkning!$B$6:$B$97,Poängberäkning!$C$6:$C$97)","v":100},null,{"$f":"LOOKUP(I9,Poängberäkning!$B$6:$B$97,Poängberäkning!$C$6:$C$97)","v":0},null,{"$f":"LOOKUP(K9,Poängberäkning!$B$6:$B$97,Poängberäkning!$C$6:$C$97)","v":0},null,{"$f":"LOOKUP(M9,Poängberäkning!$B$6:$B$97,Poängberäkning!$C$6:$C$97)","v":0},5,{"$f":"LOOKUP(O9,Poängberäkning!$B$6:$B$97,Poängberäkning!$C$6:$C$97)","v":55},null,{"$f":"LOOKUP(Q9,[1]Poängberäkning!$B$6:$B$97,[1]Poängberäkning!$C$6:$C$97)","v":0},null,{"$f":"LOOKUP(S9,[1]Poängberäkning!$B$6:$B$97,[1]Poängberäkning!$C$6:$C$97)","v":0},null,{"$f":"LOOKUP(U9,[1]Poängberäkning!$B$6:$B$97,[1]Poängberäkning!$C$6:$C$97)","v":0},null,{"$f":"LOOKUP(W9,[1]Poängberäkning!$B$6:$B$97,[1]Poängberäkning!$C$6:$C$97)","v":0},{"$f":"LARGE(($H9,$J9,$L9,$N9,$P9,$R9,$T9,$V9,$X9),1)","v":100},{"$f":"LARGE(($H9,$J9,$L9,$N9,$P9,$R9,$T9,$V9,$X9),2)","v":55},{"$f":"LARGE(($H9,$J9,$L9,$N9,$P9,$R9,$T9,$V9,$X9),3)","v":0},{"$f":"LARGE(($H9,$J9,$L9,$N9,$P9,$R9,$T9,$V9,$X9),4)","v":0},{"$f":"LARGE(($H9,$J9,$L9,$N9,$P9,$R9,$T9,$V9,$X9),5)","v":0},{"$f":"LARGE(($H9,$J9,$L9,$N9,$P9,$R9,$T9,$V9,$X9),6)","v":0},{"$f":"LARGE(($H9,$J9,$L9,$N9,$P9,$R9,$T9,$V9,$X9),7)","v":0},{"$f":"LARGE(($H9,$J9,$L9,$N9,$P9,$R9,$T9,$V9,$X9),8)","v":0},{"$f":"LARGE(($H9,$J9,$L9,$N9,$P9,$R9,$T9,$V9,$X9),9)","v":0}]
[6,2006,"LINDBERG Lisa","Arboga Alpina",148,148,null,{"$f":"LOOKUP(G10,Poängberäkning!$B$6:$B$97,Poängberäkning!$C$6:$C$97)","v":0},null,{"$f":"LOOKUP(I10,Poängberäkning!$B$6:$B$97,Poängberäkning!$C$6:$C$97)","v":0},1,{"$f":"LOOKUP(K10,Poängberäkning!$B$6:$B$97,Poängberäkning!$C$6:$C$97)","v":100},null,{"$f":"LOOKUP(M10,Poängberäkning!$B$6:$B$97,Poängberäkning!$C$6:$C$97)","v":0},7,{"$f":"LOOKUP(O10,Poängberäkning!$B$6:$B$97,Poängberäkning!$C$6:$C$97)","v":48},null,{"$f":"LOOKUP(Q10,[1]Poängberäkning!$B$6:$B$97,[1]Poängberäkning!$C$6:$C$97)","v":0},null,{"$f":"LOOKUP(S10,[1]Poängberäkning!$B$6:$B$97,[1]Poängberäkning!$C$6:$C$97)","v":0},null,{"$f":"LOOKUP(U10,[1]Poängberäkning!$B$6:$B$97,[1]Poängberäkning!$C$6:$C$97)","v":0},null,{"$f":"LOOKUP(W10,[1]Poängberäkning!$B$6:$B$97,[1]Poängberäkning!$C$6:$C$97)","v":0},{"$f":"LARGE(($H10,$J10,$L10,$N10,$P10,$R10,$T10,$V10,$X10),1)","v":100},{"$f":"LARGE(($H10,$J10,$L10,$N10,$P10,$R10,$T10,$V10,$X10),2)","v":48},{"$f":"LARGE(($H10,$J10,$L10,$N10,$P10,$R10,$T10,$V10,$X10),3)","v":0},{"$f":"LARGE(($H10,$J10,$L10,$N10,$P10,$R10,$T10,$V10,$X10),4)","v":0},{"$f":"LARGE(($H10,$J10,$L10,$N10,$P10,$R10,$T10,$V10,$X10),5)","v":0},{"$f":"LARGE(($H10,$J10,$L10,$N10,$P10,$R10,$T10,$V10,$X10),6)","v":0},{"$f":"LARGE(($H10,$J10,$L10,$N10,$P10,$R10,$T10,$V10,$X10),7)","v":0},{"$f":"LARGE(($H10,$J10,$L10,$N10,$P10,$R10,$T10,$V10,$X10),8)","v":0},{"$f":"LARGE(($H10,$J10,$L10,$N10,$P10,$R10,$T10,$V10,$X10),9)","v":0}]
[7,2007,"GUSTAFSSON Wilma","Örebro SLF",147,147,4,{"$f":"LOOKUP(G11,Poängberäkning!$B$6:$B$97,Poängberäkning!$C$6:$C$97)","v":60},99,{"$f":"LOOKUP(I11,Poängberäkning!$B$6:$B$97,Poängberäkning!$C$6:$C$97)","v":0},6,{"$f":"LOOKUP(K11,Poängberäkning!$B$6:$B$97,Poängberäkning!$C$6:$C$97)","v":50},null,{"$f":"LOOKUP(M11,Poängberäkning!$B$6:$B$97,Poängberäkning!$C$6:$C$97)","v":0},14,{"$f":"LOOKUP(O11,Poängberäkning!$B$6:$B$97,Poängberäkning!$C$6:$C$97)","v":37},null,{"$f":"LOOKUP(Q11,[1]Poängberäkning!$B$6:$B$97,[1]Poängberäkning!$C$6:$C$97)","v":0},null,{"$f":"LOOKUP(S11,[1]Poängberäkning!$B$6:$B$97,[1]Poängberäkning!$C$6:$C$97)","v":0},null,{"$f":"LOOKUP(U11,[1]Poängberäkning!$B$6:$B$97,[1]Poängberäkning!$C$6:$C$97)","v":0},null,{"$f":"LOOKUP(W11,[1]Poängberäkning!$B$6:$B$97,[1]Poängberäkning!$C$6:$C$97)","v":0},{"$f":"LARGE(($H11,$J11,$L11,$N11,$P11,$R11,$T11,$V11,$X11),1)","v":60},{"$f":"LARGE(($H11,$J11,$L11,$N11,$P11,$R11,$T11,$V11,$X11),2)","v":50},{"$f":"LARGE(($H11,$J11,$L11,$N11,$P11,$R11,$T11,$V11,$X11),3)","v":37},{"$f":"LARGE(($H11,$J11,$L11,$N11,$P11,$R11,$T11,$V11,$X11),4)","v":0},{"$f":"LARGE(($H11,$J11,$L11,$N11,$P11,$R11,$T11,$V11,$X11),5)","v":0},{"$f":"LARGE(($H11,$J11,$L11,$N11,$P11,$R11,$T11,$V11,$X11),6)","v":0},{"$f":"LARGE(($H11,$J11,$L11,$N11,$P11,$R11,$T11,$V11,$X11),7)","v":0},{"$f":"LARGE(($H11,$J11,$L11,$N11,$P11,$R11,$T11,$V11,$X11),8)","v":0},{"$f":"LARGE(($H11,$J11,$L11,$N11,$P11,$R11,$T11,$V11,$X11),9)","v":0}]
[8,2007,"BORGLJUNG Agnes","IFK Falun",115,115,null,{"$f":"LOOKUP(G12,Poängberäkning!$B$6:$B$97,Poängberäkning!$C$6:$C$97)","v":0},4,{"$f":"LOOKUP(I12,Poängberäkning!$B$6:$B$97,Poängberäkning!$C$6:$C$97)","v":60},null,{"$f":"LOOKUP(K12,Poängberäkning!$B$6:$B$97,Poängberäkning!$C$6:$C$97)","v":0},5,{"$f":"LOOKUP(M12,Poängberäkning!$B$6:$B$97,Poängberäkning!$C$6:$C$97)","v":55},null,{"$f":"LOOKUP(O12,Poängberäkning!$B$6:$B$97,Poängberäkning!$C$6:$C$97)","v":0},null,{"$f":"LOOKUP(Q12,[1]Poängberäkning!$B$6:$B$97,[1]Poängberäkning!$C$6:$C$97)","v":0},null,{"$f":"LOOKUP(S12,[1]Poängberäkning!$B$6:$B$97,[1]Poängberäkning!$C$6:$C$97)","v":0},null,{"$f":"LOOKUP(U12,[1]Poängberäkning!$B$6:$B$97,[1]Poängberäkning!$C$6:$C$97)","v":0},null,{"$f":"LOOKUP(W12,[1]Poängberäkning!$B$6:$B$97,[1]Poängberäkning!$C$6:$C$97)","v":0},{"$f":"LARGE(($H12,$J12,$L12,$N12,$P12,$R12,$T12,$V12,$X12),1)","v":60},{"$f":"LARGE(($H12,$J12,$L12,$N12,$P12,$R12,$T12,$V12,$X12),2)","v":55},{"$f":"LARGE(($H12,$J12,$L12,$N12,$P12,$R12,$T12,$V12,$X12),3)","v":0},{"$f":"LARGE(($H12,$J12,$L12,$N12,$P12,$R12,$T12,$V12,$X12),4)","v":0},{"$f":"LARGE(($H12,$J12,$L12,$N12,$P12,$R12,$T12,$V12,$X12),5)","v":0},{"$f":"LARGE(($H12,$J12,$L12,$N12,$P12,$R12,$T12,$V12,$X12),6)","v":0},{"$f":"LARGE(($H12,$J12,$L12,$N12,$P12,$R12,$T12,$V12,$X12),7)","v":0},{"$f":"LARGE(($H12,$J12,$L12,$N12,$P12,$R12,$T12,$V12,$X12),8)","v":0},{"$f":"LARGE(($H12,$J12,$L12,$N12,$P12,$R12,$T12,$V12,$X12),9)","v":0}]
[9,2007,"SANDBERG Klara","Örebro SLF",103,103,5,{"$f":"LOOKUP(G13,Poängberäkning!$B$6:$B$97,Poängberäkning!$C$6:$C$97)","v":55},null,{"$f":"LOOKUP(I13,Poängberäkning!$B$6:$B$97,Poängberäkning!$C$6:$C$97)","v":0},7,{"$f":"LOOKUP(K13,Poängberäkning!$B$6:$B$97,Poängberäkning!$C$6:$C$97)","v":48},null,{"$f":"LOOKUP(M13,Poängberäkning!$B$6:$B$97,Poängberäkning!$C$6:$C$97)","v":0},null,{"$f":"LOOKUP(O13,Poängberäkning!$B$6:$B$97,Poängberäkning!$C$6:$C$97)","v":0},null,{"$f":"LOOKUP(Q13,[1]Poängberäkning!$B$6:$B$97,[1]Poängberäkning!$C$6:$C$97)","v":0},null,{"$f":"LOOKUP(S13,[1]Poängberäkning!$B$6:$B$97,[1]Poängberäkning!$C$6:$C$97)","v":0},null,{"$f":"LOOKUP(U13,[1]Poängberäkning!$B$6:$B$97,[1]Poängberäkning!$C$6:$C$97)","v":0},null,{"$f":"LOOKUP(W13,[1]Poängberäkning!$B$6:$B$97,[1]Poängberäkning!$C$6:$C$97)","v":0},{"$f":"LARGE(($H13,$J13,$L13,$N13,$P13,$R13,$T13,$V13,$X13),1)","v":55},{"$f":"LARGE(($H13,$J13,$L13,$N13,$P13,$R13,$T13,$V13,$X13),2)","v":48},{"$f":"LARGE(($H13,$J13,$L13,$N13,$P13,$R13,$T13,$V13,$X13),3)","v":0},{"$f":"LARGE(($H13,$J13,$L13,$N13,$P13,$R13,$T13,$V13,$X13),4)","v":0},{"$f":"LARGE(($H13,$J13,$L13,$N13,$P13,$R13,$T13,$V13,$X13),5)","v":0},{"$f":"LARGE(($H13,$J13,$L13,$N13,$P13,$R13,$T13,$V13,$X13),6)","v":0},{"$f":"LARGE(($H13,$J13,$L13,$N13,$P13,$R13,$T13,$V13,$X13),7)","v":0},{"$f":"LARGE(($H13,$J13,$L13,$N13,$P13,$R13,$T13,$V13,$X13),8)","v":0},{"$f":"LARGE(($H13,$J13,$L13,$N13,$P13,$R13,$T13,$V13,$X13),9)","v":0}]
[10,2006,"CERWALL Sandra","Karlstads SLK",100,100,null,{"$f":"LOOKUP(G14,Poängberäkning!$B$6:$B$97,Poängberäkning!$C$6:$C$97)","v":0},null,{"$f":"LOOKUP(I14,Poängberäkning!$B$6:$B$97,Poängberäkning!$C$6:$C$97)","v":0},null,{"$f":"LOOKUP(K14,Poängberäkning!$B$6:$B$97,Poängberäkning!$C$6:$C$97)","v":0},null,{"$f":"LOOKUP(M14,Poängberäkning!$B$6:$B$97,Poängberäkning!$C$6:$C$97)","v":0},1,{"$f":"LOOKUP(O14,Poängberäkning!$B$6:$B$97,Poängberäkning!$C$6:$C$97)","v":100},null,{"$f":"LOOKUP(Q14,[1]Poängberäkning!$B$6:$B$97,[1]Poängberäkning!$C$6:$C$97)","v":0},null,{"$f":"LOOKUP(S14,[1]Poängberäkning!$B$6:$B$97,[1]Poängberäkning!$C$6:$C$97)","v":0},null,{"$f":"LOOKUP(U14,[1]Poängberäkning!$B$6:$B$97,[1]Poängberäkning!$C$6:$C$97)","v":0},null,{"$f":"LOOKUP(W14,[1]Poängberäkning!$B$6:$B$97,[1]Poängberäkning!$C$6:$C$97)","v":0},{"$f":"LARGE(($H14,$J14,$L14,$N14,$P14,$R14,$T14,$V14,$X14),1)","v":100},{"$f":"LARGE(($H14,$J14,$L14,$N14,$P14,$R14,$T14,$V14,$X14),2)","v":0},{"$f":"LARGE(($H14,$J14,$L14,$N14,$P14,$R14,$T14,$V14,$X14),3)","v":0},{"$f":"LARGE(($H14,$J14,$L14,$N14,$P14,$R14,$T14,$V14,$X14),4)","v":0},{"$f":"LARGE(($H14,$J14,$L14,$N14,$P14,$R14,$T14,$V14,$X14),5)","v":0},{"$f":"LARGE(($H14,$J14,$L14,$N14,$P14,$R14,$T14,$V14,$X14),6)","v":0},{"$f":"LARGE(($H14,$J14,$L14,$N14,$P14,$R14,$T14,$V14,$X14),7)","v":0},{"$f":"LARGE(($H14,$J14,$L14,$N14,$P14,$R14,$T14,$V14,$X14),8)","v":0},{"$f":"LARGE(($H14,$J14,$L14,$N14,$P14,$R14,$T14,$V14,$X14),9)","v":0}]
[11,2006,"PETRELIUS Ellen","Kungsbergets AK",100,100,null,{"$f":"LOOKUP(G15,Poängberäkning!$B$6:$B$97,Poängberäkning!$C$6:$C$97)","v":0},null,{"$f":"LOOKUP(I15,Poängberäkning!$B$6:$B$97,Poängberäkning!$C$6:$C$97)","v":0},null,{"$f":"LOOKUP(K15,Poängberäkning!$B$6:$B$97,Poängberäkning!$C$6:$C$97)","v":0},1,{"$f":"LOOKUP(M15,Poängberäkning!$B$6:$B$97,Poängberäkning!$C$6:$C$97)","v":100},null,{"$f":"LOOKUP(O15,Poängberäkning!$B$6:$B$97,Poängberäkning!$C$6:$C$97)","v":0},null,{"$f":"LOOKUP(Q15,[1]Poängberäkning!$B$6:$B$97,[1]Poängberäkning!$C$6:$C$97)","v":0},null,{"$f":"LOOKUP(S15,[1]Poängberäkning!$B$6:$B$97,[1]Poängberäkning!$C$6:$C$97)","v":0},null,{"$f":"LOOKUP(U15,[1]Poängberäkning!$B$6:$B$97,[1]Poängberäkning!$C$6:$C$97)","v":0},null,{"$f":"LOOKUP(W15,[1]Poängberäkning!$B$6:$B$97,[1]Poängberäkning!$C$6:$C$97)","v":0},{"$f":"LARGE(($H15,$J15,$L15,$N15,$P15,$R15,$T15,$V15,$X15),1)","v":100},{"$f":"LARGE(($H15,$J15,$L15,$N15,$P15,$R15,$T15,$V15,$X15),2)","v":0},{"$f":"LARGE(($H15,$J15,$L15,$N15,$P15,$R15,$T15,$V15,$X15),3)","v":0},{"$f":"LARGE(($H15,$J15,$L15,$N15,$P15,$R15,$T15,$V15,$X15),4)","v":0},{"$f":"LARGE(($H15,$J15,$L15,$N15,$P15,$R15,$T15,$V15,$X15),5)","v":0},{"$f":"LARGE(($H15,$J15,$L15,$N15,$P15,$R15,$T15,$V15,$X15),6)","v":0},{"$f":"LARGE(($H15,$J15,$L15,$N15,$P15,$R15,$T15,$V15,$X15),7)","v":0},{"$f":"LARGE(($H15,$J15,$L15,$N15,$P15,$R15,$T15,$V15,$X15),8)","v":0},{"$f":"LARGE(($H15,$J15,$L15,$N15,$P15,$R15,$T15,$V15,$X15),9)","v":0}]
[12,2007,"LINGEMYR Amanda","Gävle Alpina SK",82,82,null,{"$f":"LOOKUP(G16,Poängberäkning!$B$6:$B$97,Poängberäkning!$C$6:$C$97)","v":0},6,{"$f":"LOOKUP(I16,Poängberäkning!$B$6:$B$97,Poängberäkning!$C$6:$C$97)","v":50},null,{"$f":"LOOKUP(K16,Poängberäkning!$B$6:$B$97,Poängberäkning!$C$6:$C$97)","v":0},null,{"$f":"LOOKUP(M16,Poängberäkning!$B$6:$B$97,Poängberäkning!$C$6:$C$97)","v":0},19,{"$f":"LOOKUP(O16,Poängberäkning!$B$6:$B$97,Poängberäkning!$C$6:$C$97)","v":32},null,{"$f":"LOOKUP(Q16,[1]Poängberäkning!$B$6:$B$97,[1]Poängberäkning!$C$6:$C$97)","v":0},null,{"$f":"LOOKUP(S16,[1]Poängberäkning!$B$6:$B$97,[1]Poängberäkning!$C$6:$C$97)","v":0},null,{"$f":"LOOKUP(U16,[1]Poängberäkning!$B$6:$B$97,[1]Poängberäkning!$C$6:$C$97)","v":0},null,{"$f":"LOOKUP(W16,[1]Poängberäkning!$B$6:$B$97,[1]Poängberäkning!$C$6:$C$97)","v":0},{"$f":"LARGE(($H16,$J16,$L16,$N16,$P16,$R16,$T16,$V16,$X16),1)","v":50},{"$f":"LARGE(($H16,$J16,$L16,$N16,$P16,$R16,$T16,$V16,$X16),2)","v":32},{"$f":"LARGE(($H16,$J16,$L16,$N16,$P16,$R16,$T16,$V16,$X16),3)","v":0},{"$f":"LARGE(($H16,$J16,$L16,$N16,$P16,$R16,$T16,$V16,$X16),4)","v":0},{"$f":"LARGE(($H16,$J16,$L16,$N16,$P16,$R16,$T16,$V16,$X16),5)","v":0},{"$f":"LARGE(($H16,$J16,$L16,$N16,$P16,$R16,$T16,$V16,$X16),6)","v":0},{"$f":"LARGE(($H16,$J16,$L16,$N16,$P16,$R16,$T16,$V16,$X16),7)","v":0},{"$f":"LARGE(($H16,$J16,$L16,$N16,$P16,$R16,$T16,$V16,$X16),8)","v":0},{"$f":"LARGE(($H16,$J16,$L16,$N16,$P16,$R16,$T16,$V16,$X16),9)","v":0}]
[13,2006,"VIKING Nike","Uppsala SLK",70,70,null,{"$f":"LOOKUP(G17,Poängberäkning!$B$6:$B$97,Poängberäkning!$C$6:$C$97)","v":0},null,{"$f":"LOOKUP(I17,Poängberäkning!$B$6:$B$97,Poängberäkning!$C$6:$C$97)","v":0},null,{"$f":"LOOKUP(K17,Poängberäkning!$B$6:$B$97,Poängberäkning!$C$6:$C$97)","v":0},null,{"$f":"LOOKUP(M17,Poängberäkning!$B$6:$B$97,Poängberäkning!$C$6:$C$97)","v":0},3,{"$f":"LOOKUP(O17,Poängberäkning!$B$6:$B$97,Poängberäkning!$C$6:$C$97)","v":70},null,{"$f":"LOOKUP(Q17,[1]Poängberäkning!$B$6:$B$97,[1]Poängberäkning!$C$6:$C$97)","v":0},null,{"$f":"LOOKUP(S17,[1]Poängberäkning!$B$6:$B$97,[1]Poängberäkning!$C$6:$C$97)","v":0},null,{"$f":"LOOKUP(U17,[1]Poängberäkning!$B$6:$B$97,[1]Poängberäkning!$C$6:$C$97)","v":0},null,{"$f":"LOOKUP(W17,[1]Poängberäkning!$B$6:$B$97,[1]Poängberäkning!$C$6:$C$97)","v":0},{"$f":"LARGE(($H17,$J17,$L17,$N17,$P17,$R17,$T17,$V17,$X17),1)","v":70},{"$f":"LARGE(($H17,$J17,$L17,$N17,$P17,$R17,$T17,$V17,$X17),2)","v":0},{"$f":"LARGE(($H17,$J17,$L17,$N17,$P17,$R17,$T17,$V17,$X17),3)","v":0},{"$f":"LARGE(($H17,$J17,$L17,$N17,$P17,$R17,$T17,$V17,$X17),4)","v":0},{"$f":"LARGE(($H17,$J17,$L17,$N17,$P17,$R17,$T17,$V17,$X17),5)","v":0},{"$f":"LARGE(($H17,$J17,$L17,$N17,$P17,$R17,$T17,$V17,$X17),6)","v":0},{"$f":"LARGE(($H17,$J17,$L17,$N17,$P17,$R17,$T17,$V17,$X17),7)","v":0},{"$f":"LARGE(($H17,$J17,$L17,$N17,$P17,$R17,$T17,$V17,$X17),8)","v":0},{"$f":"LARGE(($H17,$J17,$L17,$N17,$P17,$R17,$T17,$V17,$X17),9)","v":0}]
[14,2006,"CERWALL Emilia","Karlskoga SLK",60,60,null,{"$f":"LOOKUP(G18,Poängberäkning!$B$6:$B$97,Poängberäkning!$C$6:$C$97)","v":0},null,{"$f":"LOOKUP(I18,Poängberäkning!$B$6:$B$97,Poängberäkning!$C$6:$C$97)","v":0},null,{"$f":"LOOKUP(K18,Poängberäkning!$B$6:$B$97,Poängberäkning!$C$6:$C$97)","v":0},null,{"$f":"LOOKUP(M18,Poängberäkning!$B$6:$B$97,Poängberäkning!$C$6:$C$97)","v":0},4,{"$f":"LOOKUP(O18,Poängberäkning!$B$6:$B$97,Poängberäkning!$C$6:$C$97)","v":60},null,{"$f":"LOOKUP(Q18,[1]Poängberäkning!$B$6:$B$97,[1]Poängberäkning!$C$6:$C$97)","v":0},null,{"$f":"LOOKUP(S18,[1]Poängberäkning!$B$6:$B$97,[1]Poängberäkning!$C$6:$C$97)","v":0},null,{"$f":"LOOKUP(U18,[1]Poängberäkning!$B$6:$B$97,[1]Poängberäkning!$C$6:$C$97)","v":0},null,{"$f":"LOOKUP(W18,[1]Poängberäkning!$B$6:$B$97,[1]Poängberäkning!$C$6:$C$97)","v":0},{"$f":"LARGE(($H18,$J18,$L18,$N18,$P18,$R18,$T18,$V18,$X18),1)","v":60},{"$f":"LARGE(($H18,$J18,$L18,$N18,$P18,$R18,$T18,$V18,$X18),2)","v":0},{"$f":"LARGE(($H18,$J18,$L18,$N18,$P18,$R18,$T18,$V18,$X18),3)","v":0},{"$f":"LARGE(($H18,$J18,$L18,$N18,$P18,$R18,$T18,$V18,$X18),4)","v":0},{"$f":"LARGE(($H18,$J18,$L18,$N18,$P18,$R18,$T18,$V18,$X18),5)","v":0},{"$f":"LARGE(($H18,$J18,$L18,$N18,$P18,$R18,$T18,$V18,$X18),6)","v":0},{"$f":"LARGE(($H18,$J18,$L18,$N18,$P18,$R18,$T18,$V18,$X18),7)","v":0},{"$f":"LARGE(($H18,$J18,$L18,$N18,$P18,$R18,$T18,$V18,$X18),8)","v":0},{"$f":"LARGE(($H18,$J18,$L18,$N18,$P18,$R18,$T18,$V18,$X18),9)","v":0}]
[15,1900,"ANDERSSON Emma","Norrbärke SK Alpin",60,60,null,{"$f":"LOOKUP(G19,Poängberäkning!$B$6:$B$97,Poängberäkning!$C$6:$C$97)","v":0},null,{"$f":"LOOKUP(I19,Poängberäkning!$B$6:$B$97,Poängberäkning!$C$6:$C$97)","v":0},4,{"$f":"LOOKUP(K19,Poängberäkning!$B$6:$B$97,Poängberäkning!$C$6:$C$97)","v":60},null,{"$f":"LOOKUP(M19,Poängberäkning!$B$6:$B$97,Poängberäkning!$C$6:$C$97)","v":0},null,{"$f":"LOOKUP(O19,Poängberäkning!$B$6:$B$97,Poängberäkning!$C$6:$C$97)","v":0},null,{"$f":"LOOKUP(Q19,[1]Poängberäkning!$B$6:$B$97,[1]Poängberäkning!$C$6:$C$97)","v":0},null,{"$f":"LOOKUP(S19,[1]Poängberäkning!$B$6:$B$97,[1]Poängberäkning!$C$6:$C$97)","v":0},null,{"$f":"LOOKUP(U19,[1]Poängberäkning!$B$6:$B$97,[1]Poängberäkning!$C$6:$C$97)","v":0},null,{"$f":"LOOKUP(W19,[1]Poängberäkning!$B$6:$B$97,[1]Poängberäkning!$C$6:$C$97)","v":0},{"$f":"LARGE(($H19,$J19,$L19,$N19,$P19,$R19,$T19,$V19,$X19),1)","v":60},{"$f":"LARGE(($H19,$J19,$L19,$N19,$P19,$R19,$T19,$V19,$X19),2)","v":0},{"$f":"LARGE(($H19,$J19,$L19,$N19,$P19,$R19,$T19,$V19,$X19),3)","v":0},{"$f":"LARGE(($H19,$J19,$L19,$N19,$P19,$R19,$T19,$V19,$X19),4)","v":0},{"$f":"LARGE(($H19,$J19,$L19,$N19,$P19,$R19,$T19,$V19,$X19),5)","v":0},{"$f":"LARGE(($H19,$J19,$L19,$N19,$P19,$R19,$T19,$V19,$X19),6)","v":0},{"$f":"LARGE(($H19,$J19,$L19,$N19,$P19,$R19,$T19,$V19,$X19),7)","v":0},{"$f":"LARGE(($H19,$J19,$L19,$N19,$P19,$R19,$T19,$V19,$X19),8)","v":0},{"$f":"LARGE(($H19,$J19,$L19,$N19,$P19,$R19,$T19,$V19,$X19),9)","v":0}]
[16,1900,"BÄCK Maja","IFK Falun",55,55,null,{"$f":"LOOKUP(G20,Poängberäkning!$B$6:$B$97,Poängberäkning!$C$6:$C$97)","v":0},5,{"$f":"LOOKUP(I20,Poängberäkning!$B$6:$B$97,Poängberäkning!$C$6:$C$97)","v":55},null,{"$f":"LOOKUP(K20,Poängberäkning!$B$6:$B$97,Poängberäkning!$C$6:$C$97)","v":0},null,{"$f":"LOOKUP(M20,Poängberäkning!$B$6:$B$97,Poängberäkning!$C$6:$C$97)","v":0},null,{"$f":"LOOKUP(O20,Poängberäkning!$B$6:$B$97,Poängberäkning!$C$6:$C$97)","v":0},null,{"$f":"LOOKUP(Q20,[1]Poängberäkning!$B$6:$B$97,[1]Poängberäkning!$C$6:$C$97)","v":0},null,{"$f":"LOOKUP(S20,[1]Poängberäkning!$B$6:$B$97,[1]Poängberäkning!$C$6:$C$97)","v":0},null,{"$f":"LOOKUP(U20,[1]Poängberäkning!$B$6:$B$97,[1]Poängberäkning!$C$6:$C$97)","v":0},null,{"$f":"LOOKUP(W20,[1]Poängberäkning!$B$6:$B$97,[1]Poängberäkning!$C$6:$C$97)","v":0},{"$f":"LARGE(($H20,$J20,$L20,$N20,$P20,$R20,$T20,$V20,$X20),1)","v":55},{"$f":"LARGE(($H20,$J20,$L20,$N20,$P20,$R20,$T20,$V20,$X20),2)","v":0},{"$f":"LARGE(($H20,$J20,$L20,$N20,$P20,$R20,$T20,$V20,$X20),3)","v":0},{"$f":"LARGE(($H20,$J20,$L20,$N20,$P20,$R20,$T20,$V20,$X20),4)","v":0},{"$f":"LARGE(($H20,$J20,$L20,$N20,$P20,$R20,$T20,$V20,$X20),5)","v":0},{"$f":"LARGE(($H20,$J20,$L20,$N20,$P20,$R20,$T20,$V20,$X20),6)","v":0},{"$f":"LARGE(($H20,$J20,$L20,$N20,$P20,$R20,$T20,$V20,$X20),7)","v":0},{"$f":"LARGE(($H20,$J20,$L20,$N20,$P20,$R20,$T20,$V20,$X20),8)","v":0},{"$f":"LARGE(($H20,$J20,$L20,$N20,$P20,$R20,$T20,$V20,$X20),9)","v":0}]
[17,2006,"TJÄRNÅS Tilde","Vemdalens IF",50,50,null,{"$f":"LOOKUP(G21,Poängberäkning!$B$6:$B$97,Poängberäkning!$C$6:$C$97)","v":0},null,{"$f":"LOOKUP(I21,Poängberäkning!$B$6:$B$97,Poängberäkning!$C$6:$C$97)","v":0},null,{"$f":"LOOKUP(K21,Poängberäkning!$B$6:$B$97,Poängberäkning!$C$6:$C$97)","v":0},null,{"$f":"LOOKUP(M21,Poängberäkning!$B$6:$B$97,Poängberäkning!$C$6:$C$97)","v":0},6,{"$f":"LOOKUP(O21,Poängberäkning!$B$6:$B$97,Poängberäkning!$C$6:$C$97)","v":50},null,{"$f":"LOOKUP(Q21,[1]Poängberäkning!$B$6:$B$97,[1]Poängberäkning!$C$6:$C$97)","v":0},null,{"$f":"LOOKUP(S21,[1]Poängberäkning!$B$6:$B$97,[1]Poängberäkning!$C$6:$C$97)","v":0},null,{"$f":"LOOKUP(U21,[1]Poängberäkning!$B$6:$B$97,[1]Poängberäkning!$C$6:$C$97)","v":0},null,{"$f":"LOOKUP(W21,[1]Poängberäkning!$B$6:$B$97,[1]Poängberäkning!$C$6:$C$97)","v":0},{"$f":"LARGE(($H21,$J21,$L21,$N21,$P21,$R21,$T21,$V21,$X21),1)","v":50},{"$f":"LARGE(($H21,$J21,$L21,$N21,$P21,$R21,$T21,$V21,$X21),2)","v":0},{"$f":"LARGE(($H21,$J21,$L21,$N21,$P21,$R21,$T21,$V21,$X21),3)","v":0},{"$f":"LARGE(($H21,$J21,$L21,$N21,$P21,$R21,$T21,$V21,$X21),4)","v":0},{"$f":"LARGE(($H21,$J21,$L21,$N21,$P21,$R21,$T21,$V21,$X21),5)","v":0},{"$f":"LARGE(($H21,$J21,$L21,$N21,$P21,$R21,$T21,$V21,$X21),6)","v":0},{"$f":"LARGE(($H21,$J21,$L21,$N21,$P21,$R21,$T21,$V21,$X21),7)","v":0},{"$f":"LARGE(($H21,$J21,$L21,$N21,$P21,$R21,$T21,$V21,$X21),8)","v":0},{"$f":"LARGE(($H21,$J21,$L21,$N21,$P21,$R21,$T21,$V21,$X21),9)","v":0}]
[18,2007,"TÖRNQVIST Ida","IFK Borlänge",50,50,null,{"$f":"LOOKUP(G22,Poängberäkning!$B$6:$B$97,Poängberäkning!$C$6:$C$97)","v":0},null,{"$f":"LOOKUP(I22,Poängberäkning!$B$6:$B$97,Poängberäkning!$C$6:$C$97)","v":0},null,{"$f":"LOOKUP(K22,Poängberäkning!$B$6:$B$97,Poängberäkning!$C$6:$C$97)","v":0},6,{"$f":"LOOKUP(M22,Poängberäkning!$B$6:$B$97,Poängberäkning!$C$6:$C$97)","v":50},null,{"$f":"LOOKUP(O22,Poängberäkning!$B$6:$B$97,Poängberäkning!$C$6:$C$97)","v":0},null,{"$f":"LOOKUP(Q22,[1]Poängberäkning!$B$6:$B$97,[1]Poängberäkning!$C$6:$C$97)","v":0},null,{"$f":"LOOKUP(S22,[1]Poängberäkning!$B$6:$B$97,[1]Poängberäkning!$C$6:$C$97)","v":0},null,{"$f":"LOOKUP(U22,[1]Poängberäkning!$B$6:$B$97,[1]Poängberäkning!$C$6:$C$97)","v":0},null,{"$f":"LOOKUP(W22,[1]Poängberäkning!$B$6:$B$97,[1]Poängberäkning!$C$6:$C$97)","v":0},{"$f":"LARGE(($H22,$J22,$L22,$N22,$P22,$R22,$T22,$V22,$X22),1)","v":50},{"$f":"LARGE(($H22,$J22,$L22,$N22,$P22,$R22,$T22,$V22,$X22),2)","v":0},{"$f":"LARGE(($H22,$J22,$L22,$N22,$P22,$R22,$T22,$V22,$X22),3)","v":0},{"$f":"LARGE(($H22,$J22,$L22,$N22,$P22,$R22,$T22,$V22,$X22),4)","v":0},{"$f":"LARGE(($H22,$J22,$L22,$N22,$P22,$R22,$T22,$V22,$X22),5)","v":0},{"$f":"LARGE(($H22,$J22,$L22,$N22,$P22,$R22,$T22,$V22,$X22),6)","v":0},{"$f":"LARGE(($H22,$J22,$L22,$N22,$P22,$R22,$T22,$V22,$X22),7)","v":0},{"$f":"LARGE(($H22,$J22,$L22,$N22,$P22,$R22,$T22,$V22,$X22),8)","v":0},{"$f":"LARGE(($H22,$J22,$L22,$N22,$P22,$R22,$T22,$V22,$X22),9)","v":0}]
[19,2007,"AHLENIUS Clara","Orsa Alpina Klubb",48,48,null,{"$f":"LOOKUP(G23,Poängberäkning!$B$6:$B$97,Poängberäkning!$C$6:$C$97)","v":0},7,{"$f":"LOOKUP(I23,Poängberäkning!$B$6:$B$97,Poängberäkning!$C$6:$C$97)","v":48},null,{"$f":"LOOKUP(K23,Poängberäkning!$B$6:$B$97,Poängberäkning!$C$6:$C$97)","v":0},null,{"$f":"LOOKUP(M23,Poängberäkning!$B$6:$B$97,Poängberäkning!$C$6:$C$97)","v":0},null,{"$f":"LOOKUP(O23,Poängberäkning!$B$6:$B$97,Poängberäkning!$C$6:$C$97)","v":0},null,{"$f":"LOOKUP(Q23,[1]Poängberäkning!$B$6:$B$97,[1]Poängberäkning!$C$6:$C$97)","v":0},null,{"$f":"LOOKUP(S23,[1]Poängberäkning!$B$6:$B$97,[1]Poängberäkning!$C$6:$C$97)","v":0},null,{"$f":"LOOKUP(U23,[1]Poängberäkning!$B$6:$B$97,[1]Poängberäkning!$C$6:$C$97)","v":0},null,{"$f":"LOOKUP(W23,[1]Poängberäkning!$B$6:$B$97,[1]Poängberäkning!$C$6:$C$97)","v":0},{"$f":"LARGE(($H23,$J23,$L23,$N23,$P23,$R23,$T23,$V23,$X23),1)","v":48},{"$f":"LARGE(($H23,$J23,$L23,$N23,$P23,$R23,$T23,$V23,$X23),2)","v":0},{"$f":"LARGE(($H23,$J23,$L23,$N23,$P23,$R23,$T23,$V23,$X23),3)","v":0},{"$f":"LARGE(($H23,$J23,$L23,$N23,$P23,$R23,$T23,$V23,$X23),4)","v":0},{"$f":"LARGE(($H23,$J23,$L23,$N23,$P23,$R23,$T23,$V23,$X23),5)","v":0},{"$f":"LARGE(($H23,$J23,$L23,$N23,$P23,$R23,$T23,$V23,$X23),6)","v":0},{"$f":"LARGE(($H23,$J23,$L23,$N23,$P23,$R23,$T23,$V23,$X23),7)","v":0},{"$f":"LARGE(($H23,$J23,$L23,$N23,$P23,$R23,$T23,$V23,$X23),8)","v":0},{"$f":"LARGE(($H23,$J23,$L23,$N23,$P23,$R23,$T23,$V23,$X23),9)","v":0}]
[20,2006,"KIEKSI Anna","IFK Borlänge",48,48,null,{"$f":"LOOKUP(G24,Poängberäkning!$B$6:$B$97,Poängberäkning!$C$6:$C$97)","v":0},null,{"$f":"LOOKUP(I24,Poängberäkning!$B$6:$B$97,Poängberäkning!$C$6:$C$97)","v":0},null,{"$f":"LOOKUP(K24,Poängberäkning!$B$6:$B$97,Poängberäkning!$C$6:$C$97)","v":0},7,{"$f":"LOOKUP(M24,Poängberäkning!$B$6:$B$97,Poängberäkning!$C$6:$C$97)","v":48},null,{"$f":"LOOKUP(O24,Poängberäkning!$B$6:$B$97,Poängberäkning!$C$6:$C$97)","v":0},null,{"$f":"LOOKUP(Q24,[1]Poängberäkning!$B$6:$B$97,[1]Poängberäkning!$C$6:$C$97)","v":0},null,{"$f":"LOOKUP(S24,[1]Poängberäkning!$B$6:$B$97,[1]Poängberäkning!$C$6:$C$97)","v":0},null,{"$f":"LOOKUP(U24,[1]Poängberäkning!$B$6:$B$97,[1]Poängberäkning!$C$6:$C$97)","v":0},null,{"$f":"LOOKUP(W24,[1]Poängberäkning!$B$6:$B$97,[1]Poängberäkning!$C$6:$C$97)","v":0},{"$f":"LARGE(($H24,$J24,$L24,$N24,$P24,$R24,$T24,$V24,$X24),1)","v":48},{"$f":"LARGE(($H24,$J24,$L24,$N24,$P24,$R24,$T24,$V24,$X24),2)","v":0},{"$f":"LARGE(($H24,$J24,$L24,$N24,$P24,$R24,$T24,$V24,$X24),3)","v":0},{"$f":"LARGE(($H24,$J24,$L24,$N24,$P24,$R24,$T24,$V24,$X24),4)","v":0},{"$f":"LARGE(($H24,$J24,$L24,$N24,$P24,$R24,$T24,$V24,$X24),5)","v":0},{"$f":"LARGE(($H24,$J24,$L24,$N24,$P24,$R24,$T24,$V24,$X24),6)","v":0},{"$f":"LARGE(($H24,$J24,$L24,$N24,$P24,$R24,$T24,$V24,$X24),7)","v":0},{"$f":"LARGE(($H24,$J24,$L24,$N24,$P24,$R24,$T24,$V24,$X24),8)","v":0},{"$f":"LARGE(($H24,$J24,$L24,$N24,$P24,$R24,$T24,$V24,$X24),9)","v":0}]
[21,2006,"GEZELIUS Elin","IFK Mora AK",46,46,null,{"$f":"LOOKUP(G25,Poängberäkning!$B$6:$B$97,Poängberäkning!$C$6:$C$97)","v":0},null,{"$f":"LOOKUP(I25,Poängberäkning!$B$6:$B$97,Poängberäkning!$C$6:$C$97)","v":0},null,{"$f":"LOOKUP(K25,Poängberäkning!$B$6:$B$97,Poängberäkning!$C$6:$C$97)","v":0},null,{"$f":"LOOKUP(M25,Poängberäkning!$B$6:$B$97,Poängberäkning!$C$6:$C$97)","v":0},8,{"$f":"LOOKUP(O25,Poängberäkning!$B$6:$B$97,Poängberäkning!$C$6:$C$97)","v":46},null,{"$f":"LOOKUP(Q25,[1]Poängberäkning!$B$6:$B$97,[1]Poängberäkning!$C$6:$C$97)","v":0},null,{"$f":"LOOKUP(S25,[1]Poängberäkning!$B$6:$B$97,[1]Poängberäkning!$C$6:$C$97)","v":0},null,{"$f":"LOOKUP(U25,[1]Poängberäkning!$B$6:$B$97,[1]Poängberäkning!$C$6:$C$97)","v":0},null,{"$f":"LOOKUP(W25,[1]Poängberäkning!$B$6:$B$97,[1]Poängberäkning!$C$6:$C$97)","v":0},{"$f":"LARGE(($H25,$J25,$L25,$N25,$P25,$R25,$T25,$V25,$X25),1)","v":46},{"$f":"LARGE(($H25,$J25,$L25,$N25,$P25,$R25,$T25,$V25,$X25),2)","v":0},{"$f":"LARGE(($H25,$J25,$L25,$N25,$P25,$R25,$T25,$V25,$X25),3)","v":0},{"$f":"LARGE(($H25,$J25,$L25,$N25,$P25,$R25,$T25,$V25,$X25),4)","v":0},{"$f":"LARGE(($H25,$J25,$L25,$N25,$P25,$R25,$T25,$V25,$X25),5)","v":0},{"$f":"LARGE(($H25,$J25,$L25,$N25,$P25,$R25,$T25,$V25,$X25),6)","v":0},{"$f":"LARGE(($H25,$J25,$L25,$N25,$P25,$R25,$T25,$V25,$X25),7)","v":0},{"$f":"LARGE(($H25,$J25,$L25,$N25,$P25,$R25,$T25,$V25,$X25),8)","v":0},{"$f":"LARGE(($H25,$J25,$L25,$N25,$P25,$R25,$T25,$V25,$X25),9)","v":0}]
[22,2006,"ROSBERG Ellinor","Kungsbergets AK",40,40,null,{"$f":"LOOKUP(G26,Poängberäkning!$B$6:$B$97,Poängberäkning!$C$6:$C$97)","v":0},null,{"$f":"LOOKUP(I26,Poängberäkning!$B$6:$B$97,Poängberäkning!$C$6:$C$97)","v":0},null,{"$f":"LOOKUP(K26,Poängberäkning!$B$6:$B$97,Poängberäkning!$C$6:$C$97)","v":0},null,{"$f":"LOOKUP(M26,Poängberäkning!$B$6:$B$97,Poängberäkning!$C$6:$C$97)","v":0},11,{"$f":"LOOKUP(O26,Poängberäkning!$B$6:$B$97,Poängberäkning!$C$6:$C$97)","v":40},null,{"$f":"LOOKUP(Q26,[1]Poängberäkning!$B$6:$B$97,[1]Poängberäkning!$C$6:$C$97)","v":0},null,{"$f":"LOOKUP(S26,[1]Poängberäkning!$B$6:$B$97,[1]Poängberäkning!$C$6:$C$97)","v":0},null,{"$f":"LOOKUP(U26,[1]Poängberäkning!$B$6:$B$97,[1]Poängberäkning!$C$6:$C$97)","v":0},null,{"$f":"LOOKUP(W26,[1]Poängberäkning!$B$6:$B$97,[1]Poängberäkning!$C$6:$C$97)","v":0},{"$f":"LARGE(($H26,$J26,$L26,$N26,$P26,$R26,$T26,$V26,$X26),1)","v":40},{"$f":"LARGE(($H26,$J26,$L26,$N26,$P26,$R26,$T26,$V26,$X26),2)","v":0},{"$f":"LARGE(($H26,$J26,$L26,$N26,$P26,$R26,$T26,$V26,$X26),3)","v":0},{"$f":"LARGE(($H26,$J26,$L26,$N26,$P26,$R26,$T26,$V26,$X26),4)","v":0},{"$f":"LARGE(($H26,$J26,$L26,$N26,$P26,$R26,$T26,$V26,$X26),5)","v":0},{"$f":"LARGE(($H26,$J26,$L26,$N26,$P26,$R26,$T26,$V26,$X26),6)","v":0},{"$f":"LARGE(($H26,$J26,$L26,$N26,$P26,$R26,$T26,$V26,$X26),7)","v":0},{"$f":"LARGE(($H26,$J26,$L26,$N26,$P26,$R26,$T26,$V26,$X26),8)","v":0},{"$f":"LARGE(($H26,$J26,$L26,$N26,$P26,$R26,$T26,$V26,$X26),9)","v":0}]
[23,2007,"HEDLUND Gry","Kungsbergets AK",39,39,null,{"$f":"LOOKUP(G27,Poängberäkning!$B$6:$B$97,Poängberäkning!$C$6:$C$97)","v":0},null,{"$f":"LOOKUP(I27,Poängberäkning!$B$6:$B$97,Poängberäkning!$C$6:$C$97)","v":0},null,{"$f":"LOOKUP(K27,Poängberäkning!$B$6:$B$97,Poängberäkning!$C$6:$C$97)","v":0},null,{"$f":"LOOKUP(M27,Poängberäkning!$B$6:$B$97,Poängberäkning!$C$6:$C$97)","v":0},12,{"$f":"LOOKUP(O27,Poängberäkning!$B$6:$B$97,Poängberäkning!$C$6:$C$97)","v":39},null,{"$f":"LOOKUP(Q27,[1]Poängberäkning!$B$6:$B$97,[1]Poängberäkning!$C$6:$C$97)","v":0},null,{"$f":"LOOKUP(S27,[1]Poängberäkning!$B$6:$B$97,[1]Poängberäkning!$C$6:$C$97)","v":0},null,{"$f":"LOOKUP(U27,[1]Poängberäkning!$B$6:$B$97,[1]Poängberäkning!$C$6:$C$97)","v":0},null,{"$f":"LOOKUP(W27,[1]Poängberäkning!$B$6:$B$97,[1]Poängberäkning!$C$6:$C$97)","v":0},{"$f":"LARGE(($H27,$J27,$L27,$N27,$P27,$R27,$T27,$V27,$X27),1)","v":39},{"$f":"LARGE(($H27,$J27,$L27,$N27,$P27,$R27,$T27,$V27,$X27),2)","v":0},{"$f":"LARGE(($H27,$J27,$L27,$N27,$P27,$R27,$T27,$V27,$X27),3)","v":0},{"$f":"LARGE(($H27,$J27,$L27,$N27,$P27,$R27,$T27,$V27,$X27),4)","v":0},{"$f":"LARGE(($H27,$J27,$L27,$N27,$P27,$R27,$T27,$V27,$X27),5)","v":0},{"$f":"LARGE(($H27,$J27,$L27,$N27,$P27,$R27,$T27,$V27,$X27),6)","v":0},{"$f":"LARGE(($H27,$J27,$L27,$N27,$P27,$R27,$T27,$V27,$X27),7)","v":0},{"$f":"LARGE(($H27,$J27,$L27,$N27,$P27,$R27,$T27,$V27,$X27),8)","v":0},{"$f":"LARGE(($H27,$J27,$L27,$N27,$P27,$R27,$T27,$V27,$X27),9)","v":0}]
[24,2006,"PETTERSSON Irma","Kungsbergets AK",38,38,null,{"$f":"LOOKUP(G28,Poängberäkning!$B$6:$B$97,Poängberäkning!$C$6:$C$97)","v":0},null,{"$f":"LOOKUP(I28,Poängberäkning!$B$6:$B$97,Poängberäkning!$C$6:$C$97)","v":0},null,{"$f":"LOOKUP(K28,Poängberäkning!$B$6:$B$97,Poängberäkning!$C$6:$C$97)","v":0},null,{"$f":"LOOKUP(M28,Poängberäkning!$B$6:$B$97,Poängberäkning!$C$6:$C$97)","v":0},13,{"$f":"LOOKUP(O28,Poängberäkning!$B$6:$B$97,Poängberäkning!$C$6:$C$97)","v":38},null,{"$f":"LOOKUP(Q28,[1]Poängberäkning!$B$6:$B$97,[1]Poängberäkning!$C$6:$C$97)","v":0},null,{"$f":"LOOKUP(S28,[1]Poängberäkning!$B$6:$B$97,[1]Poängberäkning!$C$6:$C$97)","v":0},null,{"$f":"LOOKUP(U28,[1]Poängberäkning!$B$6:$B$97,[1]Poängberäkning!$C$6:$C$97)","v":0},null,{"$f":"LOOKUP(W28,[1]Poängberäkning!$B$6:$B$97,[1]Poängberäkning!$C$6:$C$97)","v":0},{"$f":"LARGE(($H28,$J28,$L28,$N28,$P28,$R28,$T28,$V28,$X28),1)","v":38},{"$f":"LARGE(($H28,$J28,$L28,$N28,$P28,$R28,$T28,$V28,$X28),2)","v":0},{"$f":"LARGE(($H28,$J28,$L28,$N28,$P28,$R28,$T28,$V28,$X28),3)","v":0},{"$f":"LARGE(($H28,$J28,$L28,$N28,$P28,$R28,$T28,$V28,$X28),4)","v":0},{"$f":"LARGE(($H28,$J28,$L28,$N28,$P28,$R28,$T28,$V28,$X28),5)","v":0},{"$f":"LARGE(($H28,$J28,$L28,$N28,$P28,$R28,$T28,$V28,$X28),6)","v":0},{"$f":"LARGE(($H28,$J28,$L28,$N28,$P28,$R28,$T28,$V28,$X28),7)","v":0},{"$f":"LARGE(($H28,$J28,$L28,$N28,$P28,$R28,$T28,$V28,$X28),8)","v":0},{"$f":"LARGE(($H28,$J28,$L28,$N28,$P28,$R28,$T28,$V28,$X28),9)","v":0}]
[25,2007,"LOFT Melina","Klövsjö Alpina",36,36,null,{"$f":"LOOKUP(G29,Poängberäkning!$B$6:$B$97,Poängberäkning!$C$6:$C$97)","v":0},null,{"$f":"LOOKUP(I29,Poängberäkning!$B$6:$B$97,Poängberäkning!$C$6:$C$97)","v":0},null,{"$f":"LOOKUP(K29,Poängberäkning!$B$6:$B$97,Poängberäkning!$C$6:$C$97)","v":0},null,{"$f":"LOOKUP(M29,Poängberäkning!$B$6:$B$97,Poängberäkning!$C$6:$C$97)","v":0},15,{"$f":"LOOKUP(O29,Poängberäkning!$B$6:$B$97,Poängberäkning!$C$6:$C$97)","v":36},null,{"$f":"LOOKUP(Q29,[1]Poängberäkning!$B$6:$B$97,[1]Poängberäkning!$C$6:$C$97)","v":0},null,{"$f":"LOOKUP(S29,[1]Poängberäkning!$B$6:$B$97,[1]Poängberäkning!$C$6:$C$97)","v":0},null,{"$f":"LOOKUP(U29,[1]Poängberäkning!$B$6:$B$97,[1]Poängberäkning!$C$6:$C$97)","v":0},null,{"$f":"LOOKUP(W29,[1]Poängberäkning!$B$6:$B$97,[1]Poängberäkning!$C$6:$C$97)","v":0},{"$f":"LARGE(($H29,$J29,$L29,$N29,$P29,$R29,$T29,$V29,$X29),1)","v":36},{"$f":"LARGE(($H29,$J29,$L29,$N29,$P29,$R29,$T29,$V29,$X29),2)","v":0},{"$f":"LARGE(($H29,$J29,$L29,$N29,$P29,$R29,$T29,$V29,$X29),3)","v":0},{"$f":"LARGE(($H29,$J29,$L29,$N29,$P29,$R29,$T29,$V29,$X29),4)","v":0},{"$f":"LARGE(($H29,$J29,$L29,$N29,$P29,$R29,$T29,$V29,$X29),5)","v":0},{"$f":"LARGE(($H29,$J29,$L29,$N29,$P29,$R29,$T29,$V29,$X29),6)","v":0},{"$f":"LARGE(($H29,$J29,$L29,$N29,$P29,$R29,$T29,$V29,$X29),7)","v":0},{"$f":"LARGE(($H29,$J29,$L29,$N29,$P29,$R29,$T29,$V29,$X29),8)","v":0},{"$f":"LARGE(($H29,$J29,$L29,$N29,$P29,$R29,$T29,$V29,$X29),9)","v":0}]
[26,2007,"FJÄLLRYD Alice","Örebro SLF",35,35,null,{"$f":"LOOKUP(G30,Poängberäkning!$B$6:$B$97,Poängberäkning!$C$6:$C$97)","v":0},null,{"$f":"LOOKUP(I30,Poängberäkning!$B$6:$B$97,Poängberäkning!$C$6:$C$97)","v":0},null,{"$f":"LOOKUP(K30,Poängberäkning!$B$6:$B$97,Poängberäkning!$C$6:$C$97)","v":0},null,{"$f":"LOOKUP(M30,Poängberäkning!$B$6:$B$97,Poängberäkning!$C$6:$C$97)","v":0},16,{"$f":"LOOKUP(O30,Poängberäkning!$B$6:$B$97,Poängberäkning!$C$6:$C$97)","v":35},null,{"$f":"LOOKUP(Q30,[1]Poängberäkning!$B$6:$B$97,[1]Poängberäkning!$C$6:$C$97)","v":0},null,{"$f":"LOOKUP(S30,[1]Poängberäkning!$B$6:$B$97,[1]Poängberäkning!$C$6:$C$97)","v":0},null,{"$f":"LOOKUP(U30,[1]Poängberäkning!$B$6:$B$97,[1]Poängberäkning!$C$6:$C$97)","v":0},null,{"$f":"LOOKUP(W30,[1]Poängberäkning!$B$6:$B$97,[1]Poängberäkning!$C$6:$C$97)","v":0},{"$f":"LARGE(($H30,$J30,$L30,$N30,$P30,$R30,$T30,$V30,$X30),1)","v":35},{"$f":"LARGE(($H30,$J30,$L30,$N30,$P30,$R30,$T30,$V30,$X30),2)","v":0},{"$f":"LARGE(($H30,$J30,$L30,$N30,$P30,$R30,$T30,$V30,$X30),3)","v":0},{"$f":"LARGE(($H30,$J30,$L30,$N30,$P30,$R30,$T30,$V30,$X30),4)","v":0},{"$f":"LARGE(($H30,$J30,$L30,$N30,$P30,$R30,$T30,$V30,$X30),5)","v":0},{"$f":"LARGE(($H30,$J30,$L30,$N30,$P30,$R30,$T30,$V30,$X30),6)","v":0},{"$f":"LARGE(($H30,$J30,$L30,$N30,$P30,$R30,$T30,$V30,$X30),7)","v":0},{"$f":"LARGE(($H30,$J30,$L30,$N30,$P30,$R30,$T30,$V30,$X30),8)","v":0},{"$f":"LARGE(($H30,$J30,$L30,$N30,$P30,$R30,$T30,$V30,$X30),9)","v":0}]
[27,2006,"WIKZELL Athena","Rättviks SLK",33,33,null,{"$f":"LOOKUP(G31,Poängberäkning!$B$6:$B$97,Poängberäkning!$C$6:$C$97)","v":0},null,{"$f":"LOOKUP(I31,Poängberäkning!$B$6:$B$97,Poängberäkning!$C$6:$C$97)","v":0},null,{"$f":"LOOKUP(K31,Poängberäkning!$B$6:$B$97,Poängberäkning!$C$6:$C$97)","v":0},null,{"$f":"LOOKUP(M31,Poängberäkning!$B$6:$B$97,Poängberäkning!$C$6:$C$97)","v":0},18,{"$f":"LOOKUP(O31,Poängberäkning!$B$6:$B$97,Poängberäkning!$C$6:$C$97)","v":33},null,{"$f":"LOOKUP(Q31,[1]Poängberäkning!$B$6:$B$97,[1]Poängberäkning!$C$6:$C$97)","v":0},null,{"$f":"LOOKUP(S31,[1]Poängberäkning!$B$6:$B$97,[1]Poängberäkning!$C$6:$C$97)","v":0},null,{"$f":"LOOKUP(U31,[1]Poängberäkning!$B$6:$B$97,[1]Poängberäkning!$C$6:$C$97)","v":0},null,{"$f":"LOOKUP(W31,[1]Poängberäkning!$B$6:$B$97,[1]Poängberäkning!$C$6:$C$97)","v":0},{"$f":"LARGE(($H31,$J31,$L31,$N31,$P31,$R31,$T31,$V31,$X31),1)","v":33},{"$f":"LARGE(($H31,$J31,$L31,$N31,$P31,$R31,$T31,$V31,$X31),2)","v":0},{"$f":"LARGE(($H31,$J31,$L31,$N31,$P31,$R31,$T31,$V31,$X31),3)","v":0},{"$f":"LARGE(($H31,$J31,$L31,$N31,$P31,$R31,$T31,$V31,$X31),4)","v":0},{"$f":"LARGE(($H31,$J31,$L31,$N31,$P31,$R31,$T31,$V31,$X31),5)","v":0},{"$f":"LARGE(($H31,$J31,$L31,$N31,$P31,$R31,$T31,$V31,$X31),6)","v":0},{"$f":"LARGE(($H31,$J31,$L31,$N31,$P31,$R31,$T31,$V31,$X31),7)","v":0},{"$f":"LARGE(($H31,$J31,$L31,$N31,$P31,$R31,$T31,$V31,$X31),8)","v":0},{"$f":"LARGE(($H31,$J31,$L31,$N31,$P31,$R31,$T31,$V31,$X31),9)","v":0}]
[28,2007,"LODIN Astrid","Branäs AK",31,31,null,{"$f":"LOOKUP(G32,Poängberäkning!$B$6:$B$97,Poängberäkning!$C$6:$C$97)","v":0},null,{"$f":"LOOKUP(I32,Poängberäkning!$B$6:$B$97,Poängberäkning!$C$6:$C$97)","v":0},null,{"$f":"LOOKUP(K32,Poängberäkning!$B$6:$B$97,Poängberäkning!$C$6:$C$97)","v":0},null,{"$f":"LOOKUP(M32,Poängberäkning!$B$6:$B$97,Poängberäkning!$C$6:$C$97)","v":0},20,{"$f":"LOOKUP(O32,Poängberäkning!$B$6:$B$97,Poängberäkning!$C$6:$C$97)","v":31},null,{"$f":"LOOKUP(Q32,[1]Poängberäkning!$B$6:$B$97,[1]Poängberäkning!$C$6:$C$97)","v":0},null,{"$f":"LOOKUP(S32,[1]Poängberäkning!$B$6:$B$97,[1]Poängberäkning!$C$6:$C$97)","v":0},null,{"$f":"LOOKUP(U32,[1]Poängberäkning!$B$6:$B$97,[1]Poängberäkning!$C$6:$C$97)","v":0},null,{"$f":"LOOKUP(W32,[1]Poängberäkning!$B$6:$B$97,[1]Poängberäkning!$C$6:$C$97)","v":0},{"$f":"LARGE(($H32,$J32,$L32,$N32,$P32,$R32,$T32,$V32,$X32),1)","v":31},{"$f":"LARGE(($H32,$J32,$L32,$N32,$P32,$R32,$T32,$V32,$X32),2)","v":0},{"$f":"LARGE(($H32,$J32,$L32,$N32,$P32,$R32,$T32,$V32,$X32),3)","v":0},{"$f":"LARGE(($H32,$J32,$L32,$N32,$P32,$R32,$T32,$V32,$X32),4)","v":0},{"$f":"LARGE(($H32,$J32,$L32,$N32,$P32,$R32,$T32,$V32,$X32),5)","v":0},{"$f":"LARGE(($H32,$J32,$L32,$N32,$P32,$R32,$T32,$V32,$X32),6)","v":0},{"$f":"LARGE(($H32,$J32,$L32,$N32,$P32,$R32,$T32,$V32,$X32),7)","v":0},{"$f":"LARGE(($H32,$J32,$L32,$N32,$P32,$R32,$T32,$V32,$X32),8)","v":0},{"$f":"LARGE(($H32,$J32,$L32,$N32,$P32,$R32,$T32,$V32,$X32),9)","v":0}]
[29,2007,"HÖGLUND Helle","IFK Mora AK",30,30,null,{"$f":"LOOKUP(G33,Poängberäkning!$B$6:$B$97,Poängberäkning!$C$6:$C$97)","v":0},null,{"$f":"LOOKUP(I33,Poängberäkning!$B$6:$B$97,Poängberäkning!$C$6:$C$97)","v":0},null,{"$f":"LOOKUP(K33,Poängberäkning!$B$6:$B$97,Poängberäkning!$C$6:$C$97)","v":0},null,{"$f":"LOOKUP(M33,Poängberäkning!$B$6:$B$97,Poängberäkning!$C$6:$C$97)","v":0},21,{"$f":"LOOKUP(O33,Poängberäkning!$B$6:$B$97,Poängberäkning!$C$6:$C$97)","v":30},null,{"$f":"LOOKUP(Q33,[1]Poängberäkning!$B$6:$B$97,[1]Poängberäkning!$C$6:$C$97)","v":0},null,{"$f":"LOOKUP(S33,[1]Poängberäkning!$B$6:$B$97,[1]Poängberäkning!$C$6:$C$97)","v":0},null,{"$f":"LOOKUP(U33,[1]Poängberäkning!$B$6:$B$97,[1]Poängberäkning!$C$6:$C$97)","v":0},null,{"$f":"LOOKUP(W33,[1]Poängberäkning!$B$6:$B$97,[1]Poängberäkning!$C$6:$C$97)","v":0},{"$f":"LARGE(($H33,$J33,$L33,$N33,$P33,$R33,$T33,$V33,$X33),1)","v":30},{"$f":"LARGE(($H33,$J33,$L33,$N33,$P33,$R33,$T33,$V33,$X33),2)","v":0},{"$f":"LARGE(($H33,$J33,$L33,$N33,$P33,$R33,$T33,$V33,$X33),3)","v":0},{"$f":"LARGE(($H33,$J33,$L33,$N33,$P33,$R33,$T33,$V33,$X33),4)","v":0},{"$f":"LARGE(($H33,$J33,$L33,$N33,$P33,$R33,$T33,$V33,$X33),5)","v":0},{"$f":"LARGE(($H33,$J33,$L33,$N33,$P33,$R33,$T33,$V33,$X33),6)","v":0},{"$f":"LARGE(($H33,$J33,$L33,$N33,$P33,$R33,$T33,$V33,$X33),7)","v":0},{"$f":"LARGE(($H33,$J33,$L33,$N33,$P33,$R33,$T33,$V33,$X33),8)","v":0},{"$f":"LARGE(($H33,$J33,$L33,$N33,$P33,$R33,$T33,$V33,$X33),9)","v":0}]
[30,2007,"WIBORG Nova","Orsa Alpina Klubb",29,29,null,{"$f":"LOOKUP(G34,Poängberäkning!$B$6:$B$97,Poängberäkning!$C$6:$C$97)","v":0},null,{"$f":"LOOKUP(I34,Poängberäkning!$B$6:$B$97,Poängberäkning!$C$6:$C$97)","v":0},null,{"$f":"LOOKUP(K34,Poängberäkning!$B$6:$B$97,Poängberäkning!$C$6:$C$97)","v":0},null,{"$f":"LOOKUP(M34,Poängberäkning!$B$6:$B$97,Poängberäkning!$C$6:$C$97)","v":0},22,{"$f":"LOOKUP(O34,Poängberäkning!$B$6:$B$97,Poängberäkning!$C$6:$C$97)","v":29},null,{"$f":"LOOKUP(Q34,[1]Poängberäkning!$B$6:$B$97,[1]Poängberäkning!$C$6:$C$97)","v":0},null,{"$f":"LOOKUP(S34,[1]Poängberäkning!$B$6:$B$97,[1]Poängberäkning!$C$6:$C$97)","v":0},null,{"$f":"LOOKUP(U34,[1]Poängberäkning!$B$6:$B$97,[1]Poängberäkning!$C$6:$C$97)","v":0},null,{"$f":"LOOKUP(W34,[1]Poängberäkning!$B$6:$B$97,[1]Poängberäkning!$C$6:$C$97)","v":0},{"$f":"LARGE(($H34,$J34,$L34,$N34,$P34,$R34,$T34,$V34,$X34),1)","v":29},{"$f":"LARGE(($H34,$J34,$L34,$N34,$P34,$R34,$T34,$V34,$X34),2)","v":0},{"$f":"LARGE(($H34,$J34,$L34,$N34,$P34,$R34,$T34,$V34,$X34),3)","v":0},{"$f":"LARGE(($H34,$J34,$L34,$N34,$P34,$R34,$T34,$V34,$X34),4)","v":0},{"$f":"LARGE(($H34,$J34,$L34,$N34,$P34,$R34,$T34,$V34,$X34),5)","v":0},{"$f":"LARGE(($H34,$J34,$L34,$N34,$P34,$R34,$T34,$V34,$X34),6)","v":0},{"$f":"LARGE(($H34,$J34,$L34,$N34,$P34,$R34,$T34,$V34,$X34),7)","v":0},{"$f":"LARGE(($H34,$J34,$L34,$N34,$P34,$R34,$T34,$V34,$X34),8)","v":0},{"$f":"LARGE(($H34,$J34,$L34,$N34,$P34,$R34,$T34,$V34,$X34),9)","v":0}]
[31,2006,"MAGNUSSON Irma","Västerås Slalomklubb",28,28,null,{"$f":"LOOKUP(G35,Poängberäkning!$B$6:$B$97,Poängberäkning!$C$6:$C$97)","v":0},null,{"$f":"LOOKUP(I35,Poängberäkning!$B$6:$B$97,Poängberäkning!$C$6:$C$97)","v":0},null,{"$f":"LOOKUP(K35,Poängberäkning!$B$6:$B$97,Poängberäkning!$C$6:$C$97)","v":0},null,{"$f":"LOOKUP(M35,Poängberäkning!$B$6:$B$97,Poängberäkning!$C$6:$C$97)","v":0},23,{"$f":"LOOKUP(O35,Poängberäkning!$B$6:$B$97,Poängberäkning!$C$6:$C$97)","v":28},null,{"$f":"LOOKUP(Q35,[1]Poängberäkning!$B$6:$B$97,[1]Poängberäkning!$C$6:$C$97)","v":0},null,{"$f":"LOOKUP(S35,[1]Poängberäkning!$B$6:$B$97,[1]Poängberäkning!$C$6:$C$97)","v":0},null,{"$f":"LOOKUP(U35,[1]Poängberäkning!$B$6:$B$97,[1]Poängberäkning!$C$6:$C$97)","v":0},null,{"$f":"LOOKUP(W35,[1]Poängberäkning!$B$6:$B$97,[1]Poängberäkning!$C$6:$C$97)","v":0},{"$f":"LARGE(($H35,$J35,$L35,$N35,$P35,$R35,$T35,$V35,$X35),1)","v":28},{"$f":"LARGE(($H35,$J35,$L35,$N35,$P35,$R35,$T35,$V35,$X35),2)","v":0},{"$f":"LARGE(($H35,$J35,$L35,$N35,$P35,$R35,$T35,$V35,$X35),3)","v":0},{"$f":"LARGE(($H35,$J35,$L35,$N35,$P35,$R35,$T35,$V35,$X35),4)","v":0},{"$f":"LARGE(($H35,$J35,$L35,$N35,$P35,$R35,$T35,$V35,$X35),5)","v":0},{"$f":"LARGE(($H35,$J35,$L35,$N35,$P35,$R35,$T35,$V35,$X35),6)","v":0},{"$f":"LARGE(($H35,$J35,$L35,$N35,$P35,$R35,$T35,$V35,$X35),7)","v":0},{"$f":"LARGE(($H35,$J35,$L35,$N35,$P35,$R35,$T35,$V35,$X35),8)","v":0},{"$f":"LARGE(($H35,$J35,$L35,$N35,$P35,$R35,$T35,$V35,$X35),9)","v":0}]
[32,2007,"ANDERSSON Tiffany","Avesta AK",0,0,null,{"$f":"LOOKUP(G36,Poängberäkning!$B$6:$B$97,Poängberäkning!$C$6:$C$97)","v":0},99,{"$f":"LOOKUP(I36,Poängberäkning!$B$6:$B$97,Poängberäkning!$C$6:$C$97)","v":0},null,{"$f":"LOOKUP(K36,Poängberäkning!$B$6:$B$97,Poängberäkning!$C$6:$C$97)","v":0},null,{"$f":"LOOKUP(M36,Poängberäkning!$B$6:$B$97,Poängberäkning!$C$6:$C$97)","v":0},null,{"$f":"LOOKUP(O36,Poängberäkning!$B$6:$B$97,Poängberäkning!$C$6:$C$97)","v":0},null,{"$f":"LOOKUP(Q36,[1]Poängberäkning!$B$6:$B$97,[1]Poängberäkning!$C$6:$C$97)","v":0},null,{"$f":"LOOKUP(S36,[1]Poängberäkning!$B$6:$B$97,[1]Poängberäkning!$C$6:$C$97)","v":0},null,{"$f":"LOOKUP(U36,[1]Poängberäkning!$B$6:$B$97,[1]Poängberäkning!$C$6:$C$97)","v":0},null,{"$f":"LOOKUP(W36,[1]Poängberäkning!$B$6:$B$97,[1]Poängberäkning!$C$6:$C$97)","v":0},{"$f":"LARGE(($H36,$J36,$L36,$N36,$P36,$R36,$T36,$V36,$X36),1)","v":0},{"$f":"LARGE(($H36,$J36,$L36,$N36,$P36,$R36,$T36,$V36,$X36),2)","v":0},{"$f":"LARGE(($H36,$J36,$L36,$N36,$P36,$R36,$T36,$V36,$X36),3)","v":0},{"$f":"LARGE(($H36,$J36,$L36,$N36,$P36,$R36,$T36,$V36,$X36),4)","v":0},{"$f":"LARGE(($H36,$J36,$L36,$N36,$P36,$R36,$T36,$V36,$X36),5)","v":0},{"$f":"LARGE(($H36,$J36,$L36,$N36,$P36,$R36,$T36,$V36,$X36),6)","v":0},{"$f":"LARGE(($H36,$J36,$L36,$N36,$P36,$R36,$T36,$V36,$X36),7)","v":0},{"$f":"LARGE(($H36,$J36,$L36,$N36,$P36,$R36,$T36,$V36,$X36),8)","v":0},{"$f":"LARGE(($H36,$J36,$L36,$N36,$P36,$R36,$T36,$V36,$X36),9)","v":0}]
[33,2007,"HAHLIN Elin","IFK Mora AK",{"$f":"SUM(Y37:AA37)","v":0},{"$f":"H37+J37+L37+N37+P37+R37+T37+V37+X37","v":0},null,{"$f":"LOOKUP(G37,Poängberäkning!$B$6:$B$97,Poängberäkning!$C$6:$C$97)","v":0},null,{"$f":"LOOKUP(I37,Poängberäkning!$B$6:$B$97,Poängberäkning!$C$6:$C$97)","v":0},null,{"$f":"LOOKUP(K37,Poängberäkning!$B$6:$B$97,Poängberäkning!$C$6:$C$97)","v":0},null,{"$f":"LOOKUP(M37,Poängberäkning!$B$6:$B$97,Poängberäkning!$C$6:$C$97)","v":0},null,{"$f":"LOOKUP(O37,Poängberäkning!$B$6:$B$97,Poängberäkning!$C$6:$C$97)","v":0},null,{"$f":"LOOKUP(Q37,[1]Poängberäkning!$B$6:$B$97,[1]Poängberäkning!$C$6:$C$97)","v":0},null,{"$f":"LOOKUP(S37,[1]Poängberäkning!$B$6:$B$97,[1]Poängberäkning!$C$6:$C$97)","v":0},null,{"$f":"LOOKUP(U37,[1]Poängberäkning!$B$6:$B$97,[1]Poängberäkning!$C$6:$C$97)","v":0},null,{"$f":"LOOKUP(W37,[1]Poängberäkning!$B$6:$B$97,[1]Poängberäkning!$C$6:$C$97)","v":0},{"$f":"LARGE(($H37,$J37,$L37,$N37,$P37,$R37,$T37,$V37,$X37),1)","v":0},{"$f":"LARGE(($H37,$J37,$L37,$N37,$P37,$R37,$T37,$V37,$X37),2)","v":0},{"$f":"LARGE(($H37,$J37,$L37,$N37,$P37,$R37,$T37,$V37,$X37),3)","v":0},{"$f":"LARGE(($H37,$J37,$L37,$N37,$P37,$R37,$T37,$V37,$X37),4)","v":0},{"$f":"LARGE(($H37,$J37,$L37,$N37,$P37,$R37,$T37,$V37,$X37),5)","v":0},{"$f":"LARGE(($H37,$J37,$L37,$N37,$P37,$R37,$T37,$V37,$X37),6)","v":0},{"$f":"LARGE(($H37,$J37,$L37,$N37,$P37,$R37,$T37,$V37,$X37),7)","v":0},{"$f":"LARGE(($H37,$J37,$L37,$N37,$P37,$R37,$T37,$V37,$X37),8)","v":0},{"$f":"LARGE(($H37,$J37,$L37,$N37,$P37,$R37,$T37,$V37,$X37),9)","v":0}]
[34,2006,"LINDSTRÖM Stella","Åre SLK",0,0,null,{"$f":"LOOKUP(G38,Poängberäkning!$B$6:$B$97,Poängberäkning!$C$6:$C$97)","v":0},null,{"$f":"LOOKUP(I38,Poängberäkning!$B$6:$B$97,Poängberäkning!$C$6:$C$97)","v":0},null,{"$f":"LOOKUP(K38,Poängberäkning!$B$6:$B$97,Poängberäkning!$C$6:$C$97)","v":0},null,{"$f":"LOOKUP(M38,Poängberäkning!$B$6:$B$97,Poängberäkning!$C$6:$C$97)","v":0},null,{"$f":"LOOKUP(O38,Poängberäkning!$B$6:$B$97,Poängberäkning!$C$6:$C$97)","v":0},null,{"$f":"LOOKUP(Q38,[1]Poängberäkning!$B$6:$B$97,[1]Poängberäkning!$C$6:$C$97)","v":0},null,{"$f":"LOOKUP(S38,[1]Poängberäkning!$B$6:$B$97,[1]Poängberäkning!$C$6:$C$97)","v":0},null,{"$f":"LOOKUP(U38,[1]Poängberäkning!$B$6:$B$97,[1]Poängberäkning!$C$6:$C$97)","v":0},null,{"$f":"LOOKUP(W38,[1]Poängberäkning!$B$6:$B$97,[1]Poängberäkning!$C$6:$C$97)","v":0},{"$f":"LARGE(($H38,$J38,$L38,$N38,$P38,$R38,$T38,$V38,$X38),1)","v":0},{"$f":"LARGE(($H38,$J38,$L38,$N38,$P38,$R38,$T38,$V38,$X38),2)","v":0},{"$f":"LARGE(($H38,$J38,$L38,$N38,$P38,$R38,$T38,$V38,$X38),3)","v":0},{"$f":"LARGE(($H38,$J38,$L38,$N38,$P38,$R38,$T38,$V38,$X38),4)","v":0},{"$f":"LARGE(($H38,$J38,$L38,$N38,$P38,$R38,$T38,$V38,$X38),5)","v":0},{"$f":"LARGE(($H38,$J38,$L38,$N38,$P38,$R38,$T38,$V38,$X38),6)","v":0},{"$f":"LARGE(($H38,$J38,$L38,$N38,$P38,$R38,$T38,$V38,$X38),7)","v":0},{"$f":"LARGE(($H38,$J38,$L38,$N38,$P38,$R38,$T38,$V38,$X38),8)","v":0},{"$f":"LARGE(($H38,$J38,$L38,$N38,$P38,$R38,$T38,$V38,$X38),9)","v":0}]
[35,null,null,null,0,0,null,{"$f":"LOOKUP(G39,Poängberäkning!$B$6:$B$97,Poängberäkning!$C$6:$C$97)","v":0},null,{"$f":"LOOKUP(I39,Poängberäkning!$B$6:$B$97,Poängberäkning!$C$6:$C$97)","v":0},null,{"$f":"LOOKUP(K39,Poängberäkning!$B$6:$B$97,Poängberäkning!$C$6:$C$97)","v":0},null,{"$f":"LOOKUP(M39,Poängberäkning!$B$6:$B$97,Poängberäkning!$C$6:$C$97)","v":0},null,{"$f":"LOOKUP(O39,Poängberäkning!$B$6:$B$97,Poängberäkning!$C$6:$C$97)","v":0},null,{"$f":"LOOKUP(Q39,[1]Poängberäkning!$B$6:$B$97,[1]Poängberäkning!$C$6:$C$97)","v":0},null,{"$f":"LOOKUP(S39,[1]Poängberäkning!$B$6:$B$97,[1]Poängberäkning!$C$6:$C$97)","v":0},null,{"$f":"LOOKUP(U39,[1]Poängberäkning!$B$6:$B$97,[1]Poängberäkning!$C$6:$C$97)","v":0},null,{"$f":"LOOKUP(W39,[1]Poängberäkning!$B$6:$B$97,[1]Poängberäkning!$C$6:$C$97)","v":0},{"$f":"LARGE(($H39,$J39,$L39,$N39,$P39,$R39,$T39,$V39,$X39),1)","v":0},{"$f":"LARGE(($H39,$J39,$L39,$N39,$P39,$R39,$T39,$V39,$X39),2)","v":0},{"$f":"LARGE(($H39,$J39,$L39,$N39,$P39,$R39,$T39,$V39,$X39),3)","v":0},{"$f":"LARGE(($H39,$J39,$L39,$N39,$P39,$R39,$T39,$V39,$X39),4)","v":0},{"$f":"LARGE(($H39,$J39,$L39,$N39,$P39,$R39,$T39,$V39,$X39),5)","v":0},{"$f":"LARGE(($H39,$J39,$L39,$N39,$P39,$R39,$T39,$V39,$X39),6)","v":0},{"$f":"LARGE(($H39,$J39,$L39,$N39,$P39,$R39,$T39,$V39,$X39),7)","v":0},{"$f":"LARGE(($H39,$J39,$L39,$N39,$P39,$R39,$T39,$V39,$X39),8)","v":0},{"$f":"LARGE(($H39,$J39,$L39,$N39,$P39,$R39,$T39,$V39,$X39),9)","v":0}]
[36,null,null,null,0,0,null,{"$f":"LOOKUP(G40,Poängberäkning!$B$6:$B$97,Poängberäkning!$C$6:$C$97)","v":0},null,{"$f":"LOOKUP(I40,Poängberäkning!$B$6:$B$97,Poängberäkning!$C$6:$C$97)","v":0},null,{"$f":"LOOKUP(K40,Poängberäkning!$B$6:$B$97,Poängberäkning!$C$6:$C$97)","v":0},null,{"$f":"LOOKUP(M40,Poängberäkning!$B$6:$B$97,Poängberäkning!$C$6:$C$97)","v":0},null,{"$f":"LOOKUP(O40,Poängberäkning!$B$6:$B$97,Poängberäkning!$C$6:$C$97)","v":0},null,{"$f":"LOOKUP(Q40,[1]Poängberäkning!$B$6:$B$97,[1]Poängberäkning!$C$6:$C$97)","v":0},null,{"$f":"LOOKUP(S40,[1]Poängberäkning!$B$6:$B$97,[1]Poängberäkning!$C$6:$C$97)","v":0},null,{"$f":"LOOKUP(U40,[1]Poängberäkning!$B$6:$B$97,[1]Poängberäkning!$C$6:$C$97)","v":0},null,{"$f":"LOOKUP(W40,[1]Poängberäkning!$B$6:$B$97,[1]Poängberäkning!$C$6:$C$97)","v":0},{"$f":"LARGE(($H40,$J40,$L40,$N40,$P40,$R40,$T40,$V40,$X40),1)","v":0},{"$f":"LARGE(($H40,$J40,$L40,$N40,$P40,$R40,$T40,$V40,$X40),2)","v":0},{"$f":"LARGE(($H40,$J40,$L40,$N40,$P40,$R40,$T40,$V40,$X40),3)","v":0},{"$f":"LARGE(($H40,$J40,$L40,$N40,$P40,$R40,$T40,$V40,$X40),4)","v":0},{"$f":"LARGE(($H40,$J40,$L40,$N40,$P40,$R40,$T40,$V40,$X40),5)","v":0},{"$f":"LARGE(($H40,$J40,$L40,$N40,$P40,$R40,$T40,$V40,$X40),6)","v":0},{"$f":"LARGE(($H40,$J40,$L40,$N40,$P40,$R40,$T40,$V40,$X40),7)","v":0},{"$f":"LARGE(($H40,$J40,$L40,$N40,$P40,$R40,$T40,$V40,$X40),8)","v":0},{"$f":"LARGE(($H40,$J40,$L40,$N40,$P40,$R40,$T40,$V40,$X40),9)","v":0}]
[37,null,null,null,0,0,null,{"$f":"LOOKUP(G41,Poängberäkning!$B$6:$B$97,Poängberäkning!$C$6:$C$97)","v":0},null,{"$f":"LOOKUP(I41,Poängberäkning!$B$6:$B$97,Poängberäkning!$C$6:$C$97)","v":0},null,{"$f":"LOOKUP(K41,Poängberäkning!$B$6:$B$97,Poängberäkning!$C$6:$C$97)","v":0},null,{"$f":"LOOKUP(M41,Poängberäkning!$B$6:$B$97,Poängberäkning!$C$6:$C$97)","v":0},null,{"$f":"LOOKUP(O41,Poängberäkning!$B$6:$B$97,Poängberäkning!$C$6:$C$97)","v":0},null,{"$f":"LOOKUP(Q41,[1]Poängberäkning!$B$6:$B$97,[1]Poängberäkning!$C$6:$C$97)","v":0},null,{"$f":"LOOKUP(S41,[1]Poängberäkning!$B$6:$B$97,[1]Poängberäkning!$C$6:$C$97)","v":0},null,{"$f":"LOOKUP(U41,[1]Poängberäkning!$B$6:$B$97,[1]Poängberäkning!$C$6:$C$97)","v":0},null,{"$f":"LOOKUP(W41,[1]Poängberäkning!$B$6:$B$97,[1]Poängberäkning!$C$6:$C$97)","v":0},{"$f":"LARGE(($H41,$J41,$L41,$N41,$P41,$R41,$T41,$V41,$X41),1)","v":0},{"$f":"LARGE(($H41,$J41,$L41,$N41,$P41,$R41,$T41,$V41,$X41),2)","v":0},{"$f":"LARGE(($H41,$J41,$L41,$N41,$P41,$R41,$T41,$V41,$X41),3)","v":0},{"$f":"LARGE(($H41,$J41,$L41,$N41,$P41,$R41,$T41,$V41,$X41),4)","v":0},{"$f":"LARGE(($H41,$J41,$L41,$N41,$P41,$R41,$T41,$V41,$X41),5)","v":0},{"$f":"LARGE(($H41,$J41,$L41,$N41,$P41,$R41,$T41,$V41,$X41),6)","v":0},{"$f":"LARGE(($H41,$J41,$L41,$N41,$P41,$R41,$T41,$V41,$X41),7)","v":0},{"$f":"LARGE(($H41,$J41,$L41,$N41,$P41,$R41,$T41,$V41,$X41),8)","v":0},{"$f":"LARGE(($H41,$J41,$L41,$N41,$P41,$R41,$T41,$V41,$X41),9)","v":0}]
[38,null,null,null,0,0,null,{"$f":"LOOKUP(G42,Poängberäkning!$B$6:$B$97,Poängberäkning!$C$6:$C$97)","v":0},null,{"$f":"LOOKUP(I42,Poängberäkning!$B$6:$B$97,Poängberäkning!$C$6:$C$97)","v":0},null,{"$f":"LOOKUP(K42,Poängberäkning!$B$6:$B$97,Poängberäkning!$C$6:$C$97)","v":0},null,{"$f":"LOOKUP(M42,Poängberäkning!$B$6:$B$97,Poängberäkning!$C$6:$C$97)","v":0},null,{"$f":"LOOKUP(O42,Poängberäkning!$B$6:$B$97,Poängberäkning!$C$6:$C$97)","v":0},null,{"$f":"LOOKUP(Q42,[1]Poängberäkning!$B$6:$B$97,[1]Poängberäkning!$C$6:$C$97)","v":0},null,{"$f":"LOOKUP(S42,[1]Poängberäkning!$B$6:$B$97,[1]Poängberäkning!$C$6:$C$97)","v":0},null,{"$f":"LOOKUP(U42,[1]Poängberäkning!$B$6:$B$97,[1]Poängberäkning!$C$6:$C$97)","v":0},null,{"$f":"LOOKUP(W42,[1]Poängberäkning!$B$6:$B$97,[1]Poängberäkning!$C$6:$C$97)","v":0},{"$f":"LARGE(($H42,$J42,$L42,$N42,$P42,$R42,$T42,$V42,$X42),1)","v":0},{"$f":"LARGE(($H42,$J42,$L42,$N42,$P42,$R42,$T42,$V42,$X42),2)","v":0},{"$f":"LARGE(($H42,$J42,$L42,$N42,$P42,$R42,$T42,$V42,$X42),3)","v":0},{"$f":"LARGE(($H42,$J42,$L42,$N42,$P42,$R42,$T42,$V42,$X42),4)","v":0},{"$f":"LARGE(($H42,$J42,$L42,$N42,$P42,$R42,$T42,$V42,$X42),5)","v":0},{"$f":"LARGE(($H42,$J42,$L42,$N42,$P42,$R42,$T42,$V42,$X42),6)","v":0},{"$f":"LARGE(($H42,$J42,$L42,$N42,$P42,$R42,$T42,$V42,$X42),7)","v":0},{"$f":"LARGE(($H42,$J42,$L42,$N42,$P42,$R42,$T42,$V42,$X42),8)","v":0},{"$f":"LARGE(($H42,$J42,$L42,$N42,$P42,$R42,$T42,$V42,$X42),9)","v":0}]
[39,null,null,null,0,0,null,{"$f":"LOOKUP(G43,Poängberäkning!$B$6:$B$97,Poängberäkning!$C$6:$C$97)","v":0},null,{"$f":"LOOKUP(I43,Poängberäkning!$B$6:$B$97,Poängberäkning!$C$6:$C$97)","v":0},null,{"$f":"LOOKUP(K43,Poängberäkning!$B$6:$B$97,Poängberäkning!$C$6:$C$97)","v":0},null,{"$f":"LOOKUP(M43,Poängberäkning!$B$6:$B$97,Poängberäkning!$C$6:$C$97)","v":0},null,{"$f":"LOOKUP(O43,Poängberäkning!$B$6:$B$97,Poängberäkning!$C$6:$C$97)","v":0},null,{"$f":"LOOKUP(Q43,[1]Poängberäkning!$B$6:$B$97,[1]Poängberäkning!$C$6:$C$97)","v":0},null,{"$f":"LOOKUP(S43,[1]Poängberäkning!$B$6:$B$97,[1]Poängberäkning!$C$6:$C$97)","v":0},null,{"$f":"LOOKUP(U43,[1]Poängberäkning!$B$6:$B$97,[1]Poängberäkning!$C$6:$C$97)","v":0},null,{"$f":"LOOKUP(W43,[1]Poängberäkning!$B$6:$B$97,[1]Poängberäkning!$C$6:$C$97)","v":0},{"$f":"LARGE(($H43,$J43,$L43,$N43,$P43,$R43,$T43,$V43,$X43),1)","v":0},{"$f":"LARGE(($H43,$J43,$L43,$N43,$P43,$R43,$T43,$V43,$X43),2)","v":0},{"$f":"LARGE(($H43,$J43,$L43,$N43,$P43,$R43,$T43,$V43,$X43),3)","v":0},{"$f":"LARGE(($H43,$J43,$L43,$N43,$P43,$R43,$T43,$V43,$X43),4)","v":0},{"$f":"LARGE(($H43,$J43,$L43,$N43,$P43,$R43,$T43,$V43,$X43),5)","v":0},{"$f":"LARGE(($H43,$J43,$L43,$N43,$P43,$R43,$T43,$V43,$X43),6)","v":0},{"$f":"LARGE(($H43,$J43,$L43,$N43,$P43,$R43,$T43,$V43,$X43),7)","v":0},{"$f":"LARGE(($H43,$J43,$L43,$N43,$P43,$R43,$T43,$V43,$X43),8)","v":0},{"$f":"LARGE(($H43,$J43,$L43,$N43,$P43,$R43,$T43,$V43,$X43),9)","v":0}]
[40,null,null,null,0,0,null,{"$f":"LOOKUP(G44,Poängberäkning!$B$6:$B$97,Poängberäkning!$C$6:$C$97)","v":0},null,{"$f":"LOOKUP(I44,Poängberäkning!$B$6:$B$97,Poängberäkning!$C$6:$C$97)","v":0},null,{"$f":"LOOKUP(K44,Poängberäkning!$B$6:$B$97,Poängberäkning!$C$6:$C$97)","v":0},null,{"$f":"LOOKUP(M44,Poängberäkning!$B$6:$B$97,Poängberäkning!$C$6:$C$97)","v":0},null,{"$f":"LOOKUP(O44,Poängberäkning!$B$6:$B$97,Poängberäkning!$C$6:$C$97)","v":0},null,{"$f":"LOOKUP(Q44,[1]Poängberäkning!$B$6:$B$97,[1]Poängberäkning!$C$6:$C$97)","v":0},null,{"$f":"LOOKUP(S44,[1]Poängberäkning!$B$6:$B$97,[1]Poängberäkning!$C$6:$C$97)","v":0},null,{"$f":"LOOKUP(U44,[1]Poängberäkning!$B$6:$B$97,[1]Poängberäkning!$C$6:$C$97)","v":0},null,{"$f":"LOOKUP(W44,[1]Poängberäkning!$B$6:$B$97,[1]Poängberäkning!$C$6:$C$97)","v":0},{"$f":"LARGE(($H44,$J44,$L44,$N44,$P44,$R44,$T44,$V44,$X44),1)","v":0},{"$f":"LARGE(($H44,$J44,$L44,$N44,$P44,$R44,$T44,$V44,$X44),2)","v":0},{"$f":"LARGE(($H44,$J44,$L44,$N44,$P44,$R44,$T44,$V44,$X44),3)","v":0},{"$f":"LARGE(($H44,$J44,$L44,$N44,$P44,$R44,$T44,$V44,$X44),4)","v":0},{"$f":"LARGE(($H44,$J44,$L44,$N44,$P44,$R44,$T44,$V44,$X44),5)","v":0},{"$f":"LARGE(($H44,$J44,$L44,$N44,$P44,$R44,$T44,$V44,$X44),6)","v":0},{"$f":"LARGE(($H44,$J44,$L44,$N44,$P44,$R44,$T44,$V44,$X44),7)","v":0},{"$f":"LARGE(($H44,$J44,$L44,$N44,$P44,$R44,$T44,$V44,$X44),8)","v":0},{"$f":"LARGE(($H44,$J44,$L44,$N44,$P44,$R44,$T44,$V44,$X44),9)","v":0}]
[41,null,null,null,0,0,null,{"$f":"LOOKUP(G45,Poängberäkning!$B$6:$B$97,Poängberäkning!$C$6:$C$97)","v":0},null,{"$f":"LOOKUP(I45,Poängberäkning!$B$6:$B$97,Poängberäkning!$C$6:$C$97)","v":0},null,{"$f":"LOOKUP(K45,Poängberäkning!$B$6:$B$97,Poängberäkning!$C$6:$C$97)","v":0},null,{"$f":"LOOKUP(M45,Poängberäkning!$B$6:$B$97,Poängberäkning!$C$6:$C$97)","v":0},null,{"$f":"LOOKUP(O45,Poängberäkning!$B$6:$B$97,Poängberäkning!$C$6:$C$97)","v":0},null,{"$f":"LOOKUP(Q45,[1]Poängberäkning!$B$6:$B$97,[1]Poängberäkning!$C$6:$C$97)","v":0},null,{"$f":"LOOKUP(S45,[1]Poängberäkning!$B$6:$B$97,[1]Poängberäkning!$C$6:$C$97)","v":0},null,{"$f":"LOOKUP(U45,[1]Poängberäkning!$B$6:$B$97,[1]Poängberäkning!$C$6:$C$97)","v":0},null,{"$f":"LOOKUP(W45,[1]Poängberäkning!$B$6:$B$97,[1]Poängberäkning!$C$6:$C$97)","v":0},{"$f":"LARGE(($H45,$J45,$L45,$N45,$P45,$R45,$T45,$V45,$X45),1)","v":0},{"$f":"LARGE(($H45,$J45,$L45,$N45,$P45,$R45,$T45,$V45,$X45),2)","v":0},{"$f":"LARGE(($H45,$J45,$L45,$N45,$P45,$R45,$T45,$V45,$X45),3)","v":0},{"$f":"LARGE(($H45,$J45,$L45,$N45,$P45,$R45,$T45,$V45,$X45),4)","v":0},{"$f":"LARGE(($H45,$J45,$L45,$N45,$P45,$R45,$T45,$V45,$X45),5)","v":0},{"$f":"LARGE(($H45,$J45,$L45,$N45,$P45,$R45,$T45,$V45,$X45),6)","v":0},{"$f":"LARGE(($H45,$J45,$L45,$N45,$P45,$R45,$T45,$V45,$X45),7)","v":0},{"$f":"LARGE(($H45,$J45,$L45,$N45,$P45,$R45,$T45,$V45,$X45),8)","v":0},{"$f":"LARGE(($H45,$J45,$L45,$N45,$P45,$R45,$T45,$V45,$X45),9)","v":0}]
[42,null,null,null,0,0,null,{"$f":"LOOKUP(G46,Poängberäkning!$B$6:$B$97,Poängberäkning!$C$6:$C$97)","v":0},null,{"$f":"LOOKUP(I46,Poängberäkning!$B$6:$B$97,Poängberäkning!$C$6:$C$97)","v":0},null,{"$f":"LOOKUP(K46,Poängberäkning!$B$6:$B$97,Poängberäkning!$C$6:$C$97)","v":0},null,{"$f":"LOOKUP(M46,Poängberäkning!$B$6:$B$97,Poängberäkning!$C$6:$C$97)","v":0},null,{"$f":"LOOKUP(O46,Poängberäkning!$B$6:$B$97,Poängberäkning!$C$6:$C$97)","v":0},null,{"$f":"LOOKUP(Q46,[1]Poängberäkning!$B$6:$B$97,[1]Poängberäkning!$C$6:$C$97)","v":0},null,{"$f":"LOOKUP(S46,[1]Poängberäkning!$B$6:$B$97,[1]Poängberäkning!$C$6:$C$97)","v":0},null,{"$f":"LOOKUP(U46,[1]Poängberäkning!$B$6:$B$97,[1]Poängberäkning!$C$6:$C$97)","v":0},null,{"$f":"LOOKUP(W46,[1]Poängberäkning!$B$6:$B$97,[1]Poängberäkning!$C$6:$C$97)","v":0},{"$f":"LARGE(($H46,$J46,$L46,$N46,$P46,$R46,$T46,$V46,$X46),1)","v":0},{"$f":"LARGE(($H46,$J46,$L46,$N46,$P46,$R46,$T46,$V46,$X46),2)","v":0},{"$f":"LARGE(($H46,$J46,$L46,$N46,$P46,$R46,$T46,$V46,$X46),3)","v":0},{"$f":"LARGE(($H46,$J46,$L46,$N46,$P46,$R46,$T46,$V46,$X46),4)","v":0},{"$f":"LARGE(($H46,$J46,$L46,$N46,$P46,$R46,$T46,$V46,$X46),5)","v":0},{"$f":"LARGE(($H46,$J46,$L46,$N46,$P46,$R46,$T46,$V46,$X46),6)","v":0},{"$f":"LARGE(($H46,$J46,$L46,$N46,$P46,$R46,$T46,$V46,$X46),7)","v":0},{"$f":"LARGE(($H46,$J46,$L46,$N46,$P46,$R46,$T46,$V46,$X46),8)","v":0},{"$f":"LARGE(($H46,$J46,$L46,$N46,$P46,$R46,$T46,$V46,$X46),9)","v":0}]
[43,null,null,null,0,0,null,{"$f":"LOOKUP(G47,Poängberäkning!$B$6:$B$97,Poängberäkning!$C$6:$C$97)","v":0},null,{"$f":"LOOKUP(I47,Poängberäkning!$B$6:$B$97,Poängberäkning!$C$6:$C$97)","v":0},null,{"$f":"LOOKUP(K47,Poängberäkning!$B$6:$B$97,Poängberäkning!$C$6:$C$97)","v":0},null,{"$f":"LOOKUP(M47,Poängberäkning!$B$6:$B$97,Poängberäkning!$C$6:$C$97)","v":0},null,{"$f":"LOOKUP(O47,Poängberäkning!$B$6:$B$97,Poängberäkning!$C$6:$C$97)","v":0},null,{"$f":"LOOKUP(Q47,[1]Poängberäkning!$B$6:$B$97,[1]Poängberäkning!$C$6:$C$97)","v":0},null,{"$f":"LOOKUP(S47,[1]Poängberäkning!$B$6:$B$97,[1]Poängberäkning!$C$6:$C$97)","v":0},null,{"$f":"LOOKUP(U47,[1]Poängberäkning!$B$6:$B$97,[1]Poängberäkning!$C$6:$C$97)","v":0},null,{"$f":"LOOKUP(W47,[1]Poängberäkning!$B$6:$B$97,[1]Poängberäkning!$C$6:$C$97)","v":0},{"$f":"LARGE(($H47,$J47,$L47,$N47,$P47,$R47,$T47,$V47,$X47),1)","v":0},{"$f":"LARGE(($H47,$J47,$L47,$N47,$P47,$R47,$T47,$V47,$X47),2)","v":0},{"$f":"LARGE(($H47,$J47,$L47,$N47,$P47,$R47,$T47,$V47,$X47),3)","v":0},{"$f":"LARGE(($H47,$J47,$L47,$N47,$P47,$R47,$T47,$V47,$X47),4)","v":0},{"$f":"LARGE(($H47,$J47,$L47,$N47,$P47,$R47,$T47,$V47,$X47),5)","v":0},{"$f":"LARGE(($H47,$J47,$L47,$N47,$P47,$R47,$T47,$V47,$X47),6)","v":0},{"$f":"LARGE(($H47,$J47,$L47,$N47,$P47,$R47,$T47,$V47,$X47),7)","v":0},{"$f":"LARGE(($H47,$J47,$L47,$N47,$P47,$R47,$T47,$V47,$X47),8)","v":0},{"$f":"LARGE(($H47,$J47,$L47,$N47,$P47,$R47,$T47,$V47,$X47),9)","v":0}]
[44,null,null,null,0,0,null,{"$f":"LOOKUP(G48,Poängberäkning!$B$6:$B$97,Poängberäkning!$C$6:$C$97)","v":0},null,{"$f":"LOOKUP(I48,Poängberäkning!$B$6:$B$97,Poängberäkning!$C$6:$C$97)","v":0},null,{"$f":"LOOKUP(K48,Poängberäkning!$B$6:$B$97,Poängberäkning!$C$6:$C$97)","v":0},null,{"$f":"LOOKUP(M48,Poängberäkning!$B$6:$B$97,Poängberäkning!$C$6:$C$97)","v":0},null,{"$f":"LOOKUP(O48,Poängberäkning!$B$6:$B$97,Poängberäkning!$C$6:$C$97)","v":0},null,{"$f":"LOOKUP(Q48,[1]Poängberäkning!$B$6:$B$97,[1]Poängberäkning!$C$6:$C$97)","v":0},null,{"$f":"LOOKUP(S48,[1]Poängberäkning!$B$6:$B$97,[1]Poängberäkning!$C$6:$C$97)","v":0},null,{"$f":"LOOKUP(U48,[1]Poängberäkning!$B$6:$B$97,[1]Poängberäkning!$C$6:$C$97)","v":0},null,{"$f":"LOOKUP(W48,[1]Poängberäkning!$B$6:$B$97,[1]Poängberäkning!$C$6:$C$97)","v":0},{"$f":"LARGE(($H48,$J48,$L48,$N48,$P48,$R48,$T48,$V48,$X48),1)","v":0},{"$f":"LARGE(($H48,$J48,$L48,$N48,$P48,$R48,$T48,$V48,$X48),2)","v":0},{"$f":"LARGE(($H48,$J48,$L48,$N48,$P48,$R48,$T48,$V48,$X48),3)","v":0},{"$f":"LARGE(($H48,$J48,$L48,$N48,$P48,$R48,$T48,$V48,$X48),4)","v":0},{"$f":"LARGE(($H48,$J48,$L48,$N48,$P48,$R48,$T48,$V48,$X48),5)","v":0},{"$f":"LARGE(($H48,$J48,$L48,$N48,$P48,$R48,$T48,$V48,$X48),6)","v":0},{"$f":"LARGE(($H48,$J48,$L48,$N48,$P48,$R48,$T48,$V48,$X48),7)","v":0},{"$f":"LARGE(($H48,$J48,$L48,$N48,$P48,$R48,$T48,$V48,$X48),8)","v":0},{"$f":"LARGE(($H48,$J48,$L48,$N48,$P48,$R48,$T48,$V48,$X48),9)","v":0}]
[45,null,null,null,0,0,null,{"$f":"LOOKUP(G49,Poängberäkning!$B$6:$B$97,Poängberäkning!$C$6:$C$97)","v":0},null,{"$f":"LOOKUP(I49,Poängberäkning!$B$6:$B$97,Poängberäkning!$C$6:$C$97)","v":0},null,{"$f":"LOOKUP(K49,Poängberäkning!$B$6:$B$97,Poängberäkning!$C$6:$C$97)","v":0},null,{"$f":"LOOKUP(M49,Poängberäkning!$B$6:$B$97,Poängberäkning!$C$6:$C$97)","v":0},null,{"$f":"LOOKUP(O49,Poängberäkning!$B$6:$B$97,Poängberäkning!$C$6:$C$97)","v":0},null,{"$f":"LOOKUP(Q49,[1]Poängberäkning!$B$6:$B$97,[1]Poängberäkning!$C$6:$C$97)","v":0},null,{"$f":"LOOKUP(S49,[1]Poängberäkning!$B$6:$B$97,[1]Poängberäkning!$C$6:$C$97)","v":0},null,{"$f":"LOOKUP(U49,[1]Poängberäkning!$B$6:$B$97,[1]Poängberäkning!$C$6:$C$97)","v":0},null,{"$f":"LOOKUP(W49,[1]Poängberäkning!$B$6:$B$97,[1]Poängberäkning!$C$6:$C$97)","v":0},{"$f":"LARGE(($H49,$J49,$L49,$N49,$P49,$R49,$T49,$V49,$X49),1)","v":0},{"$f":"LARGE(($H49,$J49,$L49,$N49,$P49,$R49,$T49,$V49,$X49),2)","v":0},{"$f":"LARGE(($H49,$J49,$L49,$N49,$P49,$R49,$T49,$V49,$X49),3)","v":0},{"$f":"LARGE(($H49,$J49,$L49,$N49,$P49,$R49,$T49,$V49,$X49),4)","v":0},{"$f":"LARGE(($H49,$J49,$L49,$N49,$P49,$R49,$T49,$V49,$X49),5)","v":0},{"$f":"LARGE(($H49,$J49,$L49,$N49,$P49,$R49,$T49,$V49,$X49),6)","v":0},{"$f":"LARGE(($H49,$J49,$L49,$N49,$P49,$R49,$T49,$V49,$X49),7)","v":0},{"$f":"LARGE(($H49,$J49,$L49,$N49,$P49,$R49,$T49,$V49,$X49),8)","v":0},{"$f":"LARGE(($H49,$J49,$L49,$N49,$P49,$R49,$T49,$V49,$X49),9)","v":0}]
[46,null,null,null,0,0,null,{"$f":"LOOKUP(G50,Poängberäkning!$B$6:$B$97,Poängberäkning!$C$6:$C$97)","v":0},null,{"$f":"LOOKUP(I50,Poängberäkning!$B$6:$B$97,Poängberäkning!$C$6:$C$97)","v":0},null,{"$f":"LOOKUP(K50,Poängberäkning!$B$6:$B$97,Poängberäkning!$C$6:$C$97)","v":0},null,{"$f":"LOOKUP(M50,Poängberäkning!$B$6:$B$97,Poängberäkning!$C$6:$C$97)","v":0},null,{"$f":"LOOKUP(O50,Poängberäkning!$B$6:$B$97,Poängberäkning!$C$6:$C$97)","v":0},null,{"$f":"LOOKUP(Q50,[1]Poängberäkning!$B$6:$B$97,[1]Poängberäkning!$C$6:$C$97)","v":0},null,{"$f":"LOOKUP(S50,[1]Poängberäkning!$B$6:$B$97,[1]Poängberäkning!$C$6:$C$97)","v":0},null,{"$f":"LOOKUP(U50,[1]Poängberäkning!$B$6:$B$97,[1]Poängberäkning!$C$6:$C$97)","v":0},null,{"$f":"LOOKUP(W50,[1]Poängberäkning!$B$6:$B$97,[1]Poängberäkning!$C$6:$C$97)","v":0},{"$f":"LARGE(($H50,$J50,$L50,$N50,$P50,$R50,$T50,$V50,$X50),1)","v":0},{"$f":"LARGE(($H50,$J50,$L50,$N50,$P50,$R50,$T50,$V50,$X50),2)","v":0},{"$f":"LARGE(($H50,$J50,$L50,$N50,$P50,$R50,$T50,$V50,$X50),3)","v":0},{"$f":"LARGE(($H50,$J50,$L50,$N50,$P50,$R50,$T50,$V50,$X50),4)","v":0},{"$f":"LARGE(($H50,$J50,$L50,$N50,$P50,$R50,$T50,$V50,$X50),5)","v":0},{"$f":"LARGE(($H50,$J50,$L50,$N50,$P50,$R50,$T50,$V50,$X50),6)","v":0},{"$f":"LARGE(($H50,$J50,$L50,$N50,$P50,$R50,$T50,$V50,$X50),7)","v":0},{"$f":"LARGE(($H50,$J50,$L50,$N50,$P50,$R50,$T50,$V50,$X50),8)","v":0},{"$f":"LARGE(($H50,$J50,$L50,$N50,$P50,$R50,$T50,$V50,$X50),9)","v":0}]
[47,null,null,null,0,0,null,{"$f":"LOOKUP(G51,Poängberäkning!$B$6:$B$97,Poängberäkning!$C$6:$C$97)","v":0},null,{"$f":"LOOKUP(I51,Poängberäkning!$B$6:$B$97,Poängberäkning!$C$6:$C$97)","v":0},null,{"$f":"LOOKUP(K51,Poängberäkning!$B$6:$B$97,Poängberäkning!$C$6:$C$97)","v":0},null,{"$f":"LOOKUP(M51,Poängberäkning!$B$6:$B$97,Poängberäkning!$C$6:$C$97)","v":0},null,{"$f":"LOOKUP(O51,Poängberäkning!$B$6:$B$97,Poängberäkning!$C$6:$C$97)","v":0},null,{"$f":"LOOKUP(Q51,[1]Poängberäkning!$B$6:$B$97,[1]Poängberäkning!$C$6:$C$97)","v":0},null,{"$f":"LOOKUP(S51,[1]Poängberäkning!$B$6:$B$97,[1]Poängberäkning!$C$6:$C$97)","v":0},null,{"$f":"LOOKUP(U51,[1]Poängberäkning!$B$6:$B$97,[1]Poängberäkning!$C$6:$C$97)","v":0},null,{"$f":"LOOKUP(W51,[1]Poängberäkning!$B$6:$B$97,[1]Poängberäkning!$C$6:$C$97)","v":0},{"$f":"LARGE(($H51,$J51,$L51,$N51,$P51,$R51,$T51,$V51,$X51),1)","v":0},{"$f":"LARGE(($H51,$J51,$L51,$N51,$P51,$R51,$T51,$V51,$X51),2)","v":0},{"$f":"LARGE(($H51,$J51,$L51,$N51,$P51,$R51,$T51,$V51,$X51),3)","v":0},{"$f":"LARGE(($H51,$J51,$L51,$N51,$P51,$R51,$T51,$V51,$X51),4)","v":0},{"$f":"LARGE(($H51,$J51,$L51,$N51,$P51,$R51,$T51,$V51,$X51),5)","v":0},{"$f":"LARGE(($H51,$J51,$L51,$N51,$P51,$R51,$T51,$V51,$X51),6)","v":0},{"$f":"LARGE(($H51,$J51,$L51,$N51,$P51,$R51,$T51,$V51,$X51),7)","v":0},{"$f":"LARGE(($H51,$J51,$L51,$N51,$P51,$R51,$T51,$V51,$X51),8)","v":0},{"$f":"LARGE(($H51,$J51,$L51,$N51,$P51,$R51,$T51,$V51,$X51),9)","v":0}]
[48,null,null,null,0,0,null,{"$f":"LOOKUP(G52,Poängberäkning!$B$6:$B$97,Poängberäkning!$C$6:$C$97)","v":0},null,{"$f":"LOOKUP(I52,Poängberäkning!$B$6:$B$97,Poängberäkning!$C$6:$C$97)","v":0},null,{"$f":"LOOKUP(K52,Poängberäkning!$B$6:$B$97,Poängberäkning!$C$6:$C$97)","v":0},null,{"$f":"LOOKUP(M52,Poängberäkning!$B$6:$B$97,Poängberäkning!$C$6:$C$97)","v":0},null,{"$f":"LOOKUP(O52,Poängberäkning!$B$6:$B$97,Poängberäkning!$C$6:$C$97)","v":0},null,{"$f":"LOOKUP(Q52,[1]Poängberäkning!$B$6:$B$97,[1]Poängberäkning!$C$6:$C$97)","v":0},null,{"$f":"LOOKUP(S52,[1]Poängberäkning!$B$6:$B$97,[1]Poängberäkning!$C$6:$C$97)","v":0},null,{"$f":"LOOKUP(U52,[1]Poängberäkning!$B$6:$B$97,[1]Poängberäkning!$C$6:$C$97)","v":0},null,{"$f":"LOOKUP(W52,[1]Poängberäkning!$B$6:$B$97,[1]Poängberäkning!$C$6:$C$97)","v":0},{"$f":"LARGE(($H52,$J52,$L52,$N52,$P52,$R52,$T52,$V52,$X52),1)","v":0},{"$f":"LARGE(($H52,$J52,$L52,$N52,$P52,$R52,$T52,$V52,$X52),2)","v":0},{"$f":"LARGE(($H52,$J52,$L52,$N52,$P52,$R52,$T52,$V52,$X52),3)","v":0},{"$f":"LARGE(($H52,$J52,$L52,$N52,$P52,$R52,$T52,$V52,$X52),4)","v":0},{"$f":"LARGE(($H52,$J52,$L52,$N52,$P52,$R52,$T52,$V52,$X52),5)","v":0},{"$f":"LARGE(($H52,$J52,$L52,$N52,$P52,$R52,$T52,$V52,$X52),6)","v":0},{"$f":"LARGE(($H52,$J52,$L52,$N52,$P52,$R52,$T52,$V52,$X52),7)","v":0},{"$f":"LARGE(($H52,$J52,$L52,$N52,$P52,$R52,$T52,$V52,$X52),8)","v":0},{"$f":"LARGE(($H52,$J52,$L52,$N52,$P52,$R52,$T52,$V52,$X52),9)","v":0}]
[49,null,null,null,0,0,null,{"$f":"LOOKUP(G53,Poängberäkning!$B$6:$B$97,Poängberäkning!$C$6:$C$97)","v":0},null,{"$f":"LOOKUP(I53,Poängberäkning!$B$6:$B$97,Poängberäkning!$C$6:$C$97)","v":0},null,{"$f":"LOOKUP(K53,Poängberäkning!$B$6:$B$97,Poängberäkning!$C$6:$C$97)","v":0},null,{"$f":"LOOKUP(M53,Poängberäkning!$B$6:$B$97,Poängberäkning!$C$6:$C$97)","v":0},null,{"$f":"LOOKUP(O53,Poängberäkning!$B$6:$B$97,Poängberäkning!$C$6:$C$97)","v":0},null,{"$f":"LOOKUP(Q53,[1]Poängberäkning!$B$6:$B$97,[1]Poängberäkning!$C$6:$C$97)","v":0},null,{"$f":"LOOKUP(S53,[1]Poängberäkning!$B$6:$B$97,[1]Poängberäkning!$C$6:$C$97)","v":0},null,{"$f":"LOOKUP(U53,[1]Poängberäkning!$B$6:$B$97,[1]Poängberäkning!$C$6:$C$97)","v":0},null,{"$f":"LOOKUP(W53,[1]Poängberäkning!$B$6:$B$97,[1]Poängberäkning!$C$6:$C$97)","v":0},{"$f":"LARGE(($H53,$J53,$L53,$N53,$P53,$R53,$T53,$V53,$X53),1)","v":0},{"$f":"LARGE(($H53,$J53,$L53,$N53,$P53,$R53,$T53,$V53,$X53),2)","v":0},{"$f":"LARGE(($H53,$J53,$L53,$N53,$P53,$R53,$T53,$V53,$X53),3)","v":0},{"$f":"LARGE(($H53,$J53,$L53,$N53,$P53,$R53,$T53,$V53,$X53),4)","v":0},{"$f":"LARGE(($H53,$J53,$L53,$N53,$P53,$R53,$T53,$V53,$X53),5)","v":0},{"$f":"LARGE(($H53,$J53,$L53,$N53,$P53,$R53,$T53,$V53,$X53),6)","v":0},{"$f":"LARGE(($H53,$J53,$L53,$N53,$P53,$R53,$T53,$V53,$X53),7)","v":0},{"$f":"LARGE(($H53,$J53,$L53,$N53,$P53,$R53,$T53,$V53,$X53),8)","v":0},{"$f":"LARGE(($H53,$J53,$L53,$N53,$P53,$R53,$T53,$V53,$X53),9)","v":0}]
[50,null,null,null,0,0,null,{"$f":"LOOKUP(G54,Poängberäkning!$B$6:$B$97,Poängberäkning!$C$6:$C$97)","v":0},null,{"$f":"LOOKUP(I54,Poängberäkning!$B$6:$B$97,Poängberäkning!$C$6:$C$97)","v":0},null,{"$f":"LOOKUP(K54,Poängberäkning!$B$6:$B$97,Poängberäkning!$C$6:$C$97)","v":0},null,{"$f":"LOOKUP(M54,Poängberäkning!$B$6:$B$97,Poängberäkning!$C$6:$C$97)","v":0},null,{"$f":"LOOKUP(O54,Poängberäkning!$B$6:$B$97,Poängberäkning!$C$6:$C$97)","v":0},null,{"$f":"LOOKUP(Q54,[1]Poängberäkning!$B$6:$B$97,[1]Poängberäkning!$C$6:$C$97)","v":0},null,{"$f":"LOOKUP(S54,[1]Poängberäkning!$B$6:$B$97,[1]Poängberäkning!$C$6:$C$97)","v":0},null,{"$f":"LOOKUP(U54,[1]Poängberäkning!$B$6:$B$97,[1]Poängberäkning!$C$6:$C$97)","v":0},null,{"$f":"LOOKUP(W54,[1]Poängberäkning!$B$6:$B$97,[1]Poängberäkning!$C$6:$C$97)","v":0},{"$f":"LARGE(($H54,$J54,$L54,$N54,$P54,$R54,$T54,$V54,$X54),1)","v":0},{"$f":"LARGE(($H54,$J54,$L54,$N54,$P54,$R54,$T54,$V54,$X54),2)","v":0},{"$f":"LARGE(($H54,$J54,$L54,$N54,$P54,$R54,$T54,$V54,$X54),3)","v":0},{"$f":"LARGE(($H54,$J54,$L54,$N54,$P54,$R54,$T54,$V54,$X54),4)","v":0},{"$f":"LARGE(($H54,$J54,$L54,$N54,$P54,$R54,$T54,$V54,$X54),5)","v":0},{"$f":"LARGE(($H54,$J54,$L54,$N54,$P54,$R54,$T54,$V54,$X54),6)","v":0},{"$f":"LARGE(($H54,$J54,$L54,$N54,$P54,$R54,$T54,$V54,$X54),7)","v":0},{"$f":"LARGE(($H54,$J54,$L54,$N54,$P54,$R54,$T54,$V54,$X54),8)","v":0},{"$f":"LARGE(($H54,$J54,$L54,$N54,$P54,$R54,$T54,$V54,$X54),9)","v":0}]
[51,null,null,null,0,0,null,{"$f":"LOOKUP(G55,Poängberäkning!$B$6:$B$97,Poängberäkning!$C$6:$C$97)","v":0},null,{"$f":"LOOKUP(I55,Poängberäkning!$B$6:$B$97,Poängberäkning!$C$6:$C$97)","v":0},null,{"$f":"LOOKUP(K55,Poängberäkning!$B$6:$B$97,Poängberäkning!$C$6:$C$97)","v":0},null,{"$f":"LOOKUP(M55,Poängberäkning!$B$6:$B$97,Poängberäkning!$C$6:$C$97)","v":0},null,{"$f":"LOOKUP(O55,Poängberäkning!$B$6:$B$97,Poängberäkning!$C$6:$C$97)","v":0},null,{"$f":"LOOKUP(Q55,[1]Poängberäkning!$B$6:$B$97,[1]Poängberäkning!$C$6:$C$97)","v":0},null,{"$f":"LOOKUP(S55,[1]Poängberäkning!$B$6:$B$97,[1]Poängberäkning!$C$6:$C$97)","v":0},null,{"$f":"LOOKUP(U55,[1]Poängberäkning!$B$6:$B$97,[1]Poängberäkning!$C$6:$C$97)","v":0},null,{"$f":"LOOKUP(W55,[1]Poängberäkning!$B$6:$B$97,[1]Poängberäkning!$C$6:$C$97)","v":0},{"$f":"LARGE(($H55,$J55,$L55,$N55,$P55,$R55,$T55,$V55,$X55),1)","v":0},{"$f":"LARGE(($H55,$J55,$L55,$N55,$P55,$R55,$T55,$V55,$X55),2)","v":0},{"$f":"LARGE(($H55,$J55,$L55,$N55,$P55,$R55,$T55,$V55,$X55),3)","v":0},{"$f":"LARGE(($H55,$J55,$L55,$N55,$P55,$R55,$T55,$V55,$X55),4)","v":0},{"$f":"LARGE(($H55,$J55,$L55,$N55,$P55,$R55,$T55,$V55,$X55),5)","v":0},{"$f":"LARGE(($H55,$J55,$L55,$N55,$P55,$R55,$T55,$V55,$X55),6)","v":0},{"$f":"LARGE(($H55,$J55,$L55,$N55,$P55,$R55,$T55,$V55,$X55),7)","v":0},{"$f":"LARGE(($H55,$J55,$L55,$N55,$P55,$R55,$T55,$V55,$X55),8)","v":0},{"$f":"LARGE(($H55,$J55,$L55,$N55,$P55,$R55,$T55,$V55,$X55),9)","v":0}]
[52,null,null,null,0,0,null,{"$f":"LOOKUP(G56,Poängberäkning!$B$6:$B$97,Poängberäkning!$C$6:$C$97)","v":0},null,{"$f":"LOOKUP(I56,Poängberäkning!$B$6:$B$97,Poängberäkning!$C$6:$C$97)","v":0},null,{"$f":"LOOKUP(K56,Poängberäkning!$B$6:$B$97,Poängberäkning!$C$6:$C$97)","v":0},null,{"$f":"LOOKUP(M56,Poängberäkning!$B$6:$B$97,Poängberäkning!$C$6:$C$97)","v":0},null,{"$f":"LOOKUP(O56,Poängberäkning!$B$6:$B$97,Poängberäkning!$C$6:$C$97)","v":0},null,{"$f":"LOOKUP(Q56,[1]Poängberäkning!$B$6:$B$97,[1]Poängberäkning!$C$6:$C$97)","v":0},null,{"$f":"LOOKUP(S56,[1]Poängberäkning!$B$6:$B$97,[1]Poängberäkning!$C$6:$C$97)","v":0},null,{"$f":"LOOKUP(U56,[1]Poängberäkning!$B$6:$B$97,[1]Poängberäkning!$C$6:$C$97)","v":0},null,{"$f":"LOOKUP(W56,[1]Poängberäkning!$B$6:$B$97,[1]Poängberäkning!$C$6:$C$97)","v":0},{"$f":"LARGE(($H56,$J56,$L56,$N56,$P56,$R56,$T56,$V56,$X56),1)","v":0},{"$f":"LARGE(($H56,$J56,$L56,$N56,$P56,$R56,$T56,$V56,$X56),2)","v":0},{"$f":"LARGE(($H56,$J56,$L56,$N56,$P56,$R56,$T56,$V56,$X56),3)","v":0},{"$f":"LARGE(($H56,$J56,$L56,$N56,$P56,$R56,$T56,$V56,$X56),4)","v":0},{"$f":"LARGE(($H56,$J56,$L56,$N56,$P56,$R56,$T56,$V56,$X56),5)","v":0},{"$f":"LARGE(($H56,$J56,$L56,$N56,$P56,$R56,$T56,$V56,$X56),6)","v":0},{"$f":"LARGE(($H56,$J56,$L56,$N56,$P56,$R56,$T56,$V56,$X56),7)","v":0},{"$f":"LARGE(($H56,$J56,$L56,$N56,$P56,$R56,$T56,$V56,$X56),8)","v":0},{"$f":"LARGE(($H56,$J56,$L56,$N56,$P56,$R56,$T56,$V56,$X56),9)","v":0}]
[53,null,null,null,0,0,null,{"$f":"LOOKUP(G57,Poängberäkning!$B$6:$B$97,Poängberäkning!$C$6:$C$97)","v":0},null,{"$f":"LOOKUP(I57,Poängberäkning!$B$6:$B$97,Poängberäkning!$C$6:$C$97)","v":0},null,{"$f":"LOOKUP(K57,Poängberäkning!$B$6:$B$97,Poängberäkning!$C$6:$C$97)","v":0},null,{"$f":"LOOKUP(M57,Poängberäkning!$B$6:$B$97,Poängberäkning!$C$6:$C$97)","v":0},null,{"$f":"LOOKUP(O57,Poängberäkning!$B$6:$B$97,Poängberäkning!$C$6:$C$97)","v":0},null,{"$f":"LOOKUP(Q57,[1]Poängberäkning!$B$6:$B$97,[1]Poängberäkning!$C$6:$C$97)","v":0},null,{"$f":"LOOKUP(S57,[1]Poängberäkning!$B$6:$B$97,[1]Poängberäkning!$C$6:$C$97)","v":0},null,{"$f":"LOOKUP(U57,[1]Poängberäkning!$B$6:$B$97,[1]Poängberäkning!$C$6:$C$97)","v":0},null,{"$f":"LOOKUP(W57,[1]Poängberäkning!$B$6:$B$97,[1]Poängberäkning!$C$6:$C$97)","v":0},{"$f":"LARGE(($H57,$J57,$L57,$N57,$P57,$R57,$T57,$V57,$X57),1)","v":0},{"$f":"LARGE(($H57,$J57,$L57,$N57,$P57,$R57,$T57,$V57,$X57),2)","v":0},{"$f":"LARGE(($H57,$J57,$L57,$N57,$P57,$R57,$T57,$V57,$X57),3)","v":0},{"$f":"LARGE(($H57,$J57,$L57,$N57,$P57,$R57,$T57,$V57,$X57),4)","v":0},{"$f":"LARGE(($H57,$J57,$L57,$N57,$P57,$R57,$T57,$V57,$X57),5)","v":0},{"$f":"LARGE(($H57,$J57,$L57,$N57,$P57,$R57,$T57,$V57,$X57),6)","v":0},{"$f":"LARGE(($H57,$J57,$L57,$N57,$P57,$R57,$T57,$V57,$X57),7)","v":0},{"$f":"LARGE(($H57,$J57,$L57,$N57,$P57,$R57,$T57,$V57,$X57),8)","v":0},{"$f":"LARGE(($H57,$J57,$L57,$N57,$P57,$R57,$T57,$V57,$X57),9)","v":0}]
[54,null,null,null,0,0,null,{"$f":"LOOKUP(G58,Poängberäkning!$B$6:$B$97,Poängberäkning!$C$6:$C$97)","v":0},null,{"$f":"LOOKUP(I58,Poängberäkning!$B$6:$B$97,Poängberäkning!$C$6:$C$97)","v":0},null,{"$f":"LOOKUP(K58,Poängberäkning!$B$6:$B$97,Poängberäkning!$C$6:$C$97)","v":0},null,{"$f":"LOOKUP(M58,Poängberäkning!$B$6:$B$97,Poängberäkning!$C$6:$C$97)","v":0},null,{"$f":"LOOKUP(O58,Poängberäkning!$B$6:$B$97,Poängberäkning!$C$6:$C$97)","v":0},null,{"$f":"LOOKUP(Q58,[1]Poängberäkning!$B$6:$B$97,[1]Poängberäkning!$C$6:$C$97)","v":0},null,{"$f":"LOOKUP(S58,[1]Poängberäkning!$B$6:$B$97,[1]Poängberäkning!$C$6:$C$97)","v":0},null,{"$f":"LOOKUP(U58,[1]Poängberäkning!$B$6:$B$97,[1]Poängberäkning!$C$6:$C$97)","v":0},null,{"$f":"LOOKUP(W58,[1]Poängberäkning!$B$6:$B$97,[1]Poängberäkning!$C$6:$C$97)","v":0},{"$f":"LARGE(($H58,$J58,$L58,$N58,$P58,$R58,$T58,$V58,$X58),1)","v":0},{"$f":"LARGE(($H58,$J58,$L58,$N58,$P58,$R58,$T58,$V58,$X58),2)","v":0},{"$f":"LARGE(($H58,$J58,$L58,$N58,$P58,$R58,$T58,$V58,$X58),3)","v":0},{"$f":"LARGE(($H58,$J58,$L58,$N58,$P58,$R58,$T58,$V58,$X58),4)","v":0},{"$f":"LARGE(($H58,$J58,$L58,$N58,$P58,$R58,$T58,$V58,$X58),5)","v":0},{"$f":"LARGE(($H58,$J58,$L58,$N58,$P58,$R58,$T58,$V58,$X58),6)","v":0},{"$f":"LARGE(($H58,$J58,$L58,$N58,$P58,$R58,$T58,$V58,$X58),7)","v":0},{"$f":"LARGE(($H58,$J58,$L58,$N58,$P58,$R58,$T58,$V58,$X58),8)","v":0},{"$f":"LARGE(($H58,$J58,$L58,$N58,$P58,$R58,$T58,$V58,$X58),9)","v":0}]
[55,null,null,null,0,0,null,{"$f":"LOOKUP(G59,Poängberäkning!$B$6:$B$97,Poängberäkning!$C$6:$C$97)","v":0},null,{"$f":"LOOKUP(I59,Poängberäkning!$B$6:$B$97,Poängberäkning!$C$6:$C$97)","v":0},null,{"$f":"LOOKUP(K59,Poängberäkning!$B$6:$B$97,Poängberäkning!$C$6:$C$97)","v":0},null,{"$f":"LOOKUP(M59,Poängberäkning!$B$6:$B$97,Poängberäkning!$C$6:$C$97)","v":0},null,{"$f":"LOOKUP(O59,Poängberäkning!$B$6:$B$97,Poängberäkning!$C$6:$C$97)","v":0},null,{"$f":"LOOKUP(Q59,[1]Poängberäkning!$B$6:$B$97,[1]Poängberäkning!$C$6:$C$97)","v":0},null,{"$f":"LOOKUP(S59,[1]Poängberäkning!$B$6:$B$97,[1]Poängberäkning!$C$6:$C$97)","v":0},null,{"$f":"LOOKUP(U59,[1]Poängberäkning!$B$6:$B$97,[1]Poängberäkning!$C$6:$C$97)","v":0},null,{"$f":"LOOKUP(W59,[1]Poängberäkning!$B$6:$B$97,[1]Poängberäkning!$C$6:$C$97)","v":0},{"$f":"LARGE(($H59,$J59,$L59,$N59,$P59,$R59,$T59,$V59,$X59),1)","v":0},{"$f":"LARGE(($H59,$J59,$L59,$N59,$P59,$R59,$T59,$V59,$X59),2)","v":0},{"$f":"LARGE(($H59,$J59,$L59,$N59,$P59,$R59,$T59,$V59,$X59),3)","v":0},{"$f":"LARGE(($H59,$J59,$L59,$N59,$P59,$R59,$T59,$V59,$X59),4)","v":0},{"$f":"LARGE(($H59,$J59,$L59,$N59,$P59,$R59,$T59,$V59,$X59),5)","v":0},{"$f":"LARGE(($H59,$J59,$L59,$N59,$P59,$R59,$T59,$V59,$X59),6)","v":0},{"$f":"LARGE(($H59,$J59,$L59,$N59,$P59,$R59,$T59,$V59,$X59),7)","v":0},{"$f":"LARGE(($H59,$J59,$L59,$N59,$P59,$R59,$T59,$V59,$X59),8)","v":0},{"$f":"LARGE(($H59,$J59,$L59,$N59,$P59,$R59,$T59,$V59,$X59),9)","v":0}]
[56,null,null,null,0,0,null,{"$f":"LOOKUP(G60,Poängberäkning!$B$6:$B$97,Poängberäkning!$C$6:$C$97)","v":0},null,{"$f":"LOOKUP(I60,Poängberäkning!$B$6:$B$97,Poängberäkning!$C$6:$C$97)","v":0},null,{"$f":"LOOKUP(K60,Poängberäkning!$B$6:$B$97,Poängberäkning!$C$6:$C$97)","v":0},null,{"$f":"LOOKUP(M60,Poängberäkning!$B$6:$B$97,Poängberäkning!$C$6:$C$97)","v":0},null,{"$f":"LOOKUP(O60,Poängberäkning!$B$6:$B$97,Poängberäkning!$C$6:$C$97)","v":0},null,{"$f":"LOOKUP(Q60,[1]Poängberäkning!$B$6:$B$97,[1]Poängberäkning!$C$6:$C$97)","v":0},null,{"$f":"LOOKUP(S60,[1]Poängberäkning!$B$6:$B$97,[1]Poängberäkning!$C$6:$C$97)","v":0},null,{"$f":"LOOKUP(U60,[1]Poängberäkning!$B$6:$B$97,[1]Poängberäkning!$C$6:$C$97)","v":0},null,{"$f":"LOOKUP(W60,[1]Poängberäkning!$B$6:$B$97,[1]Poängberäkning!$C$6:$C$97)","v":0},{"$f":"LARGE(($H60,$J60,$L60,$N60,$P60,$R60,$T60,$V60,$X60),1)","v":0},{"$f":"LARGE(($H60,$J60,$L60,$N60,$P60,$R60,$T60,$V60,$X60),2)","v":0},{"$f":"LARGE(($H60,$J60,$L60,$N60,$P60,$R60,$T60,$V60,$X60),3)","v":0},{"$f":"LARGE(($H60,$J60,$L60,$N60,$P60,$R60,$T60,$V60,$X60),4)","v":0},{"$f":"LARGE(($H60,$J60,$L60,$N60,$P60,$R60,$T60,$V60,$X60),5)","v":0},{"$f":"LARGE(($H60,$J60,$L60,$N60,$P60,$R60,$T60,$V60,$X60),6)","v":0},{"$f":"LARGE(($H60,$J60,$L60,$N60,$P60,$R60,$T60,$V60,$X60),7)","v":0},{"$f":"LARGE(($H60,$J60,$L60,$N60,$P60,$R60,$T60,$V60,$X60),8)","v":0},{"$f":"LARGE(($H60,$J60,$L60,$N60,$P60,$R60,$T60,$V60,$X60),9)","v":0}]
[57,null,null,null,0,0,null,{"$f":"LOOKUP(G61,Poängberäkning!$B$6:$B$97,Poängberäkning!$C$6:$C$97)","v":0},null,{"$f":"LOOKUP(I61,Poängberäkning!$B$6:$B$97,Poängberäkning!$C$6:$C$97)","v":0},null,{"$f":"LOOKUP(K61,Poängberäkning!$B$6:$B$97,Poängberäkning!$C$6:$C$97)","v":0},null,{"$f":"LOOKUP(M61,Poängberäkning!$B$6:$B$97,Poängberäkning!$C$6:$C$97)","v":0},null,{"$f":"LOOKUP(O61,Poängberäkning!$B$6:$B$97,Poängberäkning!$C$6:$C$97)","v":0},null,{"$f":"LOOKUP(Q61,[1]Poängberäkning!$B$6:$B$97,[1]Poängberäkning!$C$6:$C$97)","v":0},null,{"$f":"LOOKUP(S61,[1]Poängberäkning!$B$6:$B$97,[1]Poängberäkning!$C$6:$C$97)","v":0},null,{"$f":"LOOKUP(U61,[1]Poängberäkning!$B$6:$B$97,[1]Poängberäkning!$C$6:$C$97)","v":0},null,{"$f":"LOOKUP(W61,[1]Poängberäkning!$B$6:$B$97,[1]Poängberäkning!$C$6:$C$97)","v":0},{"$f":"LARGE(($H61,$J61,$L61,$N61,$P61,$R61,$T61,$V61,$X61),1)","v":0},{"$f":"LARGE(($H61,$J61,$L61,$N61,$P61,$R61,$T61,$V61,$X61),2)","v":0},{"$f":"LARGE(($H61,$J61,$L61,$N61,$P61,$R61,$T61,$V61,$X61),3)","v":0},{"$f":"LARGE(($H61,$J61,$L61,$N61,$P61,$R61,$T61,$V61,$X61),4)","v":0},{"$f":"LARGE(($H61,$J61,$L61,$N61,$P61,$R61,$T61,$V61,$X61),5)","v":0},{"$f":"LARGE(($H61,$J61,$L61,$N61,$P61,$R61,$T61,$V61,$X61),6)","v":0},{"$f":"LARGE(($H61,$J61,$L61,$N61,$P61,$R61,$T61,$V61,$X61),7)","v":0},{"$f":"LARGE(($H61,$J61,$L61,$N61,$P61,$R61,$T61,$V61,$X61),8)","v":0},{"$f":"LARGE(($H61,$J61,$L61,$N61,$P61,$R61,$T61,$V61,$X61),9)","v":0}]
[58,null,null,null,0,0,null,{"$f":"LOOKUP(G62,Poängberäkning!$B$6:$B$97,Poängberäkning!$C$6:$C$97)","v":0},null,{"$f":"LOOKUP(I62,Poängberäkning!$B$6:$B$97,Poängberäkning!$C$6:$C$97)","v":0},null,{"$f":"LOOKUP(K62,Poängberäkning!$B$6:$B$97,Poängberäkning!$C$6:$C$97)","v":0},null,{"$f":"LOOKUP(M62,Poängberäkning!$B$6:$B$97,Poängberäkning!$C$6:$C$97)","v":0},null,{"$f":"LOOKUP(O62,Poängberäkning!$B$6:$B$97,Poängberäkning!$C$6:$C$97)","v":0},null,{"$f":"LOOKUP(Q62,[1]Poängberäkning!$B$6:$B$97,[1]Poängberäkning!$C$6:$C$97)","v":0},null,{"$f":"LOOKUP(S62,[1]Poängberäkning!$B$6:$B$97,[1]Poängberäkning!$C$6:$C$97)","v":0},null,{"$f":"LOOKUP(U62,[1]Poängberäkning!$B$6:$B$97,[1]Poängberäkning!$C$6:$C$97)","v":0},null,{"$f":"LOOKUP(W62,[1]Poängberäkning!$B$6:$B$97,[1]Poängberäkning!$C$6:$C$97)","v":0},{"$f":"LARGE(($H62,$J62,$L62,$N62,$P62,$R62,$T62,$V62,$X62),1)","v":0},{"$f":"LARGE(($H62,$J62,$L62,$N62,$P62,$R62,$T62,$V62,$X62),2)","v":0},{"$f":"LARGE(($H62,$J62,$L62,$N62,$P62,$R62,$T62,$V62,$X62),3)","v":0},{"$f":"LARGE(($H62,$J62,$L62,$N62,$P62,$R62,$T62,$V62,$X62),4)","v":0},{"$f":"LARGE(($H62,$J62,$L62,$N62,$P62,$R62,$T62,$V62,$X62),5)","v":0},{"$f":"LARGE(($H62,$J62,$L62,$N62,$P62,$R62,$T62,$V62,$X62),6)","v":0},{"$f":"LARGE(($H62,$J62,$L62,$N62,$P62,$R62,$T62,$V62,$X62),7)","v":0},{"$f":"LARGE(($H62,$J62,$L62,$N62,$P62,$R62,$T62,$V62,$X62),8)","v":0},{"$f":"LARGE(($H62,$J62,$L62,$N62,$P62,$R62,$T62,$V62,$X62),9)","v":0}]
[59,null,null,null,0,0,null,{"$f":"LOOKUP(G63,Poängberäkning!$B$6:$B$97,Poängberäkning!$C$6:$C$97)","v":0},null,{"$f":"LOOKUP(I63,Poängberäkning!$B$6:$B$97,Poängberäkning!$C$6:$C$97)","v":0},null,{"$f":"LOOKUP(K63,Poängberäkning!$B$6:$B$97,Poängberäkning!$C$6:$C$97)","v":0},null,{"$f":"LOOKUP(M63,Poängberäkning!$B$6:$B$97,Poängberäkning!$C$6:$C$97)","v":0},null,{"$f":"LOOKUP(O63,Poängberäkning!$B$6:$B$97,Poängberäkning!$C$6:$C$97)","v":0},null,{"$f":"LOOKUP(Q63,[1]Poängberäkning!$B$6:$B$97,[1]Poängberäkning!$C$6:$C$97)","v":0},null,{"$f":"LOOKUP(S63,[1]Poängberäkning!$B$6:$B$97,[1]Poängberäkning!$C$6:$C$97)","v":0},null,{"$f":"LOOKUP(U63,[1]Poängberäkning!$B$6:$B$97,[1]Poängberäkning!$C$6:$C$97)","v":0},null,{"$f":"LOOKUP(W63,[1]Poängberäkning!$B$6:$B$97,[1]Poängberäkning!$C$6:$C$97)","v":0},{"$f":"LARGE(($H63,$J63,$L63,$N63,$P63,$R63,$T63,$V63,$X63),1)","v":0},{"$f":"LARGE(($H63,$J63,$L63,$N63,$P63,$R63,$T63,$V63,$X63),2)","v":0},{"$f":"LARGE(($H63,$J63,$L63,$N63,$P63,$R63,$T63,$V63,$X63),3)","v":0},{"$f":"LARGE(($H63,$J63,$L63,$N63,$P63,$R63,$T63,$V63,$X63),4)","v":0},{"$f":"LARGE(($H63,$J63,$L63,$N63,$P63,$R63,$T63,$V63,$X63),5)","v":0},{"$f":"LARGE(($H63,$J63,$L63,$N63,$P63,$R63,$T63,$V63,$X63),6)","v":0},{"$f":"LARGE(($H63,$J63,$L63,$N63,$P63,$R63,$T63,$V63,$X63),7)","v":0},{"$f":"LARGE(($H63,$J63,$L63,$N63,$P63,$R63,$T63,$V63,$X63),8)","v":0},{"$f":"LARGE(($H63,$J63,$L63,$N63,$P63,$R63,$T63,$V63,$X63),9)","v":0}]
[60,null,null,null,0,0,null,{"$f":"LOOKUP(G64,Poängberäkning!$B$6:$B$97,Poängberäkning!$C$6:$C$97)","v":0},null,{"$f":"LOOKUP(I64,Poängberäkning!$B$6:$B$97,Poängberäkning!$C$6:$C$97)","v":0},null,{"$f":"LOOKUP(K64,Poängberäkning!$B$6:$B$97,Poängberäkning!$C$6:$C$97)","v":0},null,{"$f":"LOOKUP(M64,Poängberäkning!$B$6:$B$97,Poängberäkning!$C$6:$C$97)","v":0},null,{"$f":"LOOKUP(O64,Poängberäkning!$B$6:$B$97,Poängberäkning!$C$6:$C$97)","v":0},null,{"$f":"LOOKUP(Q64,[1]Poängberäkning!$B$6:$B$97,[1]Poängberäkning!$C$6:$C$97)","v":0},null,{"$f":"LOOKUP(S64,[1]Poängberäkning!$B$6:$B$97,[1]Poängberäkning!$C$6:$C$97)","v":0},null,{"$f":"LOOKUP(U64,[1]Poängberäkning!$B$6:$B$97,[1]Poängberäkning!$C$6:$C$97)","v":0},null,{"$f":"LOOKUP(W64,[1]Poängberäkning!$B$6:$B$97,[1]Poängberäkning!$C$6:$C$97)","v":0},{"$f":"LARGE(($H64,$J64,$L64,$N64,$P64,$R64,$T64,$V64,$X64),1)","v":0},{"$f":"LARGE(($H64,$J64,$L64,$N64,$P64,$R64,$T64,$V64,$X64),2)","v":0},{"$f":"LARGE(($H64,$J64,$L64,$N64,$P64,$R64,$T64,$V64,$X64),3)","v":0},{"$f":"LARGE(($H64,$J64,$L64,$N64,$P64,$R64,$T64,$V64,$X64),4)","v":0},{"$f":"LARGE(($H64,$J64,$L64,$N64,$P64,$R64,$T64,$V64,$X64),5)","v":0},{"$f":"LARGE(($H64,$J64,$L64,$N64,$P64,$R64,$T64,$V64,$X64),6)","v":0},{"$f":"LARGE(($H64,$J64,$L64,$N64,$P64,$R64,$T64,$V64,$X64),7)","v":0},{"$f":"LARGE(($H64,$J64,$L64,$N64,$P64,$R64,$T64,$V64,$X64),8)","v":0},{"$f":"LARGE(($H64,$J64,$L64,$N64,$P64,$R64,$T64,$V64,$X64),9)","v":0}]
[61,null,null,null,0,0,null,{"$f":"LOOKUP(G65,Poängberäkning!$B$6:$B$97,Poängberäkning!$C$6:$C$97)","v":0},null,{"$f":"LOOKUP(I65,Poängberäkning!$B$6:$B$97,Poängberäkning!$C$6:$C$97)","v":0},null,{"$f":"LOOKUP(K65,Poängberäkning!$B$6:$B$97,Poängberäkning!$C$6:$C$97)","v":0},null,{"$f":"LOOKUP(M65,Poängberäkning!$B$6:$B$97,Poängberäkning!$C$6:$C$97)","v":0},null,{"$f":"LOOKUP(O65,Poängberäkning!$B$6:$B$97,Poängberäkning!$C$6:$C$97)","v":0},null,{"$f":"LOOKUP(Q65,[1]Poängberäkning!$B$6:$B$97,[1]Poängberäkning!$C$6:$C$97)","v":0},null,{"$f":"LOOKUP(S65,[1]Poängberäkning!$B$6:$B$97,[1]Poängberäkning!$C$6:$C$97)","v":0},null,{"$f":"LOOKUP(U65,[1]Poängberäkning!$B$6:$B$97,[1]Poängberäkning!$C$6:$C$97)","v":0},null,{"$f":"LOOKUP(W65,[1]Poängberäkning!$B$6:$B$97,[1]Poängberäkning!$C$6:$C$97)","v":0},{"$f":"LARGE(($H65,$J65,$L65,$N65,$P65,$R65,$T65,$V65,$X65),1)","v":0},{"$f":"LARGE(($H65,$J65,$L65,$N65,$P65,$R65,$T65,$V65,$X65),2)","v":0},{"$f":"LARGE(($H65,$J65,$L65,$N65,$P65,$R65,$T65,$V65,$X65),3)","v":0},{"$f":"LARGE(($H65,$J65,$L65,$N65,$P65,$R65,$T65,$V65,$X65),4)","v":0},{"$f":"LARGE(($H65,$J65,$L65,$N65,$P65,$R65,$T65,$V65,$X65),5)","v":0},{"$f":"LARGE(($H65,$J65,$L65,$N65,$P65,$R65,$T65,$V65,$X65),6)","v":0},{"$f":"LARGE(($H65,$J65,$L65,$N65,$P65,$R65,$T65,$V65,$X65),7)","v":0},{"$f":"LARGE(($H65,$J65,$L65,$N65,$P65,$R65,$T65,$V65,$X65),8)","v":0},{"$f":"LARGE(($H65,$J65,$L65,$N65,$P65,$R65,$T65,$V65,$X65),9)","v":0}]
[62,null,null,null,0,0,null,{"$f":"LOOKUP(G66,Poängberäkning!$B$6:$B$97,Poängberäkning!$C$6:$C$97)","v":0},null,{"$f":"LOOKUP(I66,Poängberäkning!$B$6:$B$97,Poängberäkning!$C$6:$C$97)","v":0},null,{"$f":"LOOKUP(K66,Poängberäkning!$B$6:$B$97,Poängberäkning!$C$6:$C$97)","v":0},null,{"$f":"LOOKUP(M66,Poängberäkning!$B$6:$B$97,Poängberäkning!$C$6:$C$97)","v":0},null,{"$f":"LOOKUP(O66,Poängberäkning!$B$6:$B$97,Poängberäkning!$C$6:$C$97)","v":0},null,{"$f":"LOOKUP(Q66,[1]Poängberäkning!$B$6:$B$97,[1]Poängberäkning!$C$6:$C$97)","v":0},null,{"$f":"LOOKUP(S66,[1]Poängberäkning!$B$6:$B$97,[1]Poängberäkning!$C$6:$C$97)","v":0},null,{"$f":"LOOKUP(U66,[1]Poängberäkning!$B$6:$B$97,[1]Poängberäkning!$C$6:$C$97)","v":0},null,{"$f":"LOOKUP(W66,[1]Poängberäkning!$B$6:$B$97,[1]Poängberäkning!$C$6:$C$97)","v":0},{"$f":"LARGE(($H66,$J66,$L66,$N66,$P66,$R66,$T66,$V66,$X66),1)","v":0},{"$f":"LARGE(($H66,$J66,$L66,$N66,$P66,$R66,$T66,$V66,$X66),2)","v":0},{"$f":"LARGE(($H66,$J66,$L66,$N66,$P66,$R66,$T66,$V66,$X66),3)","v":0},{"$f":"LARGE(($H66,$J66,$L66,$N66,$P66,$R66,$T66,$V66,$X66),4)","v":0},{"$f":"LARGE(($H66,$J66,$L66,$N66,$P66,$R66,$T66,$V66,$X66),5)","v":0},{"$f":"LARGE(($H66,$J66,$L66,$N66,$P66,$R66,$T66,$V66,$X66),6)","v":0},{"$f":"LARGE(($H66,$J66,$L66,$N66,$P66,$R66,$T66,$V66,$X66),7)","v":0},{"$f":"LARGE(($H66,$J66,$L66,$N66,$P66,$R66,$T66,$V66,$X66),8)","v":0},{"$f":"LARGE(($H66,$J66,$L66,$N66,$P66,$R66,$T66,$V66,$X66),9)","v":0}]
[63,null,null,null,0,0,null,{"$f":"LOOKUP(G67,Poängberäkning!$B$6:$B$97,Poängberäkning!$C$6:$C$97)","v":0},null,{"$f":"LOOKUP(I67,Poängberäkning!$B$6:$B$97,Poängberäkning!$C$6:$C$97)","v":0},null,{"$f":"LOOKUP(K67,Poängberäkning!$B$6:$B$97,Poängberäkning!$C$6:$C$97)","v":0},null,{"$f":"LOOKUP(M67,Poängberäkning!$B$6:$B$97,Poängberäkning!$C$6:$C$97)","v":0},null,{"$f":"LOOKUP(O67,Poängberäkning!$B$6:$B$97,Poängberäkning!$C$6:$C$97)","v":0},null,{"$f":"LOOKUP(Q67,[1]Poängberäkning!$B$6:$B$97,[1]Poängberäkning!$C$6:$C$97)","v":0},null,{"$f":"LOOKUP(S67,[1]Poängberäkning!$B$6:$B$97,[1]Poängberäkning!$C$6:$C$97)","v":0},null,{"$f":"LOOKUP(U67,[1]Poängberäkning!$B$6:$B$97,[1]Poängberäkning!$C$6:$C$97)","v":0},null,{"$f":"LOOKUP(W67,[1]Poängberäkning!$B$6:$B$97,[1]Poängberäkning!$C$6:$C$97)","v":0},{"$f":"LARGE(($H67,$J67,$L67,$N67,$P67,$R67,$T67,$V67,$X67),1)","v":0},{"$f":"LARGE(($H67,$J67,$L67,$N67,$P67,$R67,$T67,$V67,$X67),2)","v":0},{"$f":"LARGE(($H67,$J67,$L67,$N67,$P67,$R67,$T67,$V67,$X67),3)","v":0},{"$f":"LARGE(($H67,$J67,$L67,$N67,$P67,$R67,$T67,$V67,$X67),4)","v":0},{"$f":"LARGE(($H67,$J67,$L67,$N67,$P67,$R67,$T67,$V67,$X67),5)","v":0},{"$f":"LARGE(($H67,$J67,$L67,$N67,$P67,$R67,$T67,$V67,$X67),6)","v":0},{"$f":"LARGE(($H67,$J67,$L67,$N67,$P67,$R67,$T67,$V67,$X67),7)","v":0},{"$f":"LARGE(($H67,$J67,$L67,$N67,$P67,$R67,$T67,$V67,$X67),8)","v":0},{"$f":"LARGE(($H67,$J67,$L67,$N67,$P67,$R67,$T67,$V67,$X67),9)","v":0}]
[64,null,null,null,0,0,null,{"$f":"LOOKUP(G68,Poängberäkning!$B$6:$B$97,Poängberäkning!$C$6:$C$97)","v":0},null,{"$f":"LOOKUP(I68,Poängberäkning!$B$6:$B$97,Poängberäkning!$C$6:$C$97)","v":0},null,{"$f":"LOOKUP(K68,Poängberäkning!$B$6:$B$97,Poängberäkning!$C$6:$C$97)","v":0},null,{"$f":"LOOKUP(M68,Poängberäkning!$B$6:$B$97,Poängberäkning!$C$6:$C$97)","v":0},null,{"$f":"LOOKUP(O68,Poängberäkning!$B$6:$B$97,Poängberäkning!$C$6:$C$97)","v":0},null,{"$f":"LOOKUP(Q68,[1]Poängberäkning!$B$6:$B$97,[1]Poängberäkning!$C$6:$C$97)","v":0},null,{"$f":"LOOKUP(S68,[1]Poängberäkning!$B$6:$B$97,[1]Poängberäkning!$C$6:$C$97)","v":0},null,{"$f":"LOOKUP(U68,[1]Poängberäkning!$B$6:$B$97,[1]Poängberäkning!$C$6:$C$97)","v":0},null,{"$f":"LOOKUP(W68,[1]Poängberäkning!$B$6:$B$97,[1]Poängberäkning!$C$6:$C$97)","v":0},{"$f":"LARGE(($H68,$J68,$L68,$N68,$P68,$R68,$T68,$V68,$X68),1)","v":0},{"$f":"LARGE(($H68,$J68,$L68,$N68,$P68,$R68,$T68,$V68,$X68),2)","v":0},{"$f":"LARGE(($H68,$J68,$L68,$N68,$P68,$R68,$T68,$V68,$X68),3)","v":0},{"$f":"LARGE(($H68,$J68,$L68,$N68,$P68,$R68,$T68,$V68,$X68),4)","v":0},{"$f":"LARGE(($H68,$J68,$L68,$N68,$P68,$R68,$T68,$V68,$X68),5)","v":0},{"$f":"LARGE(($H68,$J68,$L68,$N68,$P68,$R68,$T68,$V68,$X68),6)","v":0},{"$f":"LARGE(($H68,$J68,$L68,$N68,$P68,$R68,$T68,$V68,$X68),7)","v":0},{"$f":"LARGE(($H68,$J68,$L68,$N68,$P68,$R68,$T68,$V68,$X68),8)","v":0},{"$f":"LARGE(($H68,$J68,$L68,$N68,$P68,$R68,$T68,$V68,$X68),9)","v":0}]
[65,null,null,null,{"$f":"SUM(Y69:AA69)","v":0},{"$f":"H69+J69+L69+N69+P69+R69+T69+V69+X69","v":0},null,{"$f":"LOOKUP(G69,Poängberäkning!$B$6:$B$97,Poängberäkning!$C$6:$C$97)","v":0},null,{"$f":"LOOKUP(I69,Poängberäkning!$B$6:$B$97,Poängberäkning!$C$6:$C$97)","v":0},null,{"$f":"LOOKUP(K69,Poängberäkning!$B$6:$B$97,Poängberäkning!$C$6:$C$97)","v":0},null,{"$f":"LOOKUP(M69,Poängberäkning!$B$6:$B$97,Poängberäkning!$C$6:$C$97)","v":0},null,{"$f":"LOOKUP(O69,Poängberäkning!$B$6:$B$97,Poängberäkning!$C$6:$C$97)","v":0},null,{"$f":"LOOKUP(Q69,[1]Poängberäkning!$B$6:$B$97,[1]Poängberäkning!$C$6:$C$97)","v":0},null,{"$f":"LOOKUP(S69,[1]Poängberäkning!$B$6:$B$97,[1]Poängberäkning!$C$6:$C$97)","v":0},null,{"$f":"LOOKUP(U69,[1]Poängberäkning!$B$6:$B$97,[1]Poängberäkning!$C$6:$C$97)","v":0},null,{"$f":"LOOKUP(W69,[1]Poängberäkning!$B$6:$B$97,[1]Poängberäkning!$C$6:$C$97)","v":0},{"$f":"LARGE(($H69,$J69,$L69,$N69,$P69,$R69,$T69,$V69,$X69),1)","v":0},{"$f":"LARGE(($H69,$J69,$L69,$N69,$P69,$R69,$T69,$V69,$X69),2)","v":0},{"$f":"LARGE(($H69,$J69,$L69,$N69,$P69,$R69,$T69,$V69,$X69),3)","v":0},{"$f":"LARGE(($H69,$J69,$L69,$N69,$P69,$R69,$T69,$V69,$X69),4)","v":0},{"$f":"LARGE(($H69,$J69,$L69,$N69,$P69,$R69,$T69,$V69,$X69),5)","v":0},{"$f":"LARGE(($H69,$J69,$L69,$N69,$P69,$R69,$T69,$V69,$X69),6)","v":0},{"$f":"LARGE(($H69,$J69,$L69,$N69,$P69,$R69,$T69,$V69,$X69),7)","v":0},{"$f":"LARGE(($H69,$J69,$L69,$N69,$P69,$R69,$T69,$V69,$X69),8)","v":0},{"$f":"LARGE(($H69,$J69,$L69,$N69,$P69,$R69,$T69,$V69,$X69),9)","v":0}]
[66,null,null,null,0,0,null,{"$f":"LOOKUP(G70,Poängberäkning!$B$6:$B$97,Poängberäkning!$C$6:$C$97)","v":0},null,{"$f":"LOOKUP(I70,Poängberäkning!$B$6:$B$97,Poängberäkning!$C$6:$C$97)","v":0},null,{"$f":"LOOKUP(K70,Poängberäkning!$B$6:$B$97,Poängberäkning!$C$6:$C$97)","v":0},null,{"$f":"LOOKUP(M70,Poängberäkning!$B$6:$B$97,Poängberäkning!$C$6:$C$97)","v":0},null,{"$f":"LOOKUP(O70,Poängberäkning!$B$6:$B$97,Poängberäkning!$C$6:$C$97)","v":0},null,{"$f":"LOOKUP(Q70,[1]Poängberäkning!$B$6:$B$97,[1]Poängberäkning!$C$6:$C$97)","v":0},null,{"$f":"LOOKUP(S70,[1]Poängberäkning!$B$6:$B$97,[1]Poängberäkning!$C$6:$C$97)","v":0},null,{"$f":"LOOKUP(U70,[1]Poängberäkning!$B$6:$B$97,[1]Poängberäkning!$C$6:$C$97)","v":0},null,{"$f":"LOOKUP(W70,[1]Poängberäkning!$B$6:$B$97,[1]Poängberäkning!$C$6:$C$97)","v":0},{"$f":"LARGE(($H70,$J70,$L70,$N70,$P70,$R70,$T70,$V70,$X70),1)","v":0},{"$f":"LARGE(($H70,$J70,$L70,$N70,$P70,$R70,$T70,$V70,$X70),2)","v":0},{"$f":"LARGE(($H70,$J70,$L70,$N70,$P70,$R70,$T70,$V70,$X70),3)","v":0},{"$f":"LARGE(($H70,$J70,$L70,$N70,$P70,$R70,$T70,$V70,$X70),4)","v":0},{"$f":"LARGE(($H70,$J70,$L70,$N70,$P70,$R70,$T70,$V70,$X70),5)","v":0},{"$f":"LARGE(($H70,$J70,$L70,$N70,$P70,$R70,$T70,$V70,$X70),6)","v":0},{"$f":"LARGE(($H70,$J70,$L70,$N70,$P70,$R70,$T70,$V70,$X70),7)","v":0},{"$f":"LARGE(($H70,$J70,$L70,$N70,$P70,$R70,$T70,$V70,$X70),8)","v":0},{"$f":"LARGE(($H70,$J70,$L70,$N70,$P70,$R70,$T70,$V70,$X70),9)","v":0}]
[67,null,null,null,0,0,null,{"$f":"LOOKUP(G71,Poängberäkning!$B$6:$B$97,Poängberäkning!$C$6:$C$97)","v":0},null,{"$f":"LOOKUP(I71,Poängberäkning!$B$6:$B$97,Poängberäkning!$C$6:$C$97)","v":0},null,{"$f":"LOOKUP(K71,Poängberäkning!$B$6:$B$97,Poängberäkning!$C$6:$C$97)","v":0},null,{"$f":"LOOKUP(M71,Poängberäkning!$B$6:$B$97,Poängberäkning!$C$6:$C$97)","v":0},null,{"$f":"LOOKUP(O71,Poängberäkning!$B$6:$B$97,Poängberäkning!$C$6:$C$97)","v":0},null,{"$f":"LOOKUP(Q71,[1]Poängberäkning!$B$6:$B$97,[1]Poängberäkning!$C$6:$C$97)","v":0},null,{"$f":"LOOKUP(S71,[1]Poängberäkning!$B$6:$B$97,[1]Poängberäkning!$C$6:$C$97)","v":0},null,{"$f":"LOOKUP(U71,[1]Poängberäkning!$B$6:$B$97,[1]Poängberäkning!$C$6:$C$97)","v":0},null,{"$f":"LOOKUP(W71,[1]Poängberäkning!$B$6:$B$97,[1]Poängberäkning!$C$6:$C$97)","v":0},{"$f":"LARGE(($H71,$J71,$L71,$N71,$P71,$R71,$T71,$V71,$X71),1)","v":0},{"$f":"LARGE(($H71,$J71,$L71,$N71,$P71,$R71,$T71,$V71,$X71),2)","v":0},{"$f":"LARGE(($H71,$J71,$L71,$N71,$P71,$R71,$T71,$V71,$X71),3)","v":0},{"$f":"LARGE(($H71,$J71,$L71,$N71,$P71,$R71,$T71,$V71,$X71),4)","v":0},{"$f":"LARGE(($H71,$J71,$L71,$N71,$P71,$R71,$T71,$V71,$X71),5)","v":0},{"$f":"LARGE(($H71,$J71,$L71,$N71,$P71,$R71,$T71,$V71,$X71),6)","v":0},{"$f":"LARGE(($H71,$J71,$L71,$N71,$P71,$R71,$T71,$V71,$X71),7)","v":0},{"$f":"LARGE(($H71,$J71,$L71,$N71,$P71,$R71,$T71,$V71,$X71),8)","v":0},{"$f":"LARGE(($H71,$J71,$L71,$N71,$P71,$R71,$T71,$V71,$X71),9)","v":0}]
[{"$f":"A71+1","v":68},null,null,null,0,0,null,{"$f":"LOOKUP(G72,Poängberäkning!$B$6:$B$97,Poängberäkning!$C$6:$C$97)","v":0},null,{"$f":"LOOKUP(I72,Poängberäkning!$B$6:$B$97,Poängberäkning!$C$6:$C$97)","v":0},null,{"$f":"LOOKUP(K72,Poängberäkning!$B$6:$B$97,Poängberäkning!$C$6:$C$97)","v":0},null,{"$f":"LOOKUP(M72,Poängberäkning!$B$6:$B$97,Poängberäkning!$C$6:$C$97)","v":0},null,{"$f":"LOOKUP(O72,Poängberäkning!$B$6:$B$97,Poängberäkning!$C$6:$C$97)","v":0},null,{"$f":"LOOKUP(Q72,[1]Poängberäkning!$B$6:$B$97,[1]Poängberäkning!$C$6:$C$97)","v":0},null,{"$f":"LOOKUP(S72,[1]Poängberäkning!$B$6:$B$97,[1]Poängberäkning!$C$6:$C$97)","v":0},null,{"$f":"LOOKUP(U72,[1]Poängberäkning!$B$6:$B$97,[1]Poängberäkning!$C$6:$C$97)","v":0},null,{"$f":"LOOKUP(W72,[1]Poängberäkning!$B$6:$B$97,[1]Poängberäkning!$C$6:$C$97)","v":0},{"$f":"LARGE(($H72,$J72,$L72,$N72,$P72,$R72,$T72,$V72,$X72),1)","v":0},{"$f":"LARGE(($H72,$J72,$L72,$N72,$P72,$R72,$T72,$V72,$X72),2)","v":0},{"$f":"LARGE(($H72,$J72,$L72,$N72,$P72,$R72,$T72,$V72,$X72),3)","v":0},{"$f":"LARGE(($H72,$J72,$L72,$N72,$P72,$R72,$T72,$V72,$X72),4)","v":0},{"$f":"LARGE(($H72,$J72,$L72,$N72,$P72,$R72,$T72,$V72,$X72),5)","v":0},{"$f":"LARGE(($H72,$J72,$L72,$N72,$P72,$R72,$T72,$V72,$X72),6)","v":0},{"$f":"LARGE(($H72,$J72,$L72,$N72,$P72,$R72,$T72,$V72,$X72),7)","v":0},{"$f":"LARGE(($H72,$J72,$L72,$N72,$P72,$R72,$T72,$V72,$X72),8)","v":0},{"$f":"LARGE(($H72,$J72,$L72,$N72,$P72,$R72,$T72,$V72,$X72),9)","v":0}]
[69,null,null,null,0,0,null,{"$f":"LOOKUP(G73,Poängberäkning!$B$6:$B$97,Poängberäkning!$C$6:$C$97)","v":0},null,{"$f":"LOOKUP(I73,Poängberäkning!$B$6:$B$97,Poängberäkning!$C$6:$C$97)","v":0},null,{"$f":"LOOKUP(K73,Poängberäkning!$B$6:$B$97,Poängberäkning!$C$6:$C$97)","v":0},null,{"$f":"LOOKUP(M73,Poängberäkning!$B$6:$B$97,Poängberäkning!$C$6:$C$97)","v":0},null,{"$f":"LOOKUP(O73,Poängberäkning!$B$6:$B$97,Poängberäkning!$C$6:$C$97)","v":0},null,{"$f":"LOOKUP(Q73,[1]Poängberäkning!$B$6:$B$97,[1]Poängberäkning!$C$6:$C$97)","v":0},null,{"$f":"LOOKUP(S73,[1]Poängberäkning!$B$6:$B$97,[1]Poängberäkning!$C$6:$C$97)","v":0},null,{"$f":"LOOKUP(U73,[1]Poängberäkning!$B$6:$B$97,[1]Poängberäkning!$C$6:$C$97)","v":0},null,{"$f":"LOOKUP(W73,[1]Poängberäkning!$B$6:$B$97,[1]Poängberäkning!$C$6:$C$97)","v":0},{"$f":"LARGE(($H73,$J73,$L73,$N73,$P73,$R73,$T73,$V73,$X73),1)","v":0},{"$f":"LARGE(($H73,$J73,$L73,$N73,$P73,$R73,$T73,$V73,$X73),2)","v":0},{"$f":"LARGE(($H73,$J73,$L73,$N73,$P73,$R73,$T73,$V73,$X73),3)","v":0},{"$f":"LARGE(($H73,$J73,$L73,$N73,$P73,$R73,$T73,$V73,$X73),4)","v":0},{"$f":"LARGE(($H73,$J73,$L73,$N73,$P73,$R73,$T73,$V73,$X73),5)","v":0},{"$f":"LARGE(($H73,$J73,$L73,$N73,$P73,$R73,$T73,$V73,$X73),6)","v":0},{"$f":"LARGE(($H73,$J73,$L73,$N73,$P73,$R73,$T73,$V73,$X73),7)","v":0},{"$f":"LARGE(($H73,$J73,$L73,$N73,$P73,$R73,$T73,$V73,$X73),8)","v":0},{"$f":"LARGE(($H73,$J73,$L73,$N73,$P73,$R73,$T73,$V73,$X73),9)","v":0}]
[70,null,null,null,0,0,null,{"$f":"LOOKUP(G74,Poängberäkning!$B$6:$B$97,Poängberäkning!$C$6:$C$97)","v":0},null,{"$f":"LOOKUP(I74,Poängberäkning!$B$6:$B$97,Poängberäkning!$C$6:$C$97)","v":0},null,{"$f":"LOOKUP(K74,Poängberäkning!$B$6:$B$97,Poängberäkning!$C$6:$C$97)","v":0},null,{"$f":"LOOKUP(M74,Poängberäkning!$B$6:$B$97,Poängberäkning!$C$6:$C$97)","v":0},null,{"$f":"LOOKUP(O74,Poängberäkning!$B$6:$B$97,Poängberäkning!$C$6:$C$97)","v":0},null,{"$f":"LOOKUP(Q74,[1]Poängberäkning!$B$6:$B$97,[1]Poängberäkning!$C$6:$C$97)","v":0},null,{"$f":"LOOKUP(S74,[1]Poängberäkning!$B$6:$B$97,[1]Poängberäkning!$C$6:$C$97)","v":0},null,{"$f":"LOOKUP(U74,[1]Poängberäkning!$B$6:$B$97,[1]Poängberäkning!$C$6:$C$97)","v":0},null,{"$f":"LOOKUP(W74,[1]Poängberäkning!$B$6:$B$97,[1]Poängberäkning!$C$6:$C$97)","v":0},{"$f":"LARGE(($H74,$J74,$L74,$N74,$P74,$R74,$T74,$V74,$X74),1)","v":0},{"$f":"LARGE(($H74,$J74,$L74,$N74,$P74,$R74,$T74,$V74,$X74),2)","v":0},{"$f":"LARGE(($H74,$J74,$L74,$N74,$P74,$R74,$T74,$V74,$X74),3)","v":0},{"$f":"LARGE(($H74,$J74,$L74,$N74,$P74,$R74,$T74,$V74,$X74),4)","v":0},{"$f":"LARGE(($H74,$J74,$L74,$N74,$P74,$R74,$T74,$V74,$X74),5)","v":0},{"$f":"LARGE(($H74,$J74,$L74,$N74,$P74,$R74,$T74,$V74,$X74),6)","v":0},{"$f":"LARGE(($H74,$J74,$L74,$N74,$P74,$R74,$T74,$V74,$X74),7)","v":0},{"$f":"LARGE(($H74,$J74,$L74,$N74,$P74,$R74,$T74,$V74,$X74),8)","v":0},{"$f":"LARGE(($H74,$J74,$L74,$N74,$P74,$R74,$T74,$V74,$X74),9)","v":0}]
[71,null,null,null,0,0,null,{"$f":"LOOKUP(G75,Poängberäkning!$B$6:$B$97,Poängberäkning!$C$6:$C$97)","v":0},null,{"$f":"LOOKUP(I75,Poängberäkning!$B$6:$B$97,Poängberäkning!$C$6:$C$97)","v":0},null,{"$f":"LOOKUP(K75,Poängberäkning!$B$6:$B$97,Poängberäkning!$C$6:$C$97)","v":0},null,{"$f":"LOOKUP(M75,Poängberäkning!$B$6:$B$97,Poängberäkning!$C$6:$C$97)","v":0},null,{"$f":"LOOKUP(O75,Poängberäkning!$B$6:$B$97,Poängberäkning!$C$6:$C$97)","v":0},null,{"$f":"LOOKUP(Q75,[1]Poängberäkning!$B$6:$B$97,[1]Poängberäkning!$C$6:$C$97)","v":0},null,{"$f":"LOOKUP(S75,[1]Poängberäkning!$B$6:$B$97,[1]Poängberäkning!$C$6:$C$97)","v":0},null,{"$f":"LOOKUP(U75,[1]Poängberäkning!$B$6:$B$97,[1]Poängberäkning!$C$6:$C$97)","v":0},null,{"$f":"LOOKUP(W75,[1]Poängberäkning!$B$6:$B$97,[1]Poängberäkning!$C$6:$C$97)","v":0},{"$f":"LARGE(($H75,$J75,$L75,$N75,$P75,$R75,$T75,$V75,$X75),1)","v":0},{"$f":"LARGE(($H75,$J75,$L75,$N75,$P75,$R75,$T75,$V75,$X75),2)","v":0},{"$f":"LARGE(($H75,$J75,$L75,$N75,$P75,$R75,$T75,$V75,$X75),3)","v":0},{"$f":"LARGE(($H75,$J75,$L75,$N75,$P75,$R75,$T75,$V75,$X75),4)","v":0},{"$f":"LARGE(($H75,$J75,$L75,$N75,$P75,$R75,$T75,$V75,$X75),5)","v":0},{"$f":"LARGE(($H75,$J75,$L75,$N75,$P75,$R75,$T75,$V75,$X75),6)","v":0},{"$f":"LARGE(($H75,$J75,$L75,$N75,$P75,$R75,$T75,$V75,$X75),7)","v":0},{"$f":"LARGE(($H75,$J75,$L75,$N75,$P75,$R75,$T75,$V75,$X75),8)","v":0},{"$f":"LARGE(($H75,$J75,$L75,$N75,$P75,$R75,$T75,$V75,$X75),9)","v":0}]
[72,null,null,null,0,0,null,{"$f":"LOOKUP(G76,Poängberäkning!$B$6:$B$97,Poängberäkning!$C$6:$C$97)","v":0},null,{"$f":"LOOKUP(I76,Poängberäkning!$B$6:$B$97,Poängberäkning!$C$6:$C$97)","v":0},null,{"$f":"LOOKUP(K76,Poängberäkning!$B$6:$B$97,Poängberäkning!$C$6:$C$97)","v":0},null,{"$f":"LOOKUP(M76,Poängberäkning!$B$6:$B$97,Poängberäkning!$C$6:$C$97)","v":0},null,{"$f":"LOOKUP(O76,Poängberäkning!$B$6:$B$97,Poängberäkning!$C$6:$C$97)","v":0},null,{"$f":"LOOKUP(Q76,[1]Poängberäkning!$B$6:$B$97,[1]Poängberäkning!$C$6:$C$97)","v":0},null,{"$f":"LOOKUP(S76,[1]Poängberäkning!$B$6:$B$97,[1]Poängberäkning!$C$6:$C$97)","v":0},null,{"$f":"LOOKUP(U76,[1]Poängberäkning!$B$6:$B$97,[1]Poängberäkning!$C$6:$C$97)","v":0},null,{"$f":"LOOKUP(W76,[1]Poängberäkning!$B$6:$B$97,[1]Poängberäkning!$C$6:$C$97)","v":0},{"$f":"LARGE(($H76,$J76,$L76,$N76,$P76,$R76,$T76,$V76,$X76),1)","v":0},{"$f":"LARGE(($H76,$J76,$L76,$N76,$P76,$R76,$T76,$V76,$X76),2)","v":0},{"$f":"LARGE(($H76,$J76,$L76,$N76,$P76,$R76,$T76,$V76,$X76),3)","v":0},{"$f":"LARGE(($H76,$J76,$L76,$N76,$P76,$R76,$T76,$V76,$X76),4)","v":0},{"$f":"LARGE(($H76,$J76,$L76,$N76,$P76,$R76,$T76,$V76,$X76),5)","v":0},{"$f":"LARGE(($H76,$J76,$L76,$N76,$P76,$R76,$T76,$V76,$X76),6)","v":0},{"$f":"LARGE(($H76,$J76,$L76,$N76,$P76,$R76,$T76,$V76,$X76),7)","v":0},{"$f":"LARGE(($H76,$J76,$L76,$N76,$P76,$R76,$T76,$V76,$X76),8)","v":0},{"$f":"LARGE(($H76,$J76,$L76,$N76,$P76,$R76,$T76,$V76,$X76),9)","v":0}]
[73,null,null,null,0,0,null,{"$f":"LOOKUP(G77,Poängberäkning!$B$6:$B$97,Poängberäkning!$C$6:$C$97)","v":0},null,{"$f":"LOOKUP(I77,Poängberäkning!$B$6:$B$97,Poängberäkning!$C$6:$C$97)","v":0},null,{"$f":"LOOKUP(K77,Poängberäkning!$B$6:$B$97,Poängberäkning!$C$6:$C$97)","v":0},null,{"$f":"LOOKUP(M77,Poängberäkning!$B$6:$B$97,Poängberäkning!$C$6:$C$97)","v":0},null,{"$f":"LOOKUP(O77,Poängberäkning!$B$6:$B$97,Poängberäkning!$C$6:$C$97)","v":0},null,{"$f":"LOOKUP(Q77,[1]Poängberäkning!$B$6:$B$97,[1]Poängberäkning!$C$6:$C$97)","v":0},null,{"$f":"LOOKUP(S77,[1]Poängberäkning!$B$6:$B$97,[1]Poängberäkning!$C$6:$C$97)","v":0},null,{"$f":"LOOKUP(U77,[1]Poängberäkning!$B$6:$B$97,[1]Poängberäkning!$C$6:$C$97)","v":0},null,{"$f":"LOOKUP(W77,[1]Poängberäkning!$B$6:$B$97,[1]Poängberäkning!$C$6:$C$97)","v":0},{"$f":"LARGE(($H77,$J77,$L77,$N77,$P77,$R77,$T77,$V77,$X77),1)","v":0},{"$f":"LARGE(($H77,$J77,$L77,$N77,$P77,$R77,$T77,$V77,$X77),2)","v":0},{"$f":"LARGE(($H77,$J77,$L77,$N77,$P77,$R77,$T77,$V77,$X77),3)","v":0},{"$f":"LARGE(($H77,$J77,$L77,$N77,$P77,$R77,$T77,$V77,$X77),4)","v":0},{"$f":"LARGE(($H77,$J77,$L77,$N77,$P77,$R77,$T77,$V77,$X77),5)","v":0},{"$f":"LARGE(($H77,$J77,$L77,$N77,$P77,$R77,$T77,$V77,$X77),6)","v":0},{"$f":"LARGE(($H77,$J77,$L77,$N77,$P77,$R77,$T77,$V77,$X77),7)","v":0},{"$f":"LARGE(($H77,$J77,$L77,$N77,$P77,$R77,$T77,$V77,$X77),8)","v":0},{"$f":"LARGE(($H77,$J77,$L77,$N77,$P77,$R77,$T77,$V77,$X77),9)","v":0}]
[74,null,null,null,0,0,null,{"$f":"LOOKUP(G78,Poängberäkning!$B$6:$B$97,Poängberäkning!$C$6:$C$97)","v":0},null,{"$f":"LOOKUP(I78,Poängberäkning!$B$6:$B$97,Poängberäkning!$C$6:$C$97)","v":0},null,{"$f":"LOOKUP(K78,Poängberäkning!$B$6:$B$97,Poängberäkning!$C$6:$C$97)","v":0},null,{"$f":"LOOKUP(M78,Poängberäkning!$B$6:$B$97,Poängberäkning!$C$6:$C$97)","v":0},null,{"$f":"LOOKUP(O78,Poängberäkning!$B$6:$B$97,Poängberäkning!$C$6:$C$97)","v":0},null,{"$f":"LOOKUP(Q78,[1]Poängberäkning!$B$6:$B$97,[1]Poängberäkning!$C$6:$C$97)","v":0},null,{"$f":"LOOKUP(S78,[1]Poängberäkning!$B$6:$B$97,[1]Poängberäkning!$C$6:$C$97)","v":0},null,{"$f":"LOOKUP(U78,[1]Poängberäkning!$B$6:$B$97,[1]Poängberäkning!$C$6:$C$97)","v":0},null,{"$f":"LOOKUP(W78,[1]Poängberäkning!$B$6:$B$97,[1]Poängberäkning!$C$6:$C$97)","v":0},{"$f":"LARGE(($H78,$J78,$L78,$N78,$P78,$R78,$T78,$V78,$X78),1)","v":0},{"$f":"LARGE(($H78,$J78,$L78,$N78,$P78,$R78,$T78,$V78,$X78),2)","v":0},{"$f":"LARGE(($H78,$J78,$L78,$N78,$P78,$R78,$T78,$V78,$X78),3)","v":0},{"$f":"LARGE(($H78,$J78,$L78,$N78,$P78,$R78,$T78,$V78,$X78),4)","v":0},{"$f":"LARGE(($H78,$J78,$L78,$N78,$P78,$R78,$T78,$V78,$X78),5)","v":0},{"$f":"LARGE(($H78,$J78,$L78,$N78,$P78,$R78,$T78,$V78,$X78),6)","v":0},{"$f":"LARGE(($H78,$J78,$L78,$N78,$P78,$R78,$T78,$V78,$X78),7)","v":0},{"$f":"LARGE(($H78,$J78,$L78,$N78,$P78,$R78,$T78,$V78,$X78),8)","v":0},{"$f":"LARGE(($H78,$J78,$L78,$N78,$P78,$R78,$T78,$V78,$X78),9)","v":0}]
[75,null,null,null,0,0,null,{"$f":"LOOKUP(G79,Poängberäkning!$B$6:$B$97,Poängberäkning!$C$6:$C$97)","v":0},null,{"$f":"LOOKUP(I79,Poängberäkning!$B$6:$B$97,Poängberäkning!$C$6:$C$97)","v":0},null,{"$f":"LOOKUP(K79,Poängberäkning!$B$6:$B$97,Poängberäkning!$C$6:$C$97)","v":0},null,{"$f":"LOOKUP(M79,Poängberäkning!$B$6:$B$97,Poängberäkning!$C$6:$C$97)","v":0},null,{"$f":"LOOKUP(O79,Poängberäkning!$B$6:$B$97,Poängberäkning!$C$6:$C$97)","v":0},null,{"$f":"LOOKUP(Q79,[1]Poängberäkning!$B$6:$B$97,[1]Poängberäkning!$C$6:$C$97)","v":0},null,{"$f":"LOOKUP(S79,[1]Poängberäkning!$B$6:$B$97,[1]Poängberäkning!$C$6:$C$97)","v":0},null,{"$f":"LOOKUP(U79,[1]Poängberäkning!$B$6:$B$97,[1]Poängberäkning!$C$6:$C$97)","v":0},null,{"$f":"LOOKUP(W79,[1]Poängberäkning!$B$6:$B$97,[1]Poängberäkning!$C$6:$C$97)","v":0},{"$f":"LARGE(($H79,$J79,$L79,$N79,$P79,$R79,$T79,$V79,$X79),1)","v":0},{"$f":"LARGE(($H79,$J79,$L79,$N79,$P79,$R79,$T79,$V79,$X79),2)","v":0},{"$f":"LARGE(($H79,$J79,$L79,$N79,$P79,$R79,$T79,$V79,$X79),3)","v":0},{"$f":"LARGE(($H79,$J79,$L79,$N79,$P79,$R79,$T79,$V79,$X79),4)","v":0},{"$f":"LARGE(($H79,$J79,$L79,$N79,$P79,$R79,$T79,$V79,$X79),5)","v":0},{"$f":"LARGE(($H79,$J79,$L79,$N79,$P79,$R79,$T79,$V79,$X79),6)","v":0},{"$f":"LARGE(($H79,$J79,$L79,$N79,$P79,$R79,$T79,$V79,$X79),7)","v":0},{"$f":"LARGE(($H79,$J79,$L79,$N79,$P79,$R79,$T79,$V79,$X79),8)","v":0},{"$f":"LARGE(($H79,$J79,$L79,$N79,$P79,$R79,$T79,$V79,$X79),9)","v":0}]
[{"$f":"A79+1","v":76},null,null,null,0,0,null,{"$f":"LOOKUP(G80,Poängberäkning!$B$6:$B$97,Poängberäkning!$C$6:$C$97)","v":0},null,{"$f":"LOOKUP(I80,Poängberäkning!$B$6:$B$97,Poängberäkning!$C$6:$C$97)","v":0},null,{"$f":"LOOKUP(K80,Poängberäkning!$B$6:$B$97,Poängberäkning!$C$6:$C$97)","v":0},null,{"$f":"LOOKUP(M80,Poängberäkning!$B$6:$B$97,Poängberäkning!$C$6:$C$97)","v":0},null,{"$f":"LOOKUP(O80,Poängberäkning!$B$6:$B$97,Poängberäkning!$C$6:$C$97)","v":0},null,{"$f":"LOOKUP(Q80,[1]Poängberäkning!$B$6:$B$97,[1]Poängberäkning!$C$6:$C$97)","v":0},null,{"$f":"LOOKUP(S80,[1]Poängberäkning!$B$6:$B$97,[1]Poängberäkning!$C$6:$C$97)","v":0},null,{"$f":"LOOKUP(U80,[1]Poängberäkning!$B$6:$B$97,[1]Poängberäkning!$C$6:$C$97)","v":0},null,{"$f":"LOOKUP(W80,[1]Poängberäkning!$B$6:$B$97,[1]Poängberäkning!$C$6:$C$97)","v":0},{"$f":"LARGE(($H80,$J80,$L80,$N80,$P80,$R80,$T80,$V80,$X80),1)","v":0},{"$f":"LARGE(($H80,$J80,$L80,$N80,$P80,$R80,$T80,$V80,$X80),2)","v":0},{"$f":"LARGE(($H80,$J80,$L80,$N80,$P80,$R80,$T80,$V80,$X80),3)","v":0},{"$f":"LARGE(($H80,$J80,$L80,$N80,$P80,$R80,$T80,$V80,$X80),4)","v":0},{"$f":"LARGE(($H80,$J80,$L80,$N80,$P80,$R80,$T80,$V80,$X80),5)","v":0},{"$f":"LARGE(($H80,$J80,$L80,$N80,$P80,$R80,$T80,$V80,$X80),6)","v":0},{"$f":"LARGE(($H80,$J80,$L80,$N80,$P80,$R80,$T80,$V80,$X80),7)","v":0},{"$f":"LARGE(($H80,$J80,$L80,$N80,$P80,$R80,$T80,$V80,$X80),8)","v":0},{"$f":"LARGE(($H80,$J80,$L80,$N80,$P80,$R80,$T80,$V80,$X80),9)","v":0}]
[{"$f":"A80+1","v":77},null,null,null,0,0,null,{"$f":"LOOKUP(G81,Poängberäkning!$B$6:$B$97,Poängberäkning!$C$6:$C$97)","v":0},null,{"$f":"LOOKUP(I81,Poängberäkning!$B$6:$B$97,Poängberäkning!$C$6:$C$97)","v":0},null,{"$f":"LOOKUP(K81,Poängberäkning!$B$6:$B$97,Poängberäkning!$C$6:$C$97)","v":0},null,{"$f":"LOOKUP(M81,Poängberäkning!$B$6:$B$97,Poängberäkning!$C$6:$C$97)","v":0},null,{"$f":"LOOKUP(O81,Poängberäkning!$B$6:$B$97,Poängberäkning!$C$6:$C$97)","v":0},null,{"$f":"LOOKUP(Q81,[1]Poängberäkning!$B$6:$B$97,[1]Poängberäkning!$C$6:$C$97)","v":0},null,{"$f":"LOOKUP(S81,[1]Poängberäkning!$B$6:$B$97,[1]Poängberäkning!$C$6:$C$97)","v":0},null,{"$f":"LOOKUP(U81,[1]Poängberäkning!$B$6:$B$97,[1]Poängberäkning!$C$6:$C$97)","v":0},null,{"$f":"LOOKUP(W81,[1]Poängberäkning!$B$6:$B$97,[1]Poängberäkning!$C$6:$C$97)","v":0},{"$f":"LARGE(($H81,$J81,$L81,$N81,$P81,$R81,$T81,$V81,$X81),1)","v":0},{"$f":"LARGE(($H81,$J81,$L81,$N81,$P81,$R81,$T81,$V81,$X81),2)","v":0},{"$f":"LARGE(($H81,$J81,$L81,$N81,$P81,$R81,$T81,$V81,$X81),3)","v":0},{"$f":"LARGE(($H81,$J81,$L81,$N81,$P81,$R81,$T81,$V81,$X81),4)","v":0},{"$f":"LARGE(($H81,$J81,$L81,$N81,$P81,$R81,$T81,$V81,$X81),5)","v":0},{"$f":"LARGE(($H81,$J81,$L81,$N81,$P81,$R81,$T81,$V81,$X81),6)","v":0},{"$f":"LARGE(($H81,$J81,$L81,$N81,$P81,$R81,$T81,$V81,$X81),7)","v":0},{"$f":"LARGE(($H81,$J81,$L81,$N81,$P81,$R81,$T81,$V81,$X81),8)","v":0},{"$f":"LARGE(($H81,$J81,$L81,$N81,$P81,$R81,$T81,$V81,$X81),9)","v":0}]
[{"$f":"A81+1","v":78},null,null,null,0,0,null,{"$f":"LOOKUP(G82,Poängberäkning!$B$6:$B$97,Poängberäkning!$C$6:$C$97)","v":0},null,{"$f":"LOOKUP(I82,Poängberäkning!$B$6:$B$97,Poängberäkning!$C$6:$C$97)","v":0},null,{"$f":"LOOKUP(K82,Poängberäkning!$B$6:$B$97,Poängberäkning!$C$6:$C$97)","v":0},null,{"$f":"LOOKUP(M82,Poängberäkning!$B$6:$B$97,Poängberäkning!$C$6:$C$97)","v":0},null,{"$f":"LOOKUP(O82,Poängberäkning!$B$6:$B$97,Poängberäkning!$C$6:$C$97)","v":0},null,{"$f":"LOOKUP(Q82,[1]Poängberäkning!$B$6:$B$97,[1]Poängberäkning!$C$6:$C$97)","v":0},null,{"$f":"LOOKUP(S82,[1]Poängberäkning!$B$6:$B$97,[1]Poängberäkning!$C$6:$C$97)","v":0},null,{"$f":"LOOKUP(U82,[1]Poängberäkning!$B$6:$B$97,[1]Poängberäkning!$C$6:$C$97)","v":0},null,{"$f":"LOOKUP(W82,[1]Poängberäkning!$B$6:$B$97,[1]Poängberäkning!$C$6:$C$97)","v":0},{"$f":"LARGE(($H82,$J82,$L82,$N82,$P82,$R82,$T82,$V82,$X82),1)","v":0},{"$f":"LARGE(($H82,$J82,$L82,$N82,$P82,$R82,$T82,$V82,$X82),2)","v":0},{"$f":"LARGE(($H82,$J82,$L82,$N82,$P82,$R82,$T82,$V82,$X82),3)","v":0},{"$f":"LARGE(($H82,$J82,$L82,$N82,$P82,$R82,$T82,$V82,$X82),4)","v":0},{"$f":"LARGE(($H82,$J82,$L82,$N82,$P82,$R82,$T82,$V82,$X82),5)","v":0},{"$f":"LARGE(($H82,$J82,$L82,$N82,$P82,$R82,$T82,$V82,$X82),6)","v":0},{"$f":"LARGE(($H82,$J82,$L82,$N82,$P82,$R82,$T82,$V82,$X82),7)","v":0},{"$f":"LARGE(($H82,$J82,$L82,$N82,$P82,$R82,$T82,$V82,$X82),8)","v":0},{"$f":"LARGE(($H82,$J82,$L82,$N82,$P82,$R82,$T82,$V82,$X82),9)","v":0}]
[79,null,null,null,0,0,null,{"$f":"LOOKUP(G83,Poängberäkning!$B$6:$B$97,Poängberäkning!$C$6:$C$97)","v":0},null,{"$f":"LOOKUP(I83,Poängberäkning!$B$6:$B$97,Poängberäkning!$C$6:$C$97)","v":0},null,{"$f":"LOOKUP(K83,Poängberäkning!$B$6:$B$97,Poängberäkning!$C$6:$C$97)","v":0},null,{"$f":"LOOKUP(M83,Poängberäkning!$B$6:$B$97,Poängberäkning!$C$6:$C$97)","v":0},null,{"$f":"LOOKUP(O83,Poängberäkning!$B$6:$B$97,Poängberäkning!$C$6:$C$97)","v":0},null,{"$f":"LOOKUP(Q83,[1]Poängberäkning!$B$6:$B$97,[1]Poängberäkning!$C$6:$C$97)","v":0},null,{"$f":"LOOKUP(S83,[1]Poängberäkning!$B$6:$B$97,[1]Poängberäkning!$C$6:$C$97)","v":0},null,{"$f":"LOOKUP(U83,[1]Poängberäkning!$B$6:$B$97,[1]Poängberäkning!$C$6:$C$97)","v":0},null,{"$f":"LOOKUP(W83,[1]Poängberäkning!$B$6:$B$97,[1]Poängberäkning!$C$6:$C$97)","v":0},{"$f":"LARGE(($H83,$J83,$L83,$N83,$P83,$R83,$T83,$V83,$X83),1)","v":0},{"$f":"LARGE(($H83,$J83,$L83,$N83,$P83,$R83,$T83,$V83,$X83),2)","v":0},{"$f":"LARGE(($H83,$J83,$L83,$N83,$P83,$R83,$T83,$V83,$X83),3)","v":0},{"$f":"LARGE(($H83,$J83,$L83,$N83,$P83,$R83,$T83,$V83,$X83),4)","v":0},{"$f":"LARGE(($H83,$J83,$L83,$N83,$P83,$R83,$T83,$V83,$X83),5)","v":0},{"$f":"LARGE(($H83,$J83,$L83,$N83,$P83,$R83,$T83,$V83,$X83),6)","v":0},{"$f":"LARGE(($H83,$J83,$L83,$N83,$P83,$R83,$T83,$V83,$X83),7)","v":0},{"$f":"LARGE(($H83,$J83,$L83,$N83,$P83,$R83,$T83,$V83,$X83),8)","v":0},{"$f":"LARGE(($H83,$J83,$L83,$N83,$P83,$R83,$T83,$V83,$X83),9)","v":0}]
[80,null,null,null,0,0,null,{"$f":"LOOKUP(G84,Poängberäkning!$B$6:$B$97,Poängberäkning!$C$6:$C$97)","v":0},null,{"$f":"LOOKUP(I84,Poängberäkning!$B$6:$B$97,Poängberäkning!$C$6:$C$97)","v":0},null,{"$f":"LOOKUP(K84,Poängberäkning!$B$6:$B$97,Poängberäkning!$C$6:$C$97)","v":0},null,{"$f":"LOOKUP(M84,Poängberäkning!$B$6:$B$97,Poängberäkning!$C$6:$C$97)","v":0},null,{"$f":"LOOKUP(O84,Poängberäkning!$B$6:$B$97,Poängberäkning!$C$6:$C$97)","v":0},null,{"$f":"LOOKUP(Q84,[1]Poängberäkning!$B$6:$B$97,[1]Poängberäkning!$C$6:$C$97)","v":0},null,{"$f":"LOOKUP(S84,[1]Poängberäkning!$B$6:$B$97,[1]Poängberäkning!$C$6:$C$97)","v":0},null,{"$f":"LOOKUP(U84,[1]Poängberäkning!$B$6:$B$97,[1]Poängberäkning!$C$6:$C$97)","v":0},null,{"$f":"LOOKUP(W84,[1]Poängberäkning!$B$6:$B$97,[1]Poängberäkning!$C$6:$C$97)","v":0},{"$f":"LARGE(($H84,$J84,$L84,$N84,$P84,$R84,$T84,$V84,$X84),1)","v":0},{"$f":"LARGE(($H84,$J84,$L84,$N84,$P84,$R84,$T84,$V84,$X84),2)","v":0},{"$f":"LARGE(($H84,$J84,$L84,$N84,$P84,$R84,$T84,$V84,$X84),3)","v":0},{"$f":"LARGE(($H84,$J84,$L84,$N84,$P84,$R84,$T84,$V84,$X84),4)","v":0},{"$f":"LARGE(($H84,$J84,$L84,$N84,$P84,$R84,$T84,$V84,$X84),5)","v":0},{"$f":"LARGE(($H84,$J84,$L84,$N84,$P84,$R84,$T84,$V84,$X84),6)","v":0},{"$f":"LARGE(($H84,$J84,$L84,$N84,$P84,$R84,$T84,$V84,$X84),7)","v":0},{"$f":"LARGE(($H84,$J84,$L84,$N84,$P84,$R84,$T84,$V84,$X84),8)","v":0},{"$f":"LARGE(($H84,$J84,$L84,$N84,$P84,$R84,$T84,$V84,$X84),9)","v":0}]
[81,null,null,null,0,0,null,{"$f":"LOOKUP(G85,Poängberäkning!$B$6:$B$97,Poängberäkning!$C$6:$C$97)","v":0},null,{"$f":"LOOKUP(I85,Poängberäkning!$B$6:$B$97,Poängberäkning!$C$6:$C$97)","v":0},null,{"$f":"LOOKUP(K85,Poängberäkning!$B$6:$B$97,Poängberäkning!$C$6:$C$97)","v":0},null,{"$f":"LOOKUP(M85,Poängberäkning!$B$6:$B$97,Poängberäkning!$C$6:$C$97)","v":0},null,{"$f":"LOOKUP(O85,Poängberäkning!$B$6:$B$97,Poängberäkning!$C$6:$C$97)","v":0},null,{"$f":"LOOKUP(Q85,[1]Poängberäkning!$B$6:$B$97,[1]Poängberäkning!$C$6:$C$97)","v":0},null,{"$f":"LOOKUP(S85,[1]Poängberäkning!$B$6:$B$97,[1]Poängberäkning!$C$6:$C$97)","v":0},null,{"$f":"LOOKUP(U85,[1]Poängberäkning!$B$6:$B$97,[1]Poängberäkning!$C$6:$C$97)","v":0},null,{"$f":"LOOKUP(W85,[1]Poängberäkning!$B$6:$B$97,[1]Poängberäkning!$C$6:$C$97)","v":0},{"$f":"LARGE(($H85,$J85,$L85,$N85,$P85,$R85,$T85,$V85,$X85),1)","v":0},{"$f":"LARGE(($H85,$J85,$L85,$N85,$P85,$R85,$T85,$V85,$X85),2)","v":0},{"$f":"LARGE(($H85,$J85,$L85,$N85,$P85,$R85,$T85,$V85,$X85),3)","v":0},{"$f":"LARGE(($H85,$J85,$L85,$N85,$P85,$R85,$T85,$V85,$X85),4)","v":0},{"$f":"LARGE(($H85,$J85,$L85,$N85,$P85,$R85,$T85,$V85,$X85),5)","v":0},{"$f":"LARGE(($H85,$J85,$L85,$N85,$P85,$R85,$T85,$V85,$X85),6)","v":0},{"$f":"LARGE(($H85,$J85,$L85,$N85,$P85,$R85,$T85,$V85,$X85),7)","v":0},{"$f":"LARGE(($H85,$J85,$L85,$N85,$P85,$R85,$T85,$V85,$X85),8)","v":0},{"$f":"LARGE(($H85,$J85,$L85,$N85,$P85,$R85,$T85,$V85,$X85),9)","v":0}]
[82,null,null,null,0,0,null,{"$f":"LOOKUP(G86,Poängberäkning!$B$6:$B$97,Poängberäkning!$C$6:$C$97)","v":0},null,{"$f":"LOOKUP(I86,Poängberäkning!$B$6:$B$97,Poängberäkning!$C$6:$C$97)","v":0},null,{"$f":"LOOKUP(K86,Poängberäkning!$B$6:$B$97,Poängberäkning!$C$6:$C$97)","v":0},null,{"$f":"LOOKUP(M86,Poängberäkning!$B$6:$B$97,Poängberäkning!$C$6:$C$97)","v":0},null,{"$f":"LOOKUP(O86,Poängberäkning!$B$6:$B$97,Poängberäkning!$C$6:$C$97)","v":0},null,{"$f":"LOOKUP(Q86,[1]Poängberäkning!$B$6:$B$97,[1]Poängberäkning!$C$6:$C$97)","v":0},null,{"$f":"LOOKUP(S86,[1]Poängberäkning!$B$6:$B$97,[1]Poängberäkning!$C$6:$C$97)","v":0},null,{"$f":"LOOKUP(U86,[1]Poängberäkning!$B$6:$B$97,[1]Poängberäkning!$C$6:$C$97)","v":0},null,{"$f":"LOOKUP(W86,[1]Poängberäkning!$B$6:$B$97,[1]Poängberäkning!$C$6:$C$97)","v":0},{"$f":"LARGE(($H86,$J86,$L86,$N86,$P86,$R86,$T86,$V86,$X86),1)","v":0},{"$f":"LARGE(($H86,$J86,$L86,$N86,$P86,$R86,$T86,$V86,$X86),2)","v":0},{"$f":"LARGE(($H86,$J86,$L86,$N86,$P86,$R86,$T86,$V86,$X86),3)","v":0},{"$f":"LARGE(($H86,$J86,$L86,$N86,$P86,$R86,$T86,$V86,$X86),4)","v":0},{"$f":"LARGE(($H86,$J86,$L86,$N86,$P86,$R86,$T86,$V86,$X86),5)","v":0},{"$f":"LARGE(($H86,$J86,$L86,$N86,$P86,$R86,$T86,$V86,$X86),6)","v":0},{"$f":"LARGE(($H86,$J86,$L86,$N86,$P86,$R86,$T86,$V86,$X86),7)","v":0},{"$f":"LARGE(($H86,$J86,$L86,$N86,$P86,$R86,$T86,$V86,$X86),8)","v":0},{"$f":"LARGE(($H86,$J86,$L86,$N86,$P86,$R86,$T86,$V86,$X86),9)","v":0}]
[83,null,null,null,0,0,null,{"$f":"LOOKUP(G87,Poängberäkning!$B$6:$B$97,Poängberäkning!$C$6:$C$97)","v":0},null,{"$f":"LOOKUP(I87,Poängberäkning!$B$6:$B$97,Poängberäkning!$C$6:$C$97)","v":0},null,{"$f":"LOOKUP(K87,Poängberäkning!$B$6:$B$97,Poängberäkning!$C$6:$C$97)","v":0},null,{"$f":"LOOKUP(M87,Poängberäkning!$B$6:$B$97,Poängberäkning!$C$6:$C$97)","v":0},null,{"$f":"LOOKUP(O87,Poängberäkning!$B$6:$B$97,Poängberäkning!$C$6:$C$97)","v":0},null,{"$f":"LOOKUP(Q87,[1]Poängberäkning!$B$6:$B$97,[1]Poängberäkning!$C$6:$C$97)","v":0},null,{"$f":"LOOKUP(S87,[1]Poängberäkning!$B$6:$B$97,[1]Poängberäkning!$C$6:$C$97)","v":0},null,{"$f":"LOOKUP(U87,[1]Poängberäkning!$B$6:$B$97,[1]Poängberäkning!$C$6:$C$97)","v":0},null,{"$f":"LOOKUP(W87,[1]Poängberäkning!$B$6:$B$97,[1]Poängberäkning!$C$6:$C$97)","v":0},{"$f":"LARGE(($H87,$J87,$L87,$N87,$P87,$R87,$T87,$V87,$X87),1)","v":0},{"$f":"LARGE(($H87,$J87,$L87,$N87,$P87,$R87,$T87,$V87,$X87),2)","v":0},{"$f":"LARGE(($H87,$J87,$L87,$N87,$P87,$R87,$T87,$V87,$X87),3)","v":0},{"$f":"LARGE(($H87,$J87,$L87,$N87,$P87,$R87,$T87,$V87,$X87),4)","v":0},{"$f":"LARGE(($H87,$J87,$L87,$N87,$P87,$R87,$T87,$V87,$X87),5)","v":0},{"$f":"LARGE(($H87,$J87,$L87,$N87,$P87,$R87,$T87,$V87,$X87),6)","v":0},{"$f":"LARGE(($H87,$J87,$L87,$N87,$P87,$R87,$T87,$V87,$X87),7)","v":0},{"$f":"LARGE(($H87,$J87,$L87,$N87,$P87,$R87,$T87,$V87,$X87),8)","v":0},{"$f":"LARGE(($H87,$J87,$L87,$N87,$P87,$R87,$T87,$V87,$X87),9)","v":0}]
[84,null,null,null,0,0,null,{"$f":"LOOKUP(G88,Poängberäkning!$B$6:$B$97,Poängberäkning!$C$6:$C$97)","v":0},null,{"$f":"LOOKUP(I88,Poängberäkning!$B$6:$B$97,Poängberäkning!$C$6:$C$97)","v":0},null,{"$f":"LOOKUP(K88,Poängberäkning!$B$6:$B$97,Poängberäkning!$C$6:$C$97)","v":0},null,{"$f":"LOOKUP(M88,Poängberäkning!$B$6:$B$97,Poängberäkning!$C$6:$C$97)","v":0},null,{"$f":"LOOKUP(O88,Poängberäkning!$B$6:$B$97,Poängberäkning!$C$6:$C$97)","v":0},null,{"$f":"LOOKUP(Q88,[1]Poängberäkning!$B$6:$B$97,[1]Poängberäkning!$C$6:$C$97)","v":0},null,{"$f":"LOOKUP(S88,[1]Poängberäkning!$B$6:$B$97,[1]Poängberäkning!$C$6:$C$97)","v":0},null,{"$f":"LOOKUP(U88,[1]Poängberäkning!$B$6:$B$97,[1]Poängberäkning!$C$6:$C$97)","v":0},null,{"$f":"LOOKUP(W88,[1]Poängberäkning!$B$6:$B$97,[1]Poängberäkning!$C$6:$C$97)","v":0},{"$f":"LARGE(($H88,$J88,$L88,$N88,$P88,$R88,$T88,$V88,$X88),1)","v":0},{"$f":"LARGE(($H88,$J88,$L88,$N88,$P88,$R88,$T88,$V88,$X88),2)","v":0},{"$f":"LARGE(($H88,$J88,$L88,$N88,$P88,$R88,$T88,$V88,$X88),3)","v":0},{"$f":"LARGE(($H88,$J88,$L88,$N88,$P88,$R88,$T88,$V88,$X88),4)","v":0},{"$f":"LARGE(($H88,$J88,$L88,$N88,$P88,$R88,$T88,$V88,$X88),5)","v":0},{"$f":"LARGE(($H88,$J88,$L88,$N88,$P88,$R88,$T88,$V88,$X88),6)","v":0},{"$f":"LARGE(($H88,$J88,$L88,$N88,$P88,$R88,$T88,$V88,$X88),7)","v":0},{"$f":"LARGE(($H88,$J88,$L88,$N88,$P88,$R88,$T88,$V88,$X88),8)","v":0},{"$f":"LARGE(($H88,$J88,$L88,$N88,$P88,$R88,$T88,$V88,$X88),9)","v":0}]
[85,null,null,null,0,0,null,{"$f":"LOOKUP(G89,Poängberäkning!$B$6:$B$97,Poängberäkning!$C$6:$C$97)","v":0},null,{"$f":"LOOKUP(I89,Poängberäkning!$B$6:$B$97,Poängberäkning!$C$6:$C$97)","v":0},null,{"$f":"LOOKUP(K89,Poängberäkning!$B$6:$B$97,Poängberäkning!$C$6:$C$97)","v":0},null,{"$f":"LOOKUP(M89,Poängberäkning!$B$6:$B$97,Poängberäkning!$C$6:$C$97)","v":0},null,{"$f":"LOOKUP(O89,Poängberäkning!$B$6:$B$97,Poängberäkning!$C$6:$C$97)","v":0},null,{"$f":"LOOKUP(Q89,[1]Poängberäkning!$B$6:$B$97,[1]Poängberäkning!$C$6:$C$97)","v":0},null,{"$f":"LOOKUP(S89,[1]Poängberäkning!$B$6:$B$97,[1]Poängberäkning!$C$6:$C$97)","v":0},null,{"$f":"LOOKUP(U89,[1]Poängberäkning!$B$6:$B$97,[1]Poängberäkning!$C$6:$C$97)","v":0},null,{"$f":"LOOKUP(W89,[1]Poängberäkning!$B$6:$B$97,[1]Poängberäkning!$C$6:$C$97)","v":0},{"$f":"LARGE(($H89,$J89,$L89,$N89,$P89,$R89,$T89,$V89,$X89),1)","v":0},{"$f":"LARGE(($H89,$J89,$L89,$N89,$P89,$R89,$T89,$V89,$X89),2)","v":0},{"$f":"LARGE(($H89,$J89,$L89,$N89,$P89,$R89,$T89,$V89,$X89),3)","v":0},{"$f":"LARGE(($H89,$J89,$L89,$N89,$P89,$R89,$T89,$V89,$X89),4)","v":0},{"$f":"LARGE(($H89,$J89,$L89,$N89,$P89,$R89,$T89,$V89,$X89),5)","v":0},{"$f":"LARGE(($H89,$J89,$L89,$N89,$P89,$R89,$T89,$V89,$X89),6)","v":0},{"$f":"LARGE(($H89,$J89,$L89,$N89,$P89,$R89,$T89,$V89,$X89),7)","v":0},{"$f":"LARGE(($H89,$J89,$L89,$N89,$P89,$R89,$T89,$V89,$X89),8)","v":0},{"$f":"LARGE(($H89,$J89,$L89,$N89,$P89,$R89,$T89,$V89,$X89),9)","v":0}]
[{"$f":"A89+1","v":86},null,null,null,0,0,null,{"$f":"LOOKUP(G90,Poängberäkning!$B$6:$B$97,Poängberäkning!$C$6:$C$97)","v":0},null,{"$f":"LOOKUP(I90,Poängberäkning!$B$6:$B$97,Poängberäkning!$C$6:$C$97)","v":0},null,{"$f":"LOOKUP(K90,Poängberäkning!$B$6:$B$97,Poängberäkning!$C$6:$C$97)","v":0},null,{"$f":"LOOKUP(M90,Poängberäkning!$B$6:$B$97,Poängberäkning!$C$6:$C$97)","v":0},null,{"$f":"LOOKUP(O90,Poängberäkning!$B$6:$B$97,Poängberäkning!$C$6:$C$97)","v":0},null,{"$f":"LOOKUP(Q90,[1]Poängberäkning!$B$6:$B$97,[1]Poängberäkning!$C$6:$C$97)","v":0},null,{"$f":"LOOKUP(S90,[1]Poängberäkning!$B$6:$B$97,[1]Poängberäkning!$C$6:$C$97)","v":0},null,{"$f":"LOOKUP(U90,[1]Poängberäkning!$B$6:$B$97,[1]Poängberäkning!$C$6:$C$97)","v":0},null,{"$f":"LOOKUP(W90,[1]Poängberäkning!$B$6:$B$97,[1]Poängberäkning!$C$6:$C$97)","v":0},{"$f":"LARGE(($H90,$J90,$L90,$N90,$P90,$R90,$T90,$V90,$X90),1)","v":0},{"$f":"LARGE(($H90,$J90,$L90,$N90,$P90,$R90,$T90,$V90,$X90),2)","v":0},{"$f":"LARGE(($H90,$J90,$L90,$N90,$P90,$R90,$T90,$V90,$X90),3)","v":0},{"$f":"LARGE(($H90,$J90,$L90,$N90,$P90,$R90,$T90,$V90,$X90),4)","v":0},{"$f":"LARGE(($H90,$J90,$L90,$N90,$P90,$R90,$T90,$V90,$X90),5)","v":0},{"$f":"LARGE(($H90,$J90,$L90,$N90,$P90,$R90,$T90,$V90,$X90),6)","v":0},{"$f":"LARGE(($H90,$J90,$L90,$N90,$P90,$R90,$T90,$V90,$X90),7)","v":0},{"$f":"LARGE(($H90,$J90,$L90,$N90,$P90,$R90,$T90,$V90,$X90),8)","v":0},{"$f":"LARGE(($H90,$J90,$L90,$N90,$P90,$R90,$T90,$V90,$X90),9)","v":0}]

{"sheet":"Poängberäkning","index":3,"n_rows":97,"n_cols":3,"rows_kept":97,"cut":false,"hidden":true,"merged":[[2,1,2,4]]}
[]
[]
[null,"Poängberäkning DalaCup"]
[]
[null,"Plats","Poäng"]
[null,0,0]
[null,1,100]
[null,2,80]
[null,3,70]
[null,4,60]
[null,5,55]
[null,6,50]
[null,7,48]
[null,8,46]
[null,9,44]
[null,10,42]
[null,11,40]
[null,12,39]
[null,13,38]
[null,14,37]
[null,15,36]
[null,16,35]
[null,17,34]
[null,18,33]
[null,19,32]
[null,20,31]
[null,21,30]
[null,22,29]
[null,23,28]
[null,24,27]
[null,25,26]
[null,26,25]
[null,27,24]
[null,28,23]
[null,29,22]
[null,30,21]
[null,31,20]
[null,32,19]
[null,33,18]
[null,34,17]
[null,35,16]
[null,36,15]
[null,37,14]
[null,38,13]
[null,39,12]
[null,40,11]
[null,41,10]
[null,42,9]
[null,43,8]
[null,44,7]
[null,45,6]
[null,46,5]
[null,47,4]
[null,48,3]
[null,49,2]
[null,50,1]
[null,{"$f":"B56+1","v":51},1]
[null,{"$f":"B57+1","v":52},1]
[null,53,1]
[null,54,1]
[null,55,1]
[null,56,1]
[null,57,1]
[null,58,1]
[null,59,1]
[null,60,1]
[null,61,1]
[null,62,1]
[null,63,1]
[null,64,1]
[null,65,1]
[null,66,1]
[null,67,1]
[null,68,1]
[null,69,1]
[null,70,1]
[null,71,1]
[null,72,1]
[null,73,1]
[null,74,1]
[null,75,1]
[null,76,1]
[null,77,1]
[null,78,1]
[null,79,1]
[null,80,1]
[null,81,1]
[null,82,1]
[null,83,1]
[null,84,1]
[null,85,1]
[null,86,1]
[null,87,1]
[null,88,1]
[null,89,1]
[null,90,1]
[null,99,0]

{"sheet":"H 9-10","index":4,"n_rows":90,"n_cols":33,"rows_kept":90,"cut":false,"hidden":false,"merged":[[2,24,3,32],[3,6,3,7],[3,8,3,9],[3,10,3,11],[3,12,3,13],[3,14,3,15],[3,16,3,17],[3,18,3,19],[3,20,3,21],[3,22,3,23],[1,16,2,17],[1,18,2,19],[1,20,1,21],[1,22,2,23],[2,4,2,5],[2,20,2,21],[0,2,0,15],[1,0,2,1],[1,2,2,3],[1,4,1,5],[1,6,2,7],[1,8,2,9],[1,10,2,11],[1,12,2,13],[1,14,2,15]]}
[]
["H 9 -10",null,null,null,null,null,"Sälen GS",null,"Falun GS",null,"Norrbärke SL",null,"Borlänge SL",null,"Orsa GS",null,null,null,null,null,null,null,"Deltävling",null,"1:a","2:a","3:e","4:e","5:e","6:e","7:e","8:e","9:e"]
[null,null,null,null,"Poäng",null,null,null,null,null,null,null,null,null,null,null,null,null,null,null,null,null,null,null,"De 5 bästa åken.                         "]
["Rang","Född","Namn","Klubb","3 Bästa","Totalt","Sö 24/1   Tot",null,"Sö 14/2      Tot",null,"Sö 21/2    Tot",null,"Lö 27/2   Tot",null,"Lö 2/4   Tot"]
[1,2006,"LILJENBORG Liam","IFK Falun",{"$f":"SUM(Y5:AA5)","v":300},{"$f":"H5+J5+L5+N5+P5+R5+T5+V5+X5","v":380},1,{"$f":"LOOKUP(G5,Poängberäkning!$B$6:$B$97,Poängberäkning!$C$6:$C$97)","v":100},1,{"$f":"LOOKUP(I5,Poängberäkning!$B$6:$B$97,Poängberäkning!$C$6:$C$97)","v":100},1,{"$f":"LOOKUP(K5,Poängberäkning!$B$6:$B$97,Poängberäkning!$C$6:$C$97)","v":100},2,{"$f":"LOOKUP(M5,Poängberäkning!$B$6:$B$97,Poängberäkning!$C$6:$C$97)","v":80},99,{"$f":"LOOKUP(O5,Poängberäkning!$B$6:$B$97,Poängberäkning!$C$6:$C$97)","v":0},null,{"$f":"LOOKUP(Q5,[1]Poängberäkning!$B$6:$B$97,[1]Poängberäkning!$C$6:$C$97)","v":0},null,{"$f":"LOOKUP(S5,[1]Poängberäkning!$B$6:$B$97,[1]Poängberäkning!$C$6:$C$97)","v":0},null,{"$f":"LOOKUP(U5,[1]Poängberäkning!$B$6:$B$97,[1]Poängberäkning!$C$6:$C$97)","v":0},null,{"$f":"LOOKUP(W5,[1]Poängberäkning!$B$6:$B$97,[1]Poängberäkning!$C$6:$C$97)","v":0},{"$f":"LARGE(($H5,$J5,$L5,$N5,$P5,$R5,$T5,$V5,$X5),1)","v":100},{"$f":"LARGE(($H5,$J5,$L5,$N5,$P5,$R5,$T5,$V5,$X5),2)","v":100},{"$f":"LARGE(($H5,$J5,$L5,$N5,$P5,$R5,$T5,$V5,$X5),3)","v":100},{"$f":"LARGE(($H5,$J5,$L5,$N5,$P5,$R5,$T5,$V5,$X5),4)","v":80},{"$f":"LARGE(($H5,$J5,$L5,$N5,$P5,$R5,$T5,$V5,$X5),5)","v":0},{"$f":"LARGE(($H5,$J5,$L5,$N5,$P5,$R5,$T5,$V5,$X5),6)","v":0},{"$f":"LARGE(($H5,$J5,$L5,$N5,$P5,$R5,$T5,$V5,$X5),7)","v":0},{"$f":"LARGE(($H5,$J5,$L5,$N5,$P5,$R5,$T5,$V5,$X5),8)","v":0},{"$f":"LARGE(($H5,$J5,$L5,$N5,$P5,$R5,$T5,$V5,$X5),9)","v":0}]
[{"$f":"A5+1","v":2},2006,"ARAPOGLOU Pontus","Rättviks SLK",220,247,2,{"$f":"LOOKUP(G6,Poängberäkning!$B$6:$B$97,Poängberäkning!$C$6:$C$97)","v":80},2,{"$f":"LOOKUP(I6,Poängberäkning!$B$6:$B$97,Poängberäkning!$C$6:$C$97)","v":80},99,{"$f":"LOOKUP(K6,Poängberäkning!$B$6:$B$97,Poängberäkning!$C$6:$C$97)","v":0},4,{"$f":"LOOKUP(M6,Poängberäkning!$B$6:$B$97,Poängberäkning!$C$6:$C$97)","v":60},24,{"$f":"LOOKUP(O6,Poängberäkning!$B$6:$B$97,Poängberäkning!$C$6:$C$97)","v":27},null,{"$f":"LOOKUP(Q6,[1]Poängberäkning!$B$6:$B$97,[1]Poängberäkning!$C$6:$C$97)","v":0},null,{"$f":"LOOKUP(S6,[1]Poängberäkning!$B$6:$B$97,[1]Poängberäkning!$C$6:$C$97)","v":0},null,{"$f":"LOOKUP(U6,[1]Poängberäkning!$B$6:$B$97,[1]Poängberäkning!$C$6:$C$97)","v":0},null,{"$f":"LOOKUP(W6,[1]Poängberäkning!$B$6:$B$97,[1]Poängberäkning!$C$6:$C$97)","v":0},{"$f":"LARGE(($H6,$J6,$L6,$N6,$P6,$R6,$T6,$V6,$X6),1)","v":80},{"$f":"LARGE(($H6,$J6,$L6,$N6,$P6,$R6,$T6,$V6,$X6),2)","v":80},{"$f":"LARGE(($H6,$J6,$L6,$N6,$P6,$R6,$T6,$V6,$X6),3)","v":60},{"$f":"LARGE(($H6,$J6,$L6,$N6,$P6,$R6,$T6,$V6,$X6),4)","v":27},{"$f":"LARGE(($H6,$J6,$L6,$N6,$P6,$R6,$T6,$V6,$X6),5)","v":0},{"$f":"LARGE(($H6,$J6,$L6,$N6,$P6,$R6,$T6,$V6,$X6),6)","v":0},{"$f":"LARGE(($H6,$J6,$L6,$N6,$P6,$R6,$T6,$V6,$X6),7)","v":0},{"$f":"LARGE(($H6,$J6,$L6,$N6,$P6,$R6,$T6,$V6,$X6),8)","v":0},{"$f":"LARGE(($H6,$J6,$L6,$N6,$P6,$R6,$T6,$V6,$X6),9)","v":0}]
[{"$f":"A6+1","v":3},2006,"WESTLUND Elliot","Kungsbergets AK",200,200,null,{"$f":"LOOKUP(G7,Poängberäkning!$B$6:$B$97,Poängberäkning!$C$6:$C$97)","v":0},null,{"$f":"LOOKUP(I7,Poängberäkning!$B$6:$B$97,Poängberäkning!$C$6:$C$97)","v":0},null,{"$f":"LOOKUP(K7,Poängberäkning!$B$6:$B$97,Poängberäkning!$C$6:$C$97)","v":0},1,{"$f":"LOOKUP(M7,Poängberäkning!$B$6:$B$97,Poängberäkning!$C$6:$C$97)","v":100},1,{"$f":"LOOKUP(O7,Poängberäkning!$B$6:$B$97,Poängberäkning!$C$6:$C$97)","v":100},null,{"$f":"LOOKUP(Q7,[1]Poängberäkning!$B$6:$B$97,[1]Poängberäkning!$C$6:$C$97)","v":0},null,{"$f":"LOOKUP(S7,[1]Poängberäkning!$B$6:$B$97,[1]Poängberäkning!$C$6:$C$97)","v":0},null,{"$f":"LOOKUP(U7,[1]Poängberäkning!$B$6:$B$97,[1]Poängberäkning!$C$6:$C$97)","v":0},null,{"$f":"LOOKUP(W7,[1]Poängberäkning!$B$6:$B$97,[1]Poängberäkning!$C$6:$C$97)","v":0},{"$f":"LARGE(($H7,$J7,$L7,$N7,$P7,$R7,$T7,$V7,$X7),1)","v":100},{"$f":"LARGE(($H7,$J7,$L7,$N7,$P7,$R7,$T7,$V7,$X7),2)","v":100},{"$f":"LARGE(($H7,$J7,$L7,$N7,$P7,$R7,$T7,$V7,$X7),3)","v":0},{"$f":"LARGE(($H7,$J7,$L7,$N7,$P7,$R7,$T7,$V7,$X7),4)","v":0},{"$f":"LARGE(($H7,$J7,$L7,$N7,$P7,$R7,$T7,$V7,$X7),5)","v":0},{"$f":"LARGE(($H7,$J7,$L7,$N7,$P7,$R7,$T7,$V7,$X7),6)","v":0},{"$f":"LARGE(($H7,$J7,$L7,$N7,$P7,$R7,$T7,$V7,$X7),7)","v":0},{"$f":"LARGE(($H7,$J7,$L7,$N7,$P7,$R7,$T7,$V7,$X7),8)","v":0},{"$f":"LARGE(($H7,$J7,$L7,$N7,$P7,$R7,$T7,$V7,$X7),9)","v":0}]
[{"$f":"A7+1","v":4},2007,"PALMÉR Hugo","Örebro SLF",198,244,7,{"$f":"LOOKUP(G8,Poängberäkning!$B$6:$B$97,Poängberäkning!$C$6:$C$97)","v":48},null,{"$f":"LOOKUP(I8,Poängberäkning!$B$6:$B$97,Poängberäkning!$C$6:$C$97)","v":0},2,{"$f":"LOOKUP(K8,Poängberäkning!$B$6:$B$97,Poängberäkning!$C$6:$C$97)","v":80},3,{"$f":"LOOKUP(M8,Poängberäkning!$B$6:$B$97,Poängberäkning!$C$6:$C$97)","v":70},8,{"$f":"LOOKUP(O8,Poängberäkning!$B$6:$B$97,Poängberäkning!$C$6:$C$97)","v":46},null,{"$f":"LOOKUP(Q8,[1]Poängberäkning!$B$6:$B$97,[1]Poängberäkning!$C$6:$C$97)","v":0},null,{"$f":"LOOKUP(S8,[1]Poängberäkning!$B$6:$B$97,[1]Poängberäkning!$C$6:$C$97)","v":0},null,{"$f":"LOOKUP(U8,[1]Poängberäkning!$B$6:$B$97,[1]Poängberäkning!$C$6:$C$97)","v":0},null,{"$f":"LOOKUP(W8,[1]Poängberäkning!$B$6:$B$97,[1]Poängberäkning!$C$6:$C$97)","v":0},{"$f":"LARGE(($H8,$J8,$L8,$N8,$P8,$R8,$T8,$V8,$X8),1)","v":80},{"$f":"LARGE(($H8,$J8,$L8,$N8,$P8,$R8,$T8,$V8,$X8),2)","v":70},{"$f":"LARGE(($H8,$J8,$L8,$N8,$P8,$R8,$T8,$V8,$X8),3)","v":48},{"$f":"LARGE(($H8,$J8,$L8,$N8,$P8,$R8,$T8,$V8,$X8),4)","v":46},{"$f":"LARGE(($H8,$J8,$L8,$N8,$P8,$R8,$T8,$V8,$X8),5)","v":0},{"$f":"LARGE(($H8,$J8,$L8,$N8,$P8,$R8,$T8,$V8,$X8),6)","v":0},{"$f":"LARGE(($H8,$J8,$L8,$N8,$P8,$R8,$T8,$V8,$X8),7)","v":0},{"$f":"LARGE(($H8,$J8,$L8,$N8,$P8,$R8,$T8,$V8,$X8),8)","v":0},{"$f":"LARGE(($H8,$J8,$L8,$N8,$P8,$R8,$T8,$V8,$X8),9)","v":0}]
[5,2006,"ÅKERSTRÖM Mattias","Örebro SLF",195,274,6,{"$f":"LOOKUP(G9,Poängberäkning!$B$6:$B$97,Poängberäkning!$C$6:$C$97)","v":50},3,{"$f":"LOOKUP(I9,Poängberäkning!$B$6:$B$97,Poängberäkning!$C$6:$C$97)","v":70},3,{"$f":"LOOKUP(K9,Poängberäkning!$B$6:$B$97,Poängberäkning!$C$6:$C$97)","v":70},5,{"$f":"LOOKUP(M9,Poängberäkning!$B$6:$B$97,Poängberäkning!$C$6:$C$97)","v":55},22,{"$f":"LOOKUP(O9,Poängberäkning!$B$6:$B$97,Poängberäkning!$C$6:$C$97)","v":29},null,{"$f":"LOOKUP(Q9,[1]Poängberäkning!$B$6:$B$97,[1]Poängberäkning!$C$6:$C$97)","v":0},null,{"$f":"LOOKUP(S9,[1]Poängberäkning!$B$6:$B$97,[1]Poängberäkning!$C$6:$C$97)","v":0},null,{"$f":"LOOKUP(U9,[1]Poängberäkning!$B$6:$B$97,[1]Poängberäkning!$C$6:$C$97)","v":0},null,{"$f":"LOOKUP(W9,[1]Poängberäkning!$B$6:$B$97,[1]Poängberäkning!$C$6:$C$97)","v":0},{"$f":"LARGE(($H9,$J9,$L9,$N9,$P9,$R9,$T9,$V9,$X9),1)","v":70},{"$f":"LARGE(($H9,$J9,$L9,$N9,$P9,$R9,$T9,$V9,$X9),2)","v":70},{"$f":"LARGE(($H9,$J9,$L9,$N9,$P9,$R9,$T9,$V9,$X9),3)","v":55},{"$f":"LARGE(($H9,$J9,$L9,$N9,$P9,$R9,$T9,$V9,$X9),4)","v":50},{"$f":"LARGE(($H9,$J9,$L9,$N9,$P9,$R9,$T9,$V9,$X9),5)","v":29},{"$f":"LARGE(($H9,$J9,$L9,$N9,$P9,$R9,$T9,$V9,$X9),6)","v":0},{"$f":"LARGE(($H9,$J9,$L9,$N9,$P9,$R9,$T9,$V9,$X9),7)","v":0},{"$f":"LARGE(($H9,$J9,$L9,$N9,$P9,$R9,$T9,$V9,$X9),8)","v":0},{"$f":"LARGE(($H9,$J9,$L9,$N9,$P9,$R9,$T9,$V9,$X9),9)","v":0}]
[6,2007,"GRIMBERG Axel","IFK Falun",170,254,8,{"$f":"LOOKUP(G10,Poängberäkning!$B$6:$B$97,Poängberäkning!$C$6:$C$97)","v":46},4,{"$f":"LOOKUP(I10,Poängberäkning!$B$6:$B$97,Poängberäkning!$C$6:$C$97)","v":60},4,{"$f":"LOOKUP(K10,Poängberäkning!$B$6:$B$97,Poängberäkning!$C$6:$C$97)","v":60},6,{"$f":"LOOKUP(M10,Poängberäkning!$B$6:$B$97,Poängberäkning!$C$6:$C$97)","v":50},13,{"$f":"LOOKUP(O10,Poängberäkning!$B$6:$B$97,Poängberäkning!$C$6:$C$97)","v":38},null,{"$f":"LOOKUP(Q10,[1]Poängberäkning!$B$6:$B$97,[1]Poängberäkning!$C$6:$C$97)","v":0},null,{"$f":"LOOKUP(S10,[1]Poängberäkning!$B$6:$B$97,[1]Poängberäkning!$C$6:$C$97)","v":0},null,{"$f":"LOOKUP(U10,[1]Poängberäkning!$B$6:$B$97,[1]Poängberäkning!$C$6:$C$97)","v":0},null,{"$f":"LOOKUP(W10,[1]Poängberäkning!$B$6:$B$97,[1]Poängberäkning!$C$6:$C$97)","v":0},{"$f":"LARGE(($H10,$J10,$L10,$N10,$P10,$R10,$T10,$V10,$X10),1)","v":60},{"$f":"LARGE(($H10,$J10,$L10,$N10,$P10,$R10,$T10,$V10,$X10),2)","v":60},{"$f":"LARGE(($H10,$J10,$L10,$N10,$P10,$R10,$T10,$V10,$X10),3)","v":50},{"$f":"LARGE(($H10,$J10,$L10,$N10,$P10,$R10,$T10,$V10,$X10),4)","v":46},{"$f":"LARGE(($H10,$J10,$L10,$N10,$P10,$R10,$T10,$V10,$X10),5)","v":38},{"$f":"LARGE(($H10,$J10,$L10,$N10,$P10,$R10,$T10,$V10,$X10),6)","v":0},{"$f":"LARGE(($H10,$J10,$L10,$N10,$P10,$R10,$T10,$V10,$X10),7)","v":0},{"$f":"LARGE(($H10,$J10,$L10,$N10,$P10,$R10,$T10,$V10,$X10),8)","v":0},{"$f":"LARGE(($H10,$J10,$L10,$N10,$P10,$R10,$T10,$V10,$X10),9)","v":0}]
[7,2007,"STRANDBERG Oliver","IFK Falun",121,121,13,{"$f":"LOOKUP(G11,Poängberäkning!$B$6:$B$97,Poängberäkning!$C$6:$C$97)","v":38},6,{"$f":"LOOKUP(I11,Poängberäkning!$B$6:$B$97,Poängberäkning!$C$6:$C$97)","v":50},null,{"$f":"LOOKUP(K11,Poängberäkning!$B$6:$B$97,Poängberäkning!$C$6:$C$97)","v":0},99,{"$f":"LOOKUP(M11,Poängberäkning!$B$6:$B$97,Poängberäkning!$C$6:$C$97)","v":0},18,{"$f":"LOOKUP(O11,Poängberäkning!$B$6:$B$97,Poängberäkning!$C$6:$C$97)","v":33},null,{"$f":"LOOKUP(Q11,[1]Poängberäkning!$B$6:$B$97,[1]Poängberäkning!$C$6:$C$97)","v":0},null,{"$f":"LOOKUP(S11,[1]Poängberäkning!$B$6:$B$97,[1]Poängberäkning!$C$6:$C$97)","v":0},null,{"$f":"LOOKUP(U11,[1]Poängberäkning!$B$6:$B$97,[1]Poängberäkning!$C$6:$C$97)","v":0},null,{"$f":"LOOKUP(W11,[1]Poängberäkning!$B$6:$B$97,[1]Poängberäkning!$C$6:$C$97)","v":0},{"$f":"LARGE(($H11,$J11,$L11,$N11,$P11,$R11,$T11,$V11,$X11),1)","v":50},{"$f":"LARGE(($H11,$J11,$L11,$N11,$P11,$R11,$T11,$V11,$X11),2)","v":38},{"$f":"LARGE(($H11,$J11,$L11,$N11,$P11,$R11,$T11,$V11,$X11),3)","v":33},{"$f":"LARGE(($H11,$J11,$L11,$N11,$P11,$R11,$T11,$V11,$X11),4)","v":0},{"$f":"LARGE(($H11,$J11,$L11,$N11,$P11,$R11,$T11,$V11,$X11),5)","v":0},{"$f":"LARGE(($H11,$J11,$L11,$N11,$P11,$R11,$T11,$V11,$X11),6)","v":0},{"$f":"LARGE(($H11,$J11,$L11,$N11,$P11,$R11,$T11,$V11,$X11),7)","v":0},{"$f":"LARGE(($H11,$J11,$L11,$N11,$P11,$R11,$T11,$V11,$X11),8)","v":0},{"$f":"LARGE(($H11,$J11,$L11,$N11,$P11,$R11,$T11,$V11,$X11),9)","v":0}]
[8,2006,"FROST Olle","IFK Mora AK",120,120,4,{"$f":"LOOKUP(G12,Poängberäkning!$B$6:$B$97,Poängberäkning!$C$6:$C$97)","v":60},null,{"$f":"LOOKUP(I12,Poängberäkning!$B$6:$B$97,Poängberäkning!$C$6:$C$97)","v":0},null,{"$f":"LOOKUP(K12,Poängberäkning!$B$6:$B$97,Poängberäkning!$C$6:$C$97)","v":0},null,{"$f":"LOOKUP(M12,Poängberäkning!$B$6:$B$97,Poängberäkning!$C$6:$C$97)","v":0},4,{"$f":"LOOKUP(O12,Poängberäkning!$B$6:$B$97,Poängberäkning!$C$6:$C$97)","v":60},null,{"$f":"LOOKUP(Q12,[1]Poängberäkning!$B$6:$B$97,[1]Poängberäkning!$C$6:$C$97)","v":0},null,{"$f":"LOOKUP(S12,[1]Poängberäkning!$B$6:$B$97,[1]Poängberäkning!$C$6:$C$97)","v":0},null,{"$f":"LOOKUP(U12,[1]Poängberäkning!$B$6:$B$97,[1]Poängberäkning!$C$6:$C$97)","v":0},null,{"$f":"LOOKUP(W12,[1]Poängberäkning!$B$6:$B$97,[1]Poängberäkning!$C$6:$C$97)","v":0},{"$f":"LARGE(($H12,$J12,$L12,$N12,$P12,$R12,$T12,$V12,$X12),1)","v":60},{"$f":"LARGE(($H12,$J12,$L12,$N12,$P12,$R12,$T12,$V12,$X12),2)","v":60},{"$f":"LARGE(($H12,$J12,$L12,$N12,$P12,$R12,$T12,$V12,$X12),3)","v":0},{"$f":"LARGE(($H12,$J12,$L12,$N12,$P12,$R12,$T12,$V12,$X12),4)","v":0},{"$f":"LARGE(($H12,$J12,$L12,$N12,$P12,$R12,$T12,$V12,$X12),5)","v":0},{"$f":"LARGE(($H12,$J12,$L12,$N12,$P12,$R12,$T12,$V12,$X12),6)","v":0},{"$f":"LARGE(($H12,$J12,$L12,$N12,$P12,$R12,$T12,$V12,$X12),7)","v":0},{"$f":"LARGE(($H12,$J12,$L12,$N12,$P12,$R12,$T12,$V12,$X12),8)","v":0},{"$f":"LARGE(($H12,$J12,$L12,$N12,$P12,$R12,$T12,$V12,$X12),9)","v":0}]
[9,2006,"LARSSON Felix","Uppsala SLK",80,80,null,{"$f":"LOOKUP(G13,Poängberäkning!$B$6:$B$97,Poängberäkning!$C$6:$C$97)","v":0},null,{"$f":"LOOKUP(I13,Poängberäkning!$B$6:$B$97,Poängberäkning!$C$6:$C$97)","v":0},null,{"$f":"LOOKUP(K13,Poängberäkning!$B$6:$B$97,Poängberäkning!$C$6:$C$97)","v":0},null,{"$f":"LOOKUP(M13,Poängberäkning!$B$6:$B$97,Poängberäkning!$C$6:$C$97)","v":0},2,{"$f":"LOOKUP(O13,Poängberäkning!$B$6:$B$97,Poängberäkning!$C$6:$C$97)","v":80},null,{"$f":"LOOKUP(Q13,[1]Poängberäkning!$B$6:$B$97,[1]Poängberäkning!$C$6:$C$97)","v":0},null,{"$f":"LOOKUP(S13,[1]Poängberäkning!$B$6:$B$97,[1]Poängberäkning!$C$6:$C$97)","v":0},null,{"$f":"LOOKUP(U13,[1]Poängberäkning!$B$6:$B$97,[1]Poängberäkning!$C$6:$C$97)","v":0},null,{"$f":"LOOKUP(W13,[1]Poängberäkning!$B$6:$B$97,[1]Poängberäkning!$C$6:$C$97)","v":0},{"$f":"LARGE(($H13,$J13,$L13,$N13,$P13,$R13,$T13,$V13,$X13),1)","v":80},{"$f":"LARGE(($H13,$J13,$L13,$N13,$P13,$R13,$T13,$V13,$X13),2)","v":0},{"$f":"LARGE(($H13,$J13,$L13,$N13,$P13,$R13,$T13,$V13,$X13),3)","v":0},{"$f":"LARGE(($H13,$J13,$L13,$N13,$P13,$R13,$T13,$V13,$X13),4)","v":0},{"$f":"LARGE(($H13,$J13,$L13,$N13,$P13,$R13,$T13,$V13,$X13),5)","v":0},{"$f":"LARGE(($H13,$J13,$L13,$N13,$P13,$R13,$T13,$V13,$X13),6)","v":0},{"$f":"LARGE(($H13,$J13,$L13,$N13,$P13,$R13,$T13,$V13,$X13),7)","v":0},{"$f":"LARGE(($H13,$J13,$L13,$N13,$P13,$R13,$T13,$V13,$X13),8)","v":0},{"$f":"LARGE(($H13,$J13,$L13,$N13,$P13,$R13,$T13,$V13,$X13),9)","v":0}]
[10,2007,"HANSSON Julian","Sälens IF",79,79,10,{"$f":"LOOKUP(G14,Poängberäkning!$B$6:$B$97,Poängberäkning!$C$6:$C$97)","v":42},null,{"$f":"LOOKUP(I14,Poängberäkning!$B$6:$B$97,Poängberäkning!$C$6:$C$97)","v":0},null,{"$f":"LOOKUP(K14,Poängberäkning!$B$6:$B$97,Poängberäkning!$C$6:$C$97)","v":0},null,{"$f":"LOOKUP(M14,Poängberäkning!$B$6:$B$97,Poängberäkning!$C$6:$C$97)","v":0},14,{"$f":"LOOKUP(O14,Poängberäkning!$B$6:$B$97,Poängberäkning!$C$6:$C$97)","v":37},null,{"$f":"LOOKUP(Q14,[1]Poängberäkning!$B$6:$B$97,[1]Poängberäkning!$C$6:$C$97)","v":0},null,{"$f":"LOOKUP(S14,[1]Poängberäkning!$B$6:$B$97,[1]Poängberäkning!$C$6:$C$97)","v":0},null,{"$f":"LOOKUP(U14,[1]Poängberäkning!$B$6:$B$97,[1]Poängberäkning!$C$6:$C$97)","v":0},null,{"$f":"LOOKUP(W14,[1]Poängberäkning!$B$6:$B$97,[1]Poängberäkning!$C$6:$C$97)","v":0},{"$f":"LARGE(($H14,$J14,$L14,$N14,$P14,$R14,$T14,$V14,$X14),1)","v":42},{"$f":"LARGE(($H14,$J14,$L14,$N14,$P14,$R14,$T14,$V14,$X14),2)","v":37},{"$f":"LARGE(($H14,$J14,$L14,$N14,$P14,$R14,$T14,$V14,$X14),3)","v":0},{"$f":"LARGE(($H14,$J14,$L14,$N14,$P14,$R14,$T14,$V14,$X14),4)","v":0},{"$f":"LARGE(($H14,$J14,$L14,$N14,$P14,$R14,$T14,$V14,$X14),5)","v":0},{"$f":"LARGE(($H14,$J14,$L14,$N14,$P14,$R14,$T14,$V14,$X14),6)","v":0},{"$f":"LARGE(($H14,$J14,$L14,$N14,$P14,$R14,$T14,$V14,$X14),7)","v":0},{"$f":"LARGE(($H14,$J14,$L14,$N14,$P14,$R14,$T14,$V14,$X14),8)","v":0},{"$f":"LARGE(($H14,$J14,$L14,$N14,$P14,$R14,$T14,$V14,$X14),9)","v":0}]
[11,2007,"KARELIUS Maximus","Sälens IF",78,78,12,{"$f":"LOOKUP(G15,Poängberäkning!$B$6:$B$97,Poängberäkning!$C$6:$C$97)","v":39},null,{"$f":"LOOKUP(I15,Poängberäkning!$B$6:$B$97,Poängberäkning!$C$6:$C$97)","v":0},null,{"$f":"LOOKUP(K15,Poängberäkning!$B$6:$B$97,Poängberäkning!$C$6:$C$97)","v":0},null,{"$f":"LOOKUP(M15,Poängberäkning!$B$6:$B$97,Poängberäkning!$C$6:$C$97)","v":0},12,{"$f":"LOOKUP(O15,Poängberäkning!$B$6:$B$97,Poängberäkning!$C$6:$C$97)","v":39},null,{"$f":"LOOKUP(Q15,[1]Poängberäkning!$B$6:$B$97,[1]Poängberäkning!$C$6:$C$97)","v":0},null,{"$f":"LOOKUP(S15,[1]Poängberäkning!$B$6:$B$97,[1]Poängberäkning!$C$6:$C$97)","v":0},null,{"$f":"LOOKUP(U15,[1]Poängberäkning!$B$6:$B$97,[1]Poängberäkning!$C$6:$C$97)","v":0},null,{"$f":"LOOKUP(W15,[1]Poängberäkning!$B$6:$B$97,[1]Poängberäkning!$C$6:$C$97)","v":0},{"$f":"LARGE(($H15,$J15,$L15,$N15,$P15,$R15,$T15,$V15,$X15),1)","v":39},{"$f":"LARGE(($H15,$J15,$L15,$N15,$P15,$R15,$T15,$V15,$X15),2)","v":39},{"$f":"LARGE(($H15,$J15,$L15,$N15,$P15,$R15,$T15,$V15,$X15),3)","v":0},{"$f":"LARGE(($H15,$J15,$L15,$N15,$P15,$R15,$T15,$V15,$X15),4)","v":0},{"$f":"LARGE(($H15,$J15,$L15,$N15,$P15,$R15,$T15,$V15,$X15),5)","v":0},{"$f":"LARGE(($H15,$J15,$L15,$N15,$P15,$R15,$T15,$V15,$X15),6)","v":0},{"$f":"LARGE(($H15,$J15,$L15,$N15,$P15,$R15,$T15,$V15,$X15),7)","v":0},{"$f":"LARGE(($H15,$J15,$L15,$N15,$P15,$R15,$T15,$V15,$X15),8)","v":0},{"$f":"LARGE(($H15,$J15,$L15,$N15,$P15,$R15,$T15,$V15,$X15),9)","v":0}]
[12,2007,"WAHMAN Olle","Örebro SLF",75,75,11,{"$f":"LOOKUP(G16,Poängberäkning!$B$6:$B$97,Poängberäkning!$C$6:$C$97)","v":40},null,{"$f":"LOOKUP(I16,Poängberäkning!$B$6:$B$97,Poängberäkning!$C$6:$C$97)","v":0},null,{"$f":"LOOKUP(K16,Poängberäkning!$B$6:$B$97,Poängberäkning!$C$6:$C$97)","v":0},null,{"$f":"LOOKUP(M16,Poängberäkning!$B$6:$B$97,Poängberäkning!$C$6:$C$97)","v":0},16,{"$f":"LOOKUP(O16,Poängberäkning!$B$6:$B$97,Poängberäkning!$C$6:$C$97)","v":35},null,{"$f":"LOOKUP(Q16,[1]Poängberäkning!$B$6:$B$97,[1]Poängberäkning!$C$6:$C$97)","v":0},null,{"$f":"LOOKUP(S16,[1]Poängberäkning!$B$6:$B$97,[1]Poängberäkning!$C$6:$C$97)","v":0},null,{"$f":"LOOKUP(U16,[1]Poängberäkning!$B$6:$B$97,[1]Poängberäkning!$C$6:$C$97)","v":0},null,{"$f":"LOOKUP(W16,[1]Poängberäkning!$B$6:$B$97,[1]Poängberäkning!$C$6:$C$97)","v":0},{"$f":"LARGE(($H16,$J16,$L16,$N16,$P16,$R16,$T16,$V16,$X16),1)","v":40},{"$f":"LARGE(($H16,$J16,$L16,$N16,$P16,$R16,$T16,$V16,$X16),2)","v":35},{"$f":"LARGE(($H16,$J16,$L16,$N16,$P16,$R16,$T16,$V16,$X16),3)","v":0},{"$f":"LARGE(($H16,$J16,$L16,$N16,$P16,$R16,$T16,$V16,$X16),4)","v":0},{"$f":"LARGE(($H16,$J16,$L16,$N16,$P16,$R16,$T16,$V16,$X16),5)","v":0},{"$f":"LARGE(($H16,$J16,$L16,$N16,$P16,$R16,$T16,$V16,$X16),6)","v":0},{"$f":"LARGE(($H16,$J16,$L16,$N16,$P16,$R16,$T16,$V16,$X16),7)","v":0},{"$f":"LARGE(($H16,$J16,$L16,$N16,$P16,$R16,$T16,$V16,$X16),8)","v":0},{"$f":"LARGE(($H16,$J16,$L16,$N16,$P16,$R16,$T16,$V16,$X16),9)","v":0}]
[13,2006,"KARLSSON Petter","Västerås Slalomklubb",70,70,null,{"$f":"LOOKUP(G17,Poängberäkning!$B$6:$B$97,Poängberäkning!$C$6:$C$97)","v":0},null,{"$f":"LOOKUP(I17,Poängberäkning!$B$6:$B$97,Poängberäkning!$C$6:$C$97)","v":0},null,{"$f":"LOOKUP(K17,Poängberäkning!$B$6:$B$97,Poängberäkning!$C$6:$C$97)","v":0},null,{"$f":"LOOKUP(M17,Poängberäkning!$B$6:$B$97,Poängberäkning!$C$6:$C$97)","v":0},3,{"$f":"LOOKUP(O17,Poängberäkning!$B$6:$B$97,Poängberäkning!$C$6:$C$97)","v":70},null,{"$f":"LOOKUP(Q17,[1]Poängberäkning!$B$6:$B$97,[1]Poängberäkning!$C$6:$C$97)","v":0},null,{"$f":"LOOKUP(S17,[1]Poängberäkning!$B$6:$B$97,[1]Poängberäkning!$C$6:$C$97)","v":0},null,{"$f":"LOOKUP(U17,[1]Poängberäkning!$B$6:$B$97,[1]Poängberäkning!$C$6:$C$97)","v":0},null,{"$f":"LOOKUP(W17,[1]Poängberäkning!$B$6:$B$97,[1]Poängberäkning!$C$6:$C$97)","v":0},{"$f":"LARGE(($H17,$J17,$L17,$N17,$P17,$R17,$T17,$V17,$X17),1)","v":70},{"$f":"LARGE(($H17,$J17,$L17,$N17,$P17,$R17,$T17,$V17,$X17),2)","v":0},{"$f":"LARGE(($H17,$J17,$L17,$N17,$P17,$R17,$T17,$V17,$X17),3)","v":0},{"$f":"LARGE(($H17,$J17,$L17,$N17,$P17,$R17,$T17,$V17,$X17),4)","v":0},{"$f":"LARGE(($H17,$J17,$L17,$N17,$P17,$R17,$T17,$V17,$X17),5)","v":0},{"$f":"LARGE(($H17,$J17,$L17,$N17,$P17,$R17,$T17,$V17,$X17),6)","v":0},{"$f":"LARGE(($H17,$J17,$L17,$N17,$P17,$R17,$T17,$V17,$X17),7)","v":0},{"$f":"LARGE(($H17,$J17,$L17,$N17,$P17,$R17,$T17,$V17,$X17),8)","v":0},{"$f":"LARGE(($H17,$J17,$L17,$N17,$P17,$R17,$T17,$V17,$X17),9)","v":0}]
[14,2006,"PÅLSSON Max","Sälens IF",70,70,3,{"$f":"LOOKUP(G18,Poängberäkning!$B$6:$B$97,Poängberäkning!$C$6:$C$97)","v":70},null,{"$f":"LOOKUP(I18,Poängberäkning!$B$6:$B$97,Poängberäkning!$C$6:$C$97)","v":0},null,{"$f":"LOOKUP(K18,Poängberäkning!$B$6:$B$97,Poängberäkning!$C$6:$C$97)","v":0},null,{"$f":"LOOKUP(M18,Poängberäkning!$B$6:$B$97,Poängberäkning!$C$6:$C$97)","v":0},99,{"$f":"LOOKUP(O18,Poängberäkning!$B$6:$B$97,Poängberäkning!$C$6:$C$97)","v":0},null,{"$f":"LOOKUP(Q18,[1]Poängberäkning!$B$6:$B$97,[1]Poängberäkning!$C$6:$C$97)","v":0},null,{"$f":"LOOKUP(S18,[1]Poängberäkning!$B$6:$B$97,[1]Poängberäkning!$C$6:$C$97)","v":0},null,{"$f":"LOOKUP(U18,[1]Poängberäkning!$B$6:$B$97,[1]Poängberäkning!$C$6:$C$97)","v":0},null,{"$f":"LOOKUP(W18,[1]Poängberäkning!$B$6:$B$97,[1]Poängberäkning!$C$6:$C$97)","v":0},{"$f":"LARGE(($H18,$J18,$L18,$N18,$P18,$R18,$T18,$V18,$X18),1)","v":70},{"$f":"LARGE(($H18,$J18,$L18,$N18,$P18,$R18,$T18,$V18,$X18),2)","v":0},{"$f":"LARGE(($H18,$J18,$L18,$N18,$P18,$R18,$T18,$V18,$X18),3)","v":0},{"$f":"LARGE(($H18,$J18,$L18,$N18,$P18,$R18,$T18,$V18,$X18),4)","v":0},{"$f":"LARGE(($H18,$J18,$L18,$N18,$P18,$R18,$T18,$V18,$X18),5)","v":0},{"$f":"LARGE(($H18,$J18,$L18,$N18,$P18,$R18,$T18,$V18,$X18),6)","v":0},{"$f":"LARGE(($H18,$J18,$L18,$N18,$P18,$R18,$T18,$V18,$X18),7)","v":0},{"$f":"LARGE(($H18,$J18,$L18,$N18,$P18,$R18,$T18,$V18,$X18),8)","v":0},{"$f":"LARGE(($H18,$J18,$L18,$N18,$P18,$R18,$T18,$V18,$X18),9)","v":0}]
[15,2006,"HJELMSTRÖM Carl","Uppsala SLK",55,55,null,{"$f":"LOOKUP(G19,Poängberäkning!$B$6:$B$97,Poängberäkning!$C$6:$C$97)","v":0},null,{"$f":"LOOKUP(I19,Poängberäkning!$B$6:$B$97,Poängberäkning!$C$6:$C$97)","v":0},null,{"$f":"LOOKUP(K19,Poängberäkning!$B$6:$B$97,Poängberäkning!$C$6:$C$97)","v":0},null,{"$f":"LOOKUP(M19,Poängberäkning!$B$6:$B$97,Poängberäkning!$C$6:$C$97)","v":0},5,{"$f":"LOOKUP(O19,Poängberäkning!$B$6:$B$97,Poängberäkning!$C$6:$C$97)","v":55},null,{"$f":"LOOKUP(Q19,[1]Poängberäkning!$B$6:$B$97,[1]Poängberäkning!$C$6:$C$97)","v":0},null,{"$f":"LOOKUP(S19,[1]Poängberäkning!$B$6:$B$97,[1]Poängberäkning!$C$6:$C$97)","v":0},null,{"$f":"LOOKUP(U19,[1]Poängberäkning!$B$6:$B$97,[1]Poängberäkning!$C$6:$C$97)","v":0},null,{"$f":"LOOKUP(W19,[1]Poängberäkning!$B$6:$B$97,[1]Poängberäkning!$C$6:$C$97)","v":0},{"$f":"LARGE(($H19,$J19,$L19,$N19,$P19,$R19,$T19,$V19,$X19),1)","v":55},{"$f":"LARGE(($H19,$J19,$L19,$N19,$P19,$R19,$T19,$V19,$X19),2)","v":0},{"$f":"LARGE(($H19,$J19,$L19,$N19,$P19,$R19,$T19,$V19,$X19),3)","v":0},{"$f":"LARGE(($H19,$J19,$L19,$N19,$P19,$R19,$T19,$V19,$X19),4)","v":0},{"$f":"LARGE(($H19,$J19,$L19,$N19,$P19,$R19,$T19,$V19,$X19),5)","v":0},{"$f":"LARGE(($H19,$J19,$L19,$N19,$P19,$R19,$T19,$V19,$X19),6)","v":0},{"$f":"LARGE(($H19,$J19,$L19,$N19,$P19,$R19,$T19,$V19,$X19),7)","v":0},{"$f":"LARGE(($H19,$J19,$L19,$N19,$P19,$R19,$T19,$V19,$X19),8)","v":0},{"$f":"LARGE(($H19,$J19,$L19,$N19,$P19,$R19,$T19,$V19,$X19),9)","v":0}]
[16,2006,"HARLIN Ludvig","IFK Falun",55,55,null,{"$f":"LOOKUP(G20,Poängberäkning!$B$6:$B$97,Poängberäkning!$C$6:$C$97)","v":0},5,{"$f":"LOOKUP(I20,Poängberäkning!$B$6:$B$97,Poängberäkning!$C$6:$C$97)","v":55},null,{"$f":"LOOKUP(K20,Poängberäkning!$B$6:$B$97,Poängberäkning!$C$6:$C$97)","v":0},null,{"$f":"LOOKUP(M20,Poängberäkning!$B$6:$B$97,Poängberäkning!$C$6:$C$97)","v":0},null,{"$f":"LOOKUP(O20,Poängberäkning!$B$6:$B$97,Poängberäkning!$C$6:$C$97)","v":0},null,{"$f":"LOOKUP(Q20,[1]Poängberäkning!$B$6:$B$97,[1]Poängberäkning!$C$6:$C$97)","v":0},null,{"$f":"LOOKUP(S20,[1]Poängberäkning!$B$6:$B$97,[1]Poängberäkning!$C$6:$C$97)","v":0},null,{"$f":"LOOKUP(U20,[1]Poängberäkning!$B$6:$B$97,[1]Poängberäkning!$C$6:$C$97)","v":0},null,{"$f":"LOOKUP(W20,[1]Poängberäkning!$B$6:$B$97,[1]Poängberäkning!$C$6:$C$97)","v":0},{"$f":"LARGE(($H20,$J20,$L20,$N20,$P20,$R20,$T20,$V20,$X20),1)","v":55},{"$f":"LARGE(($H20,$J20,$L20,$N20,$P20,$R20,$T20,$V20,$X20),2)","v":0},{"$f":"LARGE(($H20,$J20,$L20,$N20,$P20,$R20,$T20,$V20,$X20),3)","v":0},{"$f":"LARGE(($H20,$J20,$L20,$N20,$P20,$R20,$T20,$V20,$X20),4)","v":0},{"$f":"LARGE(($H20,$J20,$L20,$N20,$P20,$R20,$T20,$V20,$X20),5)","v":0},{"$f":"LARGE(($H20,$J20,$L20,$N20,$P20,$R20,$T20,$V20,$X20),6)","v":0},{"$f":"LARGE(($H20,$J20,$L20,$N20,$P20,$R20,$T20,$V20,$X20),7)","v":0},{"$f":"LARGE(($H20,$J20,$L20,$N20,$P20,$R20,$T20,$V20,$X20),8)","v":0},{"$f":"LARGE(($H20,$J20,$L20,$N20,$P20,$R20,$T20,$V20,$X20),9)","v":0}]
[17,2007,"JAKOBSSON Gustav","Norrbärke SK Alpin",55,55,null,{"$f":"LOOKUP(G21,Poängberäkning!$B$6:$B$97,Poängberäkning!$C$6:$C$97)","v":0},null,{"$f":"LOOKUP(I21,Poängberäkning!$B$6:$B$97,Poängberäkning!$C$6:$C$97)","v":0},5,{"$f":"LOOKUP(K21,Poängberäkning!$B$6:$B$97,Poängberäkning!$C$6:$C$97)","v":55},null,{"$f":"LOOKUP(M21,Poängberäkning!$B$6:$B$97,Poängberäkning!$C$6:$C$97)","v":0},null,{"$f":"LOOKUP(O21,Poängberäkning!$B$6:$B$97,Poängberäkning!$C$6:$C$97)","v":0},null,{"$f":"LOOKUP(Q21,[1]Poängberäkning!$B$6:$B$97,[1]Poängberäkning!$C$6:$C$97)","v":0},null,{"$f":"LOOKUP(S21,[1]Poängberäkning!$B$6:$B$97,[1]Poängberäkning!$C$6:$C$97)","v":0},null,{"$f":"LOOKUP(U21,[1]Poängberäkning!$B$6:$B$97,[1]Poängberäkning!$C$6:$C$97)","v":0},null,{"$f":"LOOKUP(W21,[1]Poängberäkning!$B$6:$B$97,[1]Poängberäkning!$C$6:$C$97)","v":0},{"$f":"LARGE(($H21,$J21,$L21,$N21,$P21,$R21,$T21,$V21,$X21),1)","v":55},{"$f":"LARGE(($H21,$J21,$L21,$N21,$P21,$R21,$T21,$V21,$X21),2)","v":0},{"$f":"LARGE(($H21,$J21,$L21,$N21,$P21,$R21,$T21,$V21,$X21),3)","v":0},{"$f":"LARGE(($H21,$J21,$L21,$N21,$P21,$R21,$T21,$V21,$X21),4)","v":0},{"$f":"LARGE(($H21,$J21,$L21,$N21,$P21,$R21,$T21,$V21,$X21),5)","v":0},{"$f":"LARGE(($H21,$J21,$L21,$N21,$P21,$R21,$T21,$V21,$X21),6)","v":0},{"$f":"LARGE(($H21,$J21,$L21,$N21,$P21,$R21,$T21,$V21,$X21),7)","v":0},{"$f":"LARGE(($H21,$J21,$L21,$N21,$P21,$R21,$T21,$V21,$X21),8)","v":0},{"$f":"LARGE(($H21,$J21,$L21,$N21,$P21,$R21,$T21,$V21,$X21),9)","v":0}]
[18,2007,"OSKARSSON Ludvig","Sälens IF",55,55,5,{"$f":"LOOKUP(G22,Poängberäkning!$B$6:$B$97,Poängberäkning!$C$6:$C$97)","v":55},null,{"$f":"LOOKUP(I22,Poängberäkning!$B$6:$B$97,Poängberäkning!$C$6:$C$97)","v":0},null,{"$f":"LOOKUP(K22,Poängberäkning!$B$6:$B$97,Poängberäkning!$C$6:$C$97)","v":0},null,{"$f":"LOOKUP(M22,Poängberäkning!$B$6:$B$97,Poängberäkning!$C$6:$C$97)","v":0},null,{"$f":"LOOKUP(O22,Poängberäkning!$B$6:$B$97,Poängberäkning!$C$6:$C$97)","v":0},null,{"$f":"LOOKUP(Q22,[1]Poängberäkning!$B$6:$B$97,[1]Poängberäkning!$C$6:$C$97)","v":0},null,{"$f":"LOOKUP(S22,[1]Poängberäkning!$B$6:$B$97,[1]Poängberäkning!$C$6:$C$97)","v":0},null,{"$f":"LOOKUP(U22,[1]Poängberäkning!$B$6:$B$97,[1]Poängberäkning!$C$6:$C$97)","v":0},null,{"$f":"LOOKUP(W22,[1]Poängberäkning!$B$6:$B$97,[1]Poängberäkning!$C$6:$C$97)","v":0},{"$f":"LARGE(($H22,$J22,$L22,$N22,$P22,$R22,$T22,$V22,$X22),1)","v":55},{"$f":"LARGE(($H22,$J22,$L22,$N22,$P22,$R22,$T22,$V22,$X22),2)","v":0},{"$f":"LARGE(($H22,$J22,$L22,$N22,$P22,$R22,$T22,$V22,$X22),3)","v":0},{"$f":"LARGE(($H22,$J22,$L22,$N22,$P22,$R22,$T22,$V22,$X22),4)","v":0},{"$f":"LARGE(($H22,$J22,$L22,$N22,$P22,$R22,$T22,$V22,$X22),5)","v":0},{"$f":"LARGE(($H22,$J22,$L22,$N22,$P22,$R22,$T22,$V22,$X22),6)","v":0},{"$f":"LARGE(($H22,$J22,$L22,$N22,$P22,$R22,$T22,$V22,$X22),7)","v":0},{"$f":"LARGE(($H22,$J22,$L22,$N22,$P22,$R22,$T22,$V22,$X22),8)","v":0},{"$f":"LARGE(($H22,$J22,$L22,$N22,$P22,$R22,$T22,$V22,$X22),9)","v":0}]
[19,2007,"HOLMSTRÖM Herman","IFK Mora AK",50,50,null,{"$f":"LOOKUP(G23,Poängberäkning!$B$6:$B$97,Poängberäkning!$C$6:$C$97)","v":0},null,{"$f":"LOOKUP(I23,Poängberäkning!$B$6:$B$97,Poängberäkning!$C$6:$C$97)","v":0},null,{"$f":"LOOKUP(K23,Poängberäkning!$B$6:$B$97,Poängberäkning!$C$6:$C$97)","v":0},null,{"$f":"LOOKUP(M23,Poängberäkning!$B$6:$B$97,Poängberäkning!$C$6:$C$97)","v":0},6,{"$f":"LOOKUP(O23,Poängberäkning!$B$6:$B$97,Poängberäkning!$C$6:$C$97)","v":50},null,{"$f":"LOOKUP(Q23,[1]Poängberäkning!$B$6:$B$97,[1]Poängberäkning!$C$6:$C$97)","v":0},null,{"$f":"LOOKUP(S23,[1]Poängberäkning!$B$6:$B$97,[1]Poängberäkning!$C$6:$C$97)","v":0},null,{"$f":"LOOKUP(U23,[1]Poängberäkning!$B$6:$B$97,[1]Poängberäkning!$C$6:$C$97)","v":0},null,{"$f":"LOOKUP(W23,[1]Poängberäkning!$B$6:$B$97,[1]Poängberäkning!$C$6:$C$97)","v":0},{"$f":"LARGE(($H23,$J23,$L23,$N23,$P23,$R23,$T23,$V23,$X23),1)","v":50},{"$f":"LARGE(($H23,$J23,$L23,$N23,$P23,$R23,$T23,$V23,$X23),2)","v":0},{"$f":"LARGE(($H23,$J23,$L23,$N23,$P23,$R23,$T23,$V23,$X23),3)","v":0},{"$f":"LARGE(($H23,$J23,$L23,$N23,$P23,$R23,$T23,$V23,$X23),4)","v":0},{"$f":"LARGE(($H23,$J23,$L23,$N23,$P23,$R23,$T23,$V23,$X23),5)","v":0},{"$f":"LARGE(($H23,$J23,$L23,$N23,$P23,$R23,$T23,$V23,$X23),6)","v":0},{"$f":"LARGE(($H23,$J23,$L23,$N23,$P23,$R23,$T23,$V23,$X23),7)","v":0},{"$f":"LARGE(($H23,$J23,$L23,$N23,$P23,$R23,$T23,$V23,$X23),8)","v":0},{"$f":"LARGE(($H23,$J23,$L23,$N23,$P23,$R23,$T23,$V23,$X23),9)","v":0}]
[20,2006,"MOVERARE Sixten","Rättviks SLK",50,50,null,{"$f":"LOOKUP(G24,Poängberäkning!$B$6:$B$97,Poängberäkning!$C$6:$C$97)","v":0},99,{"$f":"LOOKUP(I24,Poängberäkning!$B$6:$B$97,Poängberäkning!$C$6:$C$97)","v":0},6,{"$f":"LOOKUP(K24,Poängberäkning!$B$6:$B$97,Poängberäkning!$C$6:$C$97)","v":50},99,{"$f":"LOOKUP(M24,Poängberäkning!$B$6:$B$97,Poängberäkning!$C$6:$C$97)","v":0},null,{"$f":"LOOKUP(O24,Poängberäkning!$B$6:$B$97,Poängberäkning!$C$6:$C$97)","v":0},null,{"$f":"LOOKUP(Q24,[1]Poängberäkning!$B$6:$B$97,[1]Poängberäkning!$C$6:$C$97)","v":0},null,{"$f":"LOOKUP(S24,[1]Poängberäkning!$B$6:$B$97,[1]Poängberäkning!$C$6:$C$97)","v":0},null,{"$f":"LOOKUP(U24,[1]Poängberäkning!$B$6:$B$97,[1]Poängberäkning!$C$6:$C$97)","v":0},null,{"$f":"LOOKUP(W24,[1]Poängberäkning!$B$6:$B$97,[1]Poängberäkning!$C$6:$C$97)","v":0},{"$f":"LARGE(($H24,$J24,$L24,$N24,$P24,$R24,$T24,$V24,$X24),1)","v":50},{"$f":"LARGE(($H24,$J24,$L24,$N24,$P24,$R24,$T24,$V24,$X24),2)","v":0},{"$f":"LARGE(($H24,$J24,$L24,$N24,$P24,$R24,$T24,$V24,$X24),3)","v":0},{"$f":"LARGE(($H24,$J24,$L24,$N24,$P24,$R24,$T24,$V24,$X24),4)","v":0},{"$f":"LARGE(($H24,$J24,$L24,$N24,$P24,$R24,$T24,$V24,$X24),5)","v":0},{"$f":"LARGE(($H24,$J24,$L24,$N24,$P24,$R24,$T24,$V24,$X24),6)","v":0},{"$f":"LARGE(($H24,$J24,$L24,$N24,$P24,$R24,$T24,$V24,$X24),7)","v":0},{"$f":"LARGE(($H24,$J24,$L24,$N24,$P24,$R24,$T24,$V24,$X24),8)","v":0},{"$f":"LARGE(($H24,$J24,$L24,$N24,$P24,$R24,$T24,$V24,$X24),9)","v":0}]
[21,2006,"JOHANSSON Edwin","Bollnäs AK",48,48,null,{"$f":"LOOKUP(G25,Poängberäkning!$B$6:$B$97,Poängberäkning!$C$6:$C$97)","v":0},null,{"$f":"LOOKUP(I25,Poängberäkning!$B$6:$B$97,Poängberäkning!$C$6:$C$97)","v":0},null,{"$f":"LOOKUP(K25,Poängberäkning!$B$6:$B$97,Poängberäkning!$C$6:$C$97)","v":0},null,{"$f":"LOOKUP(M25,Poängberäkning!$B$6:$B$97,Poängberäkning!$C$6:$C$97)","v":0},7,{"$f":"LOOKUP(O25,Poängberäkning!$B$6:$B$97,Poängberäkning!$C$6:$C$97)","v":48},null,{"$f":"LOOKUP(Q25,[1]Poängberäkning!$B$6:$B$97,[1]Poängberäkning!$C$6:$C$97)","v":0},null,{"$f":"LOOKUP(S25,[1]Poängberäkning!$B$6:$B$97,[1]Poängberäkning!$C$6:$C$97)","v":0},null,{"$f":"LOOKUP(U25,[1]Poängberäkning!$B$6:$B$97,[1]Poängberäkning!$C$6:$C$97)","v":0},null,{"$f":"LOOKUP(W25,[1]Poängberäkning!$B$6:$B$97,[1]Poängberäkning!$C$6:$C$97)","v":0},{"$f":"LARGE(($H25,$J25,$L25,$N25,$P25,$R25,$T25,$V25,$X25),1)","v":48},{"$f":"LARGE(($H25,$J25,$L25,$N25,$P25,$R25,$T25,$V25,$X25),2)","v":0},{"$f":"LARGE(($H25,$J25,$L25,$N25,$P25,$R25,$T25,$V25,$X25),3)","v":0},{"$f":"LARGE(($H25,$J25,$L25,$N25,$P25,$R25,$T25,$V25,$X25),4)","v":0},{"$f":"LARGE(($H25,$J25,$L25,$N25,$P25,$R25,$T25,$V25,$X25),5)","v":0},{"$f":"LARGE(($H25,$J25,$L25,$N25,$P25,$R25,$T25,$V25,$X25),6)","v":0},{"$f":"LARGE(($H25,$J25,$L25,$N25,$P25,$R25,$T25,$V25,$X25),7)","v":0},{"$f":"LARGE(($H25,$J25,$L25,$N25,$P25,$R25,$T25,$V25,$X25),8)","v":0},{"$f":"LARGE(($H25,$J25,$L25,$N25,$P25,$R25,$T25,$V25,$X25),9)","v":0}]
[22,2006,"BERKEBO Daniel","IFK Borlänge",48,48,null,{"$f":"LOOKUP(G26,Poängberäkning!$B$6:$B$97,Poängberäkning!$C$6:$C$97)","v":0},null,{"$f":"LOOKUP(I26,Poängberäkning!$B$6:$B$97,Poängberäkning!$C$6:$C$97)","v":0},null,{"$f":"LOOKUP(K26,Poängberäkning!$B$6:$B$97,Poängberäkning!$C$6:$C$97)","v":0},7,{"$f":"LOOKUP(M26,Poängberäkning!$B$6:$B$97,Poängberäkning!$C$6:$C$97)","v":48},null,{"$f":"LOOKUP(O26,Poängberäkning!$B$6:$B$97,Poängberäkning!$C$6:$C$97)","v":0},null,{"$f":"LOOKUP(Q26,[1]Poängberäkning!$B$6:$B$97,[1]Poängberäkning!$C$6:$C$97)","v":0},null,{"$f":"LOOKUP(S26,[1]Poängberäkning!$B$6:$B$97,[1]Poängberäkning!$C$6:$C$97)","v":0},null,{"$f":"LOOKUP(U26,[1]Poängberäkning!$B$6:$B$97,[1]Poängberäkning!$C$6:$C$97)","v":0},null,{"$f":"LOOKUP(W26,[1]Poängberäkning!$B$6:$B$97,[1]Poängberäkning!$C$6:$C$97)","v":0},{"$f":"LARGE(($H26,$J26,$L26,$N26,$P26,$R26,$T26,$V26,$X26),1)","v":48},{"$f":"LARGE(($H26,$J26,$L26,$N26,$P26,$R26,$T26,$V26,$X26),2)","v":0},{"$f":"LARGE(($H26,$J26,$L26,$N26,$P26,$R26,$T26,$V26,$X26),3)","v":0},{"$f":"LARGE(($H26,$J26,$L26,$N26,$P26,$R26,$T26,$V26,$X26),4)","v":0},{"$f":"LARGE(($H26,$J26,$L26,$N26,$P26,$R26,$T26,$V26,$X26),5)","v":0},{"$f":"LARGE(($H26,$J26,$L26,$N26,$P26,$R26,$T26,$V26,$X26),6)","v":0},{"$f":"LARGE(($H26,$J26,$L26,$N26,$P26,$R26,$T26,$V26,$X26),7)","v":0},{"$f":"LARGE(($H26,$J26,$L26,$N26,$P26,$R26,$T26,$V26,$X26),8)","v":0},{"$f":"LARGE(($H26,$J26,$L26,$N26,$P26,$R26,$T26,$V26,$X26),9)","v":0}]
[23,2007,"LJUNGQVIST Lucas","IFK Falun",48,48,99,{"$f":"LOOKUP(G27,Poängberäkning!$B$6:$B$97,Poängberäkning!$C$6:$C$97)","v":0},7,{"$f":"LOOKUP(I27,Poängberäkning!$B$6:$B$97,Poängberäkning!$C$6:$C$97)","v":48},null,{"$f":"LOOKUP(K27,Poängberäkning!$B$6:$B$97,Poängberäkning!$C$6:$C$97)","v":0},null,{"$f":"LOOKUP(M27,Poängberäkning!$B$6:$B$97,Poängberäkning!$C$6:$C$97)","v":0},null,{"$f":"LOOKUP(O27,Poängberäkning!$B$6:$B$97,Poängberäkning!$C$6:$C$97)","v":0},null,{"$f":"LOOKUP(Q27,[1]Poängberäkning!$B$6:$B$97,[1]Poängberäkning!$C$6:$C$97)","v":0},null,{"$f":"LOOKUP(S27,[1]Poängberäkning!$B$6:$B$97,[1]Poängberäkning!$C$6:$C$97)","v":0},null,{"$f":"LOOKUP(U27,[1]Poängberäkning!$B$6:$B$97,[1]Poängberäkning!$C$6:$C$97)","v":0},null,{"$f":"LOOKUP(W27,[1]Poängberäkning!$B$6:$B$97,[1]Poängberäkning!$C$6:$C$97)","v":0},{"$f":"LARGE(($H27,$J27,$L27,$N27,$P27,$R27,$T27,$V27,$X27),1)","v":48},{"$f":"LARGE(($H27,$J27,$L27,$N27,$P27,$R27,$T27,$V27,$X27),2)","v":0},{"$f":"LARGE(($H27,$J27,$L27,$N27,$P27,$R27,$T27,$V27,$X27),3)","v":0},{"$f":"LARGE(($H27,$J27,$L27,$N27,$P27,$R27,$T27,$V27,$X27),4)","v":0},{"$f":"LARGE(($H27,$J27,$L27,$N27,$P27,$R27,$T27,$V27,$X27),5)","v":0},{"$f":"LARGE(($H27,$J27,$L27,$N27,$P27,$R27,$T27,$V27,$X27),6)","v":0},{"$f":"LARGE(($H27,$J27,$L27,$N27,$P27,$R27,$T27,$V27,$X27),7)","v":0},{"$f":"LARGE(($H27,$J27,$L27,$N27,$P27,$R27,$T27,$V27,$X27),8)","v":0},{"$f":"LARGE(($H27,$J27,$L27,$N27,$P27,$R27,$T27,$V27,$X27),9)","v":0}]
[24,2006,"NORD Alexander","IFK Borlänge",46,46,null,{"$f":"LOOKUP(G28,Poängberäkning!$B$6:$B$97,Poängberäkning!$C$6:$C$97)","v":0},null,{"$f":"LOOKUP(I28,Poängberäkning!$B$6:$B$97,Poängberäkning!$C$6:$C$97)","v":0},null,{"$f":"LOOKUP(K28,Poängberäkning!$B$6:$B$97,Poängberäkning!$C$6:$C$97)","v":0},8,{"$f":"LOOKUP(M28,Poängberäkning!$B$6:$B$97,Poängberäkning!$C$6:$C$97)","v":46},null,{"$f":"LOOKUP(O28,Poängberäkning!$B$6:$B$97,Poängberäkning!$C$6:$C$97)","v":0},null,{"$f":"LOOKUP(Q28,[1]Poängberäkning!$B$6:$B$97,[1]Poängberäkning!$C$6:$C$97)","v":0},null,{"$f":"LOOKUP(S28,[1]Poängberäkning!$B$6:$B$97,[1]Poängberäkning!$C$6:$C$97)","v":0},null,{"$f":"LOOKUP(U28,[1]Poängberäkning!$B$6:$B$97,[1]Poängberäkning!$C$6:$C$97)","v":0},null,{"$f":"LOOKUP(W28,[1]Poängberäkning!$B$6:$B$97,[1]Poängberäkning!$C$6:$C$97)","v":0},{"$f":"LARGE(($H28,$J28,$L28,$N28,$P28,$R28,$T28,$V28,$X28),1)","v":46},{"$f":"LARGE(($H28,$J28,$L28,$N28,$P28,$R28,$T28,$V28,$X28),2)","v":0},{"$f":"LARGE(($H28,$J28,$L28,$N28,$P28,$R28,$T28,$V28,$X28),3)","v":0},{"$f":"LARGE(($H28,$J28,$L28,$N28,$P28,$R28,$T28,$V28,$X28),4)","v":0},{"$f":"LARGE(($H28,$J28,$L28,$N28,$P28,$R28,$T28,$V28,$X28),5)","v":0},{"$f":"LARGE(($H28,$J28,$L28,$N28,$P28,$R28,$T28,$V28,$X28),6)","v":0},{"$f":"LARGE(($H28,$J28,$L28,$N28,$P28,$R28,$T28,$V28,$X28),7)","v":0},{"$f":"LARGE(($H28,$J28,$L28,$N28,$P28,$R28,$T28,$V28,$X28),8)","v":0},{"$f":"LARGE(($H28,$J28,$L28,$N28,$P28,$R28,$T28,$V28,$X28),9)","v":0}]
[25,2006,"LUND Jonas","Järvsö IF",44,44,null,{"$f":"LOOKUP(G29,Poängberäkning!$B$6:$B$97,Poängberäkning!$C$6:$C$97)","v":0},null,{"$f":"LOOKUP(I29,Poängberäkning!$B$6:$B$97,Poängberäkning!$C$6:$C$97)","v":0},null,{"$f":"LOOKUP(K29,Poängberäkning!$B$6:$B$97,Poängberäkning!$C$6:$C$97)","v":0},null,{"$f":"LOOKUP(M29,Poängberäkning!$B$6:$B$97,Poängberäkning!$C$6:$C$97)","v":0},9,{"$f":"LOOKUP(O29,Poängberäkning!$B$6:$B$97,Poängberäkning!$C$6:$C$97)","v":44},null,{"$f":"LOOKUP(Q29,[1]Poängberäkning!$B$6:$B$97,[1]Poängberäkning!$C$6:$C$97)","v":0},null,{"$f":"LOOKUP(S29,[1]Poängberäkning!$B$6:$B$97,[1]Poängberäkning!$C$6:$C$97)","v":0},null,{"$f":"LOOKUP(U29,[1]Poängberäkning!$B$6:$B$97,[1]Poängberäkning!$C$6:$C$97)","v":0},null,{"$f":"LOOKUP(W29,[1]Poängberäkning!$B$6:$B$97,[1]Poängberäkning!$C$6:$C$97)","v":0},{"$f":"LARGE(($H29,$J29,$L29,$N29,$P29,$R29,$T29,$V29,$X29),1)","v":44},{"$f":"LARGE(($H29,$J29,$L29,$N29,$P29,$R29,$T29,$V29,$X29),2)","v":0},{"$f":"LARGE(($H29,$J29,$L29,$N29,$P29,$R29,$T29,$V29,$X29),3)","v":0},{"$f":"LARGE(($H29,$J29,$L29,$N29,$P29,$R29,$T29,$V29,$X29),4)","v":0},{"$f":"LARGE(($H29,$J29,$L29,$N29,$P29,$R29,$T29,$V29,$X29),5)","v":0},{"$f":"LARGE(($H29,$J29,$L29,$N29,$P29,$R29,$T29,$V29,$X29),6)","v":0},{"$f":"LARGE(($H29,$J29,$L29,$N29,$P29,$R29,$T29,$V29,$X29),7)","v":0},{"$f":"LARGE(($H29,$J29,$L29,$N29,$P29,$R29,$T29,$V29,$X29),8)","v":0},{"$f":"LARGE(($H29,$J29,$L29,$N29,$P29,$R29,$T29,$V29,$X29),9)","v":0}]
[26,2007,"BJÖRKMAN Oliver","IFK Mora AK",44,44,9,{"$f":"LOOKUP(G30,Poängberäkning!$B$6:$B$97,Poängberäkning!$C$6:$C$97)","v":44},null,{"$f":"LOOKUP(I30,Poängberäkning!$B$6:$B$97,Poängberäkning!$C$6:$C$97)","v":0},null,{"$f":"LOOKUP(K30,Poängberäkning!$B$6:$B$97,Poängberäkning!$C$6:$C$97)","v":0},null,{"$f":"LOOKUP(M30,Poängberäkning!$B$6:$B$97,Poängberäkning!$C$6:$C$97)","v":0},99,{"$f":"LOOKUP(O30,Poängberäkning!$B$6:$B$97,Poängberäkning!$C$6:$C$97)","v":0},null,{"$f":"LOOKUP(Q30,[1]Poängberäkning!$B$6:$B$97,[1]Poängberäkning!$C$6:$C$97)","v":0},null,{"$f":"LOOKUP(S30,[1]Poängberäkning!$B$6:$B$97,[1]Poängberäkning!$C$6:$C$97)","v":0},null,{"$f":"LOOKUP(U30,[1]Poängberäkning!$B$6:$B$97,[1]Poängberäkning!$C$6:$C$97)","v":0},null,{"$f":"LOOKUP(W30,[1]Poängberäkning!$B$6:$B$97,[1]Poängberäkning!$C$6:$C$97)","v":0},{"$f":"LARGE(($H30,$J30,$L30,$N30,$P30,$R30,$T30,$V30,$X30),1)","v":44},{"$f":"LARGE(($H30,$J30,$L30,$N30,$P30,$R30,$T30,$V30,$X30),2)","v":0},{"$f":"LARGE(($H30,$J30,$L30,$N30,$P30,$R30,$T30,$V30,$X30),3)","v":0},{"$f":"LARGE(($H30,$J30,$L30,$N30,$P30,$R30,$T30,$V30,$X30),4)","v":0},{"$f":"LARGE(($H30,$J30,$L30,$N30,$P30,$R30,$T30,$V30,$X30),5)","v":0},{"$f":"LARGE(($H30,$J30,$L30,$N30,$P30,$R30,$T30,$V30,$X30),6)","v":0},{"$f":"LARGE(($H30,$J30,$L30,$N30,$P30,$R30,$T30,$V30,$X30),7)","v":0},{"$f":"LARGE(($H30,$J30,$L30,$N30,$P30,$R30,$T30,$V30,$X30),8)","v":0},{"$f":"LARGE(($H30,$J30,$L30,$N30,$P30,$R30,$T30,$V30,$X30),9)","v":0}]
[27,2007,"NOACK Måns","Gävle Alpina SK",44,44,null,{"$f":"LOOKUP(G31,Poängberäkning!$B$6:$B$97,Poängberäkning!$C$6:$C$97)","v":0},null,{"$f":"LOOKUP(I31,Poängberäkning!$B$6:$B$97,Poängberäkning!$C$6:$C$97)","v":0},null,{"$f":"LOOKUP(K31,Poängberäkning!$B$6:$B$97,Poängberäkning!$C$6:$C$97)","v":0},9,{"$f":"LOOKUP(M31,Poängberäkning!$B$6:$B$97,Poängberäkning!$C$6:$C$97)","v":44},null,{"$f":"LOOKUP(O31,Poängberäkning!$B$6:$B$97,Poängberäkning!$C$6:$C$97)","v":0},null,{"$f":"LOOKUP(Q31,[1]Poängberäkning!$B$6:$B$97,[1]Poängberäkning!$C$6:$C$97)","v":0},null,{"$f":"LOOKUP(S31,[1]Poängberäkning!$B$6:$B$97,[1]Poängberäkning!$C$6:$C$97)","v":0},null,{"$f":"LOOKUP(U31,[1]Poängberäkning!$B$6:$B$97,[1]Poängberäkning!$C$6:$C$97)","v":0},null,{"$f":"LOOKUP(W31,[1]Poängberäkning!$B$6:$B$97,[1]Poängberäkning!$C$6:$C$97)","v":0},{"$f":"LARGE(($H31,$J31,$L31,$N31,$P31,$R31,$T31,$V31,$X31),1)","v":44},{"$f":"LARGE(($H31,$J31,$L31,$N31,$P31,$R31,$T31,$V31,$X31),2)","v":0},{"$f":"LARGE(($H31,$J31,$L31,$N31,$P31,$R31,$T31,$V31,$X31),3)","v":0},{"$f":"LARGE(($H31,$J31,$L31,$N31,$P31,$R31,$T31,$V31,$X31),4)","v":0},{"$f":"LARGE(($H31,$J31,$L31,$N31,$P31,$R31,$T31,$V31,$X31),5)","v":0},{"$f":"LARGE(($H31,$J31,$L31,$N31,$P31,$R31,$T31,$V31,$X31),6)","v":0},{"$f":"LARGE(($H31,$J31,$L31,$N31,$P31,$R31,$T31,$V31,$X31),7)","v":0},{"$f":"LARGE(($H31,$J31,$L31,$N31,$P31,$R31,$T31,$V31,$X31),8)","v":0},{"$f":"LARGE(($H31,$J31,$L31,$N31,$P31,$R31,$T31,$V31,$X31),9)","v":0}]
[28,2007,"OLSSON Theodor","Kils SLK",42,42,null,{"$f":"LOOKUP(G32,Poängberäkning!$B$6:$B$97,Poängberäkning!$C$6:$C$97)","v":0},null,{"$f":"LOOKUP(I32,Poängberäkning!$B$6:$B$97,Poängberäkning!$C$6:$C$97)","v":0},null,{"$f":"LOOKUP(K32,Poängberäkning!$B$6:$B$97,Poängberäkning!$C$6:$C$97)","v":0},null,{"$f":"LOOKUP(M32,Poängberäkning!$B$6:$B$97,Poängberäkning!$C$6:$C$97)","v":0},10,{"$f":"LOOKUP(O32,Poängberäkning!$B$6:$B$97,Poängberäkning!$C$6:$C$97)","v":42},null,{"$f":"LOOKUP(Q32,[1]Poängberäkning!$B$6:$B$97,[1]Poängberäkning!$C$6:$C$97)","v":0},null,{"$f":"LOOKUP(S32,[1]Poängberäkning!$B$6:$B$97,[1]Poängberäkning!$C$6:$C$97)","v":0},null,{"$f":"LOOKUP(U32,[1]Poängberäkning!$B$6:$B$97,[1]Poängberäkning!$C$6:$C$97)","v":0},null,{"$f":"LOOKUP(W32,[1]Poängberäkning!$B$6:$B$97,[1]Poängberäkning!$C$6:$C$97)","v":0},{"$f":"LARGE(($H32,$J32,$L32,$N32,$P32,$R32,$T32,$V32,$X32),1)","v":42},{"$f":"LARGE(($H32,$J32,$L32,$N32,$P32,$R32,$T32,$V32,$X32),2)","v":0},{"$f":"LARGE(($H32,$J32,$L32,$N32,$P32,$R32,$T32,$V32,$X32),3)","v":0},{"$f":"LARGE(($H32,$J32,$L32,$N32,$P32,$R32,$T32,$V32,$X32),4)","v":0},{"$f":"LARGE(($H32,$J32,$L32,$N32,$P32,$R32,$T32,$V32,$X32),5)","v":0},{"$f":"LARGE(($H32,$J32,$L32,$N32,$P32,$R32,$T32,$V32,$X32),6)","v":0},{"$f":"LARGE(($H32,$J32,$L32,$N32,$P32,$R32,$T32,$V32,$X32),7)","v":0},{"$f":"LARGE(($H32,$J32,$L32,$N32,$P32,$R32,$T32,$V32,$X32),8)","v":0},{"$f":"LARGE(($H32,$J32,$L32,$N32,$P32,$R32,$T32,$V32,$X32),9)","v":0}]
[29,2006,"EDSTRÖM Hugo","Örebro SLF",40,40,null,{"$f":"LOOKUP(G33,Poängberäkning!$B$6:$B$97,Poängberäkning!$C$6:$C$97)","v":0},null,{"$f":"LOOKUP(I33,Poängberäkning!$B$6:$B$97,Poängberäkning!$C$6:$C$97)","v":0},null,{"$f":"LOOKUP(K33,Poängberäkning!$B$6:$B$97,Poängberäkning!$C$6:$C$97)","v":0},null,{"$f":"LOOKUP(M33,Poängberäkning!$B$6:$B$97,Poängberäkning!$C$6:$C$97)","v":0},11,{"$f":"LOOKUP(O33,Poängberäkning!$B$6:$B$97,Poängberäkning!$C$6:$C$97)","v":40},null,{"$f":"LOOKUP(Q33,[1]Poängberäkning!$B$6:$B$97,[1]Poängberäkning!$C$6:$C$97)","v":0},null,{"$f":"LOOKUP(S33,[1]Poängberäkning!$B$6:$B$97,[1]Poängberäkning!$C$6:$C$97)","v":0},null,{"$f":"LOOKUP(U33,[1]Poängberäkning!$B$6:$B$97,[1]Poängberäkning!$C$6:$C$97)","v":0},null,{"$f":"LOOKUP(W33,[1]Poängberäkning!$B$6:$B$97,[1]Poängberäkning!$C$6:$C$97)","v":0},{"$f":"LARGE(($H33,$J33,$L33,$N33,$P33,$R33,$T33,$V33,$X33),1)","v":40},{"$f":"LARGE(($H33,$J33,$L33,$N33,$P33,$R33,$T33,$V33,$X33),2)","v":0},{"$f":"LARGE(($H33,$J33,$L33,$N33,$P33,$R33,$T33,$V33,$X33),3)","v":0},{"$f":"LARGE(($H33,$J33,$L33,$N33,$P33,$R33,$T33,$V33,$X33),4)","v":0},{"$f":"LARGE(($H33,$J33,$L33,$N33,$P33,$R33,$T33,$V33,$X33),5)","v":0},{"$f":"LARGE(($H33,$J33,$L33,$N33,$P33,$R33,$T33,$V33,$X33),6)","v":0},{"$f":"LARGE(($H33,$J33,$L33,$N33,$P33,$R33,$T33,$V33,$X33),7)","v":0},{"$f":"LARGE(($H33,$J33,$L33,$N33,$P33,$R33,$T33,$V33,$X33),8)","v":0},{"$f":"LARGE(($H33,$J33,$L33,$N33,$P33,$R33,$T33,$V33,$X33),9)","v":0}]
[30,2007,"HOLTH LYSTAD Filip","Valfjällets SLK",36,36,null,{"$f":"LOOKUP(G34,Poängberäkning!$B$6:$B$97,Poängberäkning!$C$6:$C$97)","v":0},null,{"$f":"LOOKUP(I34,Poängberäkning!$B$6:$B$97,Poängberäkning!$C$6:$C$97)","v":0},null,{"$f":"LOOKUP(K34,Poängberäkning!$B$6:$B$97,Poängberäkning!$C$6:$C$97)","v":0},null,{"$f":"LOOKUP(M34,Poängberäkning!$B$6:$B$97,Poängberäkning!$C$6:$C$97)","v":0},15,{"$f":"LOOKUP(O34,Poängberäkning!$B$6:$B$97,Poängberäkning!$C$6:$C$97)","v":36},null,{"$f":"LOOKUP(Q34,[1]Poängberäkning!$B$6:$B$97,[1]Poängberäkning!$C$6:$C$97)","v":0},null,{"$f":"LOOKUP(S34,[1]Poängberäkning!$B$6:$B$97,[1]Poängberäkning!$C$6:$C$97)","v":0},null,{"$f":"LOOKUP(U34,[1]Poängberäkning!$B$6:$B$97,[1]Poängberäkning!$C$6:$C$97)","v":0},null,{"$f":"LOOKUP(W34,[1]Poängberäkning!$B$6:$B$97,[1]Poängberäkning!$C$6:$C$97)","v":0},{"$f":"LARGE(($H34,$J34,$L34,$N34,$P34,$R34,$T34,$V34,$X34),1)","v":36},{"$f":"LARGE(($H34,$J34,$L34,$N34,$P34,$R34,$T34,$V34,$X34),2)","v":0},{"$f":"LARGE(($H34,$J34,$L34,$N34,$P34,$R34,$T34,$V34,$X34),3)","v":0},{"$f":"LARGE(($H34,$J34,$L34,$N34,$P34,$R34,$T34,$V34,$X34),4)","v":0},{"$f":"LARGE(($H34,$J34,$L34,$N34,$P34,$R34,$T34,$V34,$X34),5)","v":0},{"$f":"LARGE(($H34,$J34,$L34,$N34,$P34,$R34,$T34,$V34,$X34),6)","v":0},{"$f":"LARGE(($H34,$J34,$L34,$N34,$P34,$R34,$T34,$V34,$X34),7)","v":0},{"$f":"LARGE(($H34,$J34,$L34,$N34,$P34,$R34,$T34,$V34,$X34),8)","v":0},{"$f":"LARGE(($H34,$J34,$L34,$N34,$P34,$R34,$T34,$V34,$X34),9)","v":0}]
[31,2006,"LUNDEBERG Filip","Västerås Slalomklubb",34,34,null,{"$f":"LOOKUP(G35,Poängberäkning!$B$6:$B$97,Poängberäkning!$C$6:$C$97)","v":0},null,{"$f":"LOOKUP(I35,Poängberäkning!$B$6:$B$97,Poängberäkning!$C$6:$C$97)","v":0},null,{"$f":"LOOKUP(K35,Poängberäkning!$B$6:$B$97,Poängberäkning!$C$6:$C$97)","v":0},null,{"$f":"LOOKUP(M35,Poängberäkning!$B$6:$B$97,Poängberäkning!$C$6:$C$97)","v":0},17,{"$f":"LOOKUP(O35,Poängberäkning!$B$6:$B$97,Poängberäkning!$C$6:$C$97)","v":34},null,{"$f":"LOOKUP(Q35,[1]Poängberäkning!$B$6:$B$97,[1]Poängberäkning!$C$6:$C$97)","v":0},null,{"$f":"LOOKUP(S35,[1]Poängberäkning!$B$6:$B$97,[1]Poängberäkning!$C$6:$C$97)","v":0},null,{"$f":"LOOKUP(U35,[1]Poängberäkning!$B$6:$B$97,[1]Poängberäkning!$C$6:$C$97)","v":0},null,{"$f":"LOOKUP(W35,[1]Poängberäkning!$B$6:$B$97,[1]Poängberäkning!$C$6:$C$97)","v":0},{"$f":"LARGE(($H35,$J35,$L35,$N35,$P35,$R35,$T35,$V35,$X35),1)","v":34},{"$f":"LARGE(($H35,$J35,$L35,$N35,$P35,$R35,$T35,$V35,$X35),2)","v":0},{"$f":"LARGE(($H35,$J35,$L35,$N35,$P35,$R35,$T35,$V35,$X35),3)","v":0},{"$f":"LARGE(($H35,$J35,$L35,$N35,$P35,$R35,$T35,$V35,$X35),4)","v":0},{"$f":"LARGE(($H35,$J35,$L35,$N35,$P35,$R35,$T35,$V35,$X35),5)","v":0},{"$f":"LARGE(($H35,$J35,$L35,$N35,$P35,$R35,$T35,$V35,$X35),6)","v":0},{"$f":"LARGE(($H35,$J35,$L35,$N35,$P35,$R35,$T35,$V35,$X35),7)","v":0},{"$f":"LARGE(($H35,$J35,$L35,$N35,$P35,$R35,$T35,$V35,$X35),8)","v":0},{"$f":"LARGE(($H35,$J35,$L35,$N35,$P35,$R35,$T35,$V35,$X35),9)","v":0}]
[32,2006,"PÄNDEL Edvin","Gävle Alpina SK",32,32,null,{"$f":"LOOKUP(G36,Poängberäkning!$B$6:$B$97,Poängberäkning!$C$6:$C$97)","v":0},null,{"$f":"LOOKUP(I36,Poängberäkning!$B$6:$B$97,Poängberäkning!$C$6:$C$97)","v":0},null,{"$f":"LOOKUP(K36,Poängberäkning!$B$6:$B$97,Poängberäkning!$C$6:$C$97)","v":0},null,{"$f":"LOOKUP(M36,Poängberäkning!$B$6:$B$97,Poängberäkning!$C$6:$C$97)","v":0},19,{"$f":"LOOKUP(O36,Poängberäkning!$B$6:$B$97,Poängberäkning!$C$6:$C$97)","v":32},null,{"$f":"LOOKUP(Q36,[1]Poängberäkning!$B$6:$B$97,[1]Poängberäkning!$C$6:$C$97)","v":0},null,{"$f":"LOOKUP(S36,[1]Poängberäkning!$B$6:$B$97,[1]Poängberäkning!$C$6:$C$97)","v":0},null,{"$f":"LOOKUP(U36,[1]Poängberäkning!$B$6:$B$97,[1]Poängberäkning!$C$6:$C$97)","v":0},null,{"$f":"LOOKUP(W36,[1]Poängberäkning!$B$6:$B$97,[1]Poängberäkning!$C$6:$C$97)","v":0},{"$f":"LARGE(($H36,$J36,$L36,$N36,$P36,$R36,$T36,$V36,$X36),1)","v":32},{"$f":"LARGE(($H36,$J36,$L36,$N36,$P36,$R36,$T36,$V36,$X36),2)","v":0},{"$f":"LARGE(($H36,$J36,$L36,$N36,$P36,$R36,$T36,$V36,$X36),3)","v":0},{"$f":"LARGE(($H36,$J36,$L36,$N36,$P36,$R36,$T36,$V36,$X36),4)","v":0},{"$f":"LARGE(($H36,$J36,$L36,$N36,$P36,$R36,$T36,$V36,$X36),5)","v":0},{"$f":"LARGE(($H36,$J36,$L36,$N36,$P36,$R36,$T36,$V36,$X36),6)","v":0},{"$f":"LARGE(($H36,$J36,$L36,$N36,$P36,$R36,$T36,$V36,$X36),7)","v":0},{"$f":"LARGE(($H36,$J36,$L36,$N36,$P36,$R36,$T36,$V36,$X36),8)","v":0},{"$f":"LARGE(($H36,$J36,$L36,$N36,$P36,$R36,$T36,$V36,$X36),9)","v":0}]
[33,2007,"MANI Oscar","Uppsala SLK",{"$f":"SUM(Y37:AA37)","v":31},{"$f":"H37+J37+L37+N37+P37+R37+T37+V37+X37","v":31},null,{"$f":"LOOKUP(G37,Poängberäkning!$B$6:$B$97,Poängberäkning!$C$6:$C$97)","v":0},null,{"$f":"LOOKUP(I37,Poängberäkning!$B$6:$B$97,Poängberäkning!$C$6:$C$97)","v":0},null,{"$f":"LOOKUP(K37,Poängberäkning!$B$6:$B$97,Poängberäkning!$C$6:$C$97)","v":0},null,{"$f":"LOOKUP(M37,Poängberäkning!$B$6:$B$97,Poängberäkning!$C$6:$C$97)","v":0},20,{"$f":"LOOKUP(O37,Poängberäkning!$B$6:$B$97,Poängberäkning!$C$6:$C$97)","v":31},null,{"$f":"LOOKUP(Q37,[1]Poängberäkning!$B$6:$B$97,[1]Poängberäkning!$C$6:$C$97)","v":0},null,{"$f":"LOOKUP(S37,[1]Poängberäkning!$B$6:$B$97,[1]Poängberäkning!$C$6:$C$97)","v":0},null,{"$f":"LOOKUP(U37,[1]Poängberäkning!$B$6:$B$97,[1]Poängberäkning!$C$6:$C$97)","v":0},null,{"$f":"LOOKUP(W37,[1]Poängberäkning!$B$6:$B$97,[1]Poängberäkning!$C$6:$C$97)","v":0},{"$f":"LARGE(($H37,$J37,$L37,$N37,$P37,$R37,$T37,$V37,$X37),1)","v":31},{"$f":"LARGE(($H37,$J37,$L37,$N37,$P37,$R37,$T37,$V37,$X37),2)","v":0},{"$f":"LARGE(($H37,$J37,$L37,$N37,$P37,$R37,$T37,$V37,$X37),3)","v":0},{"$f":"LARGE(($H37,$J37,$L37,$N37,$P37,$R37,$T37,$V37,$X37),4)","v":0},{"$f":"LARGE(($H37,$J37,$L37,$N37,$P37,$R37,$T37,$V37,$X37),5)","v":0},{"$f":"LARGE(($H37,$J37,$L37,$N37,$P37,$R37,$T37,$V37,$X37),6)","v":0},{"$f":"LARGE(($H37,$J37,$L37,$N37,$P37,$R37,$T37,$V37,$X37),7)","v":0},{"$f":"LARGE(($H37,$J37,$L37,$N37,$P37,$R37,$T37,$V37,$X37),8)","v":0},{"$f":"LARGE(($H37,$J37,$L37,$N37,$P37,$R37,$T37,$V37,$X37),9)","v":0}]
[34,2007,"HOLMLUND Felix","Västerås Slalomklubb",30,30,null,{"$f":"LOOKUP(G38,Poängberäkning!$B$6:$B$97,Poängberäkning!$C$6:$C$97)","v":0},null,{"$f":"LOOKUP(I38,Poängberäkning!$B$6:$B$97,Poängberäkning!$C$6:$C$97)","v":0},null,{"$f":"LOOKUP(K38,Poängberäkning!$B$6:$B$97,Poängberäkning!$C$6:$C$97)","v":0},99,{"$f":"LOOKUP(M38,Poängberäkning!$B$6:$B$97,Poängberäkning!$C$6:$C$97)","v":0},21,{"$f":"LOOKUP(O38,Poängberäkning!$B$6:$B$97,Poängberäkning!$C$6:$C$97)","v":30},null,{"$f":"LOOKUP(Q38,[1]Poängberäkning!$B$6:$B$97,[1]Poängberäkning!$C$6:$C$97)","v":0},null,{"$f":"LOOKUP(S38,[1]Poängberäkning!$B$6:$B$97,[1]Poängberäkning!$C$6:$C$97)","v":0},null,{"$f":"LOOKUP(U38,[1]Poängberäkning!$B$6:$B$97,[1]Poängberäkning!$C$6:$C$97)","v":0},null,{"$f":"LOOKUP(W38,[1]Poängberäkning!$B$6:$B$97,[1]Poängberäkning!$C$6:$C$97)","v":0},{"$f":"LARGE(($H38,$J38,$L38,$N38,$P38,$R38,$T38,$V38,$X38),1)","v":30},{"$f":"LARGE(($H38,$J38,$L38,$N38,$P38,$R38,$T38,$V38,$X38),2)","v":0},{"$f":"LARGE(($H38,$J38,$L38,$N38,$P38,$R38,$T38,$V38,$X38),3)","v":0},{"$f":"LARGE(($H38,$J38,$L38,$N38,$P38,$R38,$T38,$V38,$X38),4)","v":0},{"$f":"LARGE(($H38,$J38,$L38,$N38,$P38,$R38,$T38,$V38,$X38),5)","v":0},{"$f":"LARGE(($H38,$J38,$L38,$N38,$P38,$R38,$T38,$V38,$X38),6)","v":0},{"$f":"LARGE(($H38,$J38,$L38,$N38,$P38,$R38,$T38,$V38,$X38),7)","v":0},{"$f":"LARGE(($H38,$J38,$L38,$N38,$P38,$R38,$T38,$V38,$X38),8)","v":0},{"$f":"LARGE(($H38,$J38,$L38,$N38,$P38,$R38,$T38,$V38,$X38),9)","v":0}]
[35,2007,"DAHLBERG Nemo","Västerås Slalomklubb",28,28,null,{"$f":"LOOKUP(G39,Poängberäkning!$B$6:$B$97,Poängberäkning!$C$6:$C$97)","v":0},null,{"$f":"LOOKUP(I39,Poängberäkning!$B$6:$B$97,Poängberäkning!$C$6:$C$97)","v":0},null,{"$f":"LOOKUP(K39,Poängberäkning!$B$6:$B$97,Poängberäkning!$C$6:$C$97)","v":0},null,{"$f":"LOOKUP(M39,Poängberäkning!$B$6:$B$97,Poängberäkning!$C$6:$C$97)","v":0},23,{"$f":"LOOKUP(O39,Poängberäkning!$B$6:$B$97,Poängberäkning!$C$6:$C$97)","v":28},null,{"$f":"LOOKUP(Q39,[1]Poängberäkning!$B$6:$B$97,[1]Poängberäkning!$C$6:$C$97)","v":0},null,{"$f":"LOOKUP(S39,[1]Poängberäkning!$B$6:$B$97,[1]Poängberäkning!$C$6:$C$97)","v":0},null,{"$f":"LOOKUP(U39,[1]Poängberäkning!$B$6:$B$97,[1]Poängberäkning!$C$6:$C$97)","v":0},null,{"$f":"LOOKUP(W39,[1]Poängberäkning!$B$6:$B$97,[1]Poängberäkning!$C$6:$C$97)","v":0},{"$f":"LARGE(($H39,$J39,$L39,$N39,$P39,$R39,$T39,$V39,$X39),1)","v":28},{"$f":"LARGE(($H39,$J39,$L39,$N39,$P39,$R39,$T39,$V39,$X39),2)","v":0},{"$f":"LARGE(($H39,$J39,$L39,$N39,$P39,$R39,$T39,$V39,$X39),3)","v":0},{"$f":"LARGE(($H39,$J39,$L39,$N39,$P39,$R39,$T39,$V39,$X39),4)","v":0},{"$f":"LARGE(($H39,$J39,$L39,$N39,$P39,$R39,$T39,$V39,$X39),5)","v":0},{"$f":"LARGE(($H39,$J39,$L39,$N39,$P39,$R39,$T39,$V39,$X39),6)","v":0},{"$f":"LARGE(($H39,$J39,$L39,$N39,$P39,$R39,$T39,$V39,$X39),7)","v":0},{"$f":"LARGE(($H39,$J39,$L39,$N39,$P39,$R39,$T39,$V39,$X39),8)","v":0},{"$f":"LARGE(($H39,$J39,$L39,$N39,$P39,$R39,$T39,$V39,$X39),9)","v":0}]
[36,2006,"RÅDSTRÖM Teddy","Branäs AK",0,0,null,{"$f":"LOOKUP(G40,Poängberäkning!$B$6:$B$97,Poängberäkning!$C$6:$C$97)","v":0},null,{"$f":"LOOKUP(I40,Poängberäkning!$B$6:$B$97,Poängberäkning!$C$6:$C$97)","v":0},null,{"$f":"LOOKUP(K40,Poängberäkning!$B$6:$B$97,Poängberäkning!$C$6:$C$97)","v":0},null,{"$f":"LOOKUP(M40,Poängberäkning!$B$6:$B$97,Poängberäkning!$C$6:$C$97)","v":0},99,{"$f":"LOOKUP(O40,Poängberäkning!$B$6:$B$97,Poängberäkning!$C$6:$C$97)","v":0},null,{"$f":"LOOKUP(Q40,[1]Poängberäkning!$B$6:$B$97,[1]Poängberäkning!$C$6:$C$97)","v":0},null,{"$f":"LOOKUP(S40,[1]Poängberäkning!$B$6:$B$97,[1]Poängberäkning!$C$6:$C$97)","v":0},null,{"$f":"LOOKUP(U40,[1]Poängberäkning!$B$6:$B$97,[1]Poängberäkning!$C$6:$C$97)","v":0},null,{"$f":"LOOKUP(W40,[1]Poängberäkning!$B$6:$B$97,[1]Poängberäkning!$C$6:$C$97)","v":0},{"$f":"LARGE(($H40,$J40,$L40,$N40,$P40,$R40,$T40,$V40,$X40),1)","v":0},{"$f":"LARGE(($H40,$J40,$L40,$N40,$P40,$R40,$T40,$V40,$X40),2)","v":0},{"$f":"LARGE(($H40,$J40,$L40,$N40,$P40,$R40,$T40,$V40,$X40),3)","v":0},{"$f":"LARGE(($H40,$J40,$L40,$N40,$P40,$R40,$T40,$V40,$X40),4)","v":0},{"$f":"LARGE(($H40,$J40,$L40,$N40,$P40,$R40,$T40,$V40,$X40),5)","v":0},{"$f":"LARGE(($H40,$J40,$L40,$N40,$P40,$R40,$T40,$V40,$X40),6)","v":0},{"$f":"LARGE(($H40,$J40,$L40,$N40,$P40,$R40,$T40,$V40,$X40),7)","v":0},{"$f":"LARGE(($H40,$J40,$L40,$N40,$P40,$R40,$T40,$V40,$X40),8)","v":0},{"$f":"LARGE(($H40,$J40,$L40,$N40,$P40,$R40,$T40,$V40,$X40),9)","v":0}]
[37,2007,"AXELSSON Lukas","IFK Mora AK",0,0,null,{"$f":"LOOKUP(G41,Poängberäkning!$B$6:$B$97,Poängberäkning!$C$6:$C$97)","v":0},null,{"$f":"LOOKUP(I41,Poängberäkning!$B$6:$B$97,Poängberäkning!$C$6:$C$97)","v":0},null,{"$f":"LOOKUP(K41,Poängberäkning!$B$6:$B$97,Poängberäkning!$C$6:$C$97)","v":0},null,{"$f":"LOOKUP(M41,Poängberäkning!$B$6:$B$97,Poängberäkning!$C$6:$C$97)","v":0},null,{"$f":"LOOKUP(O41,Poängberäkning!$B$6:$B$97,Poängberäkning!$C$6:$C$97)","v":0},null,{"$f":"LOOKUP(Q41,[1]Poängberäkning!$B$6:$B$97,[1]Poängberäkning!$C$6:$C$97)","v":0},null,{"$f":"LOOKUP(S41,[1]Poängberäkning!$B$6:$B$97,[1]Poängberäkning!$C$6:$C$97)","v":0},null,{"$f":"LOOKUP(U41,[1]Poängberäkning!$B$6:$B$97,[1]Poängberäkning!$C$6:$C$97)","v":0},null,{"$f":"LOOKUP(W41,[1]Poängberäkning!$B$6:$B$97,[1]Poängberäkning!$C$6:$C$97)","v":0},{"$f":"LARGE(($H41,$J41,$L41,$N41,$P41,$R41,$T41,$V41,$X41),1)","v":0},{"$f":"LARGE(($H41,$J41,$L41,$N41,$P41,$R41,$T41,$V41,$X41),2)","v":0},{"$f":"LARGE(($H41,$J41,$L41,$N41,$P41,$R41,$T41,$V41,$X41),3)","v":0},{"$f":"LARGE(($H41,$J41,$L41,$N41,$P41,$R41,$T41,$V41,$X41),4)","v":0},{"$f":"LARGE(($H41,$J41,$L41,$N41,$P41,$R41,$T41,$V41,$X41),5)","v":0},{"$f":"LARGE(($H41,$J41,$L41,$N41,$P41,$R41,$T41,$V41,$X41),6)","v":0},{"$f":"LARGE(($H41,$J41,$L41,$N41,$P41,$R41,$T41,$V41,$X41),7)","v":0},{"$f":"LARGE(($H41,$J41,$L41,$N41,$P41,$R41,$T41,$V41,$X41),8)","v":0},{"$f":"LARGE(($H41,$J41,$L41,$N41,$P41,$R41,$T41,$V41,$X41),9)","v":0}]
[38,2007,"HANSSON Kasper","Kungsbergets AK",0,0,null,{"$f":"LOOKUP(G42,Poängberäkning!$B$6:$B$97,Poängberäkning!$C$6:$C$97)","v":0},null,{"$f":"LOOKUP(I42,Poängberäkning!$B$6:$B$97,Poängberäkning!$C$6:$C$97)","v":0},null,{"$f":"LOOKUP(K42,Poängberäkning!$B$6:$B$97,Poängberäkning!$C$6:$C$97)","v":0},null,{"$f":"LOOKUP(M42,Poängberäkning!$B$6:$B$97,Poängberäkning!$C$6:$C$97)","v":0},null,{"$f":"LOOKUP(O42,Poängberäkning!$B$6:$B$97,Poängberäkning!$C$6:$C$97)","v":0},null,{"$f":"LOOKUP(Q42,[1]Poängberäkning!$B$6:$B$97,[1]Poängberäkning!$C$6:$C$97)","v":0},null,{"$f":"LOOKUP(S42,[1]Poängberäkning!$B$6:$B$97,[1]Poängberäkning!$C$6:$C$97)","v":0},null,{"$f":"LOOKUP(U42,[1]Poängberäkning!$B$6:$B$97,[1]Poängberäkning!$C$6:$C$97)","v":0},null,{"$f":"LOOKUP(W42,[1]Poängberäkning!$B$6:$B$97,[1]Poängberäkning!$C$6:$C$97)","v":0},{"$f":"LARGE(($H42,$J42,$L42,$N42,$P42,$R42,$T42,$V42,$X42),1)","v":0},{"$f":"LARGE(($H42,$J42,$L42,$N42,$P42,$R42,$T42,$V42,$X42),2)","v":0},{"$f":"LARGE(($H42,$J42,$L42,$N42,$P42,$R42,$T42,$V42,$X42),3)","v":0},{"$f":"LARGE(($H42,$J42,$L42,$N42,$P42,$R42,$T42,$V42,$X42),4)","v":0},{"$f":"LARGE(($H42,$J42,$L42,$N42,$P42,$R42,$T42,$V42,$X42),5)","v":0},{"$f":"LARGE(($H42,$J42,$L42,$N42,$P42,$R42,$T42,$V42,$X42),6)","v":0},{"$f":"LARGE(($H42,$J42,$L42,$N42,$P42,$R42,$T42,$V42,$X42),7)","v":0},{"$f":"LARGE(($H42,$J42,$L42,$N42,$P42,$R42,$T42,$V42,$X42),8)","v":0},{"$f":"LARGE(($H42,$J42,$L42,$N42,$P42,$R42,$T42,$V42,$X42),9)","v":0}]
[39,2006,"LANGER Aston","Uppsala SLK",0,0,null,{"$f":"LOOKUP(G43,Poängberäkning!$B$6:$B$97,Poängberäkning!$C$6:$C$97)","v":0},null,{"$f":"LOOKUP(I43,Poängberäkning!$B$6:$B$97,Poängberäkning!$C$6:$C$97)","v":0},null,{"$f":"LOOKUP(K43,Poängberäkning!$B$6:$B$97,Poängberäkning!$C$6:$C$97)","v":0},null,{"$f":"LOOKUP(M43,Poängberäkning!$B$6:$B$97,Poängberäkning!$C$6:$C$97)","v":0},null,{"$f":"LOOKUP(O43,Poängberäkning!$B$6:$B$97,Poängberäkning!$C$6:$C$97)","v":0},null,{"$f":"LOOKUP(Q43,[1]Poängberäkning!$B$6:$B$97,[1]Poängberäkning!$C$6:$C$97)","v":0},null,{"$f":"LOOKUP(S43,[1]Poängberäkning!$B$6:$B$97,[1]Poängberäkning!$C$6:$C$97)","v":0},null,{"$f":"LOOKUP(U43,[1]Poängberäkning!$B$6:$B$97,[1]Poängberäkning!$C$6:$C$97)","v":0},null,{"$f":"LOOKUP(W43,[1]Poängberäkning!$B$6:$B$97,[1]Poängberäkning!$C$6:$C$97)","v":0},{"$f":"LARGE(($H43,$J43,$L43,$N43,$P43,$R43,$T43,$V43,$X43),1)","v":0},{"$f":"LARGE(($H43,$J43,$L43,$N43,$P43,$R43,$T43,$V43,$X43),2)","v":0},{"$f":"LARGE(($H43,$J43,$L43,$N43,$P43,$R43,$T43,$V43,$X43),3)","v":0},{"$f":"LARGE(($H43,$J43,$L43,$N43,$P43,$R43,$T43,$V43,$X43),4)","v":0},{"$f":"LARGE(($H43,$J43,$L43,$N43,$P43,$R43,$T43,$V43,$X43),5)","v":0},{"$f":"LARGE(($H43,$J43,$L43,$N43,$P43,$R43,$T43,$V43,$X43),6)","v":0},{"$f":"LARGE(($H43,$J43,$L43,$N43,$P43,$R43,$T43,$V43,$X43),7)","v":0},{"$f":"LARGE(($H43,$J43,$L43,$N43,$P43,$R43,$T43,$V43,$X43),8)","v":0},{"$f":"LARGE(($H43,$J43,$L43,$N43,$P43,$R43,$T43,$V43,$X43),9)","v":0}]
[40,null,null,null,0,0,null,{"$f":"LOOKUP(G44,Poängberäkning!$B$6:$B$97,Poängberäkning!$C$6:$C$97)","v":0},null,{"$f":"LOOKUP(I44,Poängberäkning!$B$6:$B$97,Poängberäkning!$C$6:$C$97)","v":0},null,{"$f":"LOOKUP(K44,Poängberäkning!$B$6:$B$97,Poängberäkning!$C$6:$C$97)","v":0},null,{"$f":"LOOKUP(M44,Poängberäkning!$B$6:$B$97,Poängberäkning!$C$6:$C$97)","v":0},null,{"$f":"LOOKUP(O44,Poängberäkning!$B$6:$B$97,Poängberäkning!$C$6:$C$97)","v":0},null,{"$f":"LOOKUP(Q44,[1]Poängberäkning!$B$6:$B$97,[1]Poängberäkning!$C$6:$C$97)","v":0},null,{"$f":"LOOKUP(S44,[1]Poängberäkning!$B$6:$B$97,[1]Poängberäkning!$C$6:$C$97)","v":0},null,{"$f":"LOOKUP(U44,[1]Poängberäkning!$B$6:$B$97,[1]Poängberäkning!$C$6:$C$97)","v":0},null,{"$f":"LOOKUP(W44,[1]Poängberäkning!$B$6:$B$97,[1]Poängberäkning!$C$6:$C$97)","v":0},{"$f":"LARGE(($H44,$J44,$L44,$N44,$P44,$R44,$T44,$V44,$X44),1)","v":0},{"$f":"LARGE(($H44,$J44,$L44,$N44,$P44,$R44,$T44,$V44,$X44),2)","v":0},{"$f":"LARGE(($H44,$J44,$L44,$N44,$P44,$R44,$T44,$V44,$X44),3)","v":0},{"$f":"LARGE(($H44,$J44,$L44,$N44,$P44,$R44,$T44,$V44,$X44),4)","v":0},{"$f":"LARGE(($H44,$J44,$L44,$N44,$P44,$R44,$T44,$V44,$X44),5)","v":0},{"$f":"LARGE(($H44,$J44,$L44,$N44,$P44,$R44,$T44,$V44,$X44),6)","v":0},{"$f":"LARGE(($H44,$J44,$L44,$N44,$P44,$R44,$T44,$V44,$X44),7)","v":0},{"$f":"LARGE(($H44,$J44,$L44,$N44,$P44,$R44,$T44,$V44,$X44),8)","v":0},{"$f":"LARGE(($H44,$J44,$L44,$N44,$P44,$R44,$T44,$V44,$X44),9)","v":0}]
[41,null,null,null,0,0,null,{"$f":"LOOKUP(G45,Poängberäkning!$B$6:$B$97,Poängberäkning!$C$6:$C$97)","v":0},null,{"$f":"LOOKUP(I45,Poängberäkning!$B$6:$B$97,Poängberäkning!$C$6:$C$97)","v":0},null,{"$f":"LOOKUP(K45,Poängberäkning!$B$6:$B$97,Poängberäkning!$C$6:$C$97)","v":0},null,{"$f":"LOOKUP(M45,Poängberäkning!$B$6:$B$97,Poängberäkning!$C$6:$C$97)","v":0},null,{"$f":"LOOKUP(O45,Poängberäkning!$B$6:$B$97,Poängberäkning!$C$6:$C$97)","v":0},null,{"$f":"LOOKUP(Q45,[1]Poängberäkning!$B$6:$B$97,[1]Poängberäkning!$C$6:$C$97)","v":0},null,{"$f":"LOOKUP(S45,[1]Poängberäkning!$B$6:$B$97,[1]Poängberäkning!$C$6:$C$97)","v":0},null,{"$f":"LOOKUP(U45,[1]Poängberäkning!$B$6:$B$97,[1]Poängberäkning!$C$6:$C$97)","v":0},null,{"$f":"LOOKUP(W45,[1]Poängberäkning!$B$6:$B$97,[1]Poängberäkning!$C$6:$C$97)","v":0},{"$f":"LARGE(($H45,$J45,$L45,$N45,$P45,$R45,$T45,$V45,$X45),1)","v":0},{"$f":"LARGE(($H45,$J45,$L45,$N45,$P45,$R45,$T45,$V45,$X45),2)","v":0},{"$f":"LARGE(($H45,$J45,$L45,$N45,$P45,$R45,$T45,$V45,$X45),3)","v":0},{"$f":"LARGE(($H45,$J45,$L45,$N45,$P45,$R45,$T45,$V45,$X45),4)","v":0},{"$f":"LARGE(($H45,$J45,$L45,$N45,$P45,$R45,$T45,$V45,$X45),5)","v":0},{"$f":"LARGE(($H45,$J45,$L45,$N45,$P45,$R45,$T45,$V45,$X45),6)","v":0},{"$f":"LARGE(($H45,$J45,$L45,$N45,$P45,$R45,$T45,$V45,$X45),7)","v":0},{"$f":"LARGE(($H45,$J45,$L45,$N45,$P45,$R45,$T45,$V45,$X45),8)","v":0},{"$f":"LARGE(($H45,$J45,$L45,$N45,$P45,$R45,$T45,$V45,$X45),9)","v":0}]
[42,null,null,null,0,0,null,{"$f":"LOOKUP(G46,Poängberäkning!$B$6:$B$97,Poängberäkning!$C$6:$C$97)","v":0},null,{"$f":"LOOKUP(I46,Poängberäkning!$B$6:$B$97,Poängberäkning!$C$6:$C$97)","v":0},null,{"$f":"LOOKUP(K46,Poängberäkning!$B$6:$B$97,Poängberäkning!$C$6:$C$97)","v":0},null,{"$f":"LOOKUP(M46,Poängberäkning!$B$6:$B$97,Poängberäkning!$C$6:$C$97)","v":0},null,{"$f":"LOOKUP(O46,Poängberäkning!$B$6:$B$97,Poängberäkning!$C$6:$C$97)","v":0},null,{"$f":"LOOKUP(Q46,[1]Poängberäkning!$B$6:$B$97,[1]Poängberäkning!$C$6:$C$97)","v":0},null,{"$f":"LOOKUP(S46,[1]Poängberäkning!$B$6:$B$97,[1]Poängberäkning!$C$6:$C$97)","v":0},null,{"$f":"LOOKUP(U46,[1]Poängberäkning!$B$6:$B$97,[1]Poängberäkning!$C$6:$C$97)","v":0},null,{"$f":"LOOKUP(W46,[1]Poängberäkning!$B$6:$B$97,[1]Poängberäkning!$C$6:$C$97)","v":0},{"$f":"LARGE(($H46,$J46,$L46,$N46,$P46,$R46,$T46,$V46,$X46),1)","v":0},{"$f":"LARGE(($H46,$J46,$L46,$N46,$P46,$R46,$T46,$V46,$X46),2)","v":0},{"$f":"LARGE(($H46,$J46,$L46,$N46,$P46,$R46,$T46,$V46,$X46),3)","v":0},{"$f":"LARGE(($H46,$J46,$L46,$N46,$P46,$R46,$T46,$V46,$X46),4)","v":0},{"$f":"LARGE(($H46,$J46,$L46,$N46,$P46,$R46,$T46,$V46,$X46),5)","v":0},{"$f":"LARGE(($H46,$J46,$L46,$N46,$P46,$R46,$T46,$V46,$X46),6)","v":0},{"$f":"LARGE(($H46,$J46,$L46,$N46,$P46,$R46,$T46,$V46,$X46),7)","v":0},{"$f":"LARGE(($H46,$J46,$L46,$N46,$P46,$R46,$T46,$V46,$X46),8)","v":0},{"$f":"LARGE(($H46,$J46,$L46,$N46,$P46,$R46,$T46,$V46,$X46),9)","v":0}]
[43,null,null,null,0,0,null,{"$f":"LOOKUP(G47,Poängberäkning!$B$6:$B$97,Poängberäkning!$C$6:$C$97)","v":0},null,{"$f":"LOOKUP(I47,Poängberäkning!$B$6:$B$97,Poängberäkning!$C$6:$C$97)","v":0},null,{"$f":"LOOKUP(K47,Poängberäkning!$B$6:$B$97,Poängberäkning!$C$6:$C$97)","v":0},null,{"$f":"LOOKUP(M47,Poängberäkning!$B$6:$B$97,Poängberäkning!$C$6:$C$97)","v":0},null,{"$f":"LOOKUP(O47,Poängberäkning!$B$6:$B$97,Poängberäkning!$C$6:$C$97)","v":0},null,{"$f":"LOOKUP(Q47,[1]Poängberäkning!$B$6:$B$97,[1]Poängberäkning!$C$6:$C$97)","v":0},null,{"$f":"LOOKUP(S47,[1]Poängberäkning!$B$6:$B$97,[1]Poängberäkning!$C$6:$C$97)","v":0},null,{"$f":"LOOKUP(U47,[1]Poängberäkning!$B$6:$B$97,[1]Poängberäkning!$C$6:$C$97)","v":0},null,{"$f":"LOOKUP(W47,[1]Poängberäkning!$B$6:$B$97,[1]Poängberäkning!$C$6:$C$97)","v":0},{"$f":"LARGE(($H47,$J47,$L47,$N47,$P47,$R47,$T47,$V47,$X47),1)","v":0},{"$f":"LARGE(($H47,$J47,$L47,$N47,$P47,$R47,$T47,$V47,$X47),2)","v":0},{"$f":"LARGE(($H47,$J47,$L47,$N47,$P47,$R47,$T47,$V47,$X47),3)","v":0},{"$f":"LARGE(($H47,$J47,$L47,$N47,$P47,$R47,$T47,$V47,$X47),4)","v":0},{"$f":"LARGE(($H47,$J47,$L47,$N47,$P47,$R47,$T47,$V47,$X47),5)","v":0},{"$f":"LARGE(($H47,$J47,$L47,$N47,$P47,$R47,$T47,$V47,$X47),6)","v":0},{"$f":"LARGE(($H47,$J47,$L47,$N47,$P47,$R47,$T47,$V47,$X47),7)","v":0},{"$f":"LARGE(($H47,$J47,$L47,$N47,$P47,$R47,$T47,$V47,$X47),8)","v":0},{"$f":"LARGE(($H47,$J47,$L47,$N47,$P47,$R47,$T47,$V47,$X47),9)","v":0}]
[44,null,null,null,0,0,null,{"$f":"LOOKUP(G48,Poängberäkning!$B$6:$B$97,Poängberäkning!$C$6:$C$97)","v":0},null,{"$f":"LOOKUP(I48,Poängberäkning!$B$6:$B$97,Poängberäkning!$C$6:$C$97)","v":0},null,{"$f":"LOOKUP(K48,Poängberäkning!$B$6:$B$97,Poängberäkning!$C$6:$C$97)","v":0},null,{"$f":"LOOKUP(M48,Poängberäkning!$B$6:$B$97,Poängberäkning!$C$6:$C$97)","v":0},null,{"$f":"LOOKUP(O48,Poängberäkning!$B$6:$B$97,Poängberäkning!$C$6:$C$97)","v":0},null,{"$f":"LOOKUP(Q48,[1]Poängberäkning!$B$6:$B$97,[1]Poängberäkning!$C$6:$C$97)","v":0},null,{"$f":"LOOKUP(S48,[1]Poängberäkning!$B$6:$B$97,[1]Poängberäkning!$C$6:$C$97)","v":0},null,{"$f":"LOOKUP(U48,[1]Poängberäkning!$B$6:$B$97,[1]Poängberäkning!$C$6:$C$97)","v":0},null,{"$f":"LOOKUP(W48,[1]Poängberäkning!$B$6:$B$97,[1]Poängberäkning!$C$6:$C$97)","v":0},{"$f":"LARGE(($H48,$J48,$L48,$N48,$P48,$R48,$T48,$V48,$X48),1)","v":0},{"$f":"LARGE(($H48,$J48,$L48,$N48,$P48,$R48,$T48,$V48,$X48),2)","v":0},{"$f":"LARGE(($H48,$J48,$L48,$N48,$P48,$R48,$T48,$V48,$X48),3)","v":0},{"$f":"LARGE(($H48,$J48,$L48,$N48,$P48,$R48,$T48,$V48,$X48),4)","v":0},{"$f":"LARGE(($H48,$J48,$L48,$N48,$P48,$R48,$T48,$V48,$X48),5)","v":0},{"$f":"LARGE(($H48,$J48,$L48,$N48,$P48,$R48,$T48,$V48,$X48),6)","v":0},{"$f":"LARGE(($H48,$J48,$L48,$N48,$P48,$R48,$T48,$V48,$X48),7)","v":0},{"$f":"LARGE(($H48,$J48,$L48,$N48,$P48,$R48,$T48,$V48,$X48),8)","v":0},{"$f":"LARGE(($H48,$J48,$L48,$N48,$P48,$R48,$T48,$V48,$X48),9)","v":0}]
[45,null,null,null,0,0,null,{"$f":"LOOKUP(G49,Poängberäkning!$B$6:$B$97,Poängberäkning!$C$6:$C$97)","v":0},null,{"$f":"LOOKUP(I49,Poängberäkning!$B$6:$B$97,Poängberäkning!$C$6:$C$97)","v":0},null,{"$f":"LOOKUP(K49,Poängberäkning!$B$6:$B$97,Poängberäkning!$C$6:$C$97)","v":0},null,{"$f":"LOOKUP(M49,Poängberäkning!$B$6:$B$97,Poängberäkning!$C$6:$C$97)","v":0},null,{"$f":"LOOKUP(O49,Poängberäkning!$B$6:$B$97,Poängberäkning!$C$6:$C$97)","v":0},null,{"$f":"LOOKUP(Q49,[1]Poängberäkning!$B$6:$B$97,[1]Poängberäkning!$C$6:$C$97)","v":0},null,{"$f":"LOOKUP(S49,[1]Poängberäkning!$B$6:$B$97,[1]Poängberäkning!$C$6:$C$97)","v":0},null,{"$f":"LOOKUP(U49,[1]Poängberäkning!$B$6:$B$97,[1]Poängberäkning!$C$6:$C$97)","v":0},null,{"$f":"LOOKUP(W49,[1]Poängberäkning!$B$6:$B$97,[1]Poängberäkning!$C$6:$C$97)","v":0},{"$f":"LARGE(($H49,$J49,$L49,$N49,$P49,$R49,$T49,$V49,$X49),1)","v":0},{"$f":"LARGE(($H49,$J49,$L49,$N49,$P49,$R49,$T49,$V49,$X49),2)","v":0},{"$f":"LARGE(($H49,$J49,$L49,$N49,$P49,$R49,$T49,$V49,$X49),3)","v":0},{"$f":"LARGE(($H49,$J49,$L49,$N49,$P49,$R49,$T49,$V49,$X49),4)","v":0},{"$f":"LARGE(($H49,$J49,$L49,$N49,$P49,$R49,$T49,$V49,$X49),5)","v":0},{"$f":"LARGE(($H49,$J49,$L49,$N49,$P49,$R49,$T49,$V49,$X49),6)","v":0},{"$f":"LARGE(($H49,$J49,$L49,$N49,$P49,$R49,$T49,$V49,$X49),7)","v":0},{"$f":"LARGE(($H49,$J49,$L49,$N49,$P49,$R49,$T49,$V49,$X49),8)","v":0},{"$f":"LARGE(($H49,$J49,$L49,$N49,$P49,$R49,$T49,$V49,$X49),9)","v":0}]
[46,null,null,null,0,0,null,{"$f":"LOOKUP(G50,Poängberäkning!$B$6:$B$97,Poängberäkning!$C$6:$C$97)","v":0},null,{"$f":"LOOKUP(I50,Poängberäkning!$B$6:$B$97,Poängberäkning!$C$6:$C$97)","v":0},null,{"$f":"LOOKUP(K50,Poängberäkning!$B$6:$B$97,Poängberäkning!$C$6:$C$97)","v":0},null,{"$f":"LOOKUP(M50,Poängberäkning!$B$6:$B$97,Poängberäkning!$C$6:$C$97)","v":0},null,{"$f":"LOOKUP(O50,Poängberäkning!$B$6:$B$97,Poängberäkning!$C$6:$C$97)","v":0},null,{"$f":"LOOKUP(Q50,[1]Poängberäkning!$B$6:$B$97,[1]Poängberäkning!$C$6:$C$97)","v":0},null,{"$f":"LOOKUP(S50,[1]Poängberäkning!$B$6:$B$97,[1]Poängberäkning!$C$6:$C$97)","v":0},null,{"$f":"LOOKUP(U50,[1]Poängberäkning!$B$6:$B$97,[1]Poängberäkning!$C$6:$C$97)","v":0},null,{"$f":"LOOKUP(W50,[1]Poängberäkning!$B$6:$B$97,[1]Poängberäkning!$C$6:$C$97)","v":0},{"$f":"LARGE(($H50,$J50,$L50,$N50,$P50,$R50,$T50,$V50,$X50),1)","v":0},{"$f":"LARGE(($H50,$J50,$L50,$N50,$P50,$R50,$T50,$V50,$X50),2)","v":0},{"$f":"LARGE(($H50,$J50,$L50,$N50,$P50,$R50,$T50,$V50,$X50),3)","v":0},{"$f":"LARGE(($H50,$J50,$L50,$N50,$P50,$R50,$T50,$V50,$X50),4)","v":0},{"$f":"LARGE(($H50,$J50,$L50,$N50,$P50,$R50,$T50,$V50,$X50),5)","v":0},{"$f":"LARGE(($H50,$J50,$L50,$N50,$P50,$R50,$T50,$V50,$X50),6)","v":0},{"$f":"LARGE(($H50,$J50,$L50,$N50,$P50,$R50,$T50,$V50,$X50),7)","v":0},{"$f":"LARGE(($H50,$J50,$L50,$N50,$P50,$R50,$T50,$V50,$X50),8)","v":0},{"$f":"LARGE(($H50,$J50,$L50,$N50,$P50,$R50,$T50,$V50,$X50),9)","v":0}]
[47,null,null,null,0,0,null,{"$f":"LOOKUP(G51,Poängberäkning!$B$6:$B$97,Poängberäkning!$C$6:$C$97)","v":0},null,{"$f":"LOOKUP(I51,Poängberäkning!$B$6:$B$97,Poängberäkning!$C$6:$C$97)","v":0},null,{"$f":"LOOKUP(K51,Poängberäkning!$B$6:$B$97,Poängberäkning!$C$6:$C$97)","v":0},null,{"$f":"LOOKUP(M51,Poängberäkning!$B$6:$B$97,Poängberäkning!$C$6:$C$97)","v":0},null,{"$f":"LOOKUP(O51,Poängberäkning!$B$6:$B$97,Poängberäkning!$C$6:$C$97)","v":0},null,{"$f":"LOOKUP(Q51,[1]Poängberäkning!$B$6:$B$97,[1]Poängberäkning!$C$6:$C$97)","v":0},null,{"$f":"LOOKUP(S51,[1]Poängberäkning!$B$6:$B$97,[1]Poängberäkning!$C$6:$C$97)","v":0},null,{"$f":"LOOKUP(U51,[1]Poängberäkning!$B$6:$B$97,[1]Poängberäkning!$C$6:$C$97)","v":0},null,{"$f":"LOOKUP(W51,[1]Poängberäkning!$B$6:$B$97,[1]Poängberäkning!$C$6:$C$97)","v":0},{"$f":"LARGE(($H51,$J51,$L51,$N51,$P51,$R51,$T51,$V51,$X51),1)","v":0},{"$f":"LARGE(($H51,$J51,$L51,$N51,$P51,$R51,$T51,$V51,$X51),2)","v":0},{"$f":"LARGE(($H51,$J51,$L51,$N51,$P51,$R51,$T51,$V51,$X51),3)","v":0},{"$f":"LARGE(($H51,$J51,$L51,$N51,$P51,$R51,$T51,$V51,$X51),4)","v":0},{"$f":"LARGE(($H51,$J51,$L51,$N51,$P51,$R51,$T51,$V51,$X51),5)","v":0},{"$f":"LARGE(($H51,$J51,$L51,$N51,$P51,$R51,$T51,$V51,$X51),6)","v":0},{"$f":"LARGE(($H51,$J51,$L51,$N51,$P51,$R51,$T51,$V51,$X51),7)","v":0},{"$f":"LARGE(($H51,$J51,$L51,$N51,$P51,$R51,$T51,$V51,$X51),8)","v":0},{"$f":"LARGE(($H51,$J51,$L51,$N51,$P51,$R51,$T51,$V51,$X51),9)","v":0}]
[48,null,null,null,0,0,null,{"$f":"LOOKUP(G52,Poängberäkning!$B$6:$B$97,Poängberäkning!$C$6:$C$97)","v":0},null,{"$f":"LOOKUP(I52,Poängberäkning!$B$6:$B$97,Poängberäkning!$C$6:$C$97)","v":0},null,{"$f":"LOOKUP(K52,Poängberäkning!$B$6:$B$97,Poängberäkning!$C$6:$C$97)","v":0},null,{"$f":"LOOKUP(M52,Poängberäkning!$B$6:$B$97,Poängberäkning!$C$6:$C$97)","v":0},null,{"$f":"LOOKUP(O52,Poängberäkning!$B$6:$B$97,Poängberäkning!$C$6:$C$97)","v":0},null,{"$f":"LOOKUP(Q52,[1]Poängberäkning!$B$6:$B$97,[1]Poängberäkning!$C$6:$C$97)","v":0},null,{"$f":"LOOKUP(S52,[1]Poängberäkning!$B$6:$B$97,[1]Poängberäkning!$C$6:$C$97)","v":0},null,{"$f":"LOOKUP(U52,[1]Poängberäkning!$B$6:$B$97,[1]Poängberäkning!$C$6:$C$97)","v":0},null,{"$f":"LOOKUP(W52,[1]Poängberäkning!$B$6:$B$97,[1]Poängberäkning!$C$6:$C$97)","v":0},{"$f":"LARGE(($H52,$J52,$L52,$N52,$P52,$R52,$T52,$V52,$X52),1)","v":0},{"$f":"LARGE(($H52,$J52,$L52,$N52,$P52,$R52,$T52,$V52,$X52),2)","v":0},{"$f":"LARGE(($H52,$J52,$L52,$N52,$P52,$R52,$T52,$V52,$X52),3)","v":0},{"$f":"LARGE(($H52,$J52,$L52,$N52,$P52,$R52,$T52,$V52,$X52),4)","v":0},{"$f":"LARGE(($H52,$J52,$L52,$N52,$P52,$R52,$T52,$V52,$X52),5)","v":0},{"$f":"LARGE(($H52,$J52,$L52,$N52,$P52,$R52,$T52,$V52,$X52),6)","v":0},{"$f":"LARGE(($H52,$J52,$L52,$N52,$P52,$R52,$T52,$V52,$X52),7)","v":0},{"$f":"LARGE(($H52,$J52,$L52,$N52,$P52,$R52,$T52,$V52,$X52),8)","v":0},{"$f":"LARGE(($H52,$J52,$L52,$N52,$P52,$R52,$T52,$V52,$X52),9)","v":0}]
[49,null,null,null,0,0,null,{"$f":"LOOKUP(G53,Poängberäkning!$B$6:$B$97,Poängberäkning!$C$6:$C$97)","v":0},null,{"$f":"LOOKUP(I53,Poängberäkning!$B$6:$B$97,Poängberäkning!$C$6:$C$97)","v":0},null,{"$f":"LOOKUP(K53,Poängberäkning!$B$6:$B$97,Poängberäkning!$C$6:$C$97)","v":0},null,{"$f":"LOOKUP(M53,Poängberäkning!$B$6:$B$97,Poängberäkning!$C$6:$C$97)","v":0},null,{"$f":"LOOKUP(O53,Poängberäkning!$B$6:$B$97,Poängberäkning!$C$6:$C$97)","v":0},null,{"$f":"LOOKUP(Q53,[1]Poängberäkning!$B$6:$B$97,[1]Poängberäkning!$C$6:$C$97)","v":0},null,{"$f":"LOOKUP(S53,[1]Poängberäkning!$B$6:$B$97,[1]Poängberäkning!$C$6:$C$97)","v":0},null,{"$f":"LOOKUP(U53,[1]Poängberäkning!$B$6:$B$97,[1]Poängberäkning!$C$6:$C$97)","v":0},null,{"$f":"LOOKUP(W53,[1]Poängberäkning!$B$6:$B$97,[1]Poängberäkning!$C$6:$C$97)","v":0},{"$f":"LARGE(($H53,$J53,$L53,$N53,$P53,$R53,$T53,$V53,$X53),1)","v":0},{"$f":"LARGE(($H53,$J53,$L53,$N53,$P53,$R53,$T53,$V53,$X53),2)","v":0},{"$f":"LARGE(($H53,$J53,$L53,$N53,$P53,$R53,$T53,$V53,$X53),3)","v":0},{"$f":"LARGE(($H53,$J53,$L53,$N53,$P53,$R53,$T53,$V53,$X53),4)","v":0},{"$f":"LARGE(($H53,$J53,$L53,$N53,$P53,$R53,$T53,$V53,$X53),5)","v":0},{"$f":"LARGE(($H53,$J53,$L53,$N53,$P53,$R53,$T53,$V53,$X53),6)","v":0},{"$f":"LARGE(($H53,$J53,$L53,$N53,$P53,$R53,$T53,$V53,$X53),7)","v":0},{"$f":"LARGE(($H53,$J53,$L53,$N53,$P53,$R53,$T53,$V53,$X53),8)","v":0},{"$f":"LARGE(($H53,$J53,$L53,$N53,$P53,$R53,$T53,$V53,$X53),9)","v":0}]
[50,null,null,null,0,0,null,{"$f":"LOOKUP(G54,Poängberäkning!$B$6:$B$97,Poängberäkning!$C$6:$C$97)","v":0},null,{"$f":"LOOKUP(I54,Poängberäkning!$B$6:$B$97,Poängberäkning!$C$6:$C$97)","v":0},null,{"$f":"LOOKUP(K54,Poängberäkning!$B$6:$B$97,Poängberäkning!$C$6:$C$97)","v":0},null,{"$f":"LOOKUP(M54,Poängberäkning!$B$6:$B$97,Poängberäkning!$C$6:$C$97)","v":0},null,{"$f":"LOOKUP(O54,Poängberäkning!$B$6:$B$97,Poängberäkning!$C$6:$C$97)","v":0},null,{"$f":"LOOKUP(Q54,[1]Poängberäkning!$B$6:$B$97,[1]Poängberäkning!$C$6:$C$97)","v":0},null,{"$f":"LOOKUP(S54,[1]Poängberäkning!$B$6:$B$97,[1]Poängberäkning!$C$6:$C$97)","v":0},null,{"$f":"LOOKUP(U54,[1]Poängberäkning!$B$6:$B$97,[1]Poängberäkning!$C$6:$C$97)","v":0},null,{"$f":"LOOKUP(W54,[1]Poängberäkning!$B$6:$B$97,[1]Poängberäkning!$C$6:$C$97)","v":0},{"$f":"LARGE(($H54,$J54,$L54,$N54,$P54,$R54,$T54,$V54,$X54),1)","v":0},{"$f":"LARGE(($H54,$J54,$L54,$N54,$P54,$R54,$T54,$V54,$X54),2)","v":0},{"$f":"LARGE(($H54,$J54,$L54,$N54,$P54,$R54,$T54,$V54,$X54),3)","v":0},{"$f":"LARGE(($H54,$J54,$L54,$N54,$P54,$R54,$T54,$V54,$X54),4)","v":0},{"$f":"LARGE(($H54,$J54,$L54,$N54,$P54,$R54,$T54,$V54,$X54),5)","v":0},{"$f":"LARGE(($H54,$J54,$L54,$N54,$P54,$R54,$T54,$V54,$X54),6)","v":0},{"$f":"LARGE(($H54,$J54,$L54,$N54,$P54,$R54,$T54,$V54,$X54),7)","v":0},{"$f":"LARGE(($H54,$J54,$L54,$N54,$P54,$R54,$T54,$V54,$X54),8)","v":0},{"$f":"LARGE(($H54,$J54,$L54,$N54,$P54,$R54,$T54,$V54,$X54),9)","v":0}]
[51,null,null,null,0,0,null,{"$f":"LOOKUP(G55,Poängberäkning!$B$6:$B$97,Poängberäkning!$C$6:$C$97)","v":0},null,{"$f":"LOOKUP(I55,Poängberäkning!$B$6:$B$97,Poängberäkning!$C$6:$C$97)","v":0},null,{"$f":"LOOKUP(K55,Poängberäkning!$B$6:$B$97,Poängberäkning!$C$6:$C$97)","v":0},null,{"$f":"LOOKUP(M55,Poängberäkning!$B$6:$B$97,Poängberäkning!$C$6:$C$97)","v":0},null,{"$f":"LOOKUP(O55,Poängberäkning!$B$6:$B$97,Poängberäkning!$C$6:$C$97)","v":0},null,{"$f":"LOOKUP(Q55,[1]Poängberäkning!$B$6:$B$97,[1]Poängberäkning!$C$6:$C$97)","v":0},null,{"$f":"LOOKUP(S55,[1]Poängberäkning!$B$6:$B$97,[1]Poängberäkning!$C$6:$C$97)","v":0},null,{"$f":"LOOKUP(U55,[1]Poängberäkning!$B$6:$B$97,[1]Poängberäkning!$C$6:$C$97)","v":0},null,{"$f":"LOOKUP(W55,[1]Poängberäkning!$B$6:$B$97,[1]Poängberäkning!$C$6:$C$97)","v":0},{"$f":"LARGE(($H55,$J55,$L55,$N55,$P55,$R55,$T55,$V55,$X55),1)","v":0},{"$f":"LARGE(($H55,$J55,$L55,$N55,$P55,$R55,$T55,$V55,$X55),2)","v":0},{"$f":"LARGE(($H55,$J55,$L55,$N55,$P55,$R55,$T55,$V55,$X55),3)","v":0},{"$f":"LARGE(($H55,$J55,$L55,$N55,$P55,$R55,$T55,$V55,$X55),4)","v":0},{"$f":"LARGE(($H55,$J55,$L55,$N55,$P55,$R55,$T55,$V55,$X55),5)","v":0},{"$f":"LARGE(($H55,$J55,$L55,$N55,$P55,$R55,$T55,$V55,$X55),6)","v":0},{"$f":"LARGE(($H55,$J55,$L55,$N55,$P55,$R55,$T55,$V55,$X55),7)","v":0},{"$f":"LARGE(($H55,$J55,$L55,$N55,$P55,$R55,$T55,$V55,$X55),8)","v":0},{"$f":"LARGE(($H55,$J55,$L55,$N55,$P55,$R55,$T55,$V55,$X55),9)","v":0}]
[52,null,null,null,0,0,null,{"$f":"LOOKUP(G56,Poängberäkning!$B$6:$B$97,Poängberäkning!$C$6:$C$97)","v":0},null,{"$f":"LOOKUP(I56,Poängberäkning!$B$6:$B$97,Poängberäkning!$C$6:$C$97)","v":0},null,{"$f":"LOOKUP(K56,Poängberäkning!$B$6:$B$97,Poängberäkning!$C$6:$C$97)","v":0},null,{"$f":"LOOKUP(M56,Poängberäkning!$B$6:$B$97,Poängberäkning!$C$6:$C$97)","v":0},null,{"$f":"LOOKUP(O56,Poängberäkning!$B$6:$B$97,Poängberäkning!$C$6:$C$97)","v":0},null,{"$f":"LOOKUP(Q56,[1]Poängberäkning!$B$6:$B$97,[1]Poängberäkning!$C$6:$C$97)","v":0},null,{"$f":"LOOKUP(S56,[1]Poängberäkning!$B$6:$B$97,[1]Poängberäkning!$C$6:$C$97)","v":0},null,{"$f":"LOOKUP(U56,[1]Poängberäkning!$B$6:$B$97,[1]Poängberäkning!$C$6:$C$97)","v":0},null,{"$f":"LOOKUP(W56,[1]Poängberäkning!$B$6:$B$97,[1]Poängberäkning!$C$6:$C$97)","v":0},{"$f":"LARGE(($H56,$J56,$L56,$N56,$P56,$R56,$T56,$V56,$X56),1)","v":0},{"$f":"LARGE(($H56,$J56,$L56,$N56,$P56,$R56,$T56,$V56,$X56),2)","v":0},{"$f":"LARGE(($H56,$J56,$L56,$N56,$P56,$R56,$T56,$V56,$X56),3)","v":0},{"$f":"LARGE(($H56,$J56,$L56,$N56,$P56,$R56,$T56,$V56,$X56),4)","v":0},{"$f":"LARGE(($H56,$J56,$L56,$N56,$P56,$R56,$T56,$V56,$X56),5)","v":0},{"$f":"LARGE(($H56,$J56,$L56,$N56,$P56,$R56,$T56,$V56,$X56),6)","v":0},{"$f":"LARGE(($H56,$J56,$L56,$N56,$P56,$R56,$T56,$V56,$X56),7)","v":0},{"$f":"LARGE(($H56,$J56,$L56,$N56,$P56,$R56,$T56,$V56,$X56),8)","v":0},{"$f":"LARGE(($H56,$J56,$L56,$N56,$P56,$R56,$T56,$V56,$X56),9)","v":0}]
[53,null,null,null,0,0,null,{"$f":"LOOKUP(G57,Poängberäkning!$B$6:$B$97,Poängberäkning!$C$6:$C$97)","v":0},null,{"$f":"LOOKUP(I57,Poängberäkning!$B$6:$B$97,Poängberäkning!$C$6:$C$97)","v":0},null,{"$f":"LOOKUP(K57,Poängberäkning!$B$6:$B$97,Poängberäkning!$C$6:$C$97)","v":0},null,{"$f":"LOOKUP(M57,Poängberäkning!$B$6:$B$97,Poängberäkning!$C$6:$C$97)","v":0},null,{"$f":"LOOKUP(O57,Poängberäkning!$B$6:$B$97,Poängberäkning!$C$6:$C$97)","v":0},null,{"$f":"LOOKUP(Q57,[1]Poängberäkning!$B$6:$B$97,[1]Poängberäkning!$C$6:$C$97)","v":0},null,{"$f":"LOOKUP(S57,[1]Poängberäkning!$B$6:$B$97,[1]Poängberäkning!$C$6:$C$97)","v":0},null,{"$f":"LOOKUP(U57,[1]Poängberäkning!$B$6:$B$97,[1]Poängberäkning!$C$6:$C$97)","v":0},null,{"$f":"LOOKUP(W57,[1]Poängberäkning!$B$6:$B$97,[1]Poängberäkning!$C$6:$C$97)","v":0},{"$f":"LARGE(($H57,$J57,$L57,$N57,$P57,$R57,$T57,$V57,$X57),1)","v":0},{"$f":"LARGE(($H57,$J57,$L57,$N57,$P57,$R57,$T57,$V57,$X57),2)","v":0},{"$f":"LARGE(($H57,$J57,$L57,$N57,$P57,$R57,$T57,$V57,$X57),3)","v":0},{"$f":"LARGE(($H57,$J57,$L57,$N57,$P57,$R57,$T57,$V57,$X57),4)","v":0},{"$f":"LARGE(($H57,$J57,$L57,$N57,$P57,$R57,$T57,$V57,$X57),5)","v":0},{"$f":"LARGE(($H57,$J57,$L57,$N57,$P57,$R57,$T57,$V57,$X57),6)","v":0},{"$f":"LARGE(($H57,$J57,$L57,$N57,$P57,$R57,$T57,$V57,$X57),7)","v":0},{"$f":"LARGE(($H57,$J57,$L57,$N57,$P57,$R57,$T57,$V57,$X57),8)","v":0},{"$f":"LARGE(($H57,$J57,$L57,$N57,$P57,$R57,$T57,$V57,$X57),9)","v":0}]
[54,null,null,null,0,0,null,{"$f":"LOOKUP(G58,Poängberäkning!$B$6:$B$97,Poängberäkning!$C$6:$C$97)","v":0},null,{"$f":"LOOKUP(I58,Poängberäkning!$B$6:$B$97,Poängberäkning!$C$6:$C$97)","v":0},null,{"$f":"LOOKUP(K58,Poängberäkning!$B$6:$B$97,Poängberäkning!$C$6:$C$97)","v":0},null,{"$f":"LOOKUP(M58,Poängberäkning!$B$6:$B$97,Poängberäkning!$C$6:$C$97)","v":0},null,{"$f":"LOOKUP(O58,Poängberäkning!$B$6:$B$97,Poängberäkning!$C$6:$C$97)","v":0},null,{"$f":"LOOKUP(Q58,[1]Poängberäkning!$B$6:$B$97,[1]Poängberäkning!$C$6:$C$97)","v":0},null,{"$f":"LOOKUP(S58,[1]Poängberäkning!$B$6:$B$97,[1]Poängberäkning!$C$6:$C$97)","v":0},null,{"$f":"LOOKUP(U58,[1]Poängberäkning!$B$6:$B$97,[1]Poängberäkning!$C$6:$C$97)","v":0},null,{"$f":"LOOKUP(W58,[1]Poängberäkning!$B$6:$B$97,[1]Poängberäkning!$C$6:$C$97)","v":0},{"$f":"LARGE(($H58,$J58,$L58,$N58,$P58,$R58,$T58,$V58,$X58),1)","v":0},{"$f":"LARGE(($H58,$J58,$L58,$N58,$P58,$R58,$T58,$V58,$X58),2)","v":0},{"$f":"LARGE(($H58,$J58,$L58,$N58,$P58,$R58,$T58,$V58,$X58),3)","v":0},{"$f":"LARGE(($H58,$J58,$L58,$N58,$P58,$R58,$T58,$V58,$X58),4)","v":0},{"$f":"LARGE(($H58,$J58,$L58,$N58,$P58,$R58,$T58,$V58,$X58),5)","v":0},{"$f":"LARGE(($H58,$J58,$L58,$N58,$P58,$R58,$T58,$V58,$X58),6)","v":0},{"$f":"LARGE(($H58,$J58,$L58,$N58,$P58,$R58,$T58,$V58,$X58),7)","v":0},{"$f":"LARGE(($H58,$J58,$L58,$N58,$P58,$R58,$T58,$V58,$X58),8)","v":0},{"$f":"LARGE(($H58,$J58,$L58,$N58,$P58,$R58,$T58,$V58,$X58),9)","v":0}]
[55,null,null,null,0,0,null,{"$f":"LOOKUP(G59,Poängberäkning!$B$6:$B$97,Poängberäkning!$C$6:$C$97)","v":0},null,{"$f":"LOOKUP(I59,Poängberäkning!$B$6:$B$97,Poängberäkning!$C$6:$C$97)","v":0},null,{"$f":"LOOKUP(K59,Poängberäkning!$B$6:$B$97,Poängberäkning!$C$6:$C$97)","v":0},null,{"$f":"LOOKUP(M59,Poängberäkning!$B$6:$B$97,Poängberäkning!$C$6:$C$97)","v":0},null,{"$f":"LOOKUP(O59,Poängberäkning!$B$6:$B$97,Poängberäkning!$C$6:$C$97)","v":0},null,{"$f":"LOOKUP(Q59,[1]Poängberäkning!$B$6:$B$97,[1]Poängberäkning!$C$6:$C$97)","v":0},null,{"$f":"LOOKUP(S59,[1]Poängberäkning!$B$6:$B$97,[1]Poängberäkning!$C$6:$C$97)","v":0},null,{"$f":"LOOKUP(U59,[1]Poängberäkning!$B$6:$B$97,[1]Poängberäkning!$C$6:$C$97)","v":0},null,{"$f":"LOOKUP(W59,[1]Poängberäkning!$B$6:$B$97,[1]Poängberäkning!$C$6:$C$97)","v":0},{"$f":"LARGE(($H59,$J59,$L59,$N59,$P59,$R59,$T59,$V59,$X59),1)","v":0},{"$f":"LARGE(($H59,$J59,$L59,$N59,$P59,$R59,$T59,$V59,$X59),2)","v":0},{"$f":"LARGE(($H59,$J59,$L59,$N59,$P59,$R59,$T59,$V59,$X59),3)","v":0},{"$f":"LARGE(($H59,$J59,$L59,$N59,$P59,$R59,$T59,$V59,$X59),4)","v":0},{"$f":"LARGE(($H59,$J59,$L59,$N59,$P59,$R59,$T59,$V59,$X59),5)","v":0},{"$f":"LARGE(($H59,$J59,$L59,$N59,$P59,$R59,$T59,$V59,$X59),6)","v":0},{"$f":"LARGE(($H59,$J59,$L59,$N59,$P59,$R59,$T59,$V59,$X59),7)","v":0},{"$f":"LARGE(($H59,$J59,$L59,$N59,$P59,$R59,$T59,$V59,$X59),8)","v":0},{"$f":"LARGE(($H59,$J59,$L59,$N59,$P59,$R59,$T59,$V59,$X59),9)","v":0}]
[56,null,null,null,0,0,null,{"$f":"LOOKUP(G60,Poängberäkning!$B$6:$B$97,Poängberäkning!$C$6:$C$97)","v":0},null,{"$f":"LOOKUP(I60,Poängberäkning!$B$6:$B$97,Poängberäkning!$C$6:$C$97)","v":0},null,{"$f":"LOOKUP(K60,Poängberäkning!$B$6:$B$97,Poängberäkning!$C$6:$C$97)","v":0},null,{"$f":"LOOKUP(M60,Poängberäkning!$B$6:$B$97,Poängberäkning!$C$6:$C$97)","v":0},null,{"$f":"LOOKUP(O60,Poängberäkning!$B$6:$B$97,Poängberäkning!$C$6:$C$97)","v":0},null,{"$f":"LOOKUP(Q60,[1]Poängberäkning!$B$6:$B$97,[1]Poängberäkning!$C$6:$C$97)","v":0},null,{"$f":"LOOKUP(S60,[1]Poängberäkning!$B$6:$B$97,[1]Poängberäkning!$C$6:$C$97)","v":0},null,{"$f":"LOOKUP(U60,[1]Poängberäkning!$B$6:$B$97,[1]Poängberäkning!$C$6:$C$97)","v":0},null,{"$f":"LOOKUP(W60,[1]Poängberäkning!$B$6:$B$97,[1]Poängberäkning!$C$6:$C$97)","v":0},{"$f":"LARGE(($H60,$J60,$L60,$N60,$P60,$R60,$T60,$V60,$X60),1)","v":0},{"$f":"LARGE(($H60,$J60,$L60,$N60,$P60,$R60,$T60,$V60,$X60),2)","v":0},{"$f":"LARGE(($H60,$J60,$L60,$N60,$P60,$R60,$T60,$V60,$X60),3)","v":0},{"$f":"LARGE(($H60,$J60,$L60,$N60,$P60,$R60,$T60,$V60,$X60),4)","v":0},{"$f":"LARGE(($H60,$J60,$L60,$N60,$P60,$R60,$T60,$V60,$X60),5)","v":0},{"$f":"LARGE(($H60,$J60,$L60,$N60,$P60,$R60,$T60,$V60,$X60),6)","v":0},{"$f":"LARGE(($H60,$J60,$L60,$N60,$P60,$R60,$T60,$V60,$X60),7)","v":0},{"$f":"LARGE(($H60,$J60,$L60,$N60,$P60,$R60,$T60,$V60,$X60),8)","v":0},{"$f":"LARGE(($H60,$J60,$L60,$N60,$P60,$R60,$T60,$V60,$X60),9)","v":0}]
[57,null,null,null,0,0,null,{"$f":"LOOKUP(G61,Poängberäkning!$B$6:$B$97,Poängberäkning!$C$6:$C$97)","v":0},null,{"$f":"LOOKUP(I61,Poängberäkning!$B$6:$B$97,Poängberäkning!$C$6:$C$97)","v":0},null,{"$f":"LOOKUP(K61,Poängberäkning!$B$6:$B$97,Poängberäkning!$C$6:$C$97)","v":0},null,{"$f":"LOOKUP(M61,Poängberäkning!$B$6:$B$97,Poängberäkning!$C$6:$C$97)","v":0},null,{"$f":"LOOKUP(O61,Poängberäkning!$B$6:$B$97,Poängberäkning!$C$6:$C$97)","v":0},null,{"$f":"LOOKUP(Q61,[1]Poängberäkning!$B$6:$B$97,[1]Poängberäkning!$C$6:$C$97)","v":0},null,{"$f":"LOOKUP(S61,[1]Poängberäkning!$B$6:$B$97,[1]Poängberäkning!$C$6:$C$97)","v":0},null,{"$f":"LOOKUP(U61,[1]Poängberäkning!$B$6:$B$97,[1]Poängberäkning!$C$6:$C$97)","v":0},null,{"$f":"LOOKUP(W61,[1]Poängberäkning!$B$6:$B$97,[1]Poängberäkning!$C$6:$C$97)","v":0},{"$f":"LARGE(($H61,$J61,$L61,$N61,$P61,$R61,$T61,$V61,$X61),1)","v":0},{"$f":"LARGE(($H61,$J61,$L61,$N61,$P61,$R61,$T61,$V61,$X61),2)","v":0},{"$f":"LARGE(($H61,$J61,$L61,$N61,$P61,$R61,$T61,$V61,$X61),3)","v":0},{"$f":"LARGE(($H61,$J61,$L61,$N61,$P61,$R61,$T61,$V61,$X61),4)","v":0},{"$f":"LARGE(($H61,$J61,$L61,$N61,$P61,$R61,$T61,$V61,$X61),5)","v":0},{"$f":"LARGE(($H61,$J61,$L61,$N61,$P61,$R61,$T61,$V61,$X61),6)","v":0},{"$f":"LARGE(($H61,$J61,$L61,$N61,$P61,$R61,$T61,$V61,$X61),7)","v":0},{"$f":"LARGE(($H61,$J61,$L61,$N61,$P61,$R61,$T61,$V61,$X61),8)","v":0},{"$f":"LARGE(($H61,$J61,$L61,$N61,$P61,$R61,$T61,$V61,$X61),9)","v":0}]
[58,null,null,null,0,0,null,{"$f":"LOOKUP(G62,Poängberäkning!$B$6:$B$97,Poängberäkning!$C$6:$C$97)","v":0},null,{"$f":"LOOKUP(I62,Poängberäkning!$B$6:$B$97,Poängberäkning!$C$6:$C$97)","v":0},null,{"$f":"LOOKUP(K62,Poängberäkning!$B$6:$B$97,Poängberäkning!$C$6:$C$97)","v":0},null,{"$f":"LOOKUP(M62,Poängberäkning!$B$6:$B$97,Poängberäkning!$C$6:$C$97)","v":0},null,{"$f":"LOOKUP(O62,Poängberäkning!$B$6:$B$97,Poängberäkning!$C$6:$C$97)","v":0},null,{"$f":"LOOKUP(Q62,[1]Poängberäkning!$B$6:$B$97,[1]Poängberäkning!$C$6:$C$97)","v":0},null,{"$f":"LOOKUP(S62,[1]Poängberäkning!$B$6:$B$97,[1]Poängberäkning!$C$6:$C$97)","v":0},null,{"$f":"LOOKUP(U62,[1]Poängberäkning!$B$6:$B$97,[1]Poängberäkning!$C$6:$C$97)","v":0},null,{"$f":"LOOKUP(W62,[1]Poängberäkning!$B$6:$B$97,[1]Poängberäkning!$C$6:$C$97)","v":0},{"$f":"LARGE(($H62,$J62,$L62,$N62,$P62,$R62,$T62,$V62,$X62),1)","v":0},{"$f":"LARGE(($H62,$J62,$L62,$N62,$P62,$R62,$T62,$V62,$X62),2)","v":0},{"$f":"LARGE(($H62,$J62,$L62,$N62,$P62,$R62,$T62,$V62,$X62),3)","v":0},{"$f":"LARGE(($H62,$J62,$L62,$N62,$P62,$R62,$T62,$V62,$X62),4)","v":0},{"$f":"LARGE(($H62,$J62,$L62,$N62,$P62,$R62,$T62,$V62,$X62),5)","v":0},{"$f":"LARGE(($H62,$J62,$L62,$N62,$P62,$R62,$T62,$V62,$X62),6)","v":0},{"$f":"LARGE(($H62,$J62,$L62,$N62,$P62,$R62,$T62,$V62,$X62),7)","v":0},{"$f":"LARGE(($H62,$J62,$L62,$N62,$P62,$R62,$T62,$V62,$X62),8)","v":0},{"$f":"LARGE(($H62,$J62,$L62,$N62,$P62,$R62,$T62,$V62,$X62),9)","v":0}]
[59,null,null,null,0,0,null,{"$f":"LOOKUP(G63,Poängberäkning!$B$6:$B$97,Poängberäkning!$C$6:$C$97)","v":0},null,{"$f":"LOOKUP(I63,Poängberäkning!$B$6:$B$97,Poängberäkning!$C$6:$C$97)","v":0},null,{"$f":"LOOKUP(K63,Poängberäkning!$B$6:$B$97,Poängberäkning!$C$6:$C$97)","v":0},null,{"$f":"LOOKUP(M63,Poängberäkning!$B$6:$B$97,Poängberäkning!$C$6:$C$97)","v":0},null,{"$f":"LOOKUP(O63,Poängberäkning!$B$6:$B$97,Poängberäkning!$C$6:$C$97)","v":0},null,{"$f":"LOOKUP(Q63,[1]Poängberäkning!$B$6:$B$97,[1]Poängberäkning!$C$6:$C$97)","v":0},null,{"$f":"LOOKUP(S63,[1]Poängberäkning!$B$6:$B$97,[1]Poängberäkning!$C$6:$C$97)","v":0},null,{"$f":"LOOKUP(U63,[1]Poängberäkning!$B$6:$B$97,[1]Poängberäkning!$C$6:$C$97)","v":0},null,{"$f":"LOOKUP(W63,[1]Poängberäkning!$B$6:$B$97,[1]Poängberäkning!$C$6:$C$97)","v":0},{"$f":"LARGE(($H63,$J63,$L63,$N63,$P63,$R63,$T63,$V63,$X63),1)","v":0},{"$f":"LARGE(($H63,$J63,$L63,$N63,$P63,$R63,$T63,$V63,$X63),2)","v":0},{"$f":"LARGE(($H63,$J63,$L63,$N63,$P63,$R63,$T63,$V63,$X63),3)","v":0},{"$f":"LARGE(($H63,$J63,$L63,$N63,$P63,$R63,$T63,$V63,$X63),4)","v":0},{"$f":"LARGE(($H63,$J63,$L63,$N63,$P63,$R63,$T63,$V63,$X63),5)","v":0},{"$f":"LARGE(($H63,$J63,$L63,$N63,$P63,$R63,$T63,$V63,$X63),6)","v":0},{"$f":"LARGE(($H63,$J63,$L63,$N63,$P63,$R63,$T63,$V63,$X63),7)","v":0},{"$f":"LARGE(($H63,$J63,$L63,$N63,$P63,$R63,$T63,$V63,$X63),8)","v":0},{"$f":"LARGE(($H63,$J63,$L63,$N63,$P63,$R63,$T63,$V63,$X63),9)","v":0}]
[60,null,null,null,0,0,null,{"$f":"LOOKUP(G64,Poängberäkning!$B$6:$B$97,Poängberäkning!$C$6:$C$97)","v":0},null,{"$f":"LOOKUP(I64,Poängberäkning!$B$6:$B$97,Poängberäkning!$C$6:$C$97)","v":0},null,{"$f":"LOOKUP(K64,Poängberäkning!$B$6:$B$97,Poängberäkning!$C$6:$C$97)","v":0},null,{"$f":"LOOKUP(M64,Poängberäkning!$B$6:$B$97,Poängberäkning!$C$6:$C$97)","v":0},null,{"$f":"LOOKUP(O64,Poängberäkning!$B$6:$B$97,Poängberäkning!$C$6:$C$97)","v":0},null,{"$f":"LOOKUP(Q64,[1]Poängberäkning!$B$6:$B$97,[1]Poängberäkning!$C$6:$C$97)","v":0},null,{"$f":"LOOKUP(S64,[1]Poängberäkning!$B$6:$B$97,[1]Poängberäkning!$C$6:$C$97)","v":0},null,{"$f":"LOOKUP(U64,[1]Poängberäkning!$B$6:$B$97,[1]Poängberäkning!$C$6:$C$97)","v":0},null,{"$f":"LOOKUP(W64,[1]Poängberäkning!$B$6:$B$97,[1]Poängberäkning!$C$6:$C$97)","v":0},{"$f":"LARGE(($H64,$J64,$L64,$N64,$P64,$R64,$T64,$V64,$X64),1)","v":0},{"$f":"LARGE(($H64,$J64,$L64,$N64,$P64,$R64,$T64,$V64,$X64),2)","v":0},{"$f":"LARGE(($H64,$J64,$L64,$N64,$P64,$R64,$T64,$V64,$X64),3)","v":0},{"$f":"LARGE(($H64,$J64,$L64,$N64,$P64,$R64,$T64,$V64,$X64),4)","v":0},{"$f":"LARGE(($H64,$J64,$L64,$N64,$P64,$R64,$T64,$V64,$X64),5)","v":0},{"$f":"LARGE(($H64,$J64,$L64,$N64,$P64,$R64,$T64,$V64,$X64),6)","v":0},{"$f":"LARGE(($H64,$J64,$L64,$N64,$P64,$R64,$T64,$V64,$X64),7)","v":0},{"$f":"LARGE(($H64,$J64,$L64,$N64,$P64,$R64,$T64,$V64,$X64),8)","v":0},{"$f":"LARGE(($H64,$J64,$L64,$N64,$P64,$R64,$T64,$V64,$X64),9)","v":0}]
[61,null,null,null,0,0,null,{"$f":"LOOKUP(G65,Poängberäkning!$B$6:$B$97,Poängberäkning!$C$6:$C$97)","v":0},null,{"$f":"LOOKUP(I65,Poängberäkning!$B$6:$B$97,Poängberäkning!$C$6:$C$97)","v":0},null,{"$f":"LOOKUP(K65,Poängberäkning!$B$6:$B$97,Poängberäkning!$C$6:$C$97)","v":0},null,{"$f":"LOOKUP(M65,Poängberäkning!$B$6:$B$97,Poängberäkning!$C$6:$C$97)","v":0},null,{"$f":"LOOKUP(O65,Poängberäkning!$B$6:$B$97,Poängberäkning!$C$6:$C$97)","v":0},null,{"$f":"LOOKUP(Q65,[1]Poängberäkning!$B$6:$B$97,[1]Poängberäkning!$C$6:$C$97)","v":0},null,{"$f":"LOOKUP(S65,[1]Poängberäkning!$B$6:$B$97,[1]Poängberäkning!$C$6:$C$97)","v":0},null,{"$f":"LOOKUP(U65,[1]Poängberäkning!$B$6:$B$97,[1]Poängberäkning!$C$6:$C$97)","v":0},null,{"$f":"LOOKUP(W65,[1]Poängberäkning!$B$6:$B$97,[1]Poängberäkning!$C$6:$C$97)","v":0},{"$f":"LARGE(($H65,$J65,$L65,$N65,$P65,$R65,$T65,$V65,$X65),1)","v":0},{"$f":"LARGE(($H65,$J65,$L65,$N65,$P65,$R65,$T65,$V65,$X65),2)","v":0},{"$f":"LARGE(($H65,$J65,$L65,$N65,$P65,$R65,$T65,$V65,$X65),3)","v":0},{"$f":"LARGE(($H65,$J65,$L65,$N65,$P65,$R65,$T65,$V65,$X65),4)","v":0},{"$f":"LARGE(($H65,$J65,$L65,$N65,$P65,$R65,$T65,$V65,$X65),5)","v":0},{"$f":"LARGE(($H65,$J65,$L65,$N65,$P65,$R65,$T65,$V65,$X65),6)","v":0},{"$f":"LARGE(($H65,$J65,$L65,$N65,$P65,$R65,$T65,$V65,$X65),7)","v":0},{"$f":"LARGE(($H65,$J65,$L65,$N65,$P65,$R65,$T65,$V65,$X65),8)","v":0},{"$f":"LARGE(($H65,$J65,$L65,$N65,$P65,$R65,$T65,$V65,$X65),9)","v":0}]
[62,null,null,null,0,0,null,{"$f":"LOOKUP(G66,Poängberäkning!$B$6:$B$97,Poängberäkning!$C$6:$C$97)","v":0},null,{"$f":"LOOKUP(I66,Poängberäkning!$B$6:$B$97,Poängberäkning!$C$6:$C$97)","v":0},null,{"$f":"LOOKUP(K66,Poängberäkning!$B$6:$B$97,Poängberäkning!$C$6:$C$97)","v":0},null,{"$f":"LOOKUP(M66,Poängberäkning!$B$6:$B$97,Poängberäkning!$C$6:$C$97)","v":0},null,{"$f":"LOOKUP(O66,Poängberäkning!$B$6:$B$97,Poängberäkning!$C$6:$C$97)","v":0},null,{"$f":"LOOKUP(Q66,[1]Poängberäkning!$B$6:$B$97,[1]Poängberäkning!$C$6:$C$97)","v":0},null,{"$f":"LOOKUP(S66,[1]Poängberäkning!$B$6:$B$97,[1]Poängberäkning!$C$6:$C$97)","v":0},null,{"$f":"LOOKUP(U66,[1]Poängberäkning!$B$6:$B$97,[1]Poängberäkning!$C$6:$C$97)","v":0},null,{"$f":"LOOKUP(W66,[1]Poängberäkning!$B$6:$B$97,[1]Poängberäkning!$C$6:$C$97)","v":0},{"$f":"LARGE(($H66,$J66,$L66,$N66,$P66,$R66,$T66,$V66,$X66),1)","v":0},{"$f":"LARGE(($H66,$J66,$L66,$N66,$P66,$R66,$T66,$V66,$X66),2)","v":0},{"$f":"LARGE(($H66,$J66,$L66,$N66,$P66,$R66,$T66,$V66,$X66),3)","v":0},{"$f":"LARGE(($H66,$J66,$L66,$N66,$P66,$R66,$T66,$V66,$X66),4)","v":0},{"$f":"LARGE(($H66,$J66,$L66,$N66,$P66,$R66,$T66,$V66,$X66),5)","v":0},{"$f":"LARGE(($H66,$J66,$L66,$N66,$P66,$R66,$T66,$V66,$X66),6)","v":0},{"$f":"LARGE(($H66,$J66,$L66,$N66,$P66,$R66,$T66,$V66,$X66),7)","v":0},{"$f":"LARGE(($H66,$J66,$L66,$N66,$P66,$R66,$T66,$V66,$X66),8)","v":0},{"$f":"LARGE(($H66,$J66,$L66,$N66,$P66,$R66,$T66,$V66,$X66),9)","v":0}]
[63,null,null,null,0,0,null,{"$f":"LOOKUP(G67,Poängberäkning!$B$6:$B$97,Poängberäkning!$C$6:$C$97)","v":0},null,{"$f":"LOOKUP(I67,Poängberäkning!$B$6:$B$97,Poängberäkning!$C$6:$C$97)","v":0},null,{"$f":"LOOKUP(K67,Poängberäkning!$B$6:$B$97,Poängberäkning!$C$6:$C$97)","v":0},null,{"$f":"LOOKUP(M67,Poängberäkning!$B$6:$B$97,Poängberäkning!$C$6:$C$97)","v":0},null,{"$f":"LOOKUP(O67,Poängberäkning!$B$6:$B$97,Poängberäkning!$C$6:$C$97)","v":0},null,{"$f":"LOOKUP(Q67,[1]Poängberäkning!$B$6:$B$97,[1]Poängberäkning!$C$6:$C$97)","v":0},null,{"$f":"LOOKUP(S67,[1]Poängberäkning!$B$6:$B$97,[1]Poängberäkning!$C$6:$C$97)","v":0},null,{"$f":"LOOKUP(U67,[1]Poängberäkning!$B$6:$B$97,[1]Poängberäkning!$C$6:$C$97)","v":0},null,{"$f":"LOOKUP(W67,[1]Poängberäkning!$B$6:$B$97,[1]Poängberäkning!$C$6:$C$97)","v":0},{"$f":"LARGE(($H67,$J67,$L67,$N67,$P67,$R67,$T67,$V67,$X67),1)","v":0},{"$f":"LARGE(($H67,$J67,$L67,$N67,$P67,$R67,$T67,$V67,$X67),2)","v":0},{"$f":"LARGE(($H67,$J67,$L67,$N67,$P67,$R67,$T67,$V67,$X67),3)","v":0},{"$f":"LARGE(($H67,$J67,$L67,$N67,$P67,$R67,$T67,$V67,$X67),4)","v":0},{"$f":"LARGE(($H67,$J67,$L67,$N67,$P67,$R67,$T67,$V67,$X67),5)","v":0},{"$f":"LARGE(($H67,$J67,$L67,$N67,$P67,$R67,$T67,$V67,$X67),6)","v":0},{"$f":"LARGE(($H67,$J67,$L67,$N67,$P67,$R67,$T67,$V67,$X67),7)","v":0},{"$f":"LARGE(($H67,$J67,$L67,$N67,$P67,$R67,$T67,$V67,$X67),8)","v":0},{"$f":"LARGE(($H67,$J67,$L67,$N67,$P67,$R67,$T67,$V67,$X67),9)","v":0}]
[64,null,null,null,0,0,null,{"$f":"LOOKUP(G68,Poängberäkning!$B$6:$B$97,Poängberäkning!$C$6:$C$97)","v":0},null,{"$f":"LOOKUP(I68,Poängberäkning!$B$6:$B$97,Poängberäkning!$C$6:$C$97)","v":0},null,{"$f":"LOOKUP(K68,Poängberäkning!$B$6:$B$97,Poängberäkning!$C$6:$C$97)","v":0},null,{"$f":"LOOKUP(M68,Poängberäkning!$B$6:$B$97,Poängberäkning!$C$6:$C$97)","v":0},null,{"$f":"LOOKUP(O68,Poängberäkning!$B$6:$B$97,Poängberäkning!$C$6:$C$97)","v":0},null,{"$f":"LOOKUP(Q68,[1]Poängberäkning!$B$6:$B$97,[1]Poängberäkning!$C$6:$C$97)","v":0},null,{"$f":"LOOKUP(S68,[1]Poängberäkning!$B$6:$B$97,[1]Poängberäkning!$C$6:$C$97)","v":0},null,{"$f":"LOOKUP(U68,[1]Poängberäkning!$B$6:$B$97,[1]Poängberäkning!$C$6:$C$97)","v":0},null,{"$f":"LOOKUP(W68,[1]Poängberäkning!$B$6:$B$97,[1]Poängberäkning!$C$6:$C$97)","v":0},{"$f":"LARGE(($H68,$J68,$L68,$N68,$P68,$R68,$T68,$V68,$X68),1)","v":0},{"$f":"LARGE(($H68,$J68,$L68,$N68,$P68,$R68,$T68,$V68,$X68),2)","v":0},{"$f":"LARGE(($H68,$J68,$L68,$N68,$P68,$R68,$T68,$V68,$X68),3)","v":0},{"$f":"LARGE(($H68,$J68,$L68,$N68,$P68,$R68,$T68,$V68,$X68),4)","v":0},{"$f":"LARGE(($H68,$J68,$L68,$N68,$P68,$R68,$T68,$V68,$X68),5)","v":0},{"$f":"LARGE(($H68,$J68,$L68,$N68,$P68,$R68,$T68,$V68,$X68),6)","v":0},{"$f":"LARGE(($H68,$J68,$L68,$N68,$P68,$R68,$T68,$V68,$X68),7)","v":0},{"$f":"LARGE(($H68,$J68,$L68,$N68,$P68,$R68,$T68,$V68,$X68),8)","v":0},{"$f":"LARGE(($H68,$J68,$L68,$N68,$P68,$R68,$T68,$V68,$X68),9)","v":0}]
[65,null,null,null,{"$f":"SUM(Y69:AA69)","v":0},{"$f":"H69+J69+L69+N69+P69+R69+T69+V69+X69","v":0},null,{"$f":"LOOKUP(G69,Poängberäkning!$B$6:$B$97,Poängberäkning!$C$6:$C$97)","v":0},null,{"$f":"LOOKUP(I69,Poängberäkning!$B$6:$B$97,Poängberäkning!$C$6:$C$97)","v":0},null,{"$f":"LOOKUP(K69,Poängberäkning!$B$6:$B$97,Poängberäkning!$C$6:$C$97)","v":0},null,{"$f":"LOOKUP(M69,Poängberäkning!$B$6:$B$97,Poängberäkning!$C$6:$C$97)","v":0},null,{"$f":"LOOKUP(O69,Poängberäkning!$B$6:$B$97,Poängberäkning!$C$6:$C$97)","v":0},null,{"$f":"LOOKUP(Q69,[1]Poängberäkning!$B$6:$B$97,[1]Poängberäkning!$C$6:$C$97)","v":0},null,{"$f":"LOOKUP(S69,[1]Poängberäkning!$B$6:$B$97,[1]Poängberäkning!$C$6:$C$97)","v":0},null,{"$f":"LOOKUP(U69,[1]Poängberäkning!$B$6:$B$97,[1]Poängberäkning!$C$6:$C$97)","v":0},null,{"$f":"LOOKUP(W69,[1]Poängberäkning!$B$6:$B$97,[1]Poängberäkning!$C$6:$C$97)","v":0},{"$f":"LARGE(($H69,$J69,$L69,$N69,$P69,$R69,$T69,$V69,$X69),1)","v":0},{"$f":"LARGE(($H69,$J69,$L69,$N69,$P69,$R69,$T69,$V69,$X69),2)","v":0},{"$f":"LARGE(($H69,$J69,$L69,$N69,$P69,$R69,$T69,$V69,$X69),3)","v":0},{"$f":"LARGE(($H69,$J69,$L69,$N69,$P69,$R69,$T69,$V69,$X69),4)","v":0},{"$f":"LARGE(($H69,$J69,$L69,$N69,$P69,$R69,$T69,$V69,$X69),5)","v":0},{"$f":"LARGE(($H69,$J69,$L69,$N69,$P69,$R69,$T69,$V69,$X69),6)","v":0},{"$f":"LARGE(($H69,$J69,$L69,$N69,$P69,$R69,$T69,$V69,$X69),7)","v":0},{"$f":"LARGE(($H69,$J69,$L69,$N69,$P69,$R69,$T69,$V69,$X69),8)","v":0},{"$f":"LARGE(($H69,$J69,$L69,$N69,$P69,$R69,$T69,$V69,$X69),9)","v":0}]
[66,null,null,null,0,0,null,{"$f":"LOOKUP(G70,Poängberäkning!$B$6:$B$97,Poängberäkning!$C$6:$C$97)","v":0},null,{"$f":"LOOKUP(I70,Poängberäkning!$B$6:$B$97,Poängberäkning!$C$6:$C$97)","v":0},null,{"$f":"LOOKUP(K70,Poängberäkning!$B$6:$B$97,Poängberäkning!$C$6:$C$97)","v":0},null,{"$f":"LOOKUP(M70,Poängberäkning!$B$6:$B$97,Poängberäkning!$C$6:$C$97)","v":0},null,{"$f":"LOOKUP(O70,Poängberäkning!$B$6:$B$97,Poängberäkning!$C$6:$C$97)","v":0},null,{"$f":"LOOKUP(Q70,[1]Poängberäkning!$B$6:$B$97,[1]Poängberäkning!$C$6:$C$97)","v":0},null,{"$f":"LOOKUP(S70,[1]Poängberäkning!$B$6:$B$97,[1]Poängberäkning!$C$6:$C$97)","v":0},null,{"$f":"LOOKUP(U70,[1]Poängberäkning!$B$6:$B$97,[1]Poängberäkning!$C$6:$C$97)","v":0},null,{"$f":"LOOKUP(W70,[1]Poängberäkning!$B$6:$B$97,[1]Poängberäkning!$C$6:$C$97)","v":0},{"$f":"LARGE(($H70,$J70,$L70,$N70,$P70,$R70,$T70,$V70,$X70),1)","v":0},{"$f":"LARGE(($H70,$J70,$L70,$N70,$P70,$R70,$T70,$V70,$X70),2)","v":0},{"$f":"LARGE(($H70,$J70,$L70,$N70,$P70,$R70,$T70,$V70,$X70),3)","v":0},{"$f":"LARGE(($H70,$J70,$L70,$N70,$P70,$R70,$T70,$V70,$X70),4)","v":0},{"$f":"LARGE(($H70,$J70,$L70,$N70,$P70,$R70,$T70,$V70,$X70),5)","v":0},{"$f":"LARGE(($H70,$J70,$L70,$N70,$P70,$R70,$T70,$V70,$X70),6)","v":0},{"$f":"LARGE(($H70,$J70,$L70,$N70,$P70,$R70,$T70,$V70,$X70),7)","v":0},{"$f":"LARGE(($H70,$J70,$L70,$N70,$P70,$R70,$T70,$V70,$X70),8)","v":0},{"$f":"LARGE(($H70,$J70,$L70,$N70,$P70,$R70,$T70,$V70,$X70),9)","v":0}]
[67,null,null,null,0,0,null,{"$f":"LOOKUP(G71,Poängberäkning!$B$6:$B$97,Poängberäkning!$C$6:$C$97)","v":0},null,{"$f":"LOOKUP(I71,Poängberäkning!$B$6:$B$97,Poängberäkning!$C$6:$C$97)","v":0},null,{"$f":"LOOKUP(K71,Poängberäkning!$B$6:$B$97,Poängberäkning!$C$6:$C$97)","v":0},null,{"$f":"LOOKUP(M71,Poängberäkning!$B$6:$B$97,Poängberäkning!$C$6:$C$97)","v":0},null,{"$f":"LOOKUP(O71,Poängberäkning!$B$6:$B$97,Poängberäkning!$C$6:$C$97)","v":0},null,{"$f":"LOOKUP(Q71,[1]Poängberäkning!$B$6:$B$97,[1]Poängberäkning!$C$6:$C$97)","v":0},null,{"$f":"LOOKUP(S71,[1]Poängberäkning!$B$6:$B$97,[1]Poängberäkning!$C$6:$C$97)","v":0},null,{"$f":"LOOKUP(U71,[1]Poängberäkning!$B$6:$B$97,[1]Poängberäkning!$C$6:$C$97)","v":0},null,{"$f":"LOOKUP(W71,[1]Poängberäkning!$B$6:$B$97,[1]Poängberäkning!$C$6:$C$97)","v":0},{"$f":"LARGE(($H71,$J71,$L71,$N71,$P71,$R71,$T71,$V71,$X71),1)","v":0},{"$f":"LARGE(($H71,$J71,$L71,$N71,$P71,$R71,$T71,$V71,$X71),2)","v":0},{"$f":"LARGE(($H71,$J71,$L71,$N71,$P71,$R71,$T71,$V71,$X71),3)","v":0},{"$f":"LARGE(($H71,$J71,$L71,$N71,$P71,$R71,$T71,$V71,$X71),4)","v":0},{"$f":"LARGE(($H71,$J71,$L71,$N71,$P71,$R71,$T71,$V71,$X71),5)","v":0},{"$f":"LARGE(($H71,$J71,$L71,$N71,$P71,$R71,$T71,$V71,$X71),6)","v":0},{"$f":"LARGE(($H71,$J71,$L71,$N71,$P71,$R71,$T71,$V71,$X71),7)","v":0},{"$f":"LARGE(($H71,$J71,$L71,$N71,$P71,$R71,$T71,$V71,$X71),8)","v":0},{"$f":"LARGE(($H71,$J71,$L71,$N71,$P71,$R71,$T71,$V71,$X71),9)","v":0}]
[{"$f":"A71+1","v":68},null,null,null,0,0,null,{"$f":"LOOKUP(G72,Poängberäkning!$B$6:$B$97,Poängberäkning!$C$6:$C$97)","v":0},null,{"$f":"LOOKUP(I72,Poängberäkning!$B$6:$B$97,Poängberäkning!$C$6:$C$97)","v":0},null,{"$f":"LOOKUP(K72,Poängberäkning!$B$6:$B$97,Poängberäkning!$C$6:$C$97)","v":0},null,{"$f":"LOOKUP(M72,Poängberäkning!$B$6:$B$97,Poängberäkning!$C$6:$C$97)","v":0},null,{"$f":"LOOKUP(O72,Poängberäkning!$B$6:$B$97,Poängberäkning!$C$6:$C$97)","v":0},null,{"$f":"LOOKUP(Q72,[1]Poängberäkning!$B$6:$B$97,[1]Poängberäkning!$C$6:$C$97)","v":0},null,{"$f":"LOOKUP(S72,[1]Poängberäkning!$B$6:$B$97,[1]Poängberäkning!$C$6:$C$97)","v":0},null,{"$f":"LOOKUP(U72,[1]Poängberäkning!$B$6:$B$97,[1]Poängberäkning!$C$6:$C$97)","v":0},null,{"$f":"LOOKUP(W72,[1]Poängberäkning!$B$6:$B$97,[1]Poängberäkning!$C$6:$C$97)","v":0},{"$f":"LARGE(($H72,$J72,$L72,$N72,$P72,$R72,$T72,$V72,$X72),1)","v":0},{"$f":"LARGE(($H72,$J72,$L72,$N72,$P72,$R72,$T72,$V72,$X72),2)","v":0},{"$f":"LARGE(($H72,$J72,$L72,$N72,$P72,$R72,$T72,$V72,$X72),3)","v":0},{"$f":"LARGE(($H72,$J72,$L72,$N72,$P72,$R72,$T72,$V72,$X72),4)","v":0},{"$f":"LARGE(($H72,$J72,$L72,$N72,$P72,$R72,$T72,$V72,$X72),5)","v":0},{"$f":"LARGE(($H72,$J72,$L72,$N72,$P72,$R72,$T72,$V72,$X72),6)","v":0},{"$f":"LARGE(($H72,$J72,$L72,$N72,$P72,$R72,$T72,$V72,$X72),7)","v":0},{"$f":"LARGE(($H72,$J72,$L72,$N72,$P72,$R72,$T72,$V72,$X72),8)","v":0},{"$f":"LARGE(($H72,$J72,$L72,$N72,$P72,$R72,$T72,$V72,$X72),9)","v":0}]
[69,null,null,null,0,0,null,{"$f":"LOOKUP(G73,Poängberäkning!$B$6:$B$97,Poängberäkning!$C$6:$C$97)","v":0},null,{"$f":"LOOKUP(I73,Poängberäkning!$B$6:$B$97,Poängberäkning!$C$6:$C$97)","v":0},null,{"$f":"LOOKUP(K73,Poängberäkning!$B$6:$B$97,Poängberäkning!$C$6:$C$97)","v":0},null,{"$f":"LOOKUP(M73,Poängberäkning!$B$6:$B$97,Poängberäkning!$C$6:$C$97)","v":0},null,{"$f":"LOOKUP(O73,Poängberäkning!$B$6:$B$97,Poängberäkning!$C$6:$C$97)","v":0},null,{"$f":"LOOKUP(Q73,[1]Poängberäkning!$B$6:$B$97,[1]Poängberäkning!$C$6:$C$97)","v":0},null,{"$f":"LOOKUP(S73,[1]Poängberäkning!$B$6:$B$97,[1]Poängberäkning!$C$6:$C$97)","v":0},null,{"$f":"LOOKUP(U73,[1]Poängberäkning!$B$6:$B$97,[1]Poängberäkning!$C$6:$C$97)","v":0},null,{"$f":"LOOKUP(W73,[1]Poängberäkning!$B$6:$B$97,[1]Poängberäkning!$C$6:$C$97)","v":0},{"$f":"LARGE(($H73,$J73,$L73,$N73,$P73,$R73,$T73,$V73,$X73),1)","v":0},{"$f":"LARGE(($H73,$J73,$L73,$N73,$P73,$R73,$T73,$V73,$X73),2)","v":0},{"$f":"LARGE(($H73,$J73,$L73,$N73,$P73,$R73,$T73,$V73,$X73),3)","v":0},{"$f":"LARGE(($H73,$J73,$L73,$N73,$P73,$R73,$T73,$V73,$X73),4)","v":0},{"$f":"LARGE(($H73,$J73,$L73,$N73,$P73,$R73,$T73,$V73,$X73),5)","v":0},{"$f":"LARGE(($H73,$J73,$L73,$N73,$P73,$R73,$T73,$V73,$X73),6)","v":0},{"$f":"LARGE(($H73,$J73,$L73,$N73,$P73,$R73,$T73,$V73,$X73),7)","v":0},{"$f":"LARGE(($H73,$J73,$L73,$N73,$P73,$R73,$T73,$V73,$X73),8)","v":0},{"$f":"LARGE(($H73,$J73,$L73,$N73,$P73,$R73,$T73,$V73,$X73),9)","v":0}]
[70,null,null,null,0,0,null,{"$f":"LOOKUP(G74,Poängberäkning!$B$6:$B$97,Poängberäkning!$C$6:$C$97)","v":0},null,{"$f":"LOOKUP(I74,Poängberäkning!$B$6:$B$97,Poängberäkning!$C$6:$C$97)","v":0},null,{"$f":"LOOKUP(K74,Poängberäkning!$B$6:$B$97,Poängberäkning!$C$6:$C$97)","v":0},null,{"$f":"LOOKUP(M74,Poängberäkning!$B$6:$B$97,Poängberäkning!$C$6:$C$97)","v":0},null,{"$f":"LOOKUP(O74,Poängberäkning!$B$6:$B$97,Poängberäkning!$C$6:$C$97)","v":0},null,{"$f":"LOOKUP(Q74,[1]Poängberäkning!$B$6:$B$97,[1]Poängberäkning!$C$6:$C$97)","v":0},null,{"$f":"LOOKUP(S74,[1]Poängberäkning!$B$6:$B$97,[1]Poängberäkning!$C$6:$C$97)","v":0},null,{"$f":"LOOKUP(U74,[1]Poängberäkning!$B$6:$B$97,[1]Poängberäkning!$C$6:$C$97)","v":0},null,{"$f":"LOOKUP(W74,[1]Poängberäkning!$B$6:$B$97,[1]Poängberäkning!$C$6:$C$97)","v":0},{"$f":"LARGE(($H74,$J74,$L74,$N74,$P74,$R74,$T74,$V74,$X74),1)","v":0},{"$f":"LARGE(($H74,$J74,$L74,$N74,$P74,$R74,$T74,$V74,$X74),2)","v":0},{"$f":"LARGE(($H74,$J74,$L74,$N74,$P74,$R74,$T74,$V74,$X74),3)","v":0},{"$f":"LARGE(($H74,$J74,$L74,$N74,$P74,$R74,$T74,$V74,$X74),4)","v":0},{"$f":"LARGE(($H74,$J74,$L74,$N74,$P74,$R74,$T74,$V74,$X74),5)","v":0},{"$f":"LARGE(($H74,$J74,$L74,$N74,$P74,$R74,$T74,$V74,$X74),6)","v":0},{"$f":"LARGE(($H74,$J74,$L74,$N74,$P74,$R74,$T74,$V74,$X74),7)","v":0},{"$f":"LARGE(($H74,$J74,$L74,$N74,$P74,$R74,$T74,$V74,$X74),8)","v":0},{"$f":"LARGE(($H74,$J74,$L74,$N74,$P74,$R74,$T74,$V74,$X74),9)","v":0}]
[71,null,null,null,0,0,null,{"$f":"LOOKUP(G75,Poängberäkning!$B$6:$B$97,Poängberäkning!$C$6:$C$97)","v":0},null,{"$f":"LOOKUP(I75,Poängberäkning!$B$6:$B$97,Poängberäkning!$C$6:$C$97)","v":0},null,{"$f":"LOOKUP(K75,Poängberäkning!$B$6:$B$97,Poängberäkning!$C$6:$C$97)","v":0},null,{"$f":"LOOKUP(M75,Poängberäkning!$B$6:$B$97,Poängberäkning!$C$6:$C$97)","v":0},null,{"$f":"LOOKUP(O75,Poängberäkning!$B$6:$B$97,Poängberäkning!$C$6:$C$97)","v":0},null,{"$f":"LOOKUP(Q75,[1]Poängberäkning!$B$6:$B$97,[1]Poängberäkning!$C$6:$C$97)","v":0},null,{"$f":"LOOKUP(S75,[1]Poängberäkning!$B$6:$B$97,[1]Poängberäkning!$C$6:$C$97)","v":0},null,{"$f":"LOOKUP(U75,[1]Poängberäkning!$B$6:$B$97,[1]Poängberäkning!$C$6:$C$97)","v":0},null,{"$f":"LOOKUP(W75,[1]Poängberäkning!$B$6:$B$97,[1]Poängberäkning!$C$6:$C$97)","v":0},{"$f":"LARGE(($H75,$J75,$L75,$N75,$P75,$R75,$T75,$V75,$X75),1)","v":0},{"$f":"LARGE(($H75,$J75,$L75,$N75,$P75,$R75,$T75,$V75,$X75),2)","v":0},{"$f":"LARGE(($H75,$J75,$L75,$N75,$P75,$R75,$T75,$V75,$X75),3)","v":0},{"$f":"LARGE(($H75,$J75,$L75,$N75,$P75,$R75,$T75,$V75,$X75),4)","v":0},{"$f":"LARGE(($H75,$J75,$L75,$N75,$P75,$R75,$T75,$V75,$X75),5)","v":0},{"$f":"LARGE(($H75,$J75,$L75,$N75,$P75,$R75,$T75,$V75,$X75),6)","v":0},{"$f":"LARGE(($H75,$J75,$L75,$N75,$P75,$R75,$T75,$V75,$X75),7)","v":0},{"$f":"LARGE(($H75,$J75,$L75,$N75,$P75,$R75,$T75,$V75,$X75),8)","v":0},{"$f":"LARGE(($H75,$J75,$L75,$N75,$P75,$R75,$T75,$V75,$X75),9)","v":0}]
[72,null,null,null,0,0,null,{"$f":"LOOKUP(G76,Poängberäkning!$B$6:$B$97,Poängberäkning!$C$6:$C$97)","v":0},null,{"$f":"LOOKUP(I76,Poängberäkning!$B$6:$B$97,Poängberäkning!$C$6:$C$97)","v":0},null,{"$f":"LOOKUP(K76,Poängberäkning!$B$6:$B$97,Poängberäkning!$C$6:$C$97)","v":0},null,{"$f":"LOOKUP(M76,Poängberäkning!$B$6:$B$97,Poängberäkning!$C$6:$C$97)","v":0},null,{"$f":"LOOKUP(O76,Poängberäkning!$B$6:$B$97,Poängberäkning!$C$6:$C$97)","v":0},null,{"$f":"LOOKUP(Q76,[1]Poängberäkning!$B$6:$B$97,[1]Poängberäkning!$C$6:$C$97)","v":0},null,{"$f":"LOOKUP(S76,[1]Poängberäkning!$B$6:$B$97,[1]Poängberäkning!$C$6:$C$97)","v":0},null,{"$f":"LOOKUP(U76,[1]Poängberäkning!$B$6:$B$97,[1]Poängberäkning!$C$6:$C$97)","v":0},null,{"$f":"LOOKUP(W76,[1]Poängberäkning!$B$6:$B$97,[1]Poängberäkning!$C$6:$C$97)","v":0},{"$f":"LARGE(($H76,$J76,$L76,$N76,$P76,$R76,$T76,$V76,$X76),1)","v":0},{"$f":"LARGE(($H76,$J76,$L76,$N76,$P76,$R76,$T76,$V76,$X76),2)","v":0},{"$f":"LARGE(($H76,$J76,$L76,$N76,$P76,$R76,$T76,$V76,$X76),3)","v":0},{"$f":"LARGE(($H76,$J76,$L76,$N76,$P76,$R76,$T76,$V76,$X76),4)","v":0},{"$f":"LARGE(($H76,$J76,$L76,$N76,$P76,$R76,$T76,$V76,$X76),5)","v":0},{"$f":"LARGE(($H76,$J76,$L76,$N76,$P76,$R76,$T76,$V76,$X76),6)","v":0},{"$f":"LARGE(($H76,$J76,$L76,$N76,$P76,$R76,$T76,$V76,$X76),7)","v":0},{"$f":"LARGE(($H76,$J76,$L76,$N76,$P76,$R76,$T76,$V76,$X76),8)","v":0},{"$f":"LARGE(($H76,$J76,$L76,$N76,$P76,$R76,$T76,$V76,$X76),9)","v":0}]
[73,null,null,null,0,0,null,{"$f":"LOOKUP(G77,Poängberäkning!$B$6:$B$97,Poängberäkning!$C$6:$C$97)","v":0},null,{"$f":"LOOKUP(I77,Poängberäkning!$B$6:$B$97,Poängberäkning!$C$6:$C$97)","v":0},null,{"$f":"LOOKUP(K77,Poängberäkning!$B$6:$B$97,Poängberäkning!$C$6:$C$97)","v":0},null,{"$f":"LOOKUP(M77,Poängberäkning!$B$6:$B$97,Poängberäkning!$C$6:$C$97)","v":0},null,{"$f":"LOOKUP(O77,Poängberäkning!$B$6:$B$97,Poängberäkning!$C$6:$C$97)","v":0},null,{"$f":"LOOKUP(Q77,[1]Poängberäkning!$B$6:$B$97,[1]Poängberäkning!$C$6:$C$97)","v":0},null,{"$f":"LOOKUP(S77,[1]Poängberäkning!$B$6:$B$97,[1]Poängberäkning!$C$6:$C$97)","v":0},null,{"$f":"LOOKUP(U77,[1]Poängberäkning!$B$6:$B$97,[1]Poängberäkning!$C$6:$C$97)","v":0},null,{"$f":"LOOKUP(W77,[1]Poängberäkning!$B$6:$B$97,[1]Poängberäkning!$C$6:$C$97)","v":0},{"$f":"LARGE(($H77,$J77,$L77,$N77,$P77,$R77,$T77,$V77,$X77),1)","v":0},{"$f":"LARGE(($H77,$J77,$L77,$N77,$P77,$R77,$T77,$V77,$X77),2)","v":0},{"$f":"LARGE(($H77,$J77,$L77,$N77,$P77,$R77,$T77,$V77,$X77),3)","v":0},{"$f":"LARGE(($H77,$J77,$L77,$N77,$P77,$R77,$T77,$V77,$X77),4)","v":0},{"$f":"LARGE(($H77,$J77,$L77,$N77,$P77,$R77,$T77,$V77,$X77),5)","v":0},{"$f":"LARGE(($H77,$J77,$L77,$N77,$P77,$R77,$T77,$V77,$X77),6)","v":0},{"$f":"LARGE(($H77,$J77,$L77,$N77,$P77,$R77,$T77,$V77,$X77),7)","v":0},{"$f":"LARGE(($H77,$J77,$L77,$N77,$P77,$R77,$T77,$V77,$X77),8)","v":0},{"$f":"LARGE(($H77,$J77,$L77,$N77,$P77,$R77,$T77,$V77,$X77),9)","v":0}]
[74,null,null,null,0,0,null,{"$f":"LOOKUP(G78,Poängberäkning!$B$6:$B$97,Poängberäkning!$C$6:$C$97)","v":0},null,{"$f":"LOOKUP(I78,Poängberäkning!$B$6:$B$97,Poängberäkning!$C$6:$C$97)","v":0},null,{"$f":"LOOKUP(K78,Poängberäkning!$B$6:$B$97,Poängberäkning!$C$6:$C$97)","v":0},null,{"$f":"LOOKUP(M78,Poängberäkning!$B$6:$B$97,Poängberäkning!$C$6:$C$97)","v":0},null,{"$f":"LOOKUP(O78,Poängberäkning!$B$6:$B$97,Poängberäkning!$C$6:$C$97)","v":0},null,{"$f":"LOOKUP(Q78,[1]Poängberäkning!$B$6:$B$97,[1]Poängberäkning!$C$6:$C$97)","v":0},null,{"$f":"LOOKUP(S78,[1]Poängberäkning!$B$6:$B$97,[1]Poängberäkning!$C$6:$C$97)","v":0},null,{"$f":"LOOKUP(U78,[1]Poängberäkning!$B$6:$B$97,[1]Poängberäkning!$C$6:$C$97)","v":0},null,{"$f":"LOOKUP(W78,[1]Poängberäkning!$B$6:$B$97,[1]Poängberäkning!$C$6:$C$97)","v":0},{"$f":"LARGE(($H78,$J78,$L78,$N78,$P78,$R78,$T78,$V78,$X78),1)","v":0},{"$f":"LARGE(($H78,$J78,$L78,$N78,$P78,$R78,$T78,$V78,$X78),2)","v":0},{"$f":"LARGE(($H78,$J78,$L78,$N78,$P78,$R78,$T78,$V78,$X78),3)","v":0},{"$f":"LARGE(($H78,$J78,$L78,$N78,$P78,$R78,$T78,$V78,$X78),4)","v":0},{"$f":"LARGE(($H78,$J78,$L78,$N78,$P78,$R78,$T78,$V78,$X78),5)","v":0},{"$f":"LARGE(($H78,$J78,$L78,$N78,$P78,$R78,$T78,$V78,$X78),6)","v":0},{"$f":"LARGE(($H78,$J78,$L78,$N78,$P78,$R78,$T78,$V78,$X78),7)","v":0},{"$f":"LARGE(($H78,$J78,$L78,$N78,$P78,$R78,$T78,$V78,$X78),8)","v":0},{"$f":"LARGE(($H78,$J78,$L78,$N78,$P78,$R78,$T78,$V78,$X78),9)","v":0}]
[75,null,null,null,0,0,null,{"$f":"LOOKUP(G79,Poängberäkning!$B$6:$B$97,Poängberäkning!$C$6:$C$97)","v":0},null,{"$f":"LOOKUP(I79,Poängberäkning!$B$6:$B$97,Poängberäkning!$C$6:$C$97)","v":0},null,{"$f":"LOOKUP(K79,Poängberäkning!$B$6:$B$97,Poängberäkning!$C$6:$C$97)","v":0},null,{"$f":"LOOKUP(M79,Poängberäkning!$B$6:$B$97,Poängberäkning!$C$6:$C$97)","v":0},null,{"$f":"LOOKUP(O79,Poängberäkning!$B$6:$B$97,Poängberäkning!$C$6:$C$97)","v":0},null,{"$f":"LOOKUP(Q79,[1]Poängberäkning!$B$6:$B$97,[1]Poängberäkning!$C$6:$C$97)","v":0},null,{"$f":"LOOKUP(S79,[1]Poängberäkning!$B$6:$B$97,[1]Poängberäkning!$C$6:$C$97)","v":0},null,{"$f":"LOOKUP(U79,[1]Poängberäkning!$B$6:$B$97,[1]Poängberäkning!$C$6:$C$97)","v":0},null,{"$f":"LOOKUP(W79,[1]Poängberäkning!$B$6:$B$97,[1]Poängberäkning!$C$6:$C$97)","v":0},{"$f":"LARGE(($H79,$J79,$L79,$N79,$P79,$R79,$T79,$V79,$X79),1)","v":0},{"$f":"LARGE(($H79,$J79,$L79,$N79,$P79,$R79,$T79,$V79,$X79),2)","v":0},{"$f":"LARGE(($H79,$J79,$L79,$N79,$P79,$R79,$T79,$V79,$X79),3)","v":0},{"$f":"LARGE(($H79,$J79,$L79,$N79,$P79,$R79,$T79,$V79,$X79),4)","v":0},{"$f":"LARGE(($H79,$J79,$L79,$N79,$P79,$R79,$T79,$V79,$X79),5)","v":0},{"$f":"LARGE(($H79,$J79,$L79,$N79,$P79,$R79,$T79,$V79,$X79),6)","v":0},{"$f":"LARGE(($H79,$J79,$L79,$N79,$P79,$R79,$T79,$V79,$X79),7)","v":0},{"$f":"LARGE(($H79,$J79,$L79,$N79,$P79,$R79,$T79,$V79,$X79),8)","v":0},{"$f":"LARGE(($H79,$J79,$L79,$N79,$P79,$R79,$T79,$V79,$X79),9)","v":0}]
[{"$f":"A79+1","v":76},null,null,null,0,0,null,{"$f":"LOOKUP(G80,Poängberäkning!$B$6:$B$97,Poängberäkning!$C$6:$C$97)","v":0},null,{"$f":"LOOKUP(I80,Poängberäkning!$B$6:$B$97,Poängberäkning!$C$6:$C$97)","v":0},null,{"$f":"LOOKUP(K80,Poängberäkning!$B$6:$B$97,Poängberäkning!$C$6:$C$97)","v":0},null,{"$f":"LOOKUP(M80,Poängberäkning!$B$6:$B$97,Poängberäkning!$C$6:$C$97)","v":0},null,{"$f":"LOOKUP(O80,Poängberäkning!$B$6:$B$97,Poängberäkning!$C$6:$C$97)","v":0},null,{"$f":"LOOKUP(Q80,[1]Poängberäkning!$B$6:$B$97,[1]Poängberäkning!$C$6:$C$97)","v":0},null,{"$f":"LOOKUP(S80,[1]Poängberäkning!$B$6:$B$97,[1]Poängberäkning!$C$6:$C$97)","v":0},null,{"$f":"LOOKUP(U80,[1]Poängberäkning!$B$6:$B$97,[1]Poängberäkning!$C$6:$C$97)","v":0},null,{"$f":"LOOKUP(W80,[1]Poängberäkning!$B$6:$B$97,[1]Poängberäkning!$C$6:$C$97)","v":0},{"$f":"LARGE(($H80,$J80,$L80,$N80,$P80,$R80,$T80,$V80,$X80),1)","v":0},{"$f":"LARGE(($H80,$J80,$L80,$N80,$P80,$R80,$T80,$V80,$X80),2)","v":0},{"$f":"LARGE(($H80,$J80,$L80,$N80,$P80,$R80,$T80,$V80,$X80),3)","v":0},{"$f":"LARGE(($H80,$J80,$L80,$N80,$P80,$R80,$T80,$V80,$X80),4)","v":0},{"$f":"LARGE(($H80,$J80,$L80,$N80,$P80,$R80,$T80,$V80,$X80),5)","v":0},{"$f":"LARGE(($H80,$J80,$L80,$N80,$P80,$R80,$T80,$V80,$X80),6)","v":0},{"$f":"LARGE(($H80,$J80,$L80,$N80,$P80,$R80,$T80,$V80,$X80),7)","v":0},{"$f":"LARGE(($H80,$J80,$L80,$N80,$P80,$R80,$T80,$V80,$X80),8)","v":0},{"$f":"LARGE(($H80,$J80,$L80,$N80,$P80,$R80,$T80,$V80,$X80),9)","v":0}]
[{"$f":"A80+1","v":77},null,null,null,0,0,null,{"$f":"LOOKUP(G81,Poängberäkning!$B$6:$B$97,Poängberäkning!$C$6:$C$97)","v":0},null,{"$f":"LOOKUP(I81,Poängberäkning!$B$6:$B$97,Poängberäkning!$C$6:$C$97)","v":0},null,{"$f":"LOOKUP(K81,Poängberäkning!$B$6:$B$97,Poängberäkning!$C$6:$C$97)","v":0},null,{"$f":"LOOKUP(M81,Poängberäkning!$B$6:$B$97,Poängberäkning!$C$6:$C$97)","v":0},null,{"$f":"LOOKUP(O81,Poängberäkning!$B$6:$B$97,Poängberäkning!$C$6:$C$97)","v":0},null,{"$f":"LOOKUP(Q81,[1]Poängberäkning!$B$6:$B$97,[1]Poängberäkning!$C$6:$C$97)","v":0},null,{"$f":"LOOKUP(S81,[1]Poängberäkning!$B$6:$B$97,[1]Poängberäkning!$C$6:$C$97)","v":0},null,{"$f":"LOOKUP(U81,[1]Poängberäkning!$B$6:$B$97,[1]Poängberäkning!$C$6:$C$97)","v":0},null,{"$f":"LOOKUP(W81,[1]Poängberäkning!$B$6:$B$97,[1]Poängberäkning!$C$6:$C$97)","v":0},{"$f":"LARGE(($H81,$J81,$L81,$N81,$P81,$R81,$T81,$V81,$X81),1)","v":0},{"$f":"LARGE(($H81,$J81,$L81,$N81,$P81,$R81,$T81,$V81,$X81),2)","v":0},{"$f":"LARGE(($H81,$J81,$L81,$N81,$P81,$R81,$T81,$V81,$X81),3)","v":0},{"$f":"LARGE(($H81,$J81,$L81,$N81,$P81,$R81,$T81,$V81,$X81),4)","v":0},{"$f":"LARGE(($H81,$J81,$L81,$N81,$P81,$R81,$T81,$V81,$X81),5)","v":0},{"$f":"LARGE(($H81,$J81,$L81,$N81,$P81,$R81,$T81,$V81,$X81),6)","v":0},{"$f":"LARGE(($H81,$J81,$L81,$N81,$P81,$R81,$T81,$V81,$X81),7)","v":0},{"$f":"LARGE(($H81,$J81,$L81,$N81,$P81,$R81,$T81,$V81,$X81),8)","v":0},{"$f":"LARGE(($H81,$J81,$L81,$N81,$P81,$R81,$T81,$V81,$X81),9)","v":0}]
[{"$f":"A81+1","v":78},null,null,null,0,0,null,{"$f":"LOOKUP(G82,Poängberäkning!$B$6:$B$97,Poängberäkning!$C$6:$C$97)","v":0},null,{"$f":"LOOKUP(I82,Poängberäkning!$B$6:$B$97,Poängberäkning!$C$6:$C$97)","v":0},null,{"$f":"LOOKUP(K82,Poängberäkning!$B$6:$B$97,Poängberäkning!$C$6:$C$97)","v":0},null,{"$f":"LOOKUP(M82,Poängberäkning!$B$6:$B$97,Poängberäkning!$C$6:$C$97)","v":0},null,{"$f":"LOOKUP(O82,Poängberäkning!$B$6:$B$97,Poängberäkning!$C$6:$C$97)","v":0},null,{"$f":"LOOKUP(Q82,[1]Poängberäkning!$B$6:$B$97,[1]Poängberäkning!$C$6:$C$97)","v":0},null,{"$f":"LOOKUP(S82,[1]Poängberäkning!$B$6:$B$97,[1]Poängberäkning!$C$6:$C$97)","v":0},null,{"$f":"LOOKUP(U82,[1]Poängberäkning!$B$6:$B$97,[1]Poängberäkning!$C$6:$C$97)","v":0},null,{"$f":"LOOKUP(W82,[1]Poängberäkning!$B$6:$B$97,[1]Poängberäkning!$C$6:$C$97)","v":0},{"$f":"LARGE(($H82,$J82,$L82,$N82,$P82,$R82,$T82,$V82,$X82),1)","v":0},{"$f":"LARGE(($H82,$J82,$L82,$N82,$P82,$R82,$T82,$V82,$X82),2)","v":0},{"$f":"LARGE(($H82,$J82,$L82,$N82,$P82,$R82,$T82,$V82,$X82),3)","v":0},{"$f":"LARGE(($H82,$J82,$L82,$N82,$P82,$R82,$T82,$V82,$X82),4)","v":0},{"$f":"LARGE(($H82,$J82,$L82,$N82,$P82,$R82,$T82,$V82,$X82),5)","v":0},{"$f":"LARGE(($H82,$J82,$L82,$N82,$P82,$R82,$T82,$V82,$X82),6)","v":0},{"$f":"LARGE(($H82,$J82,$L82,$N82,$P82,$R82,$T82,$V82,$X82),7)","v":0},{"$f":"LARGE(($H82,$J82,$L82,$N82,$P82,$R82,$T82,$V82,$X82),8)","v":0},{"$f":"LARGE(($H82,$J82,$L82,$N82,$P82,$R82,$T82,$V82,$X82),9)","v":0}]
[79,null,null,null,0,0,null,{"$f":"LOOKUP(G83,Poängberäkning!$B$6:$B$97,Poängberäkning!$C$6:$C$97)","v":0},null,{"$f":"LOOKUP(I83,Poängberäkning!$B$6:$B$97,Poängberäkning!$C$6:$C$97)","v":0},null,{"$f":"LOOKUP(K83,Poängberäkning!$B$6:$B$97,Poängberäkning!$C$6:$C$97)","v":0},null,{"$f":"LOOKUP(M83,Poängberäkning!$B$6:$B$97,Poängberäkning!$C$6:$C$97)","v":0},null,{"$f":"LOOKUP(O83,Poängberäkning!$B$6:$B$97,Poängberäkning!$C$6:$C$97)","v":0},null,{"$f":"LOOKUP(Q83,[1]Poängberäkning!$B$6:$B$97,[1]Poängberäkning!$C$6:$C$97)","v":0},null,{"$f":"LOOKUP(S83,[1]Poängberäkning!$B$6:$B$97,[1]Poängberäkning!$C$6:$C$97)","v":0},null,{"$f":"LOOKUP(U83,[1]Poängberäkning!$B$6:$B$97,[1]Poängberäkning!$C$6:$C$97)","v":0},null,{"$f":"LOOKUP(W83,[1]Poängberäkning!$B$6:$B$97,[1]Poängberäkning!$C$6:$C$97)","v":0},{"$f":"LARGE(($H83,$J83,$L83,$N83,$P83,$R83,$T83,$V83,$X83),1)","v":0},{"$f":"LARGE(($H83,$J83,$L83,$N83,$P83,$R83,$T83,$V83,$X83),2)","v":0},{"$f":"LARGE(($H83,$J83,$L83,$N83,$P83,$R83,$T83,$V83,$X83),3)","v":0},{"$f":"LARGE(($H83,$J83,$L83,$N83,$P83,$R83,$T83,$V83,$X83),4)","v":0},{"$f":"LARGE(($H83,$J83,$L83,$N83,$P83,$R83,$T83,$V83,$X83),5)","v":0},{"$f":"LARGE(($H83,$J83,$L83,$N83,$P83,$R83,$T83,$V83,$X83),6)","v":0},{"$f":"LARGE(($H83,$J83,$L83,$N83,$P83,$R83,$T83,$V83,$X83),7)","v":0},{"$f":"LARGE(($H83,$J83,$L83,$N83,$P83,$R83,$T83,$V83,$X83),8)","v":0},{"$f":"LARGE(($H83,$J83,$L83,$N83,$P83,$R83,$T83,$V83,$X83),9)","v":0}]
[80,null,null,null,0,0,null,{"$f":"LOOKUP(G84,Poängberäkning!$B$6:$B$97,Poängberäkning!$C$6:$C$97)","v":0},null,{"$f":"LOOKUP(I84,Poängberäkning!$B$6:$B$97,Poängberäkning!$C$6:$C$97)","v":0},null,{"$f":"LOOKUP(K84,Poängberäkning!$B$6:$B$97,Poängberäkning!$C$6:$C$97)","v":0},null,{"$f":"LOOKUP(M84,Poängberäkning!$B$6:$B$97,Poängberäkning!$C$6:$C$97)","v":0},null,{"$f":"LOOKUP(O84,Poängberäkning!$B$6:$B$97,Poängberäkning!$C$6:$C$97)","v":0},null,{"$f":"LOOKUP(Q84,[1]Poängberäkning!$B$6:$B$97,[1]Poängberäkning!$C$6:$C$97)","v":0},null,{"$f":"LOOKUP(S84,[1]Poängberäkning!$B$6:$B$97,[1]Poängberäkning!$C$6:$C$97)","v":0},null,{"$f":"LOOKUP(U84,[1]Poängberäkning!$B$6:$B$97,[1]Poängberäkning!$C$6:$C$97)","v":0},null,{"$f":"LOOKUP(W84,[1]Poängberäkning!$B$6:$B$97,[1]Poängberäkning!$C$6:$C$97)","v":0},{"$f":"LARGE(($H84,$J84,$L84,$N84,$P84,$R84,$T84,$V84,$X84),1)","v":0},{"$f":"LARGE(($H84,$J84,$L84,$N84,$P84,$R84,$T84,$V84,$X84),2)","v":0},{"$f":"LARGE(($H84,$J84,$L84,$N84,$P84,$R84,$T84,$V84,$X84),3)","v":0},{"$f":"LARGE(($H84,$J84,$L84,$N84,$P84,$R84,$T84,$V84,$X84),4)","v":0},{"$f":"LARGE(($H84,$J84,$L84,$N84,$P84,$R84,$T84,$V84,$X84),5)","v":0},{"$f":"LARGE(($H84,$J84,$L84,$N84,$P84,$R84,$T84,$V84,$X84),6)","v":0},{"$f":"LARGE(($H84,$J84,$L84,$N84,$P84,$R84,$T84,$V84,$X84),7)","v":0},{"$f":"LARGE(($H84,$J84,$L84,$N84,$P84,$R84,$T84,$V84,$X84),8)","v":0},{"$f":"LARGE(($H84,$J84,$L84,$N84,$P84,$R84,$T84,$V84,$X84),9)","v":0}]
[81,null,null,null,0,0,null,{"$f":"LOOKUP(G85,Poängberäkning!$B$6:$B$97,Poängberäkning!$C$6:$C$97)","v":0},null,{"$f":"LOOKUP(I85,Poängberäkning!$B$6:$B$97,Poängberäkning!$C$6:$C$97)","v":0},null,{"$f":"LOOKUP(K85,Poängberäkning!$B$6:$B$97,Poängberäkning!$C$6:$C$97)","v":0},null,{"$f":"LOOKUP(M85,Poängberäkning!$B$6:$B$97,Poängberäkning!$C$6:$C$97)","v":0},null,{"$f":"LOOKUP(O85,Poängberäkning!$B$6:$B$97,Poängberäkning!$C$6:$C$97)","v":0},null,{"$f":"LOOKUP(Q85,[1]Poängberäkning!$B$6:$B$97,[1]Poängberäkning!$C$6:$C$97)","v":0},null,{"$f":"LOOKUP(S85,[1]Poängberäkning!$B$6:$B$97,[1]Poängberäkning!$C$6:$C$97)","v":0},null,{"$f":"LOOKUP(U85,[1]Poängberäkning!$B$6:$B$97,[1]Poängberäkning!$C$6:$C$97)","v":0},null,{"$f":"LOOKUP(W85,[1]Poängberäkning!$B$6:$B$97,[1]Poängberäkning!$C$6:$C$97)","v":0},{"$f":"LARGE(($H85,$J85,$L85,$N85,$P85,$R85,$T85,$V85,$X85),1)","v":0},{"$f":"LARGE(($H85,$J85,$L85,$N85,$P85,$R85,$T85,$V85,$X85),2)","v":0},{"$f":"LARGE(($H85,$J85,$L85,$N85,$P85,$R85,$T85,$V85,$X85),3)","v":0},{"$f":"LARGE(($H85,$J85,$L85,$N85,$P85,$R85,$T85,$V85,$X85),4)","v":0},{"$f":"LARGE(($H85,$J85,$L85,$N85,$P85,$R85,$T85,$V85,$X85),5)","v":0},{"$f":"LARGE(($H85,$J85,$L85,$N85,$P85,$R85,$T85,$V85,$X85),6)","v":0},{"$f":"LARGE(($H85,$J85,$L85,$N85,$P85,$R85,$T85,$V85,$X85),7)","v":0},{"$f":"LARGE(($H85,$J85,$L85,$N85,$P85,$R85,$T85,$V85,$X85),8)","v":0},{"$f":"LARGE(($H85,$J85,$L85,$N85,$P85,$R85,$T85,$V85,$X85),9)","v":0}]
[82,null,null,null,0,0,null,{"$f":"LOOKUP(G86,Poängberäkning!$B$6:$B$97,Poängberäkning!$C$6:$C$97)","v":0},null,{"$f":"LOOKUP(I86,Poängberäkning!$B$6:$B$97,Poängberäkning!$C$6:$C$97)","v":0},null,{"$f":"LOOKUP(K86,Poängberäkning!$B$6:$B$97,Poängberäkning!$C$6:$C$97)","v":0},null,{"$f":"LOOKUP(M86,Poängberäkning!$B$6:$B$97,Poängberäkning!$C$6:$C$97)","v":0},null,{"$f":"LOOKUP(O86,Poängberäkning!$B$6:$B$97,Poängberäkning!$C$6:$C$97)","v":0},null,{"$f":"LOOKUP(Q86,[1]Poängberäkning!$B$6:$B$97,[1]Poängberäkning!$C$6:$C$97)","v":0},null,{"$f":"LOOKUP(S86,[1]Poängberäkning!$B$6:$B$97,[1]Poängberäkning!$C$6:$C$97)","v":0},null,{"$f":"LOOKUP(U86,[1]Poängberäkning!$B$6:$B$97,[1]Poängberäkning!$C$6:$C$97)","v":0},null,{"$f":"LOOKUP(W86,[1]Poängberäkning!$B$6:$B$97,[1]Poängberäkning!$C$6:$C$97)","v":0},{"$f":"LARGE(($H86,$J86,$L86,$N86,$P86,$R86,$T86,$V86,$X86),1)","v":0},{"$f":"LARGE(($H86,$J86,$L86,$N86,$P86,$R86,$T86,$V86,$X86),2)","v":0},{"$f":"LARGE(($H86,$J86,$L86,$N86,$P86,$R86,$T86,$V86,$X86),3)","v":0},{"$f":"LARGE(($H86,$J86,$L86,$N86,$P86,$R86,$T86,$V86,$X86),4)","v":0},{"$f":"LARGE(($H86,$J86,$L86,$N86,$P86,$R86,$T86,$V86,$X86),5)","v":0},{"$f":"LARGE(($H86,$J86,$L86,$N86,$P86,$R86,$T86,$V86,$X86),6)","v":0},{"$f":"LARGE(($H86,$J86,$L86,$N86,$P86,$R86,$T86,$V86,$X86),7)","v":0},{"$f":"LARGE(($H86,$J86,$L86,$N86,$P86,$R86,$T86,$V86,$X86),8)","v":0},{"$f":"LARGE(($H86,$J86,$L86,$N86,$P86,$R86,$T86,$V86,$X86),9)","v":0}]
[83,null,null,null,0,0,null,{"$f":"LOOKUP(G87,Poängberäkning!$B$6:$B$97,Poängberäkning!$C$6:$C$97)","v":0},null,{"$f":"LOOKUP(I87,Poängberäkning!$B$6:$B$97,Poängberäkning!$C$6:$C$97)","v":0},null,{"$f":"LOOKUP(K87,Poängberäkning!$B$6:$B$97,Poängberäkning!$C$6:$C$97)","v":0},null,{"$f":"LOOKUP(M87,Poängberäkning!$B$6:$B$97,Poängberäkning!$C$6:$C$97)","v":0},null,{"$f":"LOOKUP(O87,Poängberäkning!$B$6:$B$97,Poängberäkning!$C$6:$C$97)","v":0},null,{"$f":"LOOKUP(Q87,[1]Poängberäkning!$B$6:$B$97,[1]Poängberäkning!$C$6:$C$97)","v":0},null,{"$f":"LOOKUP(S87,[1]Poängberäkning!$B$6:$B$97,[1]Poängberäkning!$C$6:$C$97)","v":0},null,{"$f":"LOOKUP(U87,[1]Poängberäkning!$B$6:$B$97,[1]Poängberäkning!$C$6:$C$97)","v":0},null,{"$f":"LOOKUP(W87,[1]Poängberäkning!$B$6:$B$97,[1]Poängberäkning!$C$6:$C$97)","v":0},{"$f":"LARGE(($H87,$J87,$L87,$N87,$P87,$R87,$T87,$V87,$X87),1)","v":0},{"$f":"LARGE(($H87,$J87,$L87,$N87,$P87,$R87,$T87,$V87,$X87),2)","v":0},{"$f":"LARGE(($H87,$J87,$L87,$N87,$P87,$R87,$T87,$V87,$X87),3)","v":0},{"$f":"LARGE(($H87,$J87,$L87,$N87,$P87,$R87,$T87,$V87,$X87),4)","v":0},{"$f":"LARGE(($H87,$J87,$L87,$N87,$P87,$R87,$T87,$V87,$X87),5)","v":0},{"$f":"LARGE(($H87,$J87,$L87,$N87,$P87,$R87,$T87,$V87,$X87),6)","v":0},{"$f":"LARGE(($H87,$J87,$L87,$N87,$P87,$R87,$T87,$V87,$X87),7)","v":0},{"$f":"LARGE(($H87,$J87,$L87,$N87,$P87,$R87,$T87,$V87,$X87),8)","v":0},{"$f":"LARGE(($H87,$J87,$L87,$N87,$P87,$R87,$T87,$V87,$X87),9)","v":0}]
[84,null,null,null,0,0,null,{"$f":"LOOKUP(G88,Poängberäkning!$B$6:$B$97,Poängberäkning!$C$6:$C$97)","v":0},null,{"$f":"LOOKUP(I88,Poängberäkning!$B$6:$B$97,Poängberäkning!$C$6:$C$97)","v":0},null,{"$f":"LOOKUP(K88,Poängberäkning!$B$6:$B$97,Poängberäkning!$C$6:$C$97)","v":0},null,{"$f":"LOOKUP(M88,Poängberäkning!$B$6:$B$97,Poängberäkning!$C$6:$C$97)","v":0},null,{"$f":"LOOKUP(O88,Poängberäkning!$B$6:$B$97,Poängberäkning!$C$6:$C$97)","v":0},null,{"$f":"LOOKUP(Q88,[1]Poängberäkning!$B$6:$B$97,[1]Poängberäkning!$C$6:$C$97)","v":0},null,{"$f":"LOOKUP(S88,[1]Poängberäkning!$B$6:$B$97,[1]Poängberäkning!$C$6:$C$97)","v":0},null,{"$f":"LOOKUP(U88,[1]Poängberäkning!$B$6:$B$97,[1]Poängberäkning!$C$6:$C$97)","v":0},null,{"$f":"LOOKUP(W88,[1]Poängberäkning!$B$6:$B$97,[1]Poängberäkning!$C$6:$C$97)","v":0},{"$f":"LARGE(($H88,$J88,$L88,$N88,$P88,$R88,$T88,$V88,$X88),1)","v":0},{"$f":"LARGE(($H88,$J88,$L88,$N88,$P88,$R88,$T88,$V88,$X88),2)","v":0},{"$f":"LARGE(($H88,$J88,$L88,$N88,$P88,$R88,$T88,$V88,$X88),3)","v":0},{"$f":"LARGE(($H88,$J88,$L88,$N88,$P88,$R88,$T88,$V88,$X88),4)","v":0},{"$f":"LARGE(($H88,$J88,$L88,$N88,$P88,$R88,$T88,$V88,$X88),5)","v":0},{"$f":"LARGE(($H88,$J88,$L88,$N88,$P88,$R88,$T88,$V88,$X88),6)","v":0},{"$f":"LARGE(($H88,$J88,$L88,$N88,$P88,$R88,$T88,$V88,$X88),7)","v":0},{"$f":"LARGE(($H88,$J88,$L88,$N88,$P88,$R88,$T88,$V88,$X88),8)","v":0},{"$f":"LARGE(($H88,$J88,$L88,$N88,$P88,$R88,$T88,$V88,$X88),9)","v":0}]
[85,null,null,null,0,0,null,{"$f":"LOOKUP(G89,Poängberäkning!$B$6:$B$97,Poängberäkning!$C$6:$C$97)","v":0},null,{"$f":"LOOKUP(I89,Poängberäkning!$B$6:$B$97,Poängberäkning!$C$6:$C$97)","v":0},null,{"$f":"LOOKUP(K89,Poängberäkning!$B$6:$B$97,Poängberäkning!$C$6:$C$97)","v":0},null,{"$f":"LOOKUP(M89,Poängberäkning!$B$6:$B$97,Poängberäkning!$C$6:$C$97)","v":0},null,{"$f":"LOOKUP(O89,Poängberäkning!$B$6:$B$97,Poängberäkning!$C$6:$C$97)","v":0},null,{"$f":"LOOKUP(Q89,[1]Poängberäkning!$B$6:$B$97,[1]Poängberäkning!$C$6:$C$97)","v":0},null,{"$f":"LOOKUP(S89,[1]Poängberäkning!$B$6:$B$97,[1]Poängberäkning!$C$6:$C$97)","v":0},null,{"$f":"LOOKUP(U89,[1]Poängberäkning!$B$6:$B$97,[1]Poängberäkning!$C$6:$C$97)","v":0},null,{"$f":"LOOKUP(W89,[1]Poängberäkning!$B$6:$B$97,[1]Poängberäkning!$C$6:$C$97)","v":0},{"$f":"LARGE(($H89,$J89,$L89,$N89,$P89,$R89,$T89,$V89,$X89),1)","v":0},{"$f":"LARGE(($H89,$J89,$L89,$N89,$P89,$R89,$T89,$V89,$X89),2)","v":0},{"$f":"LARGE(($H89,$J89,$L89,$N89,$P89,$R89,$T89,$V89,$X89),3)","v":0},{"$f":"LARGE(($H89,$J89,$L89,$N89,$P89,$R89,$T89,$V89,$X89),4)","v":0},{"$f":"LARGE(($H89,$J89,$L89,$N89,$P89,$R89,$T89,$V89,$X89),5)","v":0},{"$f":"LARGE(($H89,$J89,$L89,$N89,$P89,$R89,$T89,$V89,$X89),6)","v":0},{"$f":"LARGE(($H89,$J89,$L89,$N89,$P89,$R89,$T89,$V89,$X89),7)","v":0},{"$f":"LARGE(($H89,$J89,$L89,$N89,$P89,$R89,$T89,$V89,$X89),8)","v":0},{"$f":"LARGE(($H89,$J89,$L89,$N89,$P89,$R89,$T89,$V89,$X89),9)","v":0}]
[{"$f":"A89+1","v":86},null,null,null,0,0,null,{"$f":"LOOKUP(G90,Poängberäkning!$B$6:$B$97,Poängberäkning!$C$6:$C$97)","v":0},null,{"$f":"LOOKUP(I90,Poängberäkning!$B$6:$B$97,Poängberäkning!$C$6:$C$97)","v":0},null,{"$f":"LOOKUP(K90,Poängberäkning!$B$6:$B$97,Poängberäkning!$C$6:$C$97)","v":0},null,{"$f":"LOOKUP(M90,Poängberäkning!$B$6:$B$97,Poängberäkning!$C$6:$C$97)","v":0},null,{"$f":"LOOKUP(O90,Poängberäkning!$B$6:$B$97,Poängberäkning!$C$6:$C$97)","v":0},null,{"$f":"LOOKUP(Q90,[1]Poängberäkning!$B$6:$B$97,[1]Poängberäkning!$C$6:$C$97)","v":0},null,{"$f":"LOOKUP(S90,[1]Poängberäkning!$B$6:$B$97,[1]Poängberäkning!$C$6:$C$97)","v":0},null,{"$f":"LOOKUP(U90,[1]Poängberäkning!$B$6:$B$97,[1]Poängberäkning!$C$6:$C$97)","v":0},null,{"$f":"LOOKUP(W90,[1]Poängberäkning!$B$6:$B$97,[1]Poängberäkning!$C$6:$C$97)","v":0},{"$f":"LARGE(($H90,$J90,$L90,$N90,$P90,$R90,$T90,$V90,$X90),1)","v":0},{"$f":"LARGE(($H90,$J90,$L90,$N90,$P90,$R90,$T90,$V90,$X90),2)","v":0},{"$f":"LARGE(($H90,$J90,$L90,$N90,$P90,$R90,$T90,$V90,$X90),3)","v":0},{"$f":"LARGE(($H90,$J90,$L90,$N90,$P90,$R90,$T90,$V90,$X90),4)","v":0},{"$f":"LARGE(($H90,$J90,$L90,$N90,$P90,$R90,$T90,$V90,$X90),5)","v":0},{"$f":"LARGE(($H90,$J90,$L90,$N90,$P90,$R90,$T90,$V90,$X90),6)","v":0},{"$f":"LARGE(($H90,$J90,$L90,$N90,$P90,$R90,$T90,$V90,$X90),7)","v":0},{"$f":"LARGE(($H90,$J90,$L90,$N90,$P90,$R90,$T90,$V90,$X90),8)","v":0},{"$f":"LARGE(($H90,$J90,$L90,$N90,$P90,$R90,$T90,$V90,$X90),9)","v":0}]

{"sheet":"D 11-12","index":5,"n_rows":90,"n_cols":33,"rows_kept":90,"cut":false,"hidden":false,"merged":[[2,24,3,32],[3,6,3,7],[3,8,3,9],[3,10,3,11],[3,12,3,13],[3,14,3,15],[3,16,3,17],[3,18,3,19],[3,20,3,21],[3,22,3,23],[1,16,2,17],[1,18,2,19],[1,20,1,21],[1,22,2,23],[2,4,2,5],[2,20,2,21],[0,2,0,15],[1,0,2,1],[1,2,2,3],[1,4,1,5],[1,6,2,7],[1,8,2,9],[1,10,2,11],[1,12,2,13],[1,14,2,15]]}
[]
["D 11-12",null,null,null,null,null,"Sälen GS",null,"Falun GS",null,"Norrbärke SL",null,"Borlänge SL",null,"Orsa GS",null,null,null,null,null,null,null,"Deltävling",null,"1:a","2:a","3:e","4:e","5:e","6:e","7:e","8:e","9:e"]
[null,null,null,null,"Poäng",null,null,null,null,null,null,null,null,null,null,null,null,null,null,null,null,null,null,null,"De 5 bästa åken.                         "]
["Rang","Född","Namn","Klubb","3 Bästa","Totalt","Sö 24/1   Tot",null,"Sö 14/2      Tot",null,"Sö 21/2    Tot",null,"Lö 27/2   Tot",null,"Lö 2/4   Tot"]
[1,2004,"SANDBERG Hilma","Rättviks SLK",{"$f":"SUM(Y5:AA5)","v":250},{"$f":"H5+J5+L5+N5+P5+R5+T5+V5+X5","v":310},3,{"$f":"LOOKUP(G5,Poängberäkning!$B$6:$B$97,Poängberäkning!$C$6:$C$97)","v":70},1,{"$f":"LOOKUP(I5,Poängberäkning!$B$6:$B$97,Poängberäkning!$C$6:$C$97)","v":100},null,{"$f":"LOOKUP(K5,Poängberäkning!$B$6:$B$97,Poängberäkning!$C$6:$C$97)","v":0},2,{"$f":"LOOKUP(M5,Poängberäkning!$B$6:$B$97,Poängberäkning!$C$6:$C$97)","v":80},4,{"$f":"LOOKUP(O5,Poängberäkning!$B$6:$B$97,Poängberäkning!$C$6:$C$97)","v":60},null,{"$f":"LOOKUP(Q5,[1]Poängberäkning!$B$6:$B$97,[1]Poängberäkning!$C$6:$C$97)","v":0},null,{"$f":"LOOKUP(S5,[1]Poängberäkning!$B$6:$B$97,[1]Poängberäkning!$C$6:$C$97)","v":0},null,{"$f":"LOOKUP(U5,[1]Poängberäkning!$B$6:$B$97,[1]Poängberäkning!$C$6:$C$97)","v":0},null,{"$f":"LOOKUP(W5,[1]Poängberäkning!$B$6:$B$97,[1]Poängberäkning!$C$6:$C$97)","v":0},{"$f":"LARGE(($H5,$J5,$L5,$N5,$P5,$R5,$T5,$V5,$X5),1)","v":100},{"$f":"LARGE(($H5,$J5,$L5,$N5,$P5,$R5,$T5,$V5,$X5),2)","v":80},{"$f":"LARGE(($H5,$J5,$L5,$N5,$P5,$R5,$T5,$V5,$X5),3)","v":70},{"$f":"LARGE(($H5,$J5,$L5,$N5,$P5,$R5,$T5,$V5,$X5),4)","v":60},{"$f":"LARGE(($H5,$J5,$L5,$N5,$P5,$R5,$T5,$V5,$X5),5)","v":0},{"$f":"LARGE(($H5,$J5,$L5,$N5,$P5,$R5,$T5,$V5,$X5),6)","v":0},{"$f":"LARGE(($H5,$J5,$L5,$N5,$P5,$R5,$T5,$V5,$X5),7)","v":0},{"$f":"LARGE(($H5,$J5,$L5,$N5,$P5,$R5,$T5,$V5,$X5),8)","v":0},{"$f":"LARGE(($H5,$J5,$L5,$N5,$P5,$R5,$T5,$V5,$X5),9)","v":0}]
[{"$f":"A5+1","v":2},2004,"WENGRUD Nova","Leksands SLK",215,287,2,{"$f":"LOOKUP(G6,Poängberäkning!$B$6:$B$97,Poängberäkning!$C$6:$C$97)","v":80},2,{"$f":"LOOKUP(I6,Poängberäkning!$B$6:$B$97,Poängberäkning!$C$6:$C$97)","v":80},5,{"$f":"LOOKUP(K6,Poängberäkning!$B$6:$B$97,Poängberäkning!$C$6:$C$97)","v":55},13,{"$f":"LOOKUP(M6,Poängberäkning!$B$6:$B$97,Poängberäkning!$C$6:$C$97)","v":38},17,{"$f":"LOOKUP(O6,Poängberäkning!$B$6:$B$97,Poängberäkning!$C$6:$C$97)","v":34},null,{"$f":"LOOKUP(Q6,[1]Poängberäkning!$B$6:$B$97,[1]Poängberäkning!$C$6:$C$97)","v":0},null,{"$f":"LOOKUP(S6,[1]Poängberäkning!$B$6:$B$97,[1]Poängberäkning!$C$6:$C$97)","v":0},null,{"$f":"LOOKUP(U6,[1]Poängberäkning!$B$6:$B$97,[1]Poängberäkning!$C$6:$C$97)","v":0},null,{"$f":"LOOKUP(W6,[1]Poängberäkning!$B$6:$B$97,[1]Poängberäkning!$C$6:$C$97)","v":0},{"$f":"LARGE(($H6,$J6,$L6,$N6,$P6,$R6,$T6,$V6,$X6),1)","v":80},{"$f":"LARGE(($H6,$J6,$L6,$N6,$P6,$R6,$T6,$V6,$X6),2)","v":80},{"$f":"LARGE(($H6,$J6,$L6,$N6,$P6,$R6,$T6,$V6,$X6),3)","v":55},{"$f":"LARGE(($H6,$J6,$L6,$N6,$P6,$R6,$T6,$V6,$X6),4)","v":38},{"$f":"LARGE(($H6,$J6,$L6,$N6,$P6,$R6,$T6,$V6,$X6),5)","v":34},{"$f":"LARGE(($H6,$J6,$L6,$N6,$P6,$R6,$T6,$V6,$X6),6)","v":0},{"$f":"LARGE(($H6,$J6,$L6,$N6,$P6,$R6,$T6,$V6,$X6),7)","v":0},{"$f":"LARGE(($H6,$J6,$L6,$N6,$P6,$R6,$T6,$V6,$X6),8)","v":0},{"$f":"LARGE(($H6,$J6,$L6,$N6,$P6,$R6,$T6,$V6,$X6),9)","v":0}]
[{"$f":"A6+1","v":3},2004,"ÅKERSTRÖM Matilda","Örebro SLF",195,259,4,{"$f":"LOOKUP(G7,Poängberäkning!$B$6:$B$97,Poängberäkning!$C$6:$C$97)","v":60},11,{"$f":"LOOKUP(I7,Poängberäkning!$B$6:$B$97,Poängberäkning!$C$6:$C$97)","v":40},2,{"$f":"LOOKUP(K7,Poängberäkning!$B$6:$B$97,Poängberäkning!$C$6:$C$97)","v":80},5,{"$f":"LOOKUP(M7,Poängberäkning!$B$6:$B$97,Poängberäkning!$C$6:$C$97)","v":55},27,{"$f":"LOOKUP(O7,Poängberäkning!$B$6:$B$97,Poängberäkning!$C$6:$C$97)","v":24},null,{"$f":"LOOKUP(Q7,[1]Poängberäkning!$B$6:$B$97,[1]Poängberäkning!$C$6:$C$97)","v":0},null,{"$f":"LOOKUP(S7,[1]Poängberäkning!$B$6:$B$97,[1]Poängberäkning!$C$6:$C$97)","v":0},null,{"$f":"LOOKUP(U7,[1]Poängberäkning!$B$6:$B$97,[1]Poängberäkning!$C$6:$C$97)","v":0},null,{"$f":"LOOKUP(W7,[1]Poängberäkning!$B$6:$B$97,[1]Poängberäkning!$C$6:$C$97)","v":0},{"$f":"LARGE(($H7,$J7,$L7,$N7,$P7,$R7,$T7,$V7,$X7),1)","v":80},{"$f":"LARGE(($H7,$J7,$L7,$N7,$P7,$R7,$T7,$V7,$X7),2)","v":60},{"$f":"LARGE(($H7,$J7,$L7,$N7,$P7,$R7,$T7,$V7,$X7),3)","v":55},{"$f":"LARGE(($H7,$J7,$L7,$N7,$P7,$R7,$T7,$V7,$X7),4)","v":40},{"$f":"LARGE(($H7,$J7,$L7,$N7,$P7,$R7,$T7,$V7,$X7),5)","v":24},{"$f":"LARGE(($H7,$J7,$L7,$N7,$P7,$R7,$T7,$V7,$X7),6)","v":0},{"$f":"LARGE(($H7,$J7,$L7,$N7,$P7,$R7,$T7,$V7,$X7),7)","v":0},{"$f":"LARGE(($H7,$J7,$L7,$N7,$P7,$R7,$T7,$V7,$X7),8)","v":0},{"$f":"LARGE(($H7,$J7,$L7,$N7,$P7,$R7,$T7,$V7,$X7),9)","v":0}]
[{"$f":"A7+1","v":4},2004,"ELIASSON Mimmi","Rättviks SLK",160,160,5,{"$f":"LOOKUP(G8,Poängberäkning!$B$6:$B$97,Poängberäkning!$C$6:$C$97)","v":55},3,{"$f":"LOOKUP(I8,Poängberäkning!$B$6:$B$97,Poängberäkning!$C$6:$C$97)","v":70},null,{"$f":"LOOKUP(K8,Poängberäkning!$B$6:$B$97,Poängberäkning!$C$6:$C$97)","v":0},99,{"$f":"LOOKUP(M8,Poängberäkning!$B$6:$B$97,Poängberäkning!$C$6:$C$97)","v":0},16,{"$f":"LOOKUP(O8,Poängberäkning!$B$6:$B$97,Poängberäkning!$C$6:$C$97)","v":35},null,{"$f":"LOOKUP(Q8,[1]Poängberäkning!$B$6:$B$97,[1]Poängberäkning!$C$6:$C$97)","v":0},null,{"$f":"LOOKUP(S8,[1]Poängberäkning!$B$6:$B$97,[1]Poängberäkning!$C$6:$C$97)","v":0},null,{"$f":"LOOKUP(U8,[1]Poängberäkning!$B$6:$B$97,[1]Poängberäkning!$C$6:$C$97)","v":0},null,{"$f":"LOOKUP(W8,[1]Poängberäkning!$B$6:$B$97,[1]Poängberäkning!$C$6:$C$97)","v":0},{"$f":"LARGE(($H8,$J8,$L8,$N8,$P8,$R8,$T8,$V8,$X8),1)","v":70},{"$f":"LARGE(($H8,$J8,$L8,$N8,$P8,$R8,$T8,$V8,$X8),2)","v":55},{"$f":"LARGE(($H8,$J8,$L8,$N8,$P8,$R8,$T8,$V8,$X8),3)","v":35},{"$f":"LARGE(($H8,$J8,$L8,$N8,$P8,$R8,$T8,$V8,$X8),4)","v":0},{"$f":"LARGE(($H8,$J8,$L8,$N8,$P8,$R8,$T8,$V8,$X8),5)","v":0},{"$f":"LARGE(($H8,$J8,$L8,$N8,$P8,$R8,$T8,$V8,$X8),6)","v":0},{"$f":"LARGE(($H8,$J8,$L8,$N8,$P8,$R8,$T8,$V8,$X8),7)","v":0},{"$f":"LARGE(($H8,$J8,$L8,$N8,$P8,$R8,$T8,$V8,$X8),8)","v":0},{"$f":"LARGE(($H8,$J8,$L8,$N8,$P8,$R8,$T8,$V8,$X8),9)","v":0}]
[5,2004,"GATU Alma","Rättviks SLK",154,154,7,{"$f":"LOOKUP(G9,Poängberäkning!$B$6:$B$97,Poängberäkning!$C$6:$C$97)","v":48},4,{"$f":"LOOKUP(I9,Poängberäkning!$B$6:$B$97,Poängberäkning!$C$6:$C$97)","v":60},null,{"$f":"LOOKUP(K9,Poängberäkning!$B$6:$B$97,Poängberäkning!$C$6:$C$97)","v":0},null,{"$f":"LOOKUP(M9,Poängberäkning!$B$6:$B$97,Poängberäkning!$C$6:$C$97)","v":0},8,{"$f":"LOOKUP(O9,Poängberäkning!$B$6:$B$97,Poängberäkning!$C$6:$C$97)","v":46},null,{"$f":"LOOKUP(Q9,[1]Poängberäkning!$B$6:$B$97,[1]Poängberäkning!$C$6:$C$97)","v":0},null,{"$f":"LOOKUP(S9,[1]Poängberäkning!$B$6:$B$97,[1]Poängberäkning!$C$6:$C$97)","v":0},null,{"$f":"LOOKUP(U9,[1]Poängberäkning!$B$6:$B$97,[1]Poängberäkning!$C$6:$C$97)","v":0},null,{"$f":"LOOKUP(W9,[1]Poängberäkning!$B$6:$B$97,[1]Poängberäkning!$C$6:$C$97)","v":0},{"$f":"LARGE(($H9,$J9,$L9,$N9,$P9,$R9,$T9,$V9,$X9),1)","v":60},{"$f":"LARGE(($H9,$J9,$L9,$N9,$P9,$R9,$T9,$V9,$X9),2)","v":48},{"$f":"LARGE(($H9,$J9,$L9,$N9,$P9,$R9,$T9,$V9,$X9),3)","v":46},{"$f":"LARGE(($H9,$J9,$L9,$N9,$P9,$R9,$T9,$V9,$X9),4)","v":0},{"$f":"LARGE(($H9,$J9,$L9,$N9,$P9,$R9,$T9,$V9,$X9),5)","v":0},{"$f":"LARGE(($H9,$J9,$L9,$N9,$P9,$R9,$T9,$V9,$X9),6)","v":0},{"$f":"LARGE(($H9,$J9,$L9,$N9,$P9,$R9,$T9,$V9,$X9),7)","v":0},{"$f":"LARGE(($H9,$J9,$L9,$N9,$P9,$R9,$T9,$V9,$X9),8)","v":0},{"$f":"LARGE(($H9,$J9,$L9,$N9,$P9,$R9,$T9,$V9,$X9),9)","v":0}]
[6,2004,"TÖRNQVIST Nova","IFK Borlänge",154,154,null,{"$f":"LOOKUP(G10,Poängberäkning!$B$6:$B$97,Poängberäkning!$C$6:$C$97)","v":0},5,{"$f":"LOOKUP(I10,Poängberäkning!$B$6:$B$97,Poängberäkning!$C$6:$C$97)","v":55},4,{"$f":"LOOKUP(K10,Poängberäkning!$B$6:$B$97,Poängberäkning!$C$6:$C$97)","v":60},99,{"$f":"LOOKUP(M10,Poängberäkning!$B$6:$B$97,Poängberäkning!$C$6:$C$97)","v":0},12,{"$f":"LOOKUP(O10,Poängberäkning!$B$6:$B$97,Poängberäkning!$C$6:$C$97)","v":39},null,{"$f":"LOOKUP(Q10,[1]Poängberäkning!$B$6:$B$97,[1]Poängberäkning!$C$6:$C$97)","v":0},null,{"$f":"LOOKUP(S10,[1]Poängberäkning!$B$6:$B$97,[1]Poängberäkning!$C$6:$C$97)","v":0},null,{"$f":"LOOKUP(U10,[1]Poängberäkning!$B$6:$B$97,[1]Poängberäkning!$C$6:$C$97)","v":0},null,{"$f":"LOOKUP(W10,[1]Poängberäkning!$B$6:$B$97,[1]Poängberäkning!$C$6:$C$97)","v":0},{"$f":"LARGE(($H10,$J10,$L10,$N10,$P10,$R10,$T10,$V10,$X10),1)","v":60},{"$f":"LARGE(($H10,$J10,$L10,$N10,$P10,$R10,$T10,$V10,$X10),2)","v":55},{"$f":"LARGE(($H10,$J10,$L10,$N10,$P10,$R10,$T10,$V10,$X10),3)","v":39},{"$f":"LARGE(($H10,$J10,$L10,$N10,$P10,$R10,$T10,$V10,$X10),4)","v":0},{"$f":"LARGE(($H10,$J10,$L10,$N10,$P10,$R10,$T10,$V10,$X10),5)","v":0},{"$f":"LARGE(($H10,$J10,$L10,$N10,$P10,$R10,$T10,$V10,$X10),6)","v":0},{"$f":"LARGE(($H10,$J10,$L10,$N10,$P10,$R10,$T10,$V10,$X10),7)","v":0},{"$f":"LARGE(($H10,$J10,$L10,$N10,$P10,$R10,$T10,$V10,$X10),8)","v":0},{"$f":"LARGE(($H10,$J10,$L10,$N10,$P10,$R10,$T10,$V10,$X10),9)","v":0}]
[7,2004,"TÖRNQVIST Nellie","IFK Borlänge",144,152,null,{"$f":"LOOKUP(G11,Poängberäkning!$B$6:$B$97,Poängberäkning!$C$6:$C$97)","v":0},7,{"$f":"LOOKUP(I11,Poängberäkning!$B$6:$B$97,Poängberäkning!$C$6:$C$97)","v":48},7,{"$f":"LOOKUP(K11,Poängberäkning!$B$6:$B$97,Poängberäkning!$C$6:$C$97)","v":48},7,{"$f":"LOOKUP(M11,Poängberäkning!$B$6:$B$97,Poängberäkning!$C$6:$C$97)","v":48},43,{"$f":"LOOKUP(O11,Poängberäkning!$B$6:$B$97,Poängberäkning!$C$6:$C$97)","v":8},null,{"$f":"LOOKUP(Q11,[1]Poängberäkning!$B$6:$B$97,[1]Poängberäkning!$C$6:$C$97)","v":0},null,{"$f":"LOOKUP(S11,[1]Poängberäkning!$B$6:$B$97,[1]Poängberäkning!$C$6:$C$97)","v":0},null,{"$f":"LOOKUP(U11,[1]Poängberäkning!$B$6:$B$97,[1]Poängberäkning!$C$6:$C$97)","v":0},null,{"$f":"LOOKUP(W11,[1]Poängberäkning!$B$6:$B$97,[1]Poängberäkning!$C$6:$C$97)","v":0},{"$f":"LARGE(($H11,$J11,$L11,$N11,$P11,$R11,$T11,$V11,$X11),1)","v":48},{"$f":"LARGE(($H11,$J11,$L11,$N11,$P11,$R11,$T11,$V11,$X11),2)","v":48},{"$f":"LARGE(($H11,$J11,$L11,$N11,$P11,$R11,$T11,$V11,$X11),3)","v":48},{"$f":"LARGE(($H11,$J11,$L11,$N11,$P11,$R11,$T11,$V11,$X11),4)","v":8},{"$f":"LARGE(($H11,$J11,$L11,$N11,$P11,$R11,$T11,$V11,$X11),5)","v":0},{"$f":"LARGE(($H11,$J11,$L11,$N11,$P11,$R11,$T11,$V11,$X11),6)","v":0},{"$f":"LARGE(($H11,$J11,$L11,$N11,$P11,$R11,$T11,$V11,$X11),7)","v":0},{"$f":"LARGE(($H11,$J11,$L11,$N11,$P11,$R11,$T11,$V11,$X11),8)","v":0},{"$f":"LARGE(($H11,$J11,$L11,$N11,$P11,$R11,$T11,$V11,$X11),9)","v":0}]
[8,2005,"LANDSTRÖM Moa","Västerås Slalomklubb",140,140,99,{"$f":"LOOKUP(G12,Poängberäkning!$B$6:$B$97,Poängberäkning!$C$6:$C$97)","v":0},null,{"$f":"LOOKUP(I12,Poängberäkning!$B$6:$B$97,Poängberäkning!$C$6:$C$97)","v":0},1,{"$f":"LOOKUP(K12,Poängberäkning!$B$6:$B$97,Poängberäkning!$C$6:$C$97)","v":100},99,{"$f":"LOOKUP(M12,Poängberäkning!$B$6:$B$97,Poängberäkning!$C$6:$C$97)","v":0},11,{"$f":"LOOKUP(O12,Poängberäkning!$B$6:$B$97,Poängberäkning!$C$6:$C$97)","v":40},null,{"$f":"LOOKUP(Q12,[1]Poängberäkning!$B$6:$B$97,[1]Poängberäkning!$C$6:$C$97)","v":0},null,{"$f":"LOOKUP(S12,[1]Poängberäkning!$B$6:$B$97,[1]Poängberäkning!$C$6:$C$97)","v":0},null,{"$f":"LOOKUP(U12,[1]Poängberäkning!$B$6:$B$97,[1]Poängberäkning!$C$6:$C$97)","v":0},null,{"$f":"LOOKUP(W12,[1]Poängberäkning!$B$6:$B$97,[1]Poängberäkning!$C$6:$C$97)","v":0},{"$f":"LARGE(($H12,$J12,$L12,$N12,$P12,$R12,$T12,$V12,$X12),1)","v":100},{"$f":"LARGE(($H12,$J12,$L12,$N12,$P12,$R12,$T12,$V12,$X12),2)","v":40},{"$f":"LARGE(($H12,$J12,$L12,$N12,$P12,$R12,$T12,$V12,$X12),3)","v":0},{"$f":"LARGE(($H12,$J12,$L12,$N12,$P12,$R12,$T12,$V12,$X12),4)","v":0},{"$f":"LARGE(($H12,$J12,$L12,$N12,$P12,$R12,$T12,$V12,$X12),5)","v":0},{"$f":"LARGE(($H12,$J12,$L12,$N12,$P12,$R12,$T12,$V12,$X12),6)","v":0},{"$f":"LARGE(($H12,$J12,$L12,$N12,$P12,$R12,$T12,$V12,$X12),7)","v":0},{"$f":"LARGE(($H12,$J12,$L12,$N12,$P12,$R12,$T12,$V12,$X12),8)","v":0},{"$f":"LARGE(($H12,$J12,$L12,$N12,$P12,$R12,$T12,$V12,$X12),9)","v":0}]
[9,2005,"LINDBERG Julia","Leksands SLK",136,199,10,{"$f":"LOOKUP(G13,Poängberäkning!$B$6:$B$97,Poängberäkning!$C$6:$C$97)","v":42},9,{"$f":"LOOKUP(I13,Poängberäkning!$B$6:$B$97,Poängberäkning!$C$6:$C$97)","v":44},10,{"$f":"LOOKUP(K13,Poängberäkning!$B$6:$B$97,Poängberäkning!$C$6:$C$97)","v":42},6,{"$f":"LOOKUP(M13,Poängberäkning!$B$6:$B$97,Poängberäkning!$C$6:$C$97)","v":50},30,{"$f":"LOOKUP(O13,Poängberäkning!$B$6:$B$97,Poängberäkning!$C$6:$C$97)","v":21},null,{"$f":"LOOKUP(Q13,[1]Poängberäkning!$B$6:$B$97,[1]Poängberäkning!$C$6:$C$97)","v":0},null,{"$f":"LOOKUP(S13,[1]Poängberäkning!$B$6:$B$97,[1]Poängberäkning!$C$6:$C$97)","v":0},null,{"$f":"LOOKUP(U13,[1]Poängberäkning!$B$6:$B$97,[1]Poängberäkning!$C$6:$C$97)","v":0},null,{"$f":"LOOKUP(W13,[1]Poängberäkning!$B$6:$B$97,[1]Poängberäkning!$C$6:$C$97)","v":0},{"$f":"LARGE(($H13,$J13,$L13,$N13,$P13,$R13,$T13,$V13,$X13),1)","v":50},{"$f":"LARGE(($H13,$J13,$L13,$N13,$P13,$R13,$T13,$V13,$X13),2)","v":44},{"$f":"LARGE(($H13,$J13,$L13,$N13,$P13,$R13,$T13,$V13,$X13),3)","v":42},{"$f":"LARGE(($H13,$J13,$L13,$N13,$P13,$R13,$T13,$V13,$X13),4)","v":42},{"$f":"LARGE(($H13,$J13,$L13,$N13,$P13,$R13,$T13,$V13,$X13),5)","v":21},{"$f":"LARGE(($H13,$J13,$L13,$N13,$P13,$R13,$T13,$V13,$X13),6)","v":0},{"$f":"LARGE(($H13,$J13,$L13,$N13,$P13,$R13,$T13,$V13,$X13),7)","v":0},{"$f":"LARGE(($H13,$J13,$L13,$N13,$P13,$R13,$T13,$V13,$X13),8)","v":0},{"$f":"LARGE(($H13,$J13,$L13,$N13,$P13,$R13,$T13,$V13,$X13),9)","v":0}]
[10,2005,"GUSTAFSSON Rebecka","Örebro SLF",134,136,9,{"$f":"LOOKUP(G14,Poängberäkning!$B$6:$B$97,Poängberäkning!$C$6:$C$97)","v":44},6,{"$f":"LOOKUP(I14,Poängberäkning!$B$6:$B$97,Poängberäkning!$C$6:$C$97)","v":50},11,{"$f":"LOOKUP(K14,Poängberäkning!$B$6:$B$97,Poängberäkning!$C$6:$C$97)","v":40},null,{"$f":"LOOKUP(M14,Poängberäkning!$B$6:$B$97,Poängberäkning!$C$6:$C$97)","v":0},49,{"$f":"LOOKUP(O14,Poängberäkning!$B$6:$B$97,Poängberäkning!$C$6:$C$97)","v":2},null,{"$f":"LOOKUP(Q14,[1]Poängberäkning!$B$6:$B$97,[1]Poängberäkning!$C$6:$C$97)","v":0},null,{"$f":"LOOKUP(S14,[1]Poängberäkning!$B$6:$B$97,[1]Poängberäkning!$C$6:$C$97)","v":0},null,{"$f":"LOOKUP(U14,[1]Poängberäkning!$B$6:$B$97,[1]Poängberäkning!$C$6:$C$97)","v":0},null,{"$f":"LOOKUP(W14,[1]Poängberäkning!$B$6:$B$97,[1]Poängberäkning!$C$6:$C$97)","v":0},{"$f":"LARGE(($H14,$J14,$L14,$N14,$P14,$R14,$T14,$V14,$X14),1)","v":50},{"$f":"LARGE(($H14,$J14,$L14,$N14,$P14,$R14,$T14,$V14,$X14),2)","v":44},{"$f":"LARGE(($H14,$J14,$L14,$N14,$P14,$R14,$T14,$V14,$X14),3)","v":40},{"$f":"LARGE(($H14,$J14,$L14,$N14,$P14,$R14,$T14,$V14,$X14),4)","v":2},{"$f":"LARGE(($H14,$J14,$L14,$N14,$P14,$R14,$T14,$V14,$X14),5)","v":0},{"$f":"LARGE(($H14,$J14,$L14,$N14,$P14,$R14,$T14,$V14,$X14),6)","v":0},{"$f":"LARGE(($H14,$J14,$L14,$N14,$P14,$R14,$T14,$V14,$X14),7)","v":0},{"$f":"LARGE(($H14,$J14,$L14,$N14,$P14,$R14,$T14,$V14,$X14),8)","v":0},{"$f":"LARGE(($H14,$J14,$L14,$N14,$P14,$R14,$T14,$V14,$X14),9)","v":0}]
[11,2005,"BJÖRNHAGER Clara","Norrbärke SK Alpin",124,124,null,{"$f":"LOOKUP(G15,Poängberäkning!$B$6:$B$97,Poängberäkning!$C$6:$C$97)","v":0},15,{"$f":"LOOKUP(I15,Poängberäkning!$B$6:$B$97,Poängberäkning!$C$6:$C$97)","v":36},8,{"$f":"LOOKUP(K15,Poängberäkning!$B$6:$B$97,Poängberäkning!$C$6:$C$97)","v":46},10,{"$f":"LOOKUP(M15,Poängberäkning!$B$6:$B$97,Poängberäkning!$C$6:$C$97)","v":42},null,{"$f":"LOOKUP(O15,Poängberäkning!$B$6:$B$97,Poängberäkning!$C$6:$C$97)","v":0},null,{"$f":"LOOKUP(Q15,[1]Poängberäkning!$B$6:$B$97,[1]Poängberäkning!$C$6:$C$97)","v":0},null,{"$f":"LOOKUP(S15,[1]Poängberäkning!$B$6:$B$97,[1]Poängberäkning!$C$6:$C$97)","v":0},null,{"$f":"LOOKUP(U15,[1]Poängberäkning!$B$6:$B$97,[1]Poängberäkning!$C$6:$C$97)","v":0},null,{"$f":"LOOKUP(W15,[1]Poängberäkning!$B$6:$B$97,[1]Poängberäkning!$C$6:$C$97)","v":0},{"$f":"LARGE(($H15,$J15,$L15,$N15,$P15,$R15,$T15,$V15,$X15),1)","v":46},{"$f":"LARGE(($H15,$J15,$L15,$N15,$P15,$R15,$T15,$V15,$X15),2)","v":42},{"$f":"LARGE(($H15,$J15,$L15,$N15,$P15,$R15,$T15,$V15,$X15),3)","v":36},{"$f":"LARGE(($H15,$J15,$L15,$N15,$P15,$R15,$T15,$V15,$X15),4)","v":0},{"$f":"LARGE(($H15,$J15,$L15,$N15,$P15,$R15,$T15,$V15,$X15),5)","v":0},{"$f":"LARGE(($H15,$J15,$L15,$N15,$P15,$R15,$T15,$V15,$X15),6)","v":0},{"$f":"LARGE(($H15,$J15,$L15,$N15,$P15,$R15,$T15,$V15,$X15),7)","v":0},{"$f":"LARGE(($H15,$J15,$L15,$N15,$P15,$R15,$T15,$V15,$X15),8)","v":0},{"$f":"LARGE(($H15,$J15,$L15,$N15,$P15,$R15,$T15,$V15,$X15),9)","v":0}]
[12,2004,"PERSSON Emma","IFK Borlänge",123,166,14,{"$f":"LOOKUP(G16,Poängberäkning!$B$6:$B$97,Poängberäkning!$C$6:$C$97)","v":37},13,{"$f":"LOOKUP(I16,Poängberäkning!$B$6:$B$97,Poängberäkning!$C$6:$C$97)","v":38},12,{"$f":"LOOKUP(K16,Poängberäkning!$B$6:$B$97,Poängberäkning!$C$6:$C$97)","v":39},8,{"$f":"LOOKUP(M16,Poängberäkning!$B$6:$B$97,Poängberäkning!$C$6:$C$97)","v":46},45,{"$f":"LOOKUP(O16,Poängberäkning!$B$6:$B$97,Poängberäkning!$C$6:$C$97)","v":6},null,{"$f":"LOOKUP(Q16,[1]Poängberäkning!$B$6:$B$97,[1]Poängberäkning!$C$6:$C$97)","v":0},null,{"$f":"LOOKUP(S16,[1]Poängberäkning!$B$6:$B$97,[1]Poängberäkning!$C$6:$C$97)","v":0},null,{"$f":"LOOKUP(U16,[1]Poängberäkning!$B$6:$B$97,[1]Poängberäkning!$C$6:$C$97)","v":0},null,{"$f":"LOOKUP(W16,[1]Poängberäkning!$B$6:$B$97,[1]Poängberäkning!$C$6:$C$97)","v":0},{"$f":"LARGE(($H16,$J16,$L16,$N16,$P16,$R16,$T16,$V16,$X16),1)","v":46},{"$f":"LARGE(($H16,$J16,$L16,$N16,$P16,$R16,$T16,$V16,$X16),2)","v":39},{"$f":"LARGE(($H16,$J16,$L16,$N16,$P16,$R16,$T16,$V16,$X16),3)","v":38},{"$f":"LARGE(($H16,$J16,$L16,$N16,$P16,$R16,$T16,$V16,$X16),4)","v":37},{"$f":"LARGE(($H16,$J16,$L16,$N16,$P16,$R16,$T16,$V16,$X16),5)","v":6},{"$f":"LARGE(($H16,$J16,$L16,$N16,$P16,$R16,$T16,$V16,$X16),6)","v":0},{"$f":"LARGE(($H16,$J16,$L16,$N16,$P16,$R16,$T16,$V16,$X16),7)","v":0},{"$f":"LARGE(($H16,$J16,$L16,$N16,$P16,$R16,$T16,$V16,$X16),8)","v":0},{"$f":"LARGE(($H16,$J16,$L16,$N16,$P16,$R16,$T16,$V16,$X16),9)","v":0}]
[13,2005,"ANDERSSON Melinda","Örebro SLF",121,121,12,{"$f":"LOOKUP(G17,Poängberäkning!$B$6:$B$97,Poängberäkning!$C$6:$C$97)","v":39},8,{"$f":"LOOKUP(I17,Poängberäkning!$B$6:$B$97,Poängberäkning!$C$6:$C$97)","v":46},null,{"$f":"LOOKUP(K17,Poängberäkning!$B$6:$B$97,Poängberäkning!$C$6:$C$97)","v":0},null,{"$f":"LOOKUP(M17,Poängberäkning!$B$6:$B$97,Poängberäkning!$C$6:$C$97)","v":0},15,{"$f":"LOOKUP(O17,Poängberäkning!$B$6:$B$97,Poängberäkning!$C$6:$C$97)","v":36},null,{"$f":"LOOKUP(Q17,[1]Poängberäkning!$B$6:$B$97,[1]Poängberäkning!$C$6:$C$97)","v":0},null,{"$f":"LOOKUP(S17,[1]Poängberäkning!$B$6:$B$97,[1]Poängberäkning!$C$6:$C$97)","v":0},null,{"$f":"LOOKUP(U17,[1]Poängberäkning!$B$6:$B$97,[1]Poängberäkning!$C$6:$C$97)","v":0},null,{"$f":"LOOKUP(W17,[1]Poängberäkning!$B$6:$B$97,[1]Poängberäkning!$C$6:$C$97)","v":0},{"$f":"LARGE(($H17,$J17,$L17,$N17,$P17,$R17,$T17,$V17,$X17),1)","v":46},{"$f":"LARGE(($H17,$J17,$L17,$N17,$P17,$R17,$T17,$V17,$X17),2)","v":39},{"$f":"LARGE(($H17,$J17,$L17,$N17,$P17,$R17,$T17,$V17,$X17),3)","v":36},{"$f":"LARGE(($H17,$J17,$L17,$N17,$P17,$R17,$T17,$V17,$X17),4)","v":0},{"$f":"LARGE(($H17,$J17,$L17,$N17,$P17,$R17,$T17,$V17,$X17),5)","v":0},{"$f":"LARGE(($H17,$J17,$L17,$N17,$P17,$R17,$T17,$V17,$X17),6)","v":0},{"$f":"LARGE(($H17,$J17,$L17,$N17,$P17,$R17,$T17,$V17,$X17),7)","v":0},{"$f":"LARGE(($H17,$J17,$L17,$N17,$P17,$R17,$T17,$V17,$X17),8)","v":0},{"$f":"LARGE(($H17,$J17,$L17,$N17,$P17,$R17,$T17,$V17,$X17),9)","v":0}]
[14,2004,"JOHANSSON Alice","Bollnäs AK",100,100,null,{"$f":"LOOKUP(G18,Poängberäkning!$B$6:$B$97,Poängberäkning!$C$6:$C$97)","v":0},null,{"$f":"LOOKUP(I18,Poängberäkning!$B$6:$B$97,Poängberäkning!$C$6:$C$97)","v":0},null,{"$f":"LOOKUP(K18,Poängberäkning!$B$6:$B$97,Poängberäkning!$C$6:$C$97)","v":0},null,{"$f":"LOOKUP(M18,Poängberäkning!$B$6:$B$97,Poängberäkning!$C$6:$C$97)","v":0},1,{"$f":"LOOKUP(O18,Poängberäkning!$B$6:$B$97,Poängberäkning!$C$6:$C$97)","v":100},null,{"$f":"LOOKUP(Q18,[1]Poängberäkning!$B$6:$B$97,[1]Poängberäkning!$C$6:$C$97)","v":0},null,{"$f":"LOOKUP(S18,[1]Poängberäkning!$B$6:$B$97,[1]Poängberäkning!$C$6:$C$97)","v":0},null,{"$f":"LOOKUP(U18,[1]Poängberäkning!$B$6:$B$97,[1]Poängberäkning!$C$6:$C$97)","v":0},null,{"$f":"LOOKUP(W18,[1]Poängberäkning!$B$6:$B$97,[1]Poängberäkning!$C$6:$C$97)","v":0},{"$f":"LARGE(($H18,$J18,$L18,$N18,$P18,$R18,$T18,$V18,$X18),1)","v":100},{"$f":"LARGE(($H18,$J18,$L18,$N18,$P18,$R18,$T18,$V18,$X18),2)","v":0},{"$f":"LARGE(($H18,$J18,$L18,$N18,$P18,$R18,$T18,$V18,$X18),3)","v":0},{"$f":"LARGE(($H18,$J18,$L18,$N18,$P18,$R18,$T18,$V18,$X18),4)","v":0},{"$f":"LARGE(($H18,$J18,$L18,$N18,$P18,$R18,$T18,$V18,$X18),5)","v":0},{"$f":"LARGE(($H18,$J18,$L18,$N18,$P18,$R18,$T18,$V18,$X18),6)","v":0},{"$f":"LARGE(($H18,$J18,$L18,$N18,$P18,$R18,$T18,$V18,$X18),7)","v":0},{"$f":"LARGE(($H18,$J18,$L18,$N18,$P18,$R18,$T18,$V18,$X18),8)","v":0},{"$f":"LARGE(($H18,$J18,$L18,$N18,$P18,$R18,$T18,$V18,$X18),9)","v":0}]
[15,2005,"HOLMQVIST Emma","Järfälla AK",100,100,null,{"$f":"LOOKUP(G19,Poängberäkning!$B$6:$B$97,Poängberäkning!$C$6:$C$97)","v":0},null,{"$f":"LOOKUP(I19,Poängberäkning!$B$6:$B$97,Poängberäkning!$C$6:$C$97)","v":0},null,{"$f":"LOOKUP(K19,Poängberäkning!$B$6:$B$97,Poängberäkning!$C$6:$C$97)","v":0},1,{"$f":"LOOKUP(M19,Poängberäkning!$B$6:$B$97,Poängberäkning!$C$6:$C$97)","v":100},null,{"$f":"LOOKUP(O19,Poängberäkning!$B$6:$B$97,Poängberäkning!$C$6:$C$97)","v":0},null,{"$f":"LOOKUP(Q19,[1]Poängberäkning!$B$6:$B$97,[1]Poängberäkning!$C$6:$C$97)","v":0},null,{"$f":"LOOKUP(S19,[1]Poängberäkning!$B$6:$B$97,[1]Poängberäkning!$C$6:$C$97)","v":0},null,{"$f":"LOOKUP(U19,[1]Poängberäkning!$B$6:$B$97,[1]Poängberäkning!$C$6:$C$97)","v":0},null,{"$f":"LOOKUP(W19,[1]Poängberäkning!$B$6:$B$97,[1]Poängberäkning!$C$6:$C$97)","v":0},{"$f":"LARGE(($H19,$J19,$L19,$N19,$P19,$R19,$T19,$V19,$X19),1)","v":100},{"$f":"LARGE(($H19,$J19,$L19,$N19,$P19,$R19,$T19,$V19,$X19),2)","v":0},{"$f":"LARGE(($H19,$J19,$L19,$N19,$P19,$R19,$T19,$V19,$X19),3)","v":0},{"$f":"LARGE(($H19,$J19,$L19,$N19,$P19,$R19,$T19,$V19,$X19),4)","v":0},{"$f":"LARGE(($H19,$J19,$L19,$N19,$P19,$R19,$T19,$V19,$X19),5)","v":0},{"$f":"LARGE(($H19,$J19,$L19,$N19,$P19,$R19,$T19,$V19,$X19),6)","v":0},{"$f":"LARGE(($H19,$J19,$L19,$N19,$P19,$R19,$T19,$V19,$X19),7)","v":0},{"$f":"LARGE(($H19,$J19,$L19,$N19,$P19,$R19,$T19,$V19,$X19),8)","v":0},{"$f":"LARGE(($H19,$J19,$L19,$N19,$P19,$R19,$T19,$V19,$X19),9)","v":0}]
[16,2004,"KANDELL Tuva","Leksands SLK",100,100,1,{"$f":"LOOKUP(G20,Poängberäkning!$B$6:$B$97,Poängberäkning!$C$6:$C$97)","v":100},99,{"$f":"LOOKUP(I20,Poängberäkning!$B$6:$B$97,Poängberäkning!$C$6:$C$97)","v":0},null,{"$f":"LOOKUP(K20,Poängberäkning!$B$6:$B$97,Poängberäkning!$C$6:$C$97)","v":0},null,{"$f":"LOOKUP(M20,Poängberäkning!$B$6:$B$97,Poängberäkning!$C$6:$C$97)","v":0},null,{"$f":"LOOKUP(O20,Poängberäkning!$B$6:$B$97,Poängberäkning!$C$6:$C$97)","v":0},null,{"$f":"LOOKUP(Q20,[1]Poängberäkning!$B$6:$B$97,[1]Poängberäkning!$C$6:$C$97)","v":0},null,{"$f":"LOOKUP(S20,[1]Poängberäkning!$B$6:$B$97,[1]Poängberäkning!$C$6:$C$97)","v":0},null,{"$f":"LOOKUP(U20,[1]Poängberäkning!$B$6:$B$97,[1]Poängberäkning!$C$6:$C$97)","v":0},null,{"$f":"LOOKUP(W20,[1]Poängberäkning!$B$6:$B$97,[1]Poängberäkning!$C$6:$C$97)","v":0},{"$f":"LARGE(($H20,$J20,$L20,$N20,$P20,$R20,$T20,$V20,$X20),1)","v":100},{"$f":"LARGE(($H20,$J20,$L20,$N20,$P20,$R20,$T20,$V20,$X20),2)","v":0},{"$f":"LARGE(($H20,$J20,$L20,$N20,$P20,$R20,$T20,$V20,$X20),3)","v":0},{"$f":"LARGE(($H20,$J20,$L20,$N20,$P20,$R20,$T20,$V20,$X20),4)","v":0},{"$f":"LARGE(($H20,$J20,$L20,$N20,$P20,$R20,$T20,$V20,$X20),5)","v":0},{"$f":"LARGE(($H20,$J20,$L20,$N20,$P20,$R20,$T20,$V20,$X20),6)","v":0},{"$f":"LARGE(($H20,$J20,$L20,$N20,$P20,$R20,$T20,$V20,$X20),7)","v":0},{"$f":"LARGE(($H20,$J20,$L20,$N20,$P20,$R20,$T20,$V20,$X20),8)","v":0},{"$f":"LARGE(($H20,$J20,$L20,$N20,$P20,$R20,$T20,$V20,$X20),9)","v":0}]
[17,2005,"NYHEM Frida","Norrbärke SK Alpin",83,83,null,{"$f":"LOOKUP(G21,Poängberäkning!$B$6:$B$97,Poängberäkning!$C$6:$C$97)","v":0},null,{"$f":"LOOKUP(I21,Poängberäkning!$B$6:$B$97,Poängberäkning!$C$6:$C$97)","v":0},9,{"$f":"LOOKUP(K21,Poängberäkning!$B$6:$B$97,Poängberäkning!$C$6:$C$97)","v":44},12,{"$f":"LOOKUP(M21,Poängberäkning!$B$6:$B$97,Poängberäkning!$C$6:$C$97)","v":39},null,{"$f":"LOOKUP(O21,Poängberäkning!$B$6:$B$97,Poängberäkning!$C$6:$C$97)","v":0},null,{"$f":"LOOKUP(Q21,[1]Poängberäkning!$B$6:$B$97,[1]Poängberäkning!$C$6:$C$97)","v":0},null,{"$f":"LOOKUP(S21,[1]Poängberäkning!$B$6:$B$97,[1]Poängberäkning!$C$6:$C$97)","v":0},null,{"$f":"LOOKUP(U21,[1]Poängberäkning!$B$6:$B$97,[1]Poängberäkning!$C$6:$C$97)","v":0},null,{"$f":"LOOKUP(W21,[1]Poängberäkning!$B$6:$B$97,[1]Poängberäkning!$C$6:$C$97)","v":0},{"$f":"LARGE(($H21,$J21,$L21,$N21,$P21,$R21,$T21,$V21,$X21),1)","v":44},{"$f":"LARGE(($H21,$J21,$L21,$N21,$P21,$R21,$T21,$V21,$X21),2)","v":39},{"$f":"LARGE(($H21,$J21,$L21,$N21,$P21,$R21,$T21,$V21,$X21),3)","v":0},{"$f":"LARGE(($H21,$J21,$L21,$N21,$P21,$R21,$T21,$V21,$X21),4)","v":0},{"$f":"LARGE(($H21,$J21,$L21,$N21,$P21,$R21,$T21,$V21,$X21),5)","v":0},{"$f":"LARGE(($H21,$J21,$L21,$N21,$P21,$R21,$T21,$V21,$X21),6)","v":0},{"$f":"LARGE(($H21,$J21,$L21,$N21,$P21,$R21,$T21,$V21,$X21),7)","v":0},{"$f":"LARGE(($H21,$J21,$L21,$N21,$P21,$R21,$T21,$V21,$X21),8)","v":0},{"$f":"LARGE(($H21,$J21,$L21,$N21,$P21,$R21,$T21,$V21,$X21),9)","v":0}]
[18,2004,"MICKELSSON Lisa","IF Hudik Alpin",80,80,null,{"$f":"LOOKUP(G22,Poängberäkning!$B$6:$B$97,Poängberäkning!$C$6:$C$97)","v":0},null,{"$f":"LOOKUP(I22,Poängberäkning!$B$6:$B$97,Poängberäkning!$C$6:$C$97)","v":0},null,{"$f":"LOOKUP(K22,Poängberäkning!$B$6:$B$97,Poängberäkning!$C$6:$C$97)","v":0},null,{"$f":"LOOKUP(M22,Poängberäkning!$B$6:$B$97,Poängberäkning!$C$6:$C$97)","v":0},2,{"$f":"LOOKUP(O22,Poängberäkning!$B$6:$B$97,Poängberäkning!$C$6:$C$97)","v":80},null,{"$f":"LOOKUP(Q22,[1]Poängberäkning!$B$6:$B$97,[1]Poängberäkning!$C$6:$C$97)","v":0},null,{"$f":"LOOKUP(S22,[1]Poängberäkning!$B$6:$B$97,[1]Poängberäkning!$C$6:$C$97)","v":0},null,{"$f":"LOOKUP(U22,[1]Poängberäkning!$B$6:$B$97,[1]Poängberäkning!$C$6:$C$97)","v":0},null,{"$f":"LOOKUP(W22,[1]Poängberäkning!$B$6:$B$97,[1]Poängberäkning!$C$6:$C$97)","v":0},{"$f":"LARGE(($H22,$J22,$L22,$N22,$P22,$R22,$T22,$V22,$X22),1)","v":80},{"$f":"LARGE(($H22,$J22,$L22,$N22,$P22,$R22,$T22,$V22,$X22),2)","v":0},{"$f":"LARGE(($H22,$J22,$L22,$N22,$P22,$R22,$T22,$V22,$X22),3)","v":0},{"$f":"LARGE(($H22,$J22,$L22,$N22,$P22,$R22,$T22,$V22,$X22),4)","v":0},{"$f":"LARGE(($H22,$J22,$L22,$N22,$P22,$R22,$T22,$V22,$X22),5)","v":0},{"$f":"LARGE(($H22,$J22,$L22,$N22,$P22,$R22,$T22,$V22,$X22),6)","v":0},{"$f":"LARGE(($H22,$J22,$L22,$N22,$P22,$R22,$T22,$V22,$X22),7)","v":0},{"$f":"LARGE(($H22,$J22,$L22,$N22,$P22,$R22,$T22,$V22,$X22),8)","v":0},{"$f":"LARGE(($H22,$J22,$L22,$N22,$P22,$R22,$T22,$V22,$X22),9)","v":0}]
[19,2005,"SEGER Nellie","Norrbärke SK Alpin",78,78,null,{"$f":"LOOKUP(G23,Poängberäkning!$B$6:$B$97,Poängberäkning!$C$6:$C$97)","v":0},null,{"$f":"LOOKUP(I23,Poängberäkning!$B$6:$B$97,Poängberäkning!$C$6:$C$97)","v":0},13,{"$f":"LOOKUP(K23,Poängberäkning!$B$6:$B$97,Poängberäkning!$C$6:$C$97)","v":38},11,{"$f":"LOOKUP(M23,Poängberäkning!$B$6:$B$97,Poängberäkning!$C$6:$C$97)","v":40},null,{"$f":"LOOKUP(O23,Poängberäkning!$B$6:$B$97,Poängberäkning!$C$6:$C$97)","v":0},null,{"$f":"LOOKUP(Q23,[1]Poängberäkning!$B$6:$B$97,[1]Poängberäkning!$C$6:$C$97)","v":0},null,{"$f":"LOOKUP(S23,[1]Poängberäkning!$B$6:$B$97,[1]Poängberäkning!$C$6:$C$97)","v":0},null,{"$f":"LOOKUP(U23,[1]Poängberäkning!$B$6:$B$97,[1]Poängberäkning!$C$6:$C$97)","v":0},null,{"$f":"LOOKUP(W23,[1]Poängberäkning!$B$6:$B$97,[1]Poängberäkning!$C$6:$C$97)","v":0},{"$f":"LARGE(($H23,$J23,$L23,$N23,$P23,$R23,$T23,$V23,$X23),1)","v":40},{"$f":"LARGE(($H23,$J23,$L23,$N23,$P23,$R23,$T23,$V23,$X23),2)","v":38},{"$f":"LARGE(($H23,$J23,$L23,$N23,$P23,$R23,$T23,$V23,$X23),3)","v":0},{"$f":"LARGE(($H23,$J23,$L23,$N23,$P23,$R23,$T23,$V23,$X23),4)","v":0},{"$f":"LARGE(($H23,$J23,$L23,$N23,$P23,$R23,$T23,$V23,$X23),5)","v":0},{"$f":"LARGE(($H23,$J23,$L23,$N23,$P23,$R23,$T23,$V23,$X23),6)","v":0},{"$f":"LARGE(($H23,$J23,$L23,$N23,$P23,$R23,$T23,$V23,$X23),7)","v":0},{"$f":"LARGE(($H23,$J23,$L23,$N23,$P23,$R23,$T23,$V23,$X23),8)","v":0},{"$f":"LARGE(($H23,$J23,$L23,$N23,$P23,$R23,$T23,$V23,$X23),9)","v":0}]
[20,2004,"ENGBERG Tindra","IFK Mora AK",76,76,6,{"$f":"LOOKUP(G24,Poängberäkning!$B$6:$B$97,Poängberäkning!$C$6:$C$97)","v":50},null,{"$f":"LOOKUP(I24,Poängberäkning!$B$6:$B$97,Poängberäkning!$C$6:$C$97)","v":0},null,{"$f":"LOOKUP(K24,Poängberäkning!$B$6:$B$97,Poängberäkning!$C$6:$C$97)","v":0},null,{"$f":"LOOKUP(M24,Poängberäkning!$B$6:$B$97,Poängberäkning!$C$6:$C$97)","v":0},25,{"$f":"LOOKUP(O24,Poängberäkning!$B$6:$B$97,Poängberäkning!$C$6:$C$97)","v":26},null,{"$f":"LOOKUP(Q24,[1]Poängberäkning!$B$6:$B$97,[1]Poängberäkning!$C$6:$C$97)","v":0},null,{"$f":"LOOKUP(S24,[1]Poängberäkning!$B$6:$B$97,[1]Poängberäkning!$C$6:$C$97)","v":0},null,{"$f":"LOOKUP(U24,[1]Poängberäkning!$B$6:$B$97,[1]Poängberäkning!$C$6:$C$97)","v":0},null,{"$f":"LOOKUP(W24,[1]Poängberäkning!$B$6:$B$97,[1]Poängberäkning!$C$6:$C$97)","v":0},{"$f":"LARGE(($H24,$J24,$L24,$N24,$P24,$R24,$T24,$V24,$X24),1)","v":50},{"$f":"LARGE(($H24,$J24,$L24,$N24,$P24,$R24,$T24,$V24,$X24),2)","v":26},{"$f":"LARGE(($H24,$J24,$L24,$N24,$P24,$R24,$T24,$V24,$X24),3)","v":0},{"$f":"LARGE(($H24,$J24,$L24,$N24,$P24,$R24,$T24,$V24,$X24),4)","v":0},{"$f":"LARGE(($H24,$J24,$L24,$N24,$P24,$R24,$T24,$V24,$X24),5)","v":0},{"$f":"LARGE(($H24,$J24,$L24,$N24,$P24,$R24,$T24,$V24,$X24),6)","v":0},{"$f":"LARGE(($H24,$J24,$L24,$N24,$P24,$R24,$T24,$V24,$X24),7)","v":0},{"$f":"LARGE(($H24,$J24,$L24,$N24,$P24,$R24,$T24,$V24,$X24),8)","v":0},{"$f":"LARGE(($H24,$J24,$L24,$N24,$P24,$R24,$T24,$V24,$X24),9)","v":0}]
[21,2004,"LARSEN Ida","Gävle Alpina SK",74,74,null,{"$f":"LOOKUP(G25,Poängberäkning!$B$6:$B$97,Poängberäkning!$C$6:$C$97)","v":0},null,{"$f":"LOOKUP(I25,Poängberäkning!$B$6:$B$97,Poängberäkning!$C$6:$C$97)","v":0},null,{"$f":"LOOKUP(K25,Poängberäkning!$B$6:$B$97,Poängberäkning!$C$6:$C$97)","v":0},14,{"$f":"LOOKUP(M25,Poängberäkning!$B$6:$B$97,Poängberäkning!$C$6:$C$97)","v":37},14,{"$f":"LOOKUP(O25,Poängberäkning!$B$6:$B$97,Poängberäkning!$C$6:$C$97)","v":37},null,{"$f":"LOOKUP(Q25,[1]Poängberäkning!$B$6:$B$97,[1]Poängberäkning!$C$6:$C$97)","v":0},null,{"$f":"LOOKUP(S25,[1]Poängberäkning!$B$6:$B$97,[1]Poängberäkning!$C$6:$C$97)","v":0},null,{"$f":"LOOKUP(U25,[1]Poängberäkning!$B$6:$B$97,[1]Poängberäkning!$C$6:$C$97)","v":0},null,{"$f":"LOOKUP(W25,[1]Poängberäkning!$B$6:$B$97,[1]Poängberäkning!$C$6:$C$97)","v":0},{"$f":"LARGE(($H25,$J25,$L25,$N25,$P25,$R25,$T25,$V25,$X25),1)","v":37},{"$f":"LARGE(($H25,$J25,$L25,$N25,$P25,$R25,$T25,$V25,$X25),2)","v":37},{"$f":"LARGE(($H25,$J25,$L25,$N25,$P25,$R25,$T25,$V25,$X25),3)","v":0},{"$f":"LARGE(($H25,$J25,$L25,$N25,$P25,$R25,$T25,$V25,$X25),4)","v":0},{"$f":"LARGE(($H25,$J25,$L25,$N25,$P25,$R25,$T25,$V25,$X25),5)","v":0},{"$f":"LARGE(($H25,$J25,$L25,$N25,$P25,$R25,$T25,$V25,$X25),6)","v":0},{"$f":"LARGE(($H25,$J25,$L25,$N25,$P25,$R25,$T25,$V25,$X25),7)","v":0},{"$f":"LARGE(($H25,$J25,$L25,$N25,$P25,$R25,$T25,$V25,$X25),8)","v":0},{"$f":"LARGE(($H25,$J25,$L25,$N25,$P25,$R25,$T25,$V25,$X25),9)","v":0}]
[22,2004,"SANDBERG Lovisa","Tunafors SK",70,70,null,{"$f":"LOOKUP(G26,Poängberäkning!$B$6:$B$97,Poängberäkning!$C$6:$C$97)","v":0},null,{"$f":"LOOKUP(I26,Poängberäkning!$B$6:$B$97,Poängberäkning!$C$6:$C$97)","v":0},null,{"$f":"LOOKUP(K26,Poängberäkning!$B$6:$B$97,Poängberäkning!$C$6:$C$97)","v":0},null,{"$f":"LOOKUP(M26,Poängberäkning!$B$6:$B$97,Poängberäkning!$C$6:$C$97)","v":0},3,{"$f":"LOOKUP(O26,Poängberäkning!$B$6:$B$97,Poängberäkning!$C$6:$C$97)","v":70},null,{"$f":"LOOKUP(Q26,[1]Poängberäkning!$B$6:$B$97,[1]Poängberäkning!$C$6:$C$97)","v":0},null,{"$f":"LOOKUP(S26,[1]Poängberäkning!$B$6:$B$97,[1]Poängberäkning!$C$6:$C$97)","v":0},null,{"$f":"LOOKUP(U26,[1]Poängberäkning!$B$6:$B$97,[1]Poängberäkning!$C$6:$C$97)","v":0},null,{"$f":"LOOKUP(W26,[1]Poängberäkning!$B$6:$B$97,[1]Poängberäkning!$C$6:$C$97)","v":0},{"$f":"LARGE(($H26,$J26,$L26,$N26,$P26,$R26,$T26,$V26,$X26),1)","v":70},{"$f":"LARGE(($H26,$J26,$L26,$N26,$P26,$R26,$T26,$V26,$X26),2)","v":0},{"$f":"LARGE(($H26,$J26,$L26,$N26,$P26,$R26,$T26,$V26,$X26),3)","v":0},{"$f":"LARGE(($H26,$J26,$L26,$N26,$P26,$R26,$T26,$V26,$X26),4)","v":0},{"$f":"LARGE(($H26,$J26,$L26,$N26,$P26,$R26,$T26,$V26,$X26),5)","v":0},{"$f":"LARGE(($H26,$J26,$L26,$N26,$P26,$R26,$T26,$V26,$X26),6)","v":0},{"$f":"LARGE(($H26,$J26,$L26,$N26,$P26,$R26,$T26,$V26,$X26),7)","v":0},{"$f":"LARGE(($H26,$J26,$L26,$N26,$P26,$R26,$T26,$V26,$X26),8)","v":0},{"$f":"LARGE(($H26,$J26,$L26,$N26,$P26,$R26,$T26,$V26,$X26),9)","v":0}]
[23,1900,"ANDERSSON Matilda","Norrbärke SK Alpin",70,70,null,{"$f":"LOOKUP(G27,Poängberäkning!$B$6:$B$97,Poängberäkning!$C$6:$C$97)","v":0},null,{"$f":"LOOKUP(I27,Poängberäkning!$B$6:$B$97,Poängberäkning!$C$6:$C$97)","v":0},3,{"$f":"LOOKUP(K27,Poängberäkning!$B$6:$B$97,Poängberäkning!$C$6:$C$97)","v":70},null,{"$f":"LOOKUP(M27,Poängberäkning!$B$6:$B$97,Poängberäkning!$C$6:$C$97)","v":0},null,{"$f":"LOOKUP(O27,Poängberäkning!$B$6:$B$97,Poängberäkning!$C$6:$C$97)","v":0},null,{"$f":"LOOKUP(Q27,[1]Poängberäkning!$B$6:$B$97,[1]Poängberäkning!$C$6:$C$97)","v":0},null,{"$f":"LOOKUP(S27,[1]Poängberäkning!$B$6:$B$97,[1]Poängberäkning!$C$6:$C$97)","v":0},null,{"$f":"LOOKUP(U27,[1]Poängberäkning!$B$6:$B$97,[1]Poängberäkning!$C$6:$C$97)","v":0},null,{"$f":"LOOKUP(W27,[1]Poängberäkning!$B$6:$B$97,[1]Poängberäkning!$C$6:$C$97)","v":0},{"$f":"LARGE(($H27,$J27,$L27,$N27,$P27,$R27,$T27,$V27,$X27),1)","v":70},{"$f":"LARGE(($H27,$J27,$L27,$N27,$P27,$R27,$T27,$V27,$X27),2)","v":0},{"$f":"LARGE(($H27,$J27,$L27,$N27,$P27,$R27,$T27,$V27,$X27),3)","v":0},{"$f":"LARGE(($H27,$J27,$L27,$N27,$P27,$R27,$T27,$V27,$X27),4)","v":0},{"$f":"LARGE(($H27,$J27,$L27,$N27,$P27,$R27,$T27,$V27,$X27),5)","v":0},{"$f":"LARGE(($H27,$J27,$L27,$N27,$P27,$R27,$T27,$V27,$X27),6)","v":0},{"$f":"LARGE(($H27,$J27,$L27,$N27,$P27,$R27,$T27,$V27,$X27),7)","v":0},{"$f":"LARGE(($H27,$J27,$L27,$N27,$P27,$R27,$T27,$V27,$X27),8)","v":0},{"$f":"LARGE(($H27,$J27,$L27,$N27,$P27,$R27,$T27,$V27,$X27),9)","v":0}]
[24,2005,"SANDBERG Ida","Örebro SLF",70,70,17,{"$f":"LOOKUP(G28,Poängberäkning!$B$6:$B$97,Poängberäkning!$C$6:$C$97)","v":34},null,{"$f":"LOOKUP(I28,Poängberäkning!$B$6:$B$97,Poängberäkning!$C$6:$C$97)","v":0},15,{"$f":"LOOKUP(K28,Poängberäkning!$B$6:$B$97,Poängberäkning!$C$6:$C$97)","v":36},null,{"$f":"LOOKUP(M28,Poängberäkning!$B$6:$B$97,Poängberäkning!$C$6:$C$97)","v":0},null,{"$f":"LOOKUP(O28,Poängberäkning!$B$6:$B$97,Poängberäkning!$C$6:$C$97)","v":0},null,{"$f":"LOOKUP(Q28,[1]Poängberäkning!$B$6:$B$97,[1]Poängberäkning!$C$6:$C$97)","v":0},null,{"$f":"LOOKUP(S28,[1]Poängberäkning!$B$6:$B$97,[1]Poängberäkning!$C$6:$C$97)","v":0},null,{"$f":"LOOKUP(U28,[1]Poängberäkning!$B$6:$B$97,[1]Poängberäkning!$C$6:$C$97)","v":0},null,{"$f":"LOOKUP(W28,[1]Poängberäkning!$B$6:$B$97,[1]Poängberäkning!$C$6:$C$97)","v":0},{"$f":"LARGE(($H28,$J28,$L28,$N28,$P28,$R28,$T28,$V28,$X28),1)","v":36},{"$f":"LARGE(($H28,$J28,$L28,$N28,$P28,$R28,$T28,$V28,$X28),2)","v":34},{"$f":"LARGE(($H28,$J28,$L28,$N28,$P28,$R28,$T28,$V28,$X28),3)","v":0},{"$f":"LARGE(($H28,$J28,$L28,$N28,$P28,$R28,$T28,$V28,$X28),4)","v":0},{"$f":"LARGE(($H28,$J28,$L28,$N28,$P28,$R28,$T28,$V28,$X28),5)","v":0},{"$f":"LARGE(($H28,$J28,$L28,$N28,$P28,$R28,$T28,$V28,$X28),6)","v":0},{"$f":"LARGE(($H28,$J28,$L28,$N28,$P28,$R28,$T28,$V28,$X28),7)","v":0},{"$f":"LARGE(($H28,$J28,$L28,$N28,$P28,$R28,$T28,$V28,$X28),8)","v":0},{"$f":"LARGE(($H28,$J28,$L28,$N28,$P28,$R28,$T28,$V28,$X28),9)","v":0}]
[25,2004,"ZACHO Felicia","Landskrona SC",70,70,null,{"$f":"LOOKUP(G29,Poängberäkning!$B$6:$B$97,Poängberäkning!$C$6:$C$97)","v":0},null,{"$f":"LOOKUP(I29,Poängberäkning!$B$6:$B$97,Poängberäkning!$C$6:$C$97)","v":0},null,{"$f":"LOOKUP(K29,Poängberäkning!$B$6:$B$97,Poängberäkning!$C$6:$C$97)","v":0},3,{"$f":"LOOKUP(M29,Poängberäkning!$B$6:$B$97,Poängberäkning!$C$6:$C$97)","v":70},null,{"$f":"LOOKUP(O29,Poängberäkning!$B$6:$B$97,Poängberäkning!$C$6:$C$97)","v":0},null,{"$f":"LOOKUP(Q29,[1]Poängberäkning!$B$6:$B$97,[1]Poängberäkning!$C$6:$C$97)","v":0},null,{"$f":"LOOKUP(S29,[1]Poängberäkning!$B$6:$B$97,[1]Poängberäkning!$C$6:$C$97)","v":0},null,{"$f":"LOOKUP(U29,[1]Poängberäkning!$B$6:$B$97,[1]Poängberäkning!$C$6:$C$97)","v":0},null,{"$f":"LOOKUP(W29,[1]Poängberäkning!$B$6:$B$97,[1]Poängberäkning!$C$6:$C$97)","v":0},{"$f":"LARGE(($H29,$J29,$L29,$N29,$P29,$R29,$T29,$V29,$X29),1)","v":70},{"$f":"LARGE(($H29,$J29,$L29,$N29,$P29,$R29,$T29,$V29,$X29),2)","v":0},{"$f":"LARGE(($H29,$J29,$L29,$N29,$P29,$R29,$T29,$V29,$X29),3)","v":0},{"$f":"LARGE(($H29,$J29,$L29,$N29,$P29,$R29,$T29,$V29,$X29),4)","v":0},{"$f":"LARGE(($H29,$J29,$L29,$N29,$P29,$R29,$T29,$V29,$X29),5)","v":0},{"$f":"LARGE(($H29,$J29,$L29,$N29,$P29,$R29,$T29,$V29,$X29),6)","v":0},{"$f":"LARGE(($H29,$J29,$L29,$N29,$P29,$R29,$T29,$V29,$X29),7)","v":0},{"$f":"LARGE(($H29,$J29,$L29,$N29,$P29,$R29,$T29,$V29,$X29),8)","v":0},{"$f":"LARGE(($H29,$J29,$L29,$N29,$P29,$R29,$T29,$V29,$X29),9)","v":0}]
[26,2005,"NYMAN Karin","Norrbärke SK Alpin",68,68,null,{"$f":"LOOKUP(G30,Poängberäkning!$B$6:$B$97,Poängberäkning!$C$6:$C$97)","v":0},18,{"$f":"LOOKUP(I30,Poängberäkning!$B$6:$B$97,Poängberäkning!$C$6:$C$97)","v":33},16,{"$f":"LOOKUP(K30,Poängberäkning!$B$6:$B$97,Poängberäkning!$C$6:$C$97)","v":35},null,{"$f":"LOOKUP(M30,Poängberäkning!$B$6:$B$97,Poängberäkning!$C$6:$C$97)","v":0},null,{"$f":"LOOKUP(O30,Poängberäkning!$B$6:$B$97,Poängberäkning!$C$6:$C$97)","v":0},null,{"$f":"LOOKUP(Q30,[1]Poängberäkning!$B$6:$B$97,[1]Poängberäkning!$C$6:$C$97)","v":0},null,{"$f":"LOOKUP(S30,[1]Poängberäkning!$B$6:$B$97,[1]Poängberäkning!$C$6:$C$97)","v":0},null,{"$f":"LOOKUP(U30,[1]Poängberäkning!$B$6:$B$97,[1]Poängberäkning!$C$6:$C$97)","v":0},null,{"$f":"LOOKUP(W30,[1]Poängberäkning!$B$6:$B$97,[1]Poängberäkning!$C$6:$C$97)","v":0},{"$f":"LARGE(($H30,$J30,$L30,$N30,$P30,$R30,$T30,$V30,$X30),1)","v":35},{"$f":"LARGE(($H30,$J30,$L30,$N30,$P30,$R30,$T30,$V30,$X30),2)","v":33},{"$f":"LARGE(($H30,$J30,$L30,$N30,$P30,$R30,$T30,$V30,$X30),3)","v":0},{"$f":"LARGE(($H30,$J30,$L30,$N30,$P30,$R30,$T30,$V30,$X30),4)","v":0},{"$f":"LARGE(($H30,$J30,$L30,$N30,$P30,$R30,$T30,$V30,$X30),5)","v":0},{"$f":"LARGE(($H30,$J30,$L30,$N30,$P30,$R30,$T30,$V30,$X30),6)","v":0},{"$f":"LARGE(($H30,$J30,$L30,$N30,$P30,$R30,$T30,$V30,$X30),7)","v":0},{"$f":"LARGE(($H30,$J30,$L30,$N30,$P30,$R30,$T30,$V30,$X30),8)","v":0},{"$f":"LARGE(($H30,$J30,$L30,$N30,$P30,$R30,$T30,$V30,$X30),9)","v":0}]
[27,2005,"LUNDBERG Emma","Arboga Alpina",65,65,null,{"$f":"LOOKUP(G31,Poängberäkning!$B$6:$B$97,Poängberäkning!$C$6:$C$97)","v":0},null,{"$f":"LOOKUP(I31,Poängberäkning!$B$6:$B$97,Poängberäkning!$C$6:$C$97)","v":0},6,{"$f":"LOOKUP(K31,Poängberäkning!$B$6:$B$97,Poängberäkning!$C$6:$C$97)","v":50},null,{"$f":"LOOKUP(M31,Poängberäkning!$B$6:$B$97,Poängberäkning!$C$6:$C$97)","v":0},36,{"$f":"LOOKUP(O31,Poängberäkning!$B$6:$B$97,Poängberäkning!$C$6:$C$97)","v":15},null,{"$f":"LOOKUP(Q31,[1]Poängberäkning!$B$6:$B$97,[1]Poängberäkning!$C$6:$C$97)","v":0},null,{"$f":"LOOKUP(S31,[1]Poängberäkning!$B$6:$B$97,[1]Poängberäkning!$C$6:$C$97)","v":0},null,{"$f":"LOOKUP(U31,[1]Poängberäkning!$B$6:$B$97,[1]Poängberäkning!$C$6:$C$97)","v":0},null,{"$f":"LOOKUP(W31,[1]Poängberäkning!$B$6:$B$97,[1]Poängberäkning!$C$6:$C$97)","v":0},{"$f":"LARGE(($H31,$J31,$L31,$N31,$P31,$R31,$T31,$V31,$X31),1)","v":50},{"$f":"LARGE(($H31,$J31,$L31,$N31,$P31,$R31,$T31,$V31,$X31),2)","v":15},{"$f":"LARGE(($H31,$J31,$L31,$N31,$P31,$R31,$T31,$V31,$X31),3)","v":0},{"$f":"LARGE(($H31,$J31,$L31,$N31,$P31,$R31,$T31,$V31,$X31),4)","v":0},{"$f":"LARGE(($H31,$J31,$L31,$N31,$P31,$R31,$T31,$V31,$X31),5)","v":0},{"$f":"LARGE(($H31,$J31,$L31,$N31,$P31,$R31,$T31,$V31,$X31),6)","v":0},{"$f":"LARGE(($H31,$J31,$L31,$N31,$P31,$R31,$T31,$V31,$X31),7)","v":0},{"$f":"LARGE(($H31,$J31,$L31,$N31,$P31,$R31,$T31,$V31,$X31),8)","v":0},{"$f":"LARGE(($H31,$J31,$L31,$N31,$P31,$R31,$T31,$V31,$X31),9)","v":0}]
[28,2005,"MÅRTENSSON Ester","Huddinge SK AF",60,60,null,{"$f":"LOOKUP(G32,Poängberäkning!$B$6:$B$97,Poängberäkning!$C$6:$C$97)","v":0},null,{"$f":"LOOKUP(I32,Poängberäkning!$B$6:$B$97,Poängberäkning!$C$6:$C$97)","v":0},null,{"$f":"LOOKUP(K32,Poängberäkning!$B$6:$B$97,Poängberäkning!$C$6:$C$97)","v":0},4,{"$f":"LOOKUP(M32,Poängberäkning!$B$6:$B$97,Poängberäkning!$C$6:$C$97)","v":60},null,{"$f":"LOOKUP(O32,Poängberäkning!$B$6:$B$97,Poängberäkning!$C$6:$C$97)","v":0},null,{"$f":"LOOKUP(Q32,[1]Poängberäkning!$B$6:$B$97,[1]Poängberäkning!$C$6:$C$97)","v":0},null,{"$f":"LOOKUP(S32,[1]Poängberäkning!$B$6:$B$97,[1]Poängberäkning!$C$6:$C$97)","v":0},null,{"$f":"LOOKUP(U32,[1]Poängberäkning!$B$6:$B$97,[1]Poängberäkning!$C$6:$C$97)","v":0},null,{"$f":"LOOKUP(W32,[1]Poängberäkning!$B$6:$B$97,[1]Poängberäkning!$C$6:$C$97)","v":0},{"$f":"LARGE(($H32,$J32,$L32,$N32,$P32,$R32,$T32,$V32,$X32),1)","v":60},{"$f":"LARGE(($H32,$J32,$L32,$N32,$P32,$R32,$T32,$V32,$X32),2)","v":0},{"$f":"LARGE(($H32,$J32,$L32,$N32,$P32,$R32,$T32,$V32,$X32),3)","v":0},{"$f":"LARGE(($H32,$J32,$L32,$N32,$P32,$R32,$T32,$V32,$X32),4)","v":0},{"$f":"LARGE(($H32,$J32,$L32,$N32,$P32,$R32,$T32,$V32,$X32),5)","v":0},{"$f":"LARGE(($H32,$J32,$L32,$N32,$P32,$R32,$T32,$V32,$X32),6)","v":0},{"$f":"LARGE(($H32,$J32,$L32,$N32,$P32,$R32,$T32,$V32,$X32),7)","v":0},{"$f":"LARGE(($H32,$J32,$L32,$N32,$P32,$R32,$T32,$V32,$X32),8)","v":0},{"$f":"LARGE(($H32,$J32,$L32,$N32,$P32,$R32,$T32,$V32,$X32),9)","v":0}]
[29,2005,"VON REEDTZ Johanna","Gävle Alpina SK",56,56,null,{"$f":"LOOKUP(G33,Poängberäkning!$B$6:$B$97,Poängberäkning!$C$6:$C$97)","v":0},null,{"$f":"LOOKUP(I33,Poängberäkning!$B$6:$B$97,Poängberäkning!$C$6:$C$97)","v":0},null,{"$f":"LOOKUP(K33,Poängberäkning!$B$6:$B$97,Poängberäkning!$C$6:$C$97)","v":0},9,{"$f":"LOOKUP(M33,Poängberäkning!$B$6:$B$97,Poängberäkning!$C$6:$C$97)","v":44},39,{"$f":"LOOKUP(O33,Poängberäkning!$B$6:$B$97,Poängberäkning!$C$6:$C$97)","v":12},null,{"$f":"LOOKUP(Q33,[1]Poängberäkning!$B$6:$B$97,[1]Poängberäkning!$C$6:$C$97)","v":0},null,{"$f":"LOOKUP(S33,[1]Poängberäkning!$B$6:$B$97,[1]Poängberäkning!$C$6:$C$97)","v":0},null,{"$f":"LOOKUP(U33,[1]Poängberäkning!$B$6:$B$97,[1]Poängberäkning!$C$6:$C$97)","v":0},null,{"$f":"LOOKUP(W33,[1]Poängberäkning!$B$6:$B$97,[1]Poängberäkning!$C$6:$C$97)","v":0},{"$f":"LARGE(($H33,$J33,$L33,$N33,$P33,$R33,$T33,$V33,$X33),1)","v":44},{"$f":"LARGE(($H33,$J33,$L33,$N33,$P33,$R33,$T33,$V33,$X33),2)","v":12},{"$f":"LARGE(($H33,$J33,$L33,$N33,$P33,$R33,$T33,$V33,$X33),3)","v":0},{"$f":"LARGE(($H33,$J33,$L33,$N33,$P33,$R33,$T33,$V33,$X33),4)","v":0},{"$f":"LARGE(($H33,$J33,$L33,$N33,$P33,$R33,$T33,$V33,$X33),5)","v":0},{"$f":"LARGE(($H33,$J33,$L33,$N33,$P33,$R33,$T33,$V33,$X33),6)","v":0},{"$f":"LARGE(($H33,$J33,$L33,$N33,$P33,$R33,$T33,$V33,$X33),7)","v":0},{"$f":"LARGE(($H33,$J33,$L33,$N33,$P33,$R33,$T33,$V33,$X33),8)","v":0},{"$f":"LARGE(($H33,$J33,$L33,$N33,$P33,$R33,$T33,$V33,$X33),9)","v":0}]
[30,2004,"ÖIEN Iris","Karlstads SLK",55,55,null,{"$f":"LOOKUP(G34,Poängberäkning!$B$6:$B$97,Poängberäkning!$C$6:$C$97)","v":0},null,{"$f":"LOOKUP(I34,Poängberäkning!$B$6:$B$97,Poängberäkning!$C$6:$C$97)","v":0},null,{"$f":"LOOKUP(K34,Poängberäkning!$B$6:$B$97,Poängberäkning!$C$6:$C$97)","v":0},99,{"$f":"LOOKUP(M34,Poängberäkning!$B$6:$B$97,Poängberäkning!$C$6:$C$97)","v":0},5,{"$f":"LOOKUP(O34,Poängberäkning!$B$6:$B$97,Poängberäkning!$C$6:$C$97)","v":55},null,{"$f":"LOOKUP(Q34,[1]Poängberäkning!$B$6:$B$97,[1]Poängberäkning!$C$6:$C$97)","v":0},null,{"$f":"LOOKUP(S34,[1]Poängberäkning!$B$6:$B$97,[1]Poängberäkning!$C$6:$C$97)","v":0},null,{"$f":"LOOKUP(U34,[1]Poängberäkning!$B$6:$B$97,[1]Poängberäkning!$C$6:$C$97)","v":0},null,{"$f":"LOOKUP(W34,[1]Poängberäkning!$B$6:$B$97,[1]Poängberäkning!$C$6:$C$97)","v":0},{"$f":"LARGE(($H34,$J34,$L34,$N34,$P34,$R34,$T34,$V34,$X34),1)","v":55},{"$f":"LARGE(($H34,$J34,$L34,$N34,$P34,$R34,$T34,$V34,$X34),2)","v":0},{"$f":"LARGE(($H34,$J34,$L34,$N34,$P34,$R34,$T34,$V34,$X34),3)","v":0},{"$f":"LARGE(($H34,$J34,$L34,$N34,$P34,$R34,$T34,$V34,$X34),4)","v":0},{"$f":"LARGE(($H34,$J34,$L34,$N34,$P34,$R34,$T34,$V34,$X34),5)","v":0},{"$f":"LARGE(($H34,$J34,$L34,$N34,$P34,$R34,$T34,$V34,$X34),6)","v":0},{"$f":"LARGE(($H34,$J34,$L34,$N34,$P34,$R34,$T34,$V34,$X34),7)","v":0},{"$f":"LARGE(($H34,$J34,$L34,$N34,$P34,$R34,$T34,$V34,$X34),8)","v":0},{"$f":"LARGE(($H34,$J34,$L34,$N34,$P34,$R34,$T34,$V34,$X34),9)","v":0}]
[31,2005,"SAHLANDER Hilda","IFK Mora AK",55,55,15,{"$f":"LOOKUP(G35,Poängberäkning!$B$6:$B$97,Poängberäkning!$C$6:$C$97)","v":36},null,{"$f":"LOOKUP(I35,Poängberäkning!$B$6:$B$97,Poängberäkning!$C$6:$C$97)","v":0},null,{"$f":"LOOKUP(K35,Poängberäkning!$B$6:$B$97,Poängberäkning!$C$6:$C$97)","v":0},null,{"$f":"LOOKUP(M35,Poängberäkning!$B$6:$B$97,Poängberäkning!$C$6:$C$97)","v":0},32,{"$f":"LOOKUP(O35,Poängberäkning!$B$6:$B$97,Poängberäkning!$C$6:$C$97)","v":19},null,{"$f":"LOOKUP(Q35,[1]Poängberäkning!$B$6:$B$97,[1]Poängberäkning!$C$6:$C$97)","v":0},null,{"$f":"LOOKUP(S35,[1]Poängberäkning!$B$6:$B$97,[1]Poängberäkning!$C$6:$C$97)","v":0},null,{"$f":"LOOKUP(U35,[1]Poängberäkning!$B$6:$B$97,[1]Poängberäkning!$C$6:$C$97)","v":0},null,{"$f":"LOOKUP(W35,[1]Poängberäkning!$B$6:$B$97,[1]Poängberäkning!$C$6:$C$97)","v":0},{"$f":"LARGE(($H35,$J35,$L35,$N35,$P35,$R35,$T35,$V35,$X35),1)","v":36},{"$f":"LARGE(($H35,$J35,$L35,$N35,$P35,$R35,$T35,$V35,$X35),2)","v":19},{"$f":"LARGE(($H35,$J35,$L35,$N35,$P35,$R35,$T35,$V35,$X35),3)","v":0},{"$f":"LARGE(($H35,$J35,$L35,$N35,$P35,$R35,$T35,$V35,$X35),4)","v":0},{"$f":"LARGE(($H35,$J35,$L35,$N35,$P35,$R35,$T35,$V35,$X35),5)","v":0},{"$f":"LARGE(($H35,$J35,$L35,$N35,$P35,$R35,$T35,$V35,$X35),6)","v":0},{"$f":"LARGE(($H35,$J35,$L35,$N35,$P35,$R35,$T35,$V35,$X35),7)","v":0},{"$f":"LARGE(($H35,$J35,$L35,$N35,$P35,$R35,$T35,$V35,$X35),8)","v":0},{"$f":"LARGE(($H35,$J35,$L35,$N35,$P35,$R35,$T35,$V35,$X35),9)","v":0}]
[32,2005,"WAHMAN Rut","Örebro SLF",55,55,8,{"$f":"LOOKUP(G36,Poängberäkning!$B$6:$B$97,Poängberäkning!$C$6:$C$97)","v":46},null,{"$f":"LOOKUP(I36,Poängberäkning!$B$6:$B$97,Poängberäkning!$C$6:$C$97)","v":0},null,{"$f":"LOOKUP(K36,Poängberäkning!$B$6:$B$97,Poängberäkning!$C$6:$C$97)","v":0},null,{"$f":"LOOKUP(M36,Poängberäkning!$B$6:$B$97,Poängberäkning!$C$6:$C$97)","v":0},42,{"$f":"LOOKUP(O36,Poängberäkning!$B$6:$B$97,Poängberäkning!$C$6:$C$97)","v":9},null,{"$f":"LOOKUP(Q36,[1]Poängberäkning!$B$6:$B$97,[1]Poängberäkning!$C$6:$C$97)","v":0},null,{"$f":"LOOKUP(S36,[1]Poängberäkning!$B$6:$B$97,[1]Poängberäkning!$C$6:$C$97)","v":0},null,{"$f":"LOOKUP(U36,[1]Poängberäkning!$B$6:$B$97,[1]Poängberäkning!$C$6:$C$97)","v":0},null,{"$f":"LOOKUP(W36,[1]Poängberäkning!$B$6:$B$97,[1]Poängberäkning!$C$6:$C$97)","v":0},{"$f":"LARGE(($H36,$J36,$L36,$N36,$P36,$R36,$T36,$V36,$X36),1)","v":46},{"$f":"LARGE(($H36,$J36,$L36,$N36,$P36,$R36,$T36,$V36,$X36),2)","v":9},{"$f":"LARGE(($H36,$J36,$L36,$N36,$P36,$R36,$T36,$V36,$X36),3)","v":0},{"$f":"LARGE(($H36,$J36,$L36,$N36,$P36,$R36,$T36,$V36,$X36),4)","v":0},{"$f":"LARGE(($H36,$J36,$L36,$N36,$P36,$R36,$T36,$V36,$X36),5)","v":0},{"$f":"LARGE(($H36,$J36,$L36,$N36,$P36,$R36,$T36,$V36,$X36),6)","v":0},{"$f":"LARGE(($H36,$J36,$L36,$N36,$P36,$R36,$T36,$V36,$X36),7)","v":0},{"$f":"LARGE(($H36,$J36,$L36,$N36,$P36,$R36,$T36,$V36,$X36),8)","v":0},{"$f":"LARGE(($H36,$J36,$L36,$N36,$P36,$R36,$T36,$V36,$X36),9)","v":0}]
[33,2005,"FROST Elsa","IFK Mora AK",{"$f":"SUM(Y37:AA37)","v":51},{"$f":"H37+J37+L37+N37+P37+R37+T37+V37+X37","v":51},16,{"$f":"LOOKUP(G37,Poängberäkning!$B$6:$B$97,Poängberäkning!$C$6:$C$97)","v":35},null,{"$f":"LOOKUP(I37,Poängberäkning!$B$6:$B$97,Poängberäkning!$C$6:$C$97)","v":0},null,{"$f":"LOOKUP(K37,Poängberäkning!$B$6:$B$97,Poängberäkning!$C$6:$C$97)","v":0},null,{"$f":"LOOKUP(M37,Poängberäkning!$B$6:$B$97,Poängberäkning!$C$6:$C$97)","v":0},35,{"$f":"LOOKUP(O37,Poängberäkning!$B$6:$B$97,Poängberäkning!$C$6:$C$97)","v":16},null,{"$f":"LOOKUP(Q37,[1]Poängberäkning!$B$6:$B$97,[1]Poängberäkning!$C$6:$C$97)","v":0},null,{"$f":"LOOKUP(S37,[1]Poängberäkning!$B$6:$B$97,[1]Poängberäkning!$C$6:$C$97)","v":0},null,{"$f":"LOOKUP(U37,[1]Poängberäkning!$B$6:$B$97,[1]Poängberäkning!$C$6:$C$97)","v":0},null,{"$f":"LOOKUP(W37,[1]Poängberäkning!$B$6:$B$97,[1]Poängberäkning!$C$6:$C$97)","v":0},{"$f":"LARGE(($H37,$J37,$L37,$N37,$P37,$R37,$T37,$V37,$X37),1)","v":35},{"$f":"LARGE(($H37,$J37,$L37,$N37,$P37,$R37,$T37,$V37,$X37),2)","v":16},{"$f":"LARGE(($H37,$J37,$L37,$N37,$P37,$R37,$T37,$V37,$X37),3)","v":0},{"$f":"LARGE(($H37,$J37,$L37,$N37,$P37,$R37,$T37,$V37,$X37),4)","v":0},{"$f":"LARGE(($H37,$J37,$L37,$N37,$P37,$R37,$T37,$V37,$X37),5)","v":0},{"$f":"LARGE(($H37,$J37,$L37,$N37,$P37,$R37,$T37,$V37,$X37),6)","v":0},{"$f":"LARGE(($H37,$J37,$L37,$N37,$P37,$R37,$T37,$V37,$X37),7)","v":0},{"$f":"LARGE(($H37,$J37,$L37,$N37,$P37,$R37,$T37,$V37,$X37),8)","v":0},{"$f":"LARGE(($H37,$J37,$L37,$N37,$P37,$R37,$T37,$V37,$X37),9)","v":0}]
[34,2005,"SILFWERPLATZ Maya","Malungs SLK",51,51,null,{"$f":"LOOKUP(G38,Poängberäkning!$B$6:$B$97,Poängberäkning!$C$6:$C$97)","v":0},14,{"$f":"LOOKUP(I38,Poängberäkning!$B$6:$B$97,Poängberäkning!$C$6:$C$97)","v":37},null,{"$f":"LOOKUP(K38,Poängberäkning!$B$6:$B$97,Poängberäkning!$C$6:$C$97)","v":0},null,{"$f":"LOOKUP(M38,Poängberäkning!$B$6:$B$97,Poängberäkning!$C$6:$C$97)","v":0},37,{"$f":"LOOKUP(O38,Poängberäkning!$B$6:$B$97,Poängberäkning!$C$6:$C$97)","v":14},null,{"$f":"LOOKUP(Q38,[1]Poängberäkning!$B$6:$B$97,[1]Poängberäkning!$C$6:$C$97)","v":0},null,{"$f":"LOOKUP(S38,[1]Poängberäkning!$B$6:$B$97,[1]Poängberäkning!$C$6:$C$97)","v":0},null,{"$f":"LOOKUP(U38,[1]Poängberäkning!$B$6:$B$97,[1]Poängberäkning!$C$6:$C$97)","v":0},null,{"$f":"LOOKUP(W38,[1]Poängberäkning!$B$6:$B$97,[1]Poängberäkning!$C$6:$C$97)","v":0},{"$f":"LARGE(($H38,$J38,$L38,$N38,$P38,$R38,$T38,$V38,$X38),1)","v":37},{"$f":"LARGE(($H38,$J38,$L38,$N38,$P38,$R38,$T38,$V38,$X38),2)","v":14},{"$f":"LARGE(($H38,$J38,$L38,$N38,$P38,$R38,$T38,$V38,$X38),3)","v":0},{"$f":"LARGE(($H38,$J38,$L38,$N38,$P38,$R38,$T38,$V38,$X38),4)","v":0},{"$f":"LARGE(($H38,$J38,$L38,$N38,$P38,$R38,$T38,$V38,$X38),5)","v":0},{"$f":"LARGE(($H38,$J38,$L38,$N38,$P38,$R38,$T38,$V38,$X38),6)","v":0},{"$f":"LARGE(($H38,$J38,$L38,$N38,$P38,$R38,$T38,$V38,$X38),7)","v":0},{"$f":"LARGE(($H38,$J38,$L38,$N38,$P38,$R38,$T38,$V38,$X38),8)","v":0},{"$f":"LARGE(($H38,$J38,$L38,$N38,$P38,$R38,$T38,$V38,$X38),9)","v":0}]
[35,2004,"FORSBERG Karin","Sollentuna SLK",50,50,null,{"$f":"LOOKUP(G39,Poängberäkning!$B$6:$B$97,Poängberäkning!$C$6:$C$97)","v":0},null,{"$f":"LOOKUP(I39,Poängberäkning!$B$6:$B$97,Poängberäkning!$C$6:$C$97)","v":0},null,{"$f":"LOOKUP(K39,Poängberäkning!$B$6:$B$97,Poängberäkning!$C$6:$C$97)","v":0},null,{"$f":"LOOKUP(M39,Poängberäkning!$B$6:$B$97,Poängberäkning!$C$6:$C$97)","v":0},6,{"$f":"LOOKUP(O39,Poängberäkning!$B$6:$B$97,Poängberäkning!$C$6:$C$97)","v":50},null,{"$f":"LOOKUP(Q39,[1]Poängberäkning!$B$6:$B$97,[1]Poängberäkning!$C$6:$C$97)","v":0},null,{"$f":"LOOKUP(S39,[1]Poängberäkning!$B$6:$B$97,[1]Poängberäkning!$C$6:$C$97)","v":0},null,{"$f":"LOOKUP(U39,[1]Poängberäkning!$B$6:$B$97,[1]Poängberäkning!$C$6:$C$97)","v":0},null,{"$f":"LOOKUP(W39,[1]Poängberäkning!$B$6:$B$97,[1]Poängberäkning!$C$6:$C$97)","v":0},{"$f":"LARGE(($H39,$J39,$L39,$N39,$P39,$R39,$T39,$V39,$X39),1)","v":50},{"$f":"LARGE(($H39,$J39,$L39,$N39,$P39,$R39,$T39,$V39,$X39),2)","v":0},{"$f":"LARGE(($H39,$J39,$L39,$N39,$P39,$R39,$T39,$V39,$X39),3)","v":0},{"$f":"LARGE(($H39,$J39,$L39,$N39,$P39,$R39,$T39,$V39,$X39),4)","v":0},{"$f":"LARGE(($H39,$J39,$L39,$N39,$P39,$R39,$T39,$V39,$X39),5)","v":0},{"$f":"LARGE(($H39,$J39,$L39,$N39,$P39,$R39,$T39,$V39,$X39),6)","v":0},{"$f":"LARGE(($H39,$J39,$L39,$N39,$P39,$R39,$T39,$V39,$X39),7)","v":0},{"$f":"LARGE(($H39,$J39,$L39,$N39,$P39,$R39,$T39,$V39,$X39),8)","v":0},{"$f":"LARGE(($H39,$J39,$L39,$N39,$P39,$R39,$T39,$V39,$X39),9)","v":0}]
[36,2004,"BJÖRKMAN Saga","Uppsala SLK",48,48,null,{"$f":"LOOKUP(G40,Poängberäkning!$B$6:$B$97,Poängberäkning!$C$6:$C$97)","v":0},null,{"$f":"LOOKUP(I40,Poängberäkning!$B$6:$B$97,Poängberäkning!$C$6:$C$97)","v":0},null,{"$f":"LOOKUP(K40,Poängberäkning!$B$6:$B$97,Poängberäkning!$C$6:$C$97)","v":0},null,{"$f":"LOOKUP(M40,Poängberäkning!$B$6:$B$97,Poängberäkning!$C$6:$C$97)","v":0},7,{"$f":"LOOKUP(O40,Poängberäkning!$B$6:$B$97,Poängberäkning!$C$6:$C$97)","v":48},null,{"$f":"LOOKUP(Q40,[1]Poängberäkning!$B$6:$B$97,[1]Poängberäkning!$C$6:$C$97)","v":0},null,{"$f":"LOOKUP(S40,[1]Poängberäkning!$B$6:$B$97,[1]Poängberäkning!$C$6:$C$97)","v":0},null,{"$f":"LOOKUP(U40,[1]Poängberäkning!$B$6:$B$97,[1]Poängberäkning!$C$6:$C$97)","v":0},null,{"$f":"LOOKUP(W40,[1]Poängberäkning!$B$6:$B$97,[1]Poängberäkning!$C$6:$C$97)","v":0},{"$f":"LARGE(($H40,$J40,$L40,$N40,$P40,$R40,$T40,$V40,$X40),1)","v":48},{"$f":"LARGE(($H40,$J40,$L40,$N40,$P40,$R40,$T40,$V40,$X40),2)","v":0},{"$f":"LARGE(($H40,$J40,$L40,$N40,$P40,$R40,$T40,$V40,$X40),3)","v":0},{"$f":"LARGE(($H40,$J40,$L40,$N40,$P40,$R40,$T40,$V40,$X40),4)","v":0},{"$f":"LARGE(($H40,$J40,$L40,$N40,$P40,$R40,$T40,$V40,$X40),5)","v":0},{"$f":"LARGE(($H40,$J40,$L40,$N40,$P40,$R40,$T40,$V40,$X40),6)","v":0},{"$f":"LARGE(($H40,$J40,$L40,$N40,$P40,$R40,$T40,$V40,$X40),7)","v":0},{"$f":"LARGE(($H40,$J40,$L40,$N40,$P40,$R40,$T40,$V40,$X40),8)","v":0},{"$f":"LARGE(($H40,$J40,$L40,$N40,$P40,$R40,$T40,$V40,$X40),9)","v":0}]
[37,2005,"BENGTSSON Hilda","Bollnäs AK",44,44,null,{"$f":"LOOKUP(G41,Poängberäkning!$B$6:$B$97,Poängberäkning!$C$6:$C$97)","v":0},null,{"$f":"LOOKUP(I41,Poängberäkning!$B$6:$B$97,Poängberäkning!$C$6:$C$97)","v":0},null,{"$f":"LOOKUP(K41,Poängberäkning!$B$6:$B$97,Poängberäkning!$C$6:$C$97)","v":0},null,{"$f":"LOOKUP(M41,Poängberäkning!$B$6:$B$97,Poängberäkning!$C$6:$C$97)","v":0},9,{"$f":"LOOKUP(O41,Poängberäkning!$B$6:$B$97,Poängberäkning!$C$6:$C$97)","v":44},null,{"$f":"LOOKUP(Q41,[1]Poängberäkning!$B$6:$B$97,[1]Poängberäkning!$C$6:$C$97)","v":0},null,{"$f":"LOOKUP(S41,[1]Poängberäkning!$B$6:$B$97,[1]Poängberäkning!$C$6:$C$97)","v":0},null,{"$f":"LOOKUP(U41,[1]Poängberäkning!$B$6:$B$97,[1]Poängberäkning!$C$6:$C$97)","v":0},null,{"$f":"LOOKUP(W41,[1]Poängberäkning!$B$6:$B$97,[1]Poängberäkning!$C$6:$C$97)","v":0},{"$f":"LARGE(($H41,$J41,$L41,$N41,$P41,$R41,$T41,$V41,$X41),1)","v":44},{"$f":"LARGE(($H41,$J41,$L41,$N41,$P41,$R41,$T41,$V41,$X41),2)","v":0},{"$f":"LARGE(($H41,$J41,$L41,$N41,$P41,$R41,$T41,$V41,$X41),3)","v":0},{"$f":"LARGE(($H41,$J41,$L41,$N41,$P41,$R41,$T41,$V41,$X41),4)","v":0},{"$f":"LARGE(($H41,$J41,$L41,$N41,$P41,$R41,$T41,$V41,$X41),5)","v":0},{"$f":"LARGE(($H41,$J41,$L41,$N41,$P41,$R41,$T41,$V41,$X41),6)","v":0},{"$f":"LARGE(($H41,$J41,$L41,$N41,$P41,$R41,$T41,$V41,$X41),7)","v":0},{"$f":"LARGE(($H41,$J41,$L41,$N41,$P41,$R41,$T41,$V41,$X41),8)","v":0},{"$f":"LARGE(($H41,$J41,$L41,$N41,$P41,$R41,$T41,$V41,$X41),9)","v":0}]
[38,2005,"BENGTSSON Linnea","Bollnäs AK",42,42,null,{"$f":"LOOKUP(G42,Poängberäkning!$B$6:$B$97,Poängberäkning!$C$6:$C$97)","v":0},null,{"$f":"LOOKUP(I42,Poängberäkning!$B$6:$B$97,Poängberäkning!$C$6:$C$97)","v":0},null,{"$f":"LOOKUP(K42,Poängberäkning!$B$6:$B$97,Poängberäkning!$C$6:$C$97)","v":0},null,{"$f":"LOOKUP(M42,Poängberäkning!$B$6:$B$97,Poängberäkning!$C$6:$C$97)","v":0},10,{"$f":"LOOKUP(O42,Poängberäkning!$B$6:$B$97,Poängberäkning!$C$6:$C$97)","v":42},null,{"$f":"LOOKUP(Q42,[1]Poängberäkning!$B$6:$B$97,[1]Poängberäkning!$C$6:$C$97)","v":0},null,{"$f":"LOOKUP(S42,[1]Poängberäkning!$B$6:$B$97,[1]Poängberäkning!$C$6:$C$97)","v":0},null,{"$f":"LOOKUP(U42,[1]Poängberäkning!$B$6:$B$97,[1]Poängberäkning!$C$6:$C$97)","v":0},null,{"$f":"LOOKUP(W42,[1]Poängberäkning!$B$6:$B$97,[1]Poängberäkning!$C$6:$C$97)","v":0},{"$f":"LARGE(($H42,$J42,$L42,$N42,$P42,$R42,$T42,$V42,$X42),1)","v":42},{"$f":"LARGE(($H42,$J42,$L42,$N42,$P42,$R42,$T42,$V42,$X42),2)","v":0},{"$f":"LARGE(($H42,$J42,$L42,$N42,$P42,$R42,$T42,$V42,$X42),3)","v":0},{"$f":"LARGE(($H42,$J42,$L42,$N42,$P42,$R42,$T42,$V42,$X42),4)","v":0},{"$f":"LARGE(($H42,$J42,$L42,$N42,$P42,$R42,$T42,$V42,$X42),5)","v":0},{"$f":"LARGE(($H42,$J42,$L42,$N42,$P42,$R42,$T42,$V42,$X42),6)","v":0},{"$f":"LARGE(($H42,$J42,$L42,$N42,$P42,$R42,$T42,$V42,$X42),7)","v":0},{"$f":"LARGE(($H42,$J42,$L42,$N42,$P42,$R42,$T42,$V42,$X42),8)","v":0},{"$f":"LARGE(($H42,$J42,$L42,$N42,$P42,$R42,$T42,$V42,$X42),9)","v":0}]
[39,2005,"NILSSON Linn","Tunafors SK",42,42,null,{"$f":"LOOKUP(G43,Poängberäkning!$B$6:$B$97,Poängberäkning!$C$6:$C$97)","v":0},10,{"$f":"LOOKUP(I43,Poängberäkning!$B$6:$B$97,Poängberäkning!$C$6:$C$97)","v":42},null,{"$f":"LOOKUP(K43,Poängberäkning!$B$6:$B$97,Poängberäkning!$C$6:$C$97)","v":0},null,{"$f":"LOOKUP(M43,Poängberäkning!$B$6:$B$97,Poängberäkning!$C$6:$C$97)","v":0},null,{"$f":"LOOKUP(O43,Poängberäkning!$B$6:$B$97,Poängberäkning!$C$6:$C$97)","v":0},null,{"$f":"LOOKUP(Q43,[1]Poängberäkning!$B$6:$B$97,[1]Poängberäkning!$C$6:$C$97)","v":0},null,{"$f":"LOOKUP(S43,[1]Poängberäkning!$B$6:$B$97,[1]Poängberäkning!$C$6:$C$97)","v":0},null,{"$f":"LOOKUP(U43,[1]Poängberäkning!$B$6:$B$97,[1]Poängberäkning!$C$6:$C$97)","v":0},null,{"$f":"LOOKUP(W43,[1]Poängberäkning!$B$6:$B$97,[1]Poängberäkning!$C$6:$C$97)","v":0},{"$f":"LARGE(($H43,$J43,$L43,$N43,$P43,$R43,$T43,$V43,$X43),1)","v":42},{"$f":"LARGE(($H43,$J43,$L43,$N43,$P43,$R43,$T43,$V43,$X43),2)","v":0},{"$f":"LARGE(($H43,$J43,$L43,$N43,$P43,$R43,$T43,$V43,$X43),3)","v":0},{"$f":"LARGE(($H43,$J43,$L43,$N43,$P43,$R43,$T43,$V43,$X43),4)","v":0},{"$f":"LARGE(($H43,$J43,$L43,$N43,$P43,$R43,$T43,$V43,$X43),5)","v":0},{"$f":"LARGE(($H43,$J43,$L43,$N43,$P43,$R43,$T43,$V43,$X43),6)","v":0},{"$f":"LARGE(($H43,$J43,$L43,$N43,$P43,$R43,$T43,$V43,$X43),7)","v":0},{"$f":"LARGE(($H43,$J43,$L43,$N43,$P43,$R43,$T43,$V43,$X43),8)","v":0},{"$f":"LARGE(($H43,$J43,$L43,$N43,$P43,$R43,$T43,$V43,$X43),9)","v":0}]
[40,2005,"GRANATH Nella","IFK Falun",40,40,null,{"$f":"LOOKUP(G44,Poängberäkning!$B$6:$B$97,Poängberäkning!$C$6:$C$97)","v":0},12,{"$f":"LOOKUP(I44,Poängberäkning!$B$6:$B$97,Poängberäkning!$C$6:$C$97)","v":39},null,{"$f":"LOOKUP(K44,Poängberäkning!$B$6:$B$97,Poängberäkning!$C$6:$C$97)","v":0},null,{"$f":"LOOKUP(M44,Poängberäkning!$B$6:$B$97,Poängberäkning!$C$6:$C$97)","v":0},50,{"$f":"LOOKUP(O44,Poängberäkning!$B$6:$B$97,Poängberäkning!$C$6:$C$97)","v":1},null,{"$f":"LOOKUP(Q44,[1]Poängberäkning!$B$6:$B$97,[1]Poängberäkning!$C$6:$C$97)","v":0},null,{"$f":"LOOKUP(S44,[1]Poängberäkning!$B$6:$B$97,[1]Poängberäkning!$C$6:$C$97)","v":0},null,{"$f":"LOOKUP(U44,[1]Poängberäkning!$B$6:$B$97,[1]Poängberäkning!$C$6:$C$97)","v":0},null,{"$f":"LOOKUP(W44,[1]Poängberäkning!$B$6:$B$97,[1]Poängberäkning!$C$6:$C$97)","v":0},{"$f":"LARGE(($H44,$J44,$L44,$N44,$P44,$R44,$T44,$V44,$X44),1)","v":39},{"$f":"LARGE(($H44,$J44,$L44,$N44,$P44,$R44,$T44,$V44,$X44),2)","v":1},{"$f":"LARGE(($H44,$J44,$L44,$N44,$P44,$R44,$T44,$V44,$X44),3)","v":0},{"$f":"LARGE(($H44,$J44,$L44,$N44,$P44,$R44,$T44,$V44,$X44),4)","v":0},{"$f":"LARGE(($H44,$J44,$L44,$N44,$P44,$R44,$T44,$V44,$X44),5)","v":0},{"$f":"LARGE(($H44,$J44,$L44,$N44,$P44,$R44,$T44,$V44,$X44),6)","v":0},{"$f":"LARGE(($H44,$J44,$L44,$N44,$P44,$R44,$T44,$V44,$X44),7)","v":0},{"$f":"LARGE(($H44,$J44,$L44,$N44,$P44,$R44,$T44,$V44,$X44),8)","v":0},{"$f":"LARGE(($H44,$J44,$L44,$N44,$P44,$R44,$T44,$V44,$X44),9)","v":0}]
[41,2004,"MALMBERG Marissa","Sälens IF",40,40,11,{"$f":"LOOKUP(G45,Poängberäkning!$B$6:$B$97,Poängberäkning!$C$6:$C$97)","v":40},null,{"$f":"LOOKUP(I45,Poängberäkning!$B$6:$B$97,Poängberäkning!$C$6:$C$97)","v":0},null,{"$f":"LOOKUP(K45,Poängberäkning!$B$6:$B$97,Poängberäkning!$C$6:$C$97)","v":0},null,{"$f":"LOOKUP(M45,Poängberäkning!$B$6:$B$97,Poängberäkning!$C$6:$C$97)","v":0},null,{"$f":"LOOKUP(O45,Poängberäkning!$B$6:$B$97,Poängberäkning!$C$6:$C$97)","v":0},null,{"$f":"LOOKUP(Q45,[1]Poängberäkning!$B$6:$B$97,[1]Poängberäkning!$C$6:$C$97)","v":0},null,{"$f":"LOOKUP(S45,[1]Poängberäkning!$B$6:$B$97,[1]Poängberäkning!$C$6:$C$97)","v":0},null,{"$f":"LOOKUP(U45,[1]Poängberäkning!$B$6:$B$97,[1]Poängberäkning!$C$6:$C$97)","v":0},null,{"$f":"LOOKUP(W45,[1]Poängberäkning!$B$6:$B$97,[1]Poängberäkning!$C$6:$C$97)","v":0},{"$f":"LARGE(($H45,$J45,$L45,$N45,$P45,$R45,$T45,$V45,$X45),1)","v":40},{"$f":"LARGE(($H45,$J45,$L45,$N45,$P45,$R45,$T45,$V45,$X45),2)","v":0},{"$f":"LARGE(($H45,$J45,$L45,$N45,$P45,$R45,$T45,$V45,$X45),3)","v":0},{"$f":"LARGE(($H45,$J45,$L45,$N45,$P45,$R45,$T45,$V45,$X45),4)","v":0},{"$f":"LARGE(($H45,$J45,$L45,$N45,$P45,$R45,$T45,$V45,$X45),5)","v":0},{"$f":"LARGE(($H45,$J45,$L45,$N45,$P45,$R45,$T45,$V45,$X45),6)","v":0},{"$f":"LARGE(($H45,$J45,$L45,$N45,$P45,$R45,$T45,$V45,$X45),7)","v":0},{"$f":"LARGE(($H45,$J45,$L45,$N45,$P45,$R45,$T45,$V45,$X45),8)","v":0},{"$f":"LARGE(($H45,$J45,$L45,$N45,$P45,$R45,$T45,$V45,$X45),9)","v":0}]
[42,2005,"DALSLÅEN Ellen","Sunne A K",38,38,null,{"$f":"LOOKUP(G46,Poängberäkning!$B$6:$B$97,Poängberäkning!$C$6:$C$97)","v":0},null,{"$f":"LOOKUP(I46,Poängberäkning!$B$6:$B$97,Poängberäkning!$C$6:$C$97)","v":0},null,{"$f":"LOOKUP(K46,Poängberäkning!$B$6:$B$97,Poängberäkning!$C$6:$C$97)","v":0},null,{"$f":"LOOKUP(M46,Poängberäkning!$B$6:$B$97,Poängberäkning!$C$6:$C$97)","v":0},13,{"$f":"LOOKUP(O46,Poängberäkning!$B$6:$B$97,Poängberäkning!$C$6:$C$97)","v":38},null,{"$f":"LOOKUP(Q46,[1]Poängberäkning!$B$6:$B$97,[1]Poängberäkning!$C$6:$C$97)","v":0},null,{"$f":"LOOKUP(S46,[1]Poängberäkning!$B$6:$B$97,[1]Poängberäkning!$C$6:$C$97)","v":0},null,{"$f":"LOOKUP(U46,[1]Poängberäkning!$B$6:$B$97,[1]Poängberäkning!$C$6:$C$97)","v":0},null,{"$f":"LOOKUP(W46,[1]Poängberäkning!$B$6:$B$97,[1]Poängberäkning!$C$6:$C$97)","v":0},{"$f":"LARGE(($H46,$J46,$L46,$N46,$P46,$R46,$T46,$V46,$X46),1)","v":38},{"$f":"LARGE(($H46,$J46,$L46,$N46,$P46,$R46,$T46,$V46,$X46),2)","v":0},{"$f":"LARGE(($H46,$J46,$L46,$N46,$P46,$R46,$T46,$V46,$X46),3)","v":0},{"$f":"LARGE(($H46,$J46,$L46,$N46,$P46,$R46,$T46,$V46,$X46),4)","v":0},{"$f":"LARGE(($H46,$J46,$L46,$N46,$P46,$R46,$T46,$V46,$X46),5)","v":0},{"$f":"LARGE(($H46,$J46,$L46,$N46,$P46,$R46,$T46,$V46,$X46),6)","v":0},{"$f":"LARGE(($H46,$J46,$L46,$N46,$P46,$R46,$T46,$V46,$X46),7)","v":0},{"$f":"LARGE(($H46,$J46,$L46,$N46,$P46,$R46,$T46,$V46,$X46),8)","v":0},{"$f":"LARGE(($H46,$J46,$L46,$N46,$P46,$R46,$T46,$V46,$X46),9)","v":0}]
[43,2004,"MARRAKCHI Sara","Sälens IF",38,38,13,{"$f":"LOOKUP(G47,Poängberäkning!$B$6:$B$97,Poängberäkning!$C$6:$C$97)","v":38},null,{"$f":"LOOKUP(I47,Poängberäkning!$B$6:$B$97,Poängberäkning!$C$6:$C$97)","v":0},null,{"$f":"LOOKUP(K47,Poängberäkning!$B$6:$B$97,Poängberäkning!$C$6:$C$97)","v":0},null,{"$f":"LOOKUP(M47,Poängberäkning!$B$6:$B$97,Poängberäkning!$C$6:$C$97)","v":0},null,{"$f":"LOOKUP(O47,Poängberäkning!$B$6:$B$97,Poängberäkning!$C$6:$C$97)","v":0},null,{"$f":"LOOKUP(Q47,[1]Poängberäkning!$B$6:$B$97,[1]Poängberäkning!$C$6:$C$97)","v":0},null,{"$f":"LOOKUP(S47,[1]Poängberäkning!$B$6:$B$97,[1]Poängberäkning!$C$6:$C$97)","v":0},null,{"$f":"LOOKUP(U47,[1]Poängberäkning!$B$6:$B$97,[1]Poängberäkning!$C$6:$C$97)","v":0},null,{"$f":"LOOKUP(W47,[1]Poängberäkning!$B$6:$B$97,[1]Poängberäkning!$C$6:$C$97)","v":0},{"$f":"LARGE(($H47,$J47,$L47,$N47,$P47,$R47,$T47,$V47,$X47),1)","v":38},{"$f":"LARGE(($H47,$J47,$L47,$N47,$P47,$R47,$T47,$V47,$X47),2)","v":0},{"$f":"LARGE(($H47,$J47,$L47,$N47,$P47,$R47,$T47,$V47,$X47),3)","v":0},{"$f":"LARGE(($H47,$J47,$L47,$N47,$P47,$R47,$T47,$V47,$X47),4)","v":0},{"$f":"LARGE(($H47,$J47,$L47,$N47,$P47,$R47,$T47,$V47,$X47),5)","v":0},{"$f":"LARGE(($H47,$J47,$L47,$N47,$P47,$R47,$T47,$V47,$X47),6)","v":0},{"$f":"LARGE(($H47,$J47,$L47,$N47,$P47,$R47,$T47,$V47,$X47),7)","v":0},{"$f":"LARGE(($H47,$J47,$L47,$N47,$P47,$R47,$T47,$V47,$X47),8)","v":0},{"$f":"LARGE(($H47,$J47,$L47,$N47,$P47,$R47,$T47,$V47,$X47),9)","v":0}]
[44,2005,"BJÖRKLUND Ellen","Norrbärke SK Alpin",37,37,null,{"$f":"LOOKUP(G48,Poängberäkning!$B$6:$B$97,Poängberäkning!$C$6:$C$97)","v":0},null,{"$f":"LOOKUP(I48,Poängberäkning!$B$6:$B$97,Poängberäkning!$C$6:$C$97)","v":0},14,{"$f":"LOOKUP(K48,Poängberäkning!$B$6:$B$97,Poängberäkning!$C$6:$C$97)","v":37},null,{"$f":"LOOKUP(M48,Poängberäkning!$B$6:$B$97,Poängberäkning!$C$6:$C$97)","v":0},null,{"$f":"LOOKUP(O48,Poängberäkning!$B$6:$B$97,Poängberäkning!$C$6:$C$97)","v":0},null,{"$f":"LOOKUP(Q48,[1]Poängberäkning!$B$6:$B$97,[1]Poängberäkning!$C$6:$C$97)","v":0},null,{"$f":"LOOKUP(S48,[1]Poängberäkning!$B$6:$B$97,[1]Poängberäkning!$C$6:$C$97)","v":0},null,{"$f":"LOOKUP(U48,[1]Poängberäkning!$B$6:$B$97,[1]Poängberäkning!$C$6:$C$97)","v":0},null,{"$f":"LOOKUP(W48,[1]Poängberäkning!$B$6:$B$97,[1]Poängberäkning!$C$6:$C$97)","v":0},{"$f":"LARGE(($H48,$J48,$L48,$N48,$P48,$R48,$T48,$V48,$X48),1)","v":37},{"$f":"LARGE(($H48,$J48,$L48,$N48,$P48,$R48,$T48,$V48,$X48),2)","v":0},{"$f":"LARGE(($H48,$J48,$L48,$N48,$P48,$R48,$T48,$V48,$X48),3)","v":0},{"$f":"LARGE(($H48,$J48,$L48,$N48,$P48,$R48,$T48,$V48,$X48),4)","v":0},{"$f":"LARGE(($H48,$J48,$L48,$N48,$P48,$R48,$T48,$V48,$X48),5)","v":0},{"$f":"LARGE(($H48,$J48,$L48,$N48,$P48,$R48,$T48,$V48,$X48),6)","v":0},{"$f":"LARGE(($H48,$J48,$L48,$N48,$P48,$R48,$T48,$V48,$X48),7)","v":0},{"$f":"LARGE(($H48,$J48,$L48,$N48,$P48,$R48,$T48,$V48,$X48),8)","v":0},{"$f":"LARGE(($H48,$J48,$L48,$N48,$P48,$R48,$T48,$V48,$X48),9)","v":0}]
[45,2005,"MÅRTENSSON Tilda","Högby Alpina SLK",35,35,null,{"$f":"LOOKUP(G49,Poängberäkning!$B$6:$B$97,Poängberäkning!$C$6:$C$97)","v":0},16,{"$f":"LOOKUP(I49,Poängberäkning!$B$6:$B$97,Poängberäkning!$C$6:$C$97)","v":35},null,{"$f":"LOOKUP(K49,Poängberäkning!$B$6:$B$97,Poängberäkning!$C$6:$C$97)","v":0},null,{"$f":"LOOKUP(M49,Poängberäkning!$B$6:$B$97,Poängberäkning!$C$6:$C$97)","v":0},null,{"$f":"LOOKUP(O49,Poängberäkning!$B$6:$B$97,Poängberäkning!$C$6:$C$97)","v":0},null,{"$f":"LOOKUP(Q49,[1]Poängberäkning!$B$6:$B$97,[1]Poängberäkning!$C$6:$C$97)","v":0},null,{"$f":"LOOKUP(S49,[1]Poängberäkning!$B$6:$B$97,[1]Poängberäkning!$C$6:$C$97)","v":0},null,{"$f":"LOOKUP(U49,[1]Poängberäkning!$B$6:$B$97,[1]Poängberäkning!$C$6:$C$97)","v":0},null,{"$f":"LOOKUP(W49,[1]Poängberäkning!$B$6:$B$97,[1]Poängberäkning!$C$6:$C$97)","v":0},{"$f":"LARGE(($H49,$J49,$L49,$N49,$P49,$R49,$T49,$V49,$X49),1)","v":35},{"$f":"LARGE(($H49,$J49,$L49,$N49,$P49,$R49,$T49,$V49,$X49),2)","v":0},{"$f":"LARGE(($H49,$J49,$L49,$N49,$P49,$R49,$T49,$V49,$X49),3)","v":0},{"$f":"LARGE(($H49,$J49,$L49,$N49,$P49,$R49,$T49,$V49,$X49),4)","v":0},{"$f":"LARGE(($H49,$J49,$L49,$N49,$P49,$R49,$T49,$V49,$X49),5)","v":0},{"$f":"LARGE(($H49,$J49,$L49,$N49,$P49,$R49,$T49,$V49,$X49),6)","v":0},{"$f":"LARGE(($H49,$J49,$L49,$N49,$P49,$R49,$T49,$V49,$X49),7)","v":0},{"$f":"LARGE(($H49,$J49,$L49,$N49,$P49,$R49,$T49,$V49,$X49),8)","v":0},{"$f":"LARGE(($H49,$J49,$L49,$N49,$P49,$R49,$T49,$V49,$X49),9)","v":0}]
[46,2004,"LARSSON Tilde","Uppsala SLK",34,34,null,{"$f":"LOOKUP(G50,Poängberäkning!$B$6:$B$97,Poängberäkning!$C$6:$C$97)","v":0},null,{"$f":"LOOKUP(I50,Poängberäkning!$B$6:$B$97,Poängberäkning!$C$6:$C$97)","v":0},null,{"$f":"LOOKUP(K50,Poängberäkning!$B$6:$B$97,Poängberäkning!$C$6:$C$97)","v":0},null,{"$f":"LOOKUP(M50,Poängberäkning!$B$6:$B$97,Poängberäkning!$C$6:$C$97)","v":0},17,{"$f":"LOOKUP(O50,Poängberäkning!$B$6:$B$97,Poängberäkning!$C$6:$C$97)","v":34},null,{"$f":"LOOKUP(Q50,[1]Poängberäkning!$B$6:$B$97,[1]Poängberäkning!$C$6:$C$97)","v":0},null,{"$f":"LOOKUP(S50,[1]Poängberäkning!$B$6:$B$97,[1]Poängberäkning!$C$6:$C$97)","v":0},null,{"$f":"LOOKUP(U50,[1]Poängberäkning!$B$6:$B$97,[1]Poängberäkning!$C$6:$C$97)","v":0},null,{"$f":"LOOKUP(W50,[1]Poängberäkning!$B$6:$B$97,[1]Poängberäkning!$C$6:$C$97)","v":0},{"$f":"LARGE(($H50,$J50,$L50,$N50,$P50,$R50,$T50,$V50,$X50),1)","v":34},{"$f":"LARGE(($H50,$J50,$L50,$N50,$P50,$R50,$T50,$V50,$X50),2)","v":0},{"$f":"LARGE(($H50,$J50,$L50,$N50,$P50,$R50,$T50,$V50,$X50),3)","v":0},{"$f":"LARGE(($H50,$J50,$L50,$N50,$P50,$R50,$T50,$V50,$X50),4)","v":0},{"$f":"LARGE(($H50,$J50,$L50,$N50,$P50,$R50,$T50,$V50,$X50),5)","v":0},{"$f":"LARGE(($H50,$J50,$L50,$N50,$P50,$R50,$T50,$V50,$X50),6)","v":0},{"$f":"LARGE(($H50,$J50,$L50,$N50,$P50,$R50,$T50,$V50,$X50),7)","v":0},{"$f":"LARGE(($H50,$J50,$L50,$N50,$P50,$R50,$T50,$V50,$X50),8)","v":0},{"$f":"LARGE(($H50,$J50,$L50,$N50,$P50,$R50,$T50,$V50,$X50),9)","v":0}]
[47,2004,"MÖRTBERG Klara","Uppsala SLK",34,34,null,{"$f":"LOOKUP(G51,Poängberäkning!$B$6:$B$97,Poängberäkning!$C$6:$C$97)","v":0},null,{"$f":"LOOKUP(I51,Poängberäkning!$B$6:$B$97,Poängberäkning!$C$6:$C$97)","v":0},null,{"$f":"LOOKUP(K51,Poängberäkning!$B$6:$B$97,Poängberäkning!$C$6:$C$97)","v":0},null,{"$f":"LOOKUP(M51,Poängberäkning!$B$6:$B$97,Poängberäkning!$C$6:$C$97)","v":0},17,{"$f":"LOOKUP(O51,Poängberäkning!$B$6:$B$97,Poängberäkning!$C$6:$C$97)","v":34},null,{"$f":"LOOKUP(Q51,[1]Poängberäkning!$B$6:$B$97,[1]Poängberäkning!$C$6:$C$97)","v":0},null,{"$f":"LOOKUP(S51,[1]Poängberäkning!$B$6:$B$97,[1]Poängberäkning!$C$6:$C$97)","v":0},null,{"$f":"LOOKUP(U51,[1]Poängberäkning!$B$6:$B$97,[1]Poängberäkning!$C$6:$C$97)","v":0},null,{"$f":"LOOKUP(W51,[1]Poängberäkning!$B$6:$B$97,[1]Poängberäkning!$C$6:$C$97)","v":0},{"$f":"LARGE(($H51,$J51,$L51,$N51,$P51,$R51,$T51,$V51,$X51),1)","v":34},{"$f":"LARGE(($H51,$J51,$L51,$N51,$P51,$R51,$T51,$V51,$X51),2)","v":0},{"$f":"LARGE(($H51,$J51,$L51,$N51,$P51,$R51,$T51,$V51,$X51),3)","v":0},{"$f":"LARGE(($H51,$J51,$L51,$N51,$P51,$R51,$T51,$V51,$X51),4)","v":0},{"$f":"LARGE(($H51,$J51,$L51,$N51,$P51,$R51,$T51,$V51,$X51),5)","v":0},{"$f":"LARGE(($H51,$J51,$L51,$N51,$P51,$R51,$T51,$V51,$X51),6)","v":0},{"$f":"LARGE(($H51,$J51,$L51,$N51,$P51,$R51,$T51,$V51,$X51),7)","v":0},{"$f":"LARGE(($H51,$J51,$L51,$N51,$P51,$R51,$T51,$V51,$X51),8)","v":0},{"$f":"LARGE(($H51,$J51,$L51,$N51,$P51,$R51,$T51,$V51,$X51),9)","v":0}]
[48,2004,"GROPGÅRD Ella","Leksands SLK",34,34,null,{"$f":"LOOKUP(G52,Poängberäkning!$B$6:$B$97,Poängberäkning!$C$6:$C$97)","v":0},17,{"$f":"LOOKUP(I52,Poängberäkning!$B$6:$B$97,Poängberäkning!$C$6:$C$97)","v":34},null,{"$f":"LOOKUP(K52,Poängberäkning!$B$6:$B$97,Poängberäkning!$C$6:$C$97)","v":0},null,{"$f":"LOOKUP(M52,Poängberäkning!$B$6:$B$97,Poängberäkning!$C$6:$C$97)","v":0},null,{"$f":"LOOKUP(O52,Poängberäkning!$B$6:$B$97,Poängberäkning!$C$6:$C$97)","v":0},null,{"$f":"LOOKUP(Q52,[1]Poängberäkning!$B$6:$B$97,[1]Poängberäkning!$C$6:$C$97)","v":0},null,{"$f":"LOOKUP(S52,[1]Poängberäkning!$B$6:$B$97,[1]Poängberäkning!$C$6:$C$97)","v":0},null,{"$f":"LOOKUP(U52,[1]Poängberäkning!$B$6:$B$97,[1]Poängberäkning!$C$6:$C$97)","v":0},null,{"$f":"LOOKUP(W52,[1]Poängberäkning!$B$6:$B$97,[1]Poängberäkning!$C$6:$C$97)","v":0},{"$f":"LARGE(($H52,$J52,$L52,$N52,$P52,$R52,$T52,$V52,$X52),1)","v":34},{"$f":"LARGE(($H52,$J52,$L52,$N52,$P52,$R52,$T52,$V52,$X52),2)","v":0},{"$f":"LARGE(($H52,$J52,$L52,$N52,$P52,$R52,$T52,$V52,$X52),3)","v":0},{"$f":"LARGE(($H52,$J52,$L52,$N52,$P52,$R52,$T52,$V52,$X52),4)","v":0},{"$f":"LARGE(($H52,$J52,$L52,$N52,$P52,$R52,$T52,$V52,$X52),5)","v":0},{"$f":"LARGE(($H52,$J52,$L52,$N52,$P52,$R52,$T52,$V52,$X52),6)","v":0},{"$f":"LARGE(($H52,$J52,$L52,$N52,$P52,$R52,$T52,$V52,$X52),7)","v":0},{"$f":"LARGE(($H52,$J52,$L52,$N52,$P52,$R52,$T52,$V52,$X52),8)","v":0},{"$f":"LARGE(($H52,$J52,$L52,$N52,$P52,$R52,$T52,$V52,$X52),9)","v":0}]
[49,2005,"HEDLÖF Ebba","Gävle Alpina SK",31,31,null,{"$f":"LOOKUP(G53,Poängberäkning!$B$6:$B$97,Poängberäkning!$C$6:$C$97)","v":0},null,{"$f":"LOOKUP(I53,Poängberäkning!$B$6:$B$97,Poängberäkning!$C$6:$C$97)","v":0},null,{"$f":"LOOKUP(K53,Poängberäkning!$B$6:$B$97,Poängberäkning!$C$6:$C$97)","v":0},99,{"$f":"LOOKUP(M53,Poängberäkning!$B$6:$B$97,Poängberäkning!$C$6:$C$97)","v":0},20,{"$f":"LOOKUP(O53,Poängberäkning!$B$6:$B$97,Poängberäkning!$C$6:$C$97)","v":31},null,{"$f":"LOOKUP(Q53,[1]Poängberäkning!$B$6:$B$97,[1]Poängberäkning!$C$6:$C$97)","v":0},null,{"$f":"LOOKUP(S53,[1]Poängberäkning!$B$6:$B$97,[1]Poängberäkning!$C$6:$C$97)","v":0},null,{"$f":"LOOKUP(U53,[1]Poängberäkning!$B$6:$B$97,[1]Poängberäkning!$C$6:$C$97)","v":0},null,{"$f":"LOOKUP(W53,[1]Poängberäkning!$B$6:$B$97,[1]Poängberäkning!$C$6:$C$97)","v":0},{"$f":"LARGE(($H53,$J53,$L53,$N53,$P53,$R53,$T53,$V53,$X53),1)","v":31},{"$f":"LARGE(($H53,$J53,$L53,$N53,$P53,$R53,$T53,$V53,$X53),2)","v":0},{"$f":"LARGE(($H53,$J53,$L53,$N53,$P53,$R53,$T53,$V53,$X53),3)","v":0},{"$f":"LARGE(($H53,$J53,$L53,$N53,$P53,$R53,$T53,$V53,$X53),4)","v":0},{"$f":"LARGE(($H53,$J53,$L53,$N53,$P53,$R53,$T53,$V53,$X53),5)","v":0},{"$f":"LARGE(($H53,$J53,$L53,$N53,$P53,$R53,$T53,$V53,$X53),6)","v":0},{"$f":"LARGE(($H53,$J53,$L53,$N53,$P53,$R53,$T53,$V53,$X53),7)","v":0},{"$f":"LARGE(($H53,$J53,$L53,$N53,$P53,$R53,$T53,$V53,$X53),8)","v":0},{"$f":"LARGE(($H53,$J53,$L53,$N53,$P53,$R53,$T53,$V53,$X53),9)","v":0}]
[50,2005,"LORENTSSON Moa","IFK Mora AK",30,30,null,{"$f":"LOOKUP(G54,Poängberäkning!$B$6:$B$97,Poängberäkning!$C$6:$C$97)","v":0},null,{"$f":"LOOKUP(I54,Poängberäkning!$B$6:$B$97,Poängberäkning!$C$6:$C$97)","v":0},null,{"$f":"LOOKUP(K54,Poängberäkning!$B$6:$B$97,Poängberäkning!$C$6:$C$97)","v":0},null,{"$f":"LOOKUP(M54,Poängberäkning!$B$6:$B$97,Poängberäkning!$C$6:$C$97)","v":0},21,{"$f":"LOOKUP(O54,Poängberäkning!$B$6:$B$97,Poängberäkning!$C$6:$C$97)","v":30},null,{"$f":"LOOKUP(Q54,[1]Poängberäkning!$B$6:$B$97,[1]Poängberäkning!$C$6:$C$97)","v":0},null,{"$f":"LOOKUP(S54,[1]Poängberäkning!$B$6:$B$97,[1]Poängberäkning!$C$6:$C$97)","v":0},null,{"$f":"LOOKUP(U54,[1]Poängberäkning!$B$6:$B$97,[1]Poängberäkning!$C$6:$C$97)","v":0},null,{"$f":"LOOKUP(W54,[1]Poängberäkning!$B$6:$B$97,[1]Poängberäkning!$C$6:$C$97)","v":0},{"$f":"LARGE(($H54,$J54,$L54,$N54,$P54,$R54,$T54,$V54,$X54),1)","v":30},{"$f":"LARGE(($H54,$J54,$L54,$N54,$P54,$R54,$T54,$V54,$X54),2)","v":0},{"$f":"LARGE(($H54,$J54,$L54,$N54,$P54,$R54,$T54,$V54,$X54),3)","v":0},{"$f":"LARGE(($H54,$J54,$L54,$N54,$P54,$R54,$T54,$V54,$X54),4)","v":0},{"$f":"LARGE(($H54,$J54,$L54,$N54,$P54,$R54,$T54,$V54,$X54),5)","v":0},{"$f":"LARGE(($H54,$J54,$L54,$N54,$P54,$R54,$T54,$V54,$X54),6)","v":0},{"$f":"LARGE(($H54,$J54,$L54,$N54,$P54,$R54,$T54,$V54,$X54),7)","v":0},{"$f":"LARGE(($H54,$J54,$L54,$N54,$P54,$R54,$T54,$V54,$X54),8)","v":0},{"$f":"LARGE(($H54,$J54,$L54,$N54,$P54,$R54,$T54,$V54,$X54),9)","v":0}]
[51,2004,"TJÄRNESTIG Meja","Valfjällets SLK",29,29,null,{"$f":"LOOKUP(G55,Poängberäkning!$B$6:$B$97,Poängberäkning!$C$6:$C$97)","v":0},null,{"$f":"LOOKUP(I55,Poängberäkning!$B$6:$B$97,Poängberäkning!$C$6:$C$97)","v":0},null,{"$f":"LOOKUP(K55,Poängberäkning!$B$6:$B$97,Poängberäkning!$C$6:$C$97)","v":0},null,{"$f":"LOOKUP(M55,Poängberäkning!$B$6:$B$97,Poängberäkning!$C$6:$C$97)","v":0},22,{"$f":"LOOKUP(O55,Poängberäkning!$B$6:$B$97,Poängberäkning!$C$6:$C$97)","v":29},null,{"$f":"LOOKUP(Q55,[1]Poängberäkning!$B$6:$B$97,[1]Poängberäkning!$C$6:$C$97)","v":0},null,{"$f":"LOOKUP(S55,[1]Poängberäkning!$B$6:$B$97,[1]Poängberäkning!$C$6:$C$97)","v":0},null,{"$f":"LOOKUP(U55,[1]Poängberäkning!$B$6:$B$97,[1]Poängberäkning!$C$6:$C$97)","v":0},null,{"$f":"LOOKUP(W55,[1]Poängberäkning!$B$6:$B$97,[1]Poängberäkning!$C$6:$C$97)","v":0},{"$f":"LARGE(($H55,$J55,$L55,$N55,$P55,$R55,$T55,$V55,$X55),1)","v":29},{"$f":"LARGE(($H55,$J55,$L55,$N55,$P55,$R55,$T55,$V55,$X55),2)","v":0},{"$f":"LARGE(($H55,$J55,$L55,$N55,$P55,$R55,$T55,$V55,$X55),3)","v":0},{"$f":"LARGE(($H55,$J55,$L55,$N55,$P55,$R55,$T55,$V55,$X55),4)","v":0},{"$f":"LARGE(($H55,$J55,$L55,$N55,$P55,$R55,$T55,$V55,$X55),5)","v":0},{"$f":"LARGE(($H55,$J55,$L55,$N55,$P55,$R55,$T55,$V55,$X55),6)","v":0},{"$f":"LARGE(($H55,$J55,$L55,$N55,$P55,$R55,$T55,$V55,$X55),7)","v":0},{"$f":"LARGE(($H55,$J55,$L55,$N55,$P55,$R55,$T55,$V55,$X55),8)","v":0},{"$f":"LARGE(($H55,$J55,$L55,$N55,$P55,$R55,$T55,$V55,$X55),9)","v":0}]
[52,2005,"RIHPA MANN Agnes","Vemdalens IF",28,28,null,{"$f":"LOOKUP(G56,Poängberäkning!$B$6:$B$97,Poängberäkning!$C$6:$C$97)","v":0},null,{"$f":"LOOKUP(I56,Poängberäkning!$B$6:$B$97,Poängberäkning!$C$6:$C$97)","v":0},null,{"$f":"LOOKUP(K56,Poängberäkning!$B$6:$B$97,Poängberäkning!$C$6:$C$97)","v":0},null,{"$f":"LOOKUP(M56,Poängberäkning!$B$6:$B$97,Poängberäkning!$C$6:$C$97)","v":0},23,{"$f":"LOOKUP(O56,Poängberäkning!$B$6:$B$97,Poängberäkning!$C$6:$C$97)","v":28},null,{"$f":"LOOKUP(Q56,[1]Poängberäkning!$B$6:$B$97,[1]Poängberäkning!$C$6:$C$97)","v":0},null,{"$f":"LOOKUP(S56,[1]Poängberäkning!$B$6:$B$97,[1]Poängberäkning!$C$6:$C$97)","v":0},null,{"$f":"LOOKUP(U56,[1]Poängberäkning!$B$6:$B$97,[1]Poängberäkning!$C$6:$C$97)","v":0},null,{"$f":"LOOKUP(W56,[1]Poängberäkning!$B$6:$B$97,[1]Poängberäkning!$C$6:$C$97)","v":0},{"$f":"LARGE(($H56,$J56,$L56,$N56,$P56,$R56,$T56,$V56,$X56),1)","v":28},{"$f":"LARGE(($H56,$J56,$L56,$N56,$P56,$R56,$T56,$V56,$X56),2)","v":0},{"$f":"LARGE(($H56,$J56,$L56,$N56,$P56,$R56,$T56,$V56,$X56),3)","v":0},{"$f":"LARGE(($H56,$J56,$L56,$N56,$P56,$R56,$T56,$V56,$X56),4)","v":0},{"$f":"LARGE(($H56,$J56,$L56,$N56,$P56,$R56,$T56,$V56,$X56),5)","v":0},{"$f":"LARGE(($H56,$J56,$L56,$N56,$P56,$R56,$T56,$V56,$X56),6)","v":0},{"$f":"LARGE(($H56,$J56,$L56,$N56,$P56,$R56,$T56,$V56,$X56),7)","v":0},{"$f":"LARGE(($H56,$J56,$L56,$N56,$P56,$R56,$T56,$V56,$X56),8)","v":0},{"$f":"LARGE(($H56,$J56,$L56,$N56,$P56,$R56,$T56,$V56,$X56),9)","v":0}]
[53,2004,"DAHLBERG Meja","Västerås Slalomklubb",27,27,null,{"$f":"LOOKUP(G57,Poängberäkning!$B$6:$B$97,Poängberäkning!$C$6:$C$97)","v":0},null,{"$f":"LOOKUP(I57,Poängberäkning!$B$6:$B$97,Poängberäkning!$C$6:$C$97)","v":0},null,{"$f":"LOOKUP(K57,Poängberäkning!$B$6:$B$97,Poängberäkning!$C$6:$C$97)","v":0},null,{"$f":"LOOKUP(M57,Poängberäkning!$B$6:$B$97,Poängberäkning!$C$6:$C$97)","v":0},24,{"$f":"LOOKUP(O57,Poängberäkning!$B$6:$B$97,Poängberäkning!$C$6:$C$97)","v":27},null,{"$f":"LOOKUP(Q57,[1]Poängberäkning!$B$6:$B$97,[1]Poängberäkning!$C$6:$C$97)","v":0},null,{"$f":"LOOKUP(S57,[1]Poängberäkning!$B$6:$B$97,[1]Poängberäkning!$C$6:$C$97)","v":0},null,{"$f":"LOOKUP(U57,[1]Poängberäkning!$B$6:$B$97,[1]Poängberäkning!$C$6:$C$97)","v":0},null,{"$f":"LOOKUP(W57,[1]Poängberäkning!$B$6:$B$97,[1]Poängberäkning!$C$6:$C$97)","v":0},{"$f":"LARGE(($H57,$J57,$L57,$N57,$P57,$R57,$T57,$V57,$X57),1)","v":27},{"$f":"LARGE(($H57,$J57,$L57,$N57,$P57,$R57,$T57,$V57,$X57),2)","v":0},{"$f":"LARGE(($H57,$J57,$L57,$N57,$P57,$R57,$T57,$V57,$X57),3)","v":0},{"$f":"LARGE(($H57,$J57,$L57,$N57,$P57,$R57,$T57,$V57,$X57),4)","v":0},{"$f":"LARGE(($H57,$J57,$L57,$N57,$P57,$R57,$T57,$V57,$X57),5)","v":0},{"$f":"LARGE(($H57,$J57,$L57,$N57,$P57,$R57,$T57,$V57,$X57),6)","v":0},{"$f":"LARGE(($H57,$J57,$L57,$N57,$P57,$R57,$T57,$V57,$X57),7)","v":0},{"$f":"LARGE(($H57,$J57,$L57,$N57,$P57,$R57,$T57,$V57,$X57),8)","v":0},{"$f":"LARGE(($H57,$J57,$L57,$N57,$P57,$R57,$T57,$V57,$X57),9)","v":0}]
[54,2004,"FERNSTEN Filippa","Arboga Alpina",25,25,null,{"$f":"LOOKUP(G58,Poängberäkning!$B$6:$B$97,Poängberäkning!$C$6:$C$97)","v":0},null,{"$f":"LOOKUP(I58,Poängberäkning!$B$6:$B$97,Poängberäkning!$C$6:$C$97)","v":0},null,{"$f":"LOOKUP(K58,Poängberäkning!$B$6:$B$97,Poängberäkning!$C$6:$C$97)","v":0},null,{"$f":"LOOKUP(M58,Poängberäkning!$B$6:$B$97,Poängberäkning!$C$6:$C$97)","v":0},26,{"$f":"LOOKUP(O58,Poängberäkning!$B$6:$B$97,Poängberäkning!$C$6:$C$97)","v":25},null,{"$f":"LOOKUP(Q58,[1]Poängberäkning!$B$6:$B$97,[1]Poängberäkning!$C$6:$C$97)","v":0},null,{"$f":"LOOKUP(S58,[1]Poängberäkning!$B$6:$B$97,[1]Poängberäkning!$C$6:$C$97)","v":0},null,{"$f":"LOOKUP(U58,[1]Poängberäkning!$B$6:$B$97,[1]Poängberäkning!$C$6:$C$97)","v":0},null,{"$f":"LOOKUP(W58,[1]Poängberäkning!$B$6:$B$97,[1]Poängberäkning!$C$6:$C$97)","v":0},{"$f":"LARGE(($H58,$J58,$L58,$N58,$P58,$R58,$T58,$V58,$X58),1)","v":25},{"$f":"LARGE(($H58,$J58,$L58,$N58,$P58,$R58,$T58,$V58,$X58),2)","v":0},{"$f":"LARGE(($H58,$J58,$L58,$N58,$P58,$R58,$T58,$V58,$X58),3)","v":0},{"$f":"LARGE(($H58,$J58,$L58,$N58,$P58,$R58,$T58,$V58,$X58),4)","v":0},{"$f":"LARGE(($H58,$J58,$L58,$N58,$P58,$R58,$T58,$V58,$X58),5)","v":0},{"$f":"LARGE(($H58,$J58,$L58,$N58,$P58,$R58,$T58,$V58,$X58),6)","v":0},{"$f":"LARGE(($H58,$J58,$L58,$N58,$P58,$R58,$T58,$V58,$X58),7)","v":0},{"$f":"LARGE(($H58,$J58,$L58,$N58,$P58,$R58,$T58,$V58,$X58),8)","v":0},{"$f":"LARGE(($H58,$J58,$L58,$N58,$P58,$R58,$T58,$V58,$X58),9)","v":0}]
[55,2005,"BERG Hilda","IFK Mora AK",23,23,null,{"$f":"LOOKUP(G59,Poängberäkning!$B$6:$B$97,Poängberäkning!$C$6:$C$97)","v":0},null,{"$f":"LOOKUP(I59,Poängberäkning!$B$6:$B$97,Poängberäkning!$C$6:$C$97)","v":0},null,{"$f":"LOOKUP(K59,Poängberäkning!$B$6:$B$97,Poängberäkning!$C$6:$C$97)","v":0},null,{"$f":"LOOKUP(M59,Poängberäkning!$B$6:$B$97,Poängberäkning!$C$6:$C$97)","v":0},28,{"$f":"LOOKUP(O59,Poängberäkning!$B$6:$B$97,Poängberäkning!$C$6:$C$97)","v":23},null,{"$f":"LOOKUP(Q59,[1]Poängberäkning!$B$6:$B$97,[1]Poängberäkning!$C$6:$C$97)","v":0},null,{"$f":"LOOKUP(S59,[1]Poängberäkning!$B$6:$B$97,[1]Poängberäkning!$C$6:$C$97)","v":0},null,{"$f":"LOOKUP(U59,[1]Poängberäkning!$B$6:$B$97,[1]Poängberäkning!$C$6:$C$97)","v":0},null,{"$f":"LOOKUP(W59,[1]Poängberäkning!$B$6:$B$97,[1]Poängberäkning!$C$6:$C$97)","v":0},{"$f":"LARGE(($H59,$J59,$L59,$N59,$P59,$R59,$T59,$V59,$X59),1)","v":23},{"$f":"LARGE(($H59,$J59,$L59,$N59,$P59,$R59,$T59,$V59,$X59),2)","v":0},{"$f":"LARGE(($H59,$J59,$L59,$N59,$P59,$R59,$T59,$V59,$X59),3)","v":0},{"$f":"LARGE(($H59,$J59,$L59,$N59,$P59,$R59,$T59,$V59,$X59),4)","v":0},{"$f":"LARGE(($H59,$J59,$L59,$N59,$P59,$R59,$T59,$V59,$X59),5)","v":0},{"$f":"LARGE(($H59,$J59,$L59,$N59,$P59,$R59,$T59,$V59,$X59),6)","v":0},{"$f":"LARGE(($H59,$J59,$L59,$N59,$P59,$R59,$T59,$V59,$X59),7)","v":0},{"$f":"LARGE(($H59,$J59,$L59,$N59,$P59,$R59,$T59,$V59,$X59),8)","v":0},{"$f":"LARGE(($H59,$J59,$L59,$N59,$P59,$R59,$T59,$V59,$X59),9)","v":0}]
[56,2005,"THOMASSON Sofia","Orsa Alpina Klubb",22,22,null,{"$f":"LOOKUP(G60,Poängberäkning!$B$6:$B$97,Poängberäkning!$C$6:$C$97)","v":0},null,{"$f":"LOOKUP(I60,Poängberäkning!$B$6:$B$97,Poängberäkning!$C$6:$C$97)","v":0},null,{"$f":"LOOKUP(K60,Poängberäkning!$B$6:$B$97,Poängberäkning!$C$6:$C$97)","v":0},null,{"$f":"LOOKUP(M60,Poängberäkning!$B$6:$B$97,Poängberäkning!$C$6:$C$97)","v":0},29,{"$f":"LOOKUP(O60,Poängberäkning!$B$6:$B$97,Poängberäkning!$C$6:$C$97)","v":22},null,{"$f":"LOOKUP(Q60,[1]Poängberäkning!$B$6:$B$97,[1]Poängberäkning!$C$6:$C$97)","v":0},null,{"$f":"LOOKUP(S60,[1]Poängberäkning!$B$6:$B$97,[1]Poängberäkning!$C$6:$C$97)","v":0},null,{"$f":"LOOKUP(U60,[1]Poängberäkning!$B$6:$B$97,[1]Poängberäkning!$C$6:$C$97)","v":0},null,{"$f":"LOOKUP(W60,[1]Poängberäkning!$B$6:$B$97,[1]Poängberäkning!$C$6:$C$97)","v":0},{"$f":"LARGE(($H60,$J60,$L60,$N60,$P60,$R60,$T60,$V60,$X60),1)","v":22},{"$f":"LARGE(($H60,$J60,$L60,$N60,$P60,$R60,$T60,$V60,$X60),2)","v":0},{"$f":"LARGE(($H60,$J60,$L60,$N60,$P60,$R60,$T60,$V60,$X60),3)","v":0},{"$f":"LARGE(($H60,$J60,$L60,$N60,$P60,$R60,$T60,$V60,$X60),4)","v":0},{"$f":"LARGE(($H60,$J60,$L60,$N60,$P60,$R60,$T60,$V60,$X60),5)","v":0},{"$f":"LARGE(($H60,$J60,$L60,$N60,$P60,$R60,$T60,$V60,$X60),6)","v":0},{"$f":"LARGE(($H60,$J60,$L60,$N60,$P60,$R60,$T60,$V60,$X60),7)","v":0},{"$f":"LARGE(($H60,$J60,$L60,$N60,$P60,$R60,$T60,$V60,$X60),8)","v":0},{"$f":"LARGE(($H60,$J60,$L60,$N60,$P60,$R60,$T60,$V60,$X60),9)","v":0}]
[57,2005,"HÖGLUND Tilde","IFK Mora AK",20,20,null,{"$f":"LOOKUP(G61,Poängberäkning!$B$6:$B$97,Poängberäkning!$C$6:$C$97)","v":0},null,{"$f":"LOOKUP(I61,Poängberäkning!$B$6:$B$97,Poängberäkning!$C$6:$C$97)","v":0},null,{"$f":"LOOKUP(K61,Poängberäkning!$B$6:$B$97,Poängberäkning!$C$6:$C$97)","v":0},null,{"$f":"LOOKUP(M61,Poängberäkning!$B$6:$B$97,Poängberäkning!$C$6:$C$97)","v":0},31,{"$f":"LOOKUP(O61,Poängberäkning!$B$6:$B$97,Poängberäkning!$C$6:$C$97)","v":20},null,{"$f":"LOOKUP(Q61,[1]Poängberäkning!$B$6:$B$97,[1]Poängberäkning!$C$6:$C$97)","v":0},null,{"$f":"LOOKUP(S61,[1]Poängberäkning!$B$6:$B$97,[1]Poängberäkning!$C$6:$C$97)","v":0},null,{"$f":"LOOKUP(U61,[1]Poängberäkning!$B$6:$B$97,[1]Poängberäkning!$C$6:$C$97)","v":0},null,{"$f":"LOOKUP(W61,[1]Poängberäkning!$B$6:$B$97,[1]Poängberäkning!$C$6:$C$97)","v":0},{"$f":"LARGE(($H61,$J61,$L61,$N61,$P61,$R61,$T61,$V61,$X61),1)","v":20},{"$f":"LARGE(($H61,$J61,$L61,$N61,$P61,$R61,$T61,$V61,$X61),2)","v":0},{"$f":"LARGE(($H61,$J61,$L61,$N61,$P61,$R61,$T61,$V61,$X61),3)","v":0},{"$f":"LARGE(($H61,$J61,$L61,$N61,$P61,$R61,$T61,$V61,$X61),4)","v":0},{"$f":"LARGE(($H61,$J61,$L61,$N61,$P61,$R61,$T61,$V61,$X61),5)","v":0},{"$f":"LARGE(($H61,$J61,$L61,$N61,$P61,$R61,$T61,$V61,$X61),6)","v":0},{"$f":"LARGE(($H61,$J61,$L61,$N61,$P61,$R61,$T61,$V61,$X61),7)","v":0},{"$f":"LARGE(($H61,$J61,$L61,$N61,$P61,$R61,$T61,$V61,$X61),8)","v":0},{"$f":"LARGE(($H61,$J61,$L61,$N61,$P61,$R61,$T61,$V61,$X61),9)","v":0}]
[58,2005,"HEDLUND Tea","Kungsbergets AK",18,18,null,{"$f":"LOOKUP(G62,Poängberäkning!$B$6:$B$97,Poängberäkning!$C$6:$C$97)","v":0},null,{"$f":"LOOKUP(I62,Poängberäkning!$B$6:$B$97,Poängberäkning!$C$6:$C$97)","v":0},null,{"$f":"LOOKUP(K62,Poängberäkning!$B$6:$B$97,Poängberäkning!$C$6:$C$97)","v":0},null,{"$f":"LOOKUP(M62,Poängberäkning!$B$6:$B$97,Poängberäkning!$C$6:$C$97)","v":0},33,{"$f":"LOOKUP(O62,Poängberäkning!$B$6:$B$97,Poängberäkning!$C$6:$C$97)","v":18},null,{"$f":"LOOKUP(Q62,[1]Poängberäkning!$B$6:$B$97,[1]Poängberäkning!$C$6:$C$97)","v":0},null,{"$f":"LOOKUP(S62,[1]Poängberäkning!$B$6:$B$97,[1]Poängberäkning!$C$6:$C$97)","v":0},null,{"$f":"LOOKUP(U62,[1]Poängberäkning!$B$6:$B$97,[1]Poängberäkning!$C$6:$C$97)","v":0},null,{"$f":"LOOKUP(W62,[1]Poängberäkning!$B$6:$B$97,[1]Poängberäkning!$C$6:$C$97)","v":0},{"$f":"LARGE(($H62,$J62,$L62,$N62,$P62,$R62,$T62,$V62,$X62),1)","v":18},{"$f":"LARGE(($H62,$J62,$L62,$N62,$P62,$R62,$T62,$V62,$X62),2)","v":0},{"$f":"LARGE(($H62,$J62,$L62,$N62,$P62,$R62,$T62,$V62,$X62),3)","v":0},{"$f":"LARGE(($H62,$J62,$L62,$N62,$P62,$R62,$T62,$V62,$X62),4)","v":0},{"$f":"LARGE(($H62,$J62,$L62,$N62,$P62,$R62,$T62,$V62,$X62),5)","v":0},{"$f":"LARGE(($H62,$J62,$L62,$N62,$P62,$R62,$T62,$V62,$X62),6)","v":0},{"$f":"LARGE(($H62,$J62,$L62,$N62,$P62,$R62,$T62,$V62,$X62),7)","v":0},{"$f":"LARGE(($H62,$J62,$L62,$N62,$P62,$R62,$T62,$V62,$X62),8)","v":0},{"$f":"LARGE(($H62,$J62,$L62,$N62,$P62,$R62,$T62,$V62,$X62),9)","v":0}]
[59,2005,"WENGELIN Irma","Kungsbergets AK",17,17,null,{"$f":"LOOKUP(G63,Poängberäkning!$B$6:$B$97,Poängberäkning!$C$6:$C$97)","v":0},null,{"$f":"LOOKUP(I63,Poängberäkning!$B$6:$B$97,Poängberäkning!$C$6:$C$97)","v":0},null,{"$f":"LOOKUP(K63,Poängberäkning!$B$6:$B$97,Poängberäkning!$C$6:$C$97)","v":0},null,{"$f":"LOOKUP(M63,Poängberäkning!$B$6:$B$97,Poängberäkning!$C$6:$C$97)","v":0},34,{"$f":"LOOKUP(O63,Poängberäkning!$B$6:$B$97,Poängberäkning!$C$6:$C$97)","v":17},null,{"$f":"LOOKUP(Q63,[1]Poängberäkning!$B$6:$B$97,[1]Poängberäkning!$C$6:$C$97)","v":0},null,{"$f":"LOOKUP(S63,[1]Poängberäkning!$B$6:$B$97,[1]Poängberäkning!$C$6:$C$97)","v":0},null,{"$f":"LOOKUP(U63,[1]Poängberäkning!$B$6:$B$97,[1]Poängberäkning!$C$6:$C$97)","v":0},null,{"$f":"LOOKUP(W63,[1]Poängberäkning!$B$6:$B$97,[1]Poängberäkning!$C$6:$C$97)","v":0},{"$f":"LARGE(($H63,$J63,$L63,$N63,$P63,$R63,$T63,$V63,$X63),1)","v":17},{"$f":"LARGE(($H63,$J63,$L63,$N63,$P63,$R63,$T63,$V63,$X63),2)","v":0},{"$f":"LARGE(($H63,$J63,$L63,$N63,$P63,$R63,$T63,$V63,$X63),3)","v":0},{"$f":"LARGE(($H63,$J63,$L63,$N63,$P63,$R63,$T63,$V63,$X63),4)","v":0},{"$f":"LARGE(($H63,$J63,$L63,$N63,$P63,$R63,$T63,$V63,$X63),5)","v":0},{"$f":"LARGE(($H63,$J63,$L63,$N63,$P63,$R63,$T63,$V63,$X63),6)","v":0},{"$f":"LARGE(($H63,$J63,$L63,$N63,$P63,$R63,$T63,$V63,$X63),7)","v":0},{"$f":"LARGE(($H63,$J63,$L63,$N63,$P63,$R63,$T63,$V63,$X63),8)","v":0},{"$f":"LARGE(($H63,$J63,$L63,$N63,$P63,$R63,$T63,$V63,$X63),9)","v":0}]
[60,2005,"BERGSTRÖM stina","Uppsala SLK",13,13,null,{"$f":"LOOKUP(G64,Poängberäkning!$B$6:$B$97,Poängberäkning!$C$6:$C$97)","v":0},null,{"$f":"LOOKUP(I64,Poängberäkning!$B$6:$B$97,Poängberäkning!$C$6:$C$97)","v":0},null,{"$f":"LOOKUP(K64,Poängberäkning!$B$6:$B$97,Poängberäkning!$C$6:$C$97)","v":0},null,{"$f":"LOOKUP(M64,Poängberäkning!$B$6:$B$97,Poängberäkning!$C$6:$C$97)","v":0},38,{"$f":"LOOKUP(O64,Poängberäkning!$B$6:$B$97,Poängberäkning!$C$6:$C$97)","v":13},null,{"$f":"LOOKUP(Q64,[1]Poängberäkning!$B$6:$B$97,[1]Poängberäkning!$C$6:$C$97)","v":0},null,{"$f":"LOOKUP(S64,[1]Poängberäkning!$B$6:$B$97,[1]Poängberäkning!$C$6:$C$97)","v":0},null,{"$f":"LOOKUP(U64,[1]Poängberäkning!$B$6:$B$97,[1]Poängberäkning!$C$6:$C$97)","v":0},null,{"$f":"LOOKUP(W64,[1]Poängberäkning!$B$6:$B$97,[1]Poängberäkning!$C$6:$C$97)","v":0},{"$f":"LARGE(($H64,$J64,$L64,$N64,$P64,$R64,$T64,$V64,$X64),1)","v":13},{"$f":"LARGE(($H64,$J64,$L64,$N64,$P64,$R64,$T64,$V64,$X64),2)","v":0},{"$f":"LARGE(($H64,$J64,$L64,$N64,$P64,$R64,$T64,$V64,$X64),3)","v":0},{"$f":"LARGE(($H64,$J64,$L64,$N64,$P64,$R64,$T64,$V64,$X64),4)","v":0},{"$f":"LARGE(($H64,$J64,$L64,$N64,$P64,$R64,$T64,$V64,$X64),5)","v":0},{"$f":"LARGE(($H64,$J64,$L64,$N64,$P64,$R64,$T64,$V64,$X64),6)","v":0},{"$f":"LARGE(($H64,$J64,$L64,$N64,$P64,$R64,$T64,$V64,$X64),7)","v":0},{"$f":"LARGE(($H64,$J64,$L64,$N64,$P64,$R64,$T64,$V64,$X64),8)","v":0},{"$f":"LARGE(($H64,$J64,$L64,$N64,$P64,$R64,$T64,$V64,$X64),9)","v":0}]
[61,2005,"ULVENVALL Linn","Sollentuna SLK",11,11,null,{"$f":"LOOKUP(G65,Poängberäkning!$B$6:$B$97,Poängberäkning!$C$6:$C$97)","v":0},null,{"$f":"LOOKUP(I65,Poängberäkning!$B$6:$B$97,Poängberäkning!$C$6:$C$97)","v":0},null,{"$f":"LOOKUP(K65,Poängberäkning!$B$6:$B$97,Poängberäkning!$C$6:$C$97)","v":0},null,{"$f":"LOOKUP(M65,Poängberäkning!$B$6:$B$97,Poängberäkning!$C$6:$C$97)","v":0},40,{"$f":"LOOKUP(O65,Poängberäkning!$B$6:$B$97,Poängberäkning!$C$6:$C$97)","v":11},null,{"$f":"LOOKUP(Q65,[1]Poängberäkning!$B$6:$B$97,[1]Poängberäkning!$C$6:$C$97)","v":0},null,{"$f":"LOOKUP(S65,[1]Poängberäkning!$B$6:$B$97,[1]Poängberäkning!$C$6:$C$97)","v":0},null,{"$f":"LOOKUP(U65,[1]Poängberäkning!$B$6:$B$97,[1]Poängberäkning!$C$6:$C$97)","v":0},null,{"$f":"LOOKUP(W65,[1]Poängberäkning!$B$6:$B$97,[1]Poängberäkning!$C$6:$C$97)","v":0},{"$f":"LARGE(($H65,$J65,$L65,$N65,$P65,$R65,$T65,$V65,$X65),1)","v":11},{"$f":"LARGE(($H65,$J65,$L65,$N65,$P65,$R65,$T65,$V65,$X65),2)","v":0},{"$f":"LARGE(($H65,$J65,$L65,$N65,$P65,$R65,$T65,$V65,$X65),3)","v":0},{"$f":"LARGE(($H65,$J65,$L65,$N65,$P65,$R65,$T65,$V65,$X65),4)","v":0},{"$f":"LARGE(($H65,$J65,$L65,$N65,$P65,$R65,$T65,$V65,$X65),5)","v":0},{"$f":"LARGE(($H65,$J65,$L65,$N65,$P65,$R65,$T65,$V65,$X65),6)","v":0},{"$f":"LARGE(($H65,$J65,$L65,$N65,$P65,$R65,$T65,$V65,$X65),7)","v":0},{"$f":"LARGE(($H65,$J65,$L65,$N65,$P65,$R65,$T65,$V65,$X65),8)","v":0},{"$f":"LARGE(($H65,$J65,$L65,$N65,$P65,$R65,$T65,$V65,$X65),9)","v":0}]
[62,2005,"KRISTOFFERSSON Nelly","Härnösands Alpina Klubb",10,10,null,{"$f":"LOOKUP(G66,Poängberäkning!$B$6:$B$97,Poängberäkning!$C$6:$C$97)","v":0},null,{"$f":"LOOKUP(I66,Poängberäkning!$B$6:$B$97,Poängberäkning!$C$6:$C$97)","v":0},null,{"$f":"LOOKUP(K66,Poängberäkning!$B$6:$B$97,Poängberäkning!$C$6:$C$97)","v":0},null,{"$f":"LOOKUP(M66,Poängberäkning!$B$6:$B$97,Poängberäkning!$C$6:$C$97)","v":0},41,{"$f":"LOOKUP(O66,Poängberäkning!$B$6:$B$97,Poängberäkning!$C$6:$C$97)","v":10},null,{"$f":"LOOKUP(Q66,[1]Poängberäkning!$B$6:$B$97,[1]Poängberäkning!$C$6:$C$97)","v":0},null,{"$f":"LOOKUP(S66,[1]Poängberäkning!$B$6:$B$97,[1]Poängberäkning!$C$6:$C$97)","v":0},null,{"$f":"LOOKUP(U66,[1]Poängberäkning!$B$6:$B$97,[1]Poängberäkning!$C$6:$C$97)","v":0},null,{"$f":"LOOKUP(W66,[1]Poängberäkning!$B$6:$B$97,[1]Poängberäkning!$C$6:$C$97)","v":0},{"$f":"LARGE(($H66,$J66,$L66,$N66,$P66,$R66,$T66,$V66,$X66),1)","v":10},{"$f":"LARGE(($H66,$J66,$L66,$N66,$P66,$R66,$T66,$V66,$X66),2)","v":0},{"$f":"LARGE(($H66,$J66,$L66,$N66,$P66,$R66,$T66,$V66,$X66),3)","v":0},{"$f":"LARGE(($H66,$J66,$L66,$N66,$P66,$R66,$T66,$V66,$X66),4)","v":0},{"$f":"LARGE(($H66,$J66,$L66,$N66,$P66,$R66,$T66,$V66,$X66),5)","v":0},{"$f":"LARGE(($H66,$J66,$L66,$N66,$P66,$R66,$T66,$V66,$X66),6)","v":0},{"$f":"LARGE(($H66,$J66,$L66,$N66,$P66,$R66,$T66,$V66,$X66),7)","v":0},{"$f":"LARGE(($H66,$J66,$L66,$N66,$P66,$R66,$T66,$V66,$X66),8)","v":0},{"$f":"LARGE(($H66,$J66,$L66,$N66,$P66,$R66,$T66,$V66,$X66),9)","v":0}]
[63,2005,"AXELSSON Clara","IFK Mora AK",7,7,null,{"$f":"LOOKUP(G67,Poängberäkning!$B$6:$B$97,Poängberäkning!$C$6:$C$97)","v":0},null,{"$f":"LOOKUP(I67,Poängberäkning!$B$6:$B$97,Poängberäkning!$C$6:$C$97)","v":0},null,{"$f":"LOOKUP(K67,Poängberäkning!$B$6:$B$97,Poängberäkning!$C$6:$C$97)","v":0},null,{"$f":"LOOKUP(M67,Poängberäkning!$B$6:$B$97,Poängberäkning!$C$6:$C$97)","v":0},44,{"$f":"LOOKUP(O67,Poängberäkning!$B$6:$B$97,Poängberäkning!$C$6:$C$97)","v":7},null,{"$f":"LOOKUP(Q67,[1]Poängberäkning!$B$6:$B$97,[1]Poängberäkning!$C$6:$C$97)","v":0},null,{"$f":"LOOKUP(S67,[1]Poängberäkning!$B$6:$B$97,[1]Poängberäkning!$C$6:$C$97)","v":0},null,{"$f":"LOOKUP(U67,[1]Poängberäkning!$B$6:$B$97,[1]Poängberäkning!$C$6:$C$97)","v":0},null,{"$f":"LOOKUP(W67,[1]Poängberäkning!$B$6:$B$97,[1]Poängberäkning!$C$6:$C$97)","v":0},{"$f":"LARGE(($H67,$J67,$L67,$N67,$P67,$R67,$T67,$V67,$X67),1)","v":7},{"$f":"LARGE(($H67,$J67,$L67,$N67,$P67,$R67,$T67,$V67,$X67),2)","v":0},{"$f":"LARGE(($H67,$J67,$L67,$N67,$P67,$R67,$T67,$V67,$X67),3)","v":0},{"$f":"LARGE(($H67,$J67,$L67,$N67,$P67,$R67,$T67,$V67,$X67),4)","v":0},{"$f":"LARGE(($H67,$J67,$L67,$N67,$P67,$R67,$T67,$V67,$X67),5)","v":0},{"$f":"LARGE(($H67,$J67,$L67,$N67,$P67,$R67,$T67,$V67,$X67),6)","v":0},{"$f":"LARGE(($H67,$J67,$L67,$N67,$P67,$R67,$T67,$V67,$X67),7)","v":0},{"$f":"LARGE(($H67,$J67,$L67,$N67,$P67,$R67,$T67,$V67,$X67),8)","v":0},{"$f":"LARGE(($H67,$J67,$L67,$N67,$P67,$R67,$T67,$V67,$X67),9)","v":0}]
[64,2005,"ROMBO Indra","IFK Mora AK",5,5,null,{"$f":"LOOKUP(G68,Poängberäkning!$B$6:$B$97,Poängberäkning!$C$6:$C$97)","v":0},null,{"$f":"LOOKUP(I68,Poängberäkning!$B$6:$B$97,Poängberäkning!$C$6:$C$97)","v":0},null,{"$f":"LOOKUP(K68,Poängberäkning!$B$6:$B$97,Poängberäkning!$C$6:$C$97)","v":0},null,{"$f":"LOOKUP(M68,Poängberäkning!$B$6:$B$97,Poängberäkning!$C$6:$C$97)","v":0},46,{"$f":"LOOKUP(O68,Poängberäkning!$B$6:$B$97,Poängberäkning!$C$6:$C$97)","v":5},null,{"$f":"LOOKUP(Q68,[1]Poängberäkning!$B$6:$B$97,[1]Poängberäkning!$C$6:$C$97)","v":0},null,{"$f":"LOOKUP(S68,[1]Poängberäkning!$B$6:$B$97,[1]Poängberäkning!$C$6:$C$97)","v":0},null,{"$f":"LOOKUP(U68,[1]Poängberäkning!$B$6:$B$97,[1]Poängberäkning!$C$6:$C$97)","v":0},null,{"$f":"LOOKUP(W68,[1]Poängberäkning!$B$6:$B$97,[1]Poängberäkning!$C$6:$C$97)","v":0},{"$f":"LARGE(($H68,$J68,$L68,$N68,$P68,$R68,$T68,$V68,$X68),1)","v":5},{"$f":"LARGE(($H68,$J68,$L68,$N68,$P68,$R68,$T68,$V68,$X68),2)","v":0},{"$f":"LARGE(($H68,$J68,$L68,$N68,$P68,$R68,$T68,$V68,$X68),3)","v":0},{"$f":"LARGE(($H68,$J68,$L68,$N68,$P68,$R68,$T68,$V68,$X68),4)","v":0},{"$f":"LARGE(($H68,$J68,$L68,$N68,$P68,$R68,$T68,$V68,$X68),5)","v":0},{"$f":"LARGE(($H68,$J68,$L68,$N68,$P68,$R68,$T68,$V68,$X68),6)","v":0},{"$f":"LARGE(($H68,$J68,$L68,$N68,$P68,$R68,$T68,$V68,$X68),7)","v":0},{"$f":"LARGE(($H68,$J68,$L68,$N68,$P68,$R68,$T68,$V68,$X68),8)","v":0},{"$f":"LARGE(($H68,$J68,$L68,$N68,$P68,$R68,$T68,$V68,$X68),9)","v":0}]
[65,2005,"MAGNUSSON Elise","Uppsala SLK",{"$f":"SUM(Y69:AA69)","v":4},{"$f":"H69+J69+L69+N69+P69+R69+T69+V69+X69","v":4},null,{"$f":"LOOKUP(G69,Poängberäkning!$B$6:$B$97,Poängberäkning!$C$6:$C$97)","v":0},null,{"$f":"LOOKUP(I69,Poängberäkning!$B$6:$B$97,Poängberäkning!$C$6:$C$97)","v":0},null,{"$f":"LOOKUP(K69,Poängberäkning!$B$6:$B$97,Poängberäkning!$C$6:$C$97)","v":0},null,{"$f":"LOOKUP(M69,Poängberäkning!$B$6:$B$97,Poängberäkning!$C$6:$C$97)","v":0},47,{"$f":"LOOKUP(O69,Poängberäkning!$B$6:$B$97,Poängberäkning!$C$6:$C$97)","v":4},null,{"$f":"LOOKUP(Q69,[1]Poängberäkning!$B$6:$B$97,[1]Poängberäkning!$C$6:$C$97)","v":0},null,{"$f":"LOOKUP(S69,[1]Poängberäkning!$B$6:$B$97,[1]Poängberäkning!$C$6:$C$97)","v":0},null,{"$f":"LOOKUP(U69,[1]Poängberäkning!$B$6:$B$97,[1]Poängberäkning!$C$6:$C$97)","v":0},null,{"$f":"LOOKUP(W69,[1]Poängberäkning!$B$6:$B$97,[1]Poängberäkning!$C$6:$C$97)","v":0},{"$f":"LARGE(($H69,$J69,$L69,$N69,$P69,$R69,$T69,$V69,$X69),1)","v":4},{"$f":"LARGE(($H69,$J69,$L69,$N69,$P69,$R69,$T69,$V69,$X69),2)","v":0},{"$f":"LARGE(($H69,$J69,$L69,$N69,$P69,$R69,$T69,$V69,$X69),3)","v":0},{"$f":"LARGE(($H69,$J69,$L69,$N69,$P69,$R69,$T69,$V69,$X69),4)","v":0},{"$f":"LARGE(($H69,$J69,$L69,$N69,$P69,$R69,$T69,$V69,$X69),5)","v":0},{"$f":"LARGE(($H69,$J69,$L69,$N69,$P69,$R69,$T69,$V69,$X69),6)","v":0},{"$f":"LARGE(($H69,$J69,$L69,$N69,$P69,$R69,$T69,$V69,$X69),7)","v":0},{"$f":"LARGE(($H69,$J69,$L69,$N69,$P69,$R69,$T69,$V69,$X69),8)","v":0},{"$f":"LARGE(($H69,$J69,$L69,$N69,$P69,$R69,$T69,$V69,$X69),9)","v":0}]
[66,2004,"LARSSON Wilmah","Båsenberga SLK",3,3,null,{"$f":"LOOKUP(G70,Poängberäkning!$B$6:$B$97,Poängberäkning!$C$6:$C$97)","v":0},null,{"$f":"LOOKUP(I70,Poängberäkning!$B$6:$B$97,Poängberäkning!$C$6:$C$97)","v":0},null,{"$f":"LOOKUP(K70,Poängberäkning!$B$6:$B$97,Poängberäkning!$C$6:$C$97)","v":0},null,{"$f":"LOOKUP(M70,Poängberäkning!$B$6:$B$97,Poängberäkning!$C$6:$C$97)","v":0},48,{"$f":"LOOKUP(O70,Poängberäkning!$B$6:$B$97,Poängberäkning!$C$6:$C$97)","v":3},null,{"$f":"LOOKUP(Q70,[1]Poängberäkning!$B$6:$B$97,[1]Poängberäkning!$C$6:$C$97)","v":0},null,{"$f":"LOOKUP(S70,[1]Poängberäkning!$B$6:$B$97,[1]Poängberäkning!$C$6:$C$97)","v":0},null,{"$f":"LOOKUP(U70,[1]Poängberäkning!$B$6:$B$97,[1]Poängberäkning!$C$6:$C$97)","v":0},null,{"$f":"LOOKUP(W70,[1]Poängberäkning!$B$6:$B$97,[1]Poängberäkning!$C$6:$C$97)","v":0},{"$f":"LARGE(($H70,$J70,$L70,$N70,$P70,$R70,$T70,$V70,$X70),1)","v":3},{"$f":"LARGE(($H70,$J70,$L70,$N70,$P70,$R70,$T70,$V70,$X70),2)","v":0},{"$f":"LARGE(($H70,$J70,$L70,$N70,$P70,$R70,$T70,$V70,$X70),3)","v":0},{"$f":"LARGE(($H70,$J70,$L70,$N70,$P70,$R70,$T70,$V70,$X70),4)","v":0},{"$f":"LARGE(($H70,$J70,$L70,$N70,$P70,$R70,$T70,$V70,$X70),5)","v":0},{"$f":"LARGE(($H70,$J70,$L70,$N70,$P70,$R70,$T70,$V70,$X70),6)","v":0},{"$f":"LARGE(($H70,$J70,$L70,$N70,$P70,$R70,$T70,$V70,$X70),7)","v":0},{"$f":"LARGE(($H70,$J70,$L70,$N70,$P70,$R70,$T70,$V70,$X70),8)","v":0},{"$f":"LARGE(($H70,$J70,$L70,$N70,$P70,$R70,$T70,$V70,$X70),9)","v":0}]
[67,2005,"HOLLWIN ANDERSSON Lovisa","Norrköpings SK",1,1,null,{"$f":"LOOKUP(G71,Poängberäkning!$B$6:$B$97,Poängberäkning!$C$6:$C$97)","v":0},null,{"$f":"LOOKUP(I71,Poängberäkning!$B$6:$B$97,Poängberäkning!$C$6:$C$97)","v":0},null,{"$f":"LOOKUP(K71,Poängberäkning!$B$6:$B$97,Poängberäkning!$C$6:$C$97)","v":0},null,{"$f":"LOOKUP(M71,Poängberäkning!$B$6:$B$97,Poängberäkning!$C$6:$C$97)","v":0},51,{"$f":"LOOKUP(O71,Poängberäkning!$B$6:$B$97,Poängberäkning!$C$6:$C$97)","v":1},null,{"$f":"LOOKUP(Q71,[1]Poängberäkning!$B$6:$B$97,[1]Poängberäkning!$C$6:$C$97)","v":0},null,{"$f":"LOOKUP(S71,[1]Poängberäkning!$B$6:$B$97,[1]Poängberäkning!$C$6:$C$97)","v":0},null,{"$f":"LOOKUP(U71,[1]Poängberäkning!$B$6:$B$97,[1]Poängberäkning!$C$6:$C$97)","v":0},null,{"$f":"LOOKUP(W71,[1]Poängberäkning!$B$6:$B$97,[1]Poängberäkning!$C$6:$C$97)","v":0},{"$f":"LARGE(($H71,$J71,$L71,$N71,$P71,$R71,$T71,$V71,$X71),1)","v":1},{"$f":"LARGE(($H71,$J71,$L71,$N71,$P71,$R71,$T71,$V71,$X71),2)","v":0},{"$f":"LARGE(($H71,$J71,$L71,$N71,$P71,$R71,$T71,$V71,$X71),3)","v":0},{"$f":"LARGE(($H71,$J71,$L71,$N71,$P71,$R71,$T71,$V71,$X71),4)","v":0},{"$f":"LARGE(($H71,$J71,$L71,$N71,$P71,$R71,$T71,$V71,$X71),5)","v":0},{"$f":"LARGE(($H71,$J71,$L71,$N71,$P71,$R71,$T71,$V71,$X71),6)","v":0},{"$f":"LARGE(($H71,$J71,$L71,$N71,$P71,$R71,$T71,$V71,$X71),7)","v":0},{"$f":"LARGE(($H71,$J71,$L71,$N71,$P71,$R71,$T71,$V71,$X71),8)","v":0},{"$f":"LARGE(($H71,$J71,$L71,$N71,$P71,$R71,$T71,$V71,$X71),9)","v":0}]
[{"$f":"A71+1","v":68},2004,"FAST Ellen","IFK Sävsjö",1,1,null,{"$f":"LOOKUP(G72,Poängberäkning!$B$6:$B$97,Poängberäkning!$C$6:$C$97)","v":0},null,{"$f":"LOOKUP(I72,Poängberäkning!$B$6:$B$97,Poängberäkning!$C$6:$C$97)","v":0},null,{"$f":"LOOKUP(K72,Poängberäkning!$B$6:$B$97,Poängberäkning!$C$6:$C$97)","v":0},null,{"$f":"LOOKUP(M72,Poängberäkning!$B$6:$B$97,Poängberäkning!$C$6:$C$97)","v":0},52,{"$f":"LOOKUP(O72,Poängberäkning!$B$6:$B$97,Poängberäkning!$C$6:$C$97)","v":1},null,{"$f":"LOOKUP(Q72,[1]Poängberäkning!$B$6:$B$97,[1]Poängberäkning!$C$6:$C$97)","v":0},null,{"$f":"LOOKUP(S72,[1]Poängberäkning!$B$6:$B$97,[1]Poängberäkning!$C$6:$C$97)","v":0},null,{"$f":"LOOKUP(U72,[1]Poängberäkning!$B$6:$B$97,[1]Poängberäkning!$C$6:$C$97)","v":0},null,{"$f":"LOOKUP(W72,[1]Poängberäkning!$B$6:$B$97,[1]Poängberäkning!$C$6:$C$97)","v":0},{"$f":"LARGE(($H72,$J72,$L72,$N72,$P72,$R72,$T72,$V72,$X72),1)","v":1},{"$f":"LARGE(($H72,$J72,$L72,$N72,$P72,$R72,$T72,$V72,$X72),2)","v":0},{"$f":"LARGE(($H72,$J72,$L72,$N72,$P72,$R72,$T72,$V72,$X72),3)","v":0},{"$f":"LARGE(($H72,$J72,$L72,$N72,$P72,$R72,$T72,$V72,$X72),4)","v":0},{"$f":"LARGE(($H72,$J72,$L72,$N72,$P72,$R72,$T72,$V72,$X72),5)","v":0},{"$f":"LARGE(($H72,$J72,$L72,$N72,$P72,$R72,$T72,$V72,$X72),6)","v":0},{"$f":"LARGE(($H72,$J72,$L72,$N72,$P72,$R72,$T72,$V72,$X72),7)","v":0},{"$f":"LARGE(($H72,$J72,$L72,$N72,$P72,$R72,$T72,$V72,$X72),8)","v":0},{"$f":"LARGE(($H72,$J72,$L72,$N72,$P72,$R72,$T72,$V72,$X72),9)","v":0}]
[69,2005,"OLEBRO-LUNDHOLM Elsa","Gävle Alpina SK",0,0,null,{"$f":"LOOKUP(G73,Poängberäkning!$B$6:$B$97,Poängberäkning!$C$6:$C$97)","v":0},null,{"$f":"LOOKUP(I73,Poängberäkning!$B$6:$B$97,Poängberäkning!$C$6:$C$97)","v":0},null,{"$f":"LOOKUP(K73,Poängberäkning!$B$6:$B$97,Poängberäkning!$C$6:$C$97)","v":0},null,{"$f":"LOOKUP(M73,Poängberäkning!$B$6:$B$97,Poängberäkning!$C$6:$C$97)","v":0},99,{"$f":"LOOKUP(O73,Poängberäkning!$B$6:$B$97,Poängberäkning!$C$6:$C$97)","v":0},null,{"$f":"LOOKUP(Q73,[1]Poängberäkning!$B$6:$B$97,[1]Poängberäkning!$C$6:$C$97)","v":0},null,{"$f":"LOOKUP(S73,[1]Poängberäkning!$B$6:$B$97,[1]Poängberäkning!$C$6:$C$97)","v":0},null,{"$f":"LOOKUP(U73,[1]Poängberäkning!$B$6:$B$97,[1]Poängberäkning!$C$6:$C$97)","v":0},null,{"$f":"LOOKUP(W73,[1]Poängberäkning!$B$6:$B$97,[1]Poängberäkning!$C$6:$C$97)","v":0},{"$f":"LARGE(($H73,$J73,$L73,$N73,$P73,$R73,$T73,$V73,$X73),1)","v":0},{"$f":"LARGE(($H73,$J73,$L73,$N73,$P73,$R73,$T73,$V73,$X73),2)","v":0},{"$f":"LARGE(($H73,$J73,$L73,$N73,$P73,$R73,$T73,$V73,$X73),3)","v":0},{"$f":"LARGE(($H73,$J73,$L73,$N73,$P73,$R73,$T73,$V73,$X73),4)","v":0},{"$f":"LARGE(($H73,$J73,$L73,$N73,$P73,$R73,$T73,$V73,$X73),5)","v":0},{"$f":"LARGE(($H73,$J73,$L73,$N73,$P73,$R73,$T73,$V73,$X73),6)","v":0},{"$f":"LARGE(($H73,$J73,$L73,$N73,$P73,$R73,$T73,$V73,$X73),7)","v":0},{"$f":"LARGE(($H73,$J73,$L73,$N73,$P73,$R73,$T73,$V73,$X73),8)","v":0},{"$f":"LARGE(($H73,$J73,$L73,$N73,$P73,$R73,$T73,$V73,$X73),9)","v":0}]
[70,2004,"GUSTAFSSON Saga","Västerås Slalomklubb",0,0,null,{"$f":"LOOKUP(G74,Poängberäkning!$B$6:$B$97,Poängberäkning!$C$6:$C$97)","v":0},null,{"$f":"LOOKUP(I74,Poängberäkning!$B$6:$B$97,Poängberäkning!$C$6:$C$97)","v":0},null,{"$f":"LOOKUP(K74,Poängberäkning!$B$6:$B$97,Poängberäkning!$C$6:$C$97)","v":0},99,{"$f":"LOOKUP(M74,Poängberäkning!$B$6:$B$97,Poängberäkning!$C$6:$C$97)","v":0},null,{"$f":"LOOKUP(O74,Poängberäkning!$B$6:$B$97,Poängberäkning!$C$6:$C$97)","v":0},null,{"$f":"LOOKUP(Q74,[1]Poängberäkning!$B$6:$B$97,[1]Poängberäkning!$C$6:$C$97)","v":0},null,{"$f":"LOOKUP(S74,[1]Poängberäkning!$B$6:$B$97,[1]Poängberäkning!$C$6:$C$97)","v":0},null,{"$f":"LOOKUP(U74,[1]Poängberäkning!$B$6:$B$97,[1]Poängberäkning!$C$6:$C$97)","v":0},null,{"$f":"LOOKUP(W74,[1]Poängberäkning!$B$6:$B$97,[1]Poängberäkning!$C$6:$C$97)","v":0},{"$f":"LARGE(($H74,$J74,$L74,$N74,$P74,$R74,$T74,$V74,$X74),1)","v":0},{"$f":"LARGE(($H74,$J74,$L74,$N74,$P74,$R74,$T74,$V74,$X74),2)","v":0},{"$f":"LARGE(($H74,$J74,$L74,$N74,$P74,$R74,$T74,$V74,$X74),3)","v":0},{"$f":"LARGE(($H74,$J74,$L74,$N74,$P74,$R74,$T74,$V74,$X74),4)","v":0},{"$f":"LARGE(($H74,$J74,$L74,$N74,$P74,$R74,$T74,$V74,$X74),5)","v":0},{"$f":"LARGE(($H74,$J74,$L74,$N74,$P74,$R74,$T74,$V74,$X74),6)","v":0},{"$f":"LARGE(($H74,$J74,$L74,$N74,$P74,$R74,$T74,$V74,$X74),7)","v":0},{"$f":"LARGE(($H74,$J74,$L74,$N74,$P74,$R74,$T74,$V74,$X74),8)","v":0},{"$f":"LARGE(($H74,$J74,$L74,$N74,$P74,$R74,$T74,$V74,$X74),9)","v":0}]
[71,2005,"HEDERSTRÖM Ellen","Kungsbergets AK",0,0,null,{"$f":"LOOKUP(G75,Poängberäkning!$B$6:$B$97,Poängberäkning!$C$6:$C$97)","v":0},null,{"$f":"LOOKUP(I75,Poängberäkning!$B$6:$B$97,Poängberäkning!$C$6:$C$97)","v":0},null,{"$f":"LOOKUP(K75,Poängberäkning!$B$6:$B$97,Poängberäkning!$C$6:$C$97)","v":0},99,{"$f":"LOOKUP(M75,Poängberäkning!$B$6:$B$97,Poängberäkning!$C$6:$C$97)","v":0},null,{"$f":"LOOKUP(O75,Poängberäkning!$B$6:$B$97,Poängberäkning!$C$6:$C$97)","v":0},null,{"$f":"LOOKUP(Q75,[1]Poängberäkning!$B$6:$B$97,[1]Poängberäkning!$C$6:$C$97)","v":0},null,{"$f":"LOOKUP(S75,[1]Poängberäkning!$B$6:$B$97,[1]Poängberäkning!$C$6:$C$97)","v":0},null,{"$f":"LOOKUP(U75,[1]Poängberäkning!$B$6:$B$97,[1]Poängberäkning!$C$6:$C$97)","v":0},null,{"$f":"LOOKUP(W75,[1]Poängberäkning!$B$6:$B$97,[1]Poängberäkning!$C$6:$C$97)","v":0},{"$f":"LARGE(($H75,$J75,$L75,$N75,$P75,$R75,$T75,$V75,$X75),1)","v":0},{"$f":"LARGE(($H75,$J75,$L75,$N75,$P75,$R75,$T75,$V75,$X75),2)","v":0},{"$f":"LARGE(($H75,$J75,$L75,$N75,$P75,$R75,$T75,$V75,$X75),3)","v":0},{"$f":"LARGE(($H75,$J75,$L75,$N75,$P75,$R75,$T75,$V75,$X75),4)","v":0},{"$f":"LARGE(($H75,$J75,$L75,$N75,$P75,$R75,$T75,$V75,$X75),5)","v":0},{"$f":"LARGE(($H75,$J75,$L75,$N75,$P75,$R75,$T75,$V75,$X75),6)","v":0},{"$f":"LARGE(($H75,$J75,$L75,$N75,$P75,$R75,$T75,$V75,$X75),7)","v":0},{"$f":"LARGE(($H75,$J75,$L75,$N75,$P75,$R75,$T75,$V75,$X75),8)","v":0},{"$f":"LARGE(($H75,$J75,$L75,$N75,$P75,$R75,$T75,$V75,$X75),9)","v":0}]
[72,2005,"RYLANDER Elsa","Västerås Slalomklubb",0,0,null,{"$f":"LOOKUP(G76,Poängberäkning!$B$6:$B$97,Poängberäkning!$C$6:$C$97)","v":0},null,{"$f":"LOOKUP(I76,Poängberäkning!$B$6:$B$97,Poängberäkning!$C$6:$C$97)","v":0},null,{"$f":"LOOKUP(K76,Poängberäkning!$B$6:$B$97,Poängberäkning!$C$6:$C$97)","v":0},null,{"$f":"LOOKUP(M76,Poängberäkning!$B$6:$B$97,Poängberäkning!$C$6:$C$97)","v":0},null,{"$f":"LOOKUP(O76,Poängberäkning!$B$6:$B$97,Poängberäkning!$C$6:$C$97)","v":0},null,{"$f":"LOOKUP(Q76,[1]Poängberäkning!$B$6:$B$97,[1]Poängberäkning!$C$6:$C$97)","v":0},null,{"$f":"LOOKUP(S76,[1]Poängberäkning!$B$6:$B$97,[1]Poängberäkning!$C$6:$C$97)","v":0},null,{"$f":"LOOKUP(U76,[1]Poängberäkning!$B$6:$B$97,[1]Poängberäkning!$C$6:$C$97)","v":0},null,{"$f":"LOOKUP(W76,[1]Poängberäkning!$B$6:$B$97,[1]Poängberäkning!$C$6:$C$97)","v":0},{"$f":"LARGE(($H76,$J76,$L76,$N76,$P76,$R76,$T76,$V76,$X76),1)","v":0},{"$f":"LARGE(($H76,$J76,$L76,$N76,$P76,$R76,$T76,$V76,$X76),2)","v":0},{"$f":"LARGE(($H76,$J76,$L76,$N76,$P76,$R76,$T76,$V76,$X76),3)","v":0},{"$f":"LARGE(($H76,$J76,$L76,$N76,$P76,$R76,$T76,$V76,$X76),4)","v":0},{"$f":"LARGE(($H76,$J76,$L76,$N76,$P76,$R76,$T76,$V76,$X76),5)","v":0},{"$f":"LARGE(($H76,$J76,$L76,$N76,$P76,$R76,$T76,$V76,$X76),6)","v":0},{"$f":"LARGE(($H76,$J76,$L76,$N76,$P76,$R76,$T76,$V76,$X76),7)","v":0},{"$f":"LARGE(($H76,$J76,$L76,$N76,$P76,$R76,$T76,$V76,$X76),8)","v":0},{"$f":"LARGE(($H76,$J76,$L76,$N76,$P76,$R76,$T76,$V76,$X76),9)","v":0}]
[73,2004,"TYRÉN Klara","Bollnäs AK",0,0,null,{"$f":"LOOKUP(G77,Poängberäkning!$B$6:$B$97,Poängberäkning!$C$6:$C$97)","v":0},null,{"$f":"LOOKUP(I77,Poängberäkning!$B$6:$B$97,Poängberäkning!$C$6:$C$97)","v":0},null,{"$f":"LOOKUP(K77,Poängberäkning!$B$6:$B$97,Poängberäkning!$C$6:$C$97)","v":0},null,{"$f":"LOOKUP(M77,Poängberäkning!$B$6:$B$97,Poängberäkning!$C$6:$C$97)","v":0},null,{"$f":"LOOKUP(O77,Poängberäkning!$B$6:$B$97,Poängberäkning!$C$6:$C$97)","v":0},null,{"$f":"LOOKUP(Q77,[1]Poängberäkning!$B$6:$B$97,[1]Poängberäkning!$C$6:$C$97)","v":0},null,{"$f":"LOOKUP(S77,[1]Poängberäkning!$B$6:$B$97,[1]Poängberäkning!$C$6:$C$97)","v":0},null,{"$f":"LOOKUP(U77,[1]Poängberäkning!$B$6:$B$97,[1]Poängberäkning!$C$6:$C$97)","v":0},null,{"$f":"LOOKUP(W77,[1]Poängberäkning!$B$6:$B$97,[1]Poängberäkning!$C$6:$C$97)","v":0},{"$f":"LARGE(($H77,$J77,$L77,$N77,$P77,$R77,$T77,$V77,$X77),1)","v":0},{"$f":"LARGE(($H77,$J77,$L77,$N77,$P77,$R77,$T77,$V77,$X77),2)","v":0},{"$f":"LARGE(($H77,$J77,$L77,$N77,$P77,$R77,$T77,$V77,$X77),3)","v":0},{"$f":"LARGE(($H77,$J77,$L77,$N77,$P77,$R77,$T77,$V77,$X77),4)","v":0},{"$f":"LARGE(($H77,$J77,$L77,$N77,$P77,$R77,$T77,$V77,$X77),5)","v":0},{"$f":"LARGE(($H77,$J77,$L77,$N77,$P77,$R77,$T77,$V77,$X77),6)","v":0},{"$f":"LARGE(($H77,$J77,$L77,$N77,$P77,$R77,$T77,$V77,$X77),7)","v":0},{"$f":"LARGE(($H77,$J77,$L77,$N77,$P77,$R77,$T77,$V77,$X77),8)","v":0},{"$f":"LARGE(($H77,$J77,$L77,$N77,$P77,$R77,$T77,$V77,$X77),9)","v":0}]
[74,2005,"VIBERG Alma","IFK Sävsjö",0,0,null,{"$f":"LOOKUP(G78,Poängberäkning!$B$6:$B$97,Poängberäkning!$C$6:$C$97)","v":0},null,{"$f":"LOOKUP(I78,Poängberäkning!$B$6:$B$97,Poängberäkning!$C$6:$C$97)","v":0},null,{"$f":"LOOKUP(K78,Poängberäkning!$B$6:$B$97,Poängberäkning!$C$6:$C$97)","v":0},null,{"$f":"LOOKUP(M78,Poängberäkning!$B$6:$B$97,Poängberäkning!$C$6:$C$97)","v":0},null,{"$f":"LOOKUP(O78,Poängberäkning!$B$6:$B$97,Poängberäkning!$C$6:$C$97)","v":0},null,{"$f":"LOOKUP(Q78,[1]Poängberäkning!$B$6:$B$97,[1]Poängberäkning!$C$6:$C$97)","v":0},null,{"$f":"LOOKUP(S78,[1]Poängberäkning!$B$6:$B$97,[1]Poängberäkning!$C$6:$C$97)","v":0},null,{"$f":"LOOKUP(U78,[1]Poängberäkning!$B$6:$B$97,[1]Poängberäkning!$C$6:$C$97)","v":0},null,{"$f":"LOOKUP(W78,[1]Poängberäkning!$B$6:$B$97,[1]Poängberäkning!$C$6:$C$97)","v":0},{"$f":"LARGE(($H78,$J78,$L78,$N78,$P78,$R78,$T78,$V78,$X78),1)","v":0},{"$f":"LARGE(($H78,$J78,$L78,$N78,$P78,$R78,$T78,$V78,$X78),2)","v":0},{"$f":"LARGE(($H78,$J78,$L78,$N78,$P78,$R78,$T78,$V78,$X78),3)","v":0},{"$f":"LARGE(($H78,$J78,$L78,$N78,$P78,$R78,$T78,$V78,$X78),4)","v":0},{"$f":"LARGE(($H78,$J78,$L78,$N78,$P78,$R78,$T78,$V78,$X78),5)","v":0},{"$f":"LARGE(($H78,$J78,$L78,$N78,$P78,$R78,$T78,$V78,$X78),6)","v":0},{"$f":"LARGE(($H78,$J78,$L78,$N78,$P78,$R78,$T78,$V78,$X78),7)","v":0},{"$f":"LARGE(($H78,$J78,$L78,$N78,$P78,$R78,$T78,$V78,$X78),8)","v":0},{"$f":"LARGE(($H78,$J78,$L78,$N78,$P78,$R78,$T78,$V78,$X78),9)","v":0}]
[75,null,null,null,0,0,null,{"$f":"LOOKUP(G79,Poängberäkning!$B$6:$B$97,Poängberäkning!$C$6:$C$97)","v":0},null,{"$f":"LOOKUP(I79,Poängberäkning!$B$6:$B$97,Poängberäkning!$C$6:$C$97)","v":0},null,{"$f":"LOOKUP(K79,Poängberäkning!$B$6:$B$97,Poängberäkning!$C$6:$C$97)","v":0},null,{"$f":"LOOKUP(M79,Poängberäkning!$B$6:$B$97,Poängberäkning!$C$6:$C$97)","v":0},null,{"$f":"LOOKUP(O79,Poängberäkning!$B$6:$B$97,Poängberäkning!$C$6:$C$97)","v":0},null,{"$f":"LOOKUP(Q79,[1]Poängberäkning!$B$6:$B$97,[1]Poängberäkning!$C$6:$C$97)","v":0},null,{"$f":"LOOKUP(S79,[1]Poängberäkning!$B$6:$B$97,[1]Poängberäkning!$C$6:$C$97)","v":0},null,{"$f":"LOOKUP(U79,[1]Poängberäkning!$B$6:$B$97,[1]Poängberäkning!$C$6:$C$97)","v":0},null,{"$f":"LOOKUP(W79,[1]Poängberäkning!$B$6:$B$97,[1]Poängberäkning!$C$6:$C$97)","v":0},{"$f":"LARGE(($H79,$J79,$L79,$N79,$P79,$R79,$T79,$V79,$X79),1)","v":0},{"$f":"LARGE(($H79,$J79,$L79,$N79,$P79,$R79,$T79,$V79,$X79),2)","v":0},{"$f":"LARGE(($H79,$J79,$L79,$N79,$P79,$R79,$T79,$V79,$X79),3)","v":0},{"$f":"LARGE(($H79,$J79,$L79,$N79,$P79,$R79,$T79,$V79,$X79),4)","v":0},{"$f":"LARGE(($H79,$J79,$L79,$N79,$P79,$R79,$T79,$V79,$X79),5)","v":0},{"$f":"LARGE(($H79,$J79,$L79,$N79,$P79,$R79,$T79,$V79,$X79),6)","v":0},{"$f":"LARGE(($H79,$J79,$L79,$N79,$P79,$R79,$T79,$V79,$X79),7)","v":0},{"$f":"LARGE(($H79,$J79,$L79,$N79,$P79,$R79,$T79,$V79,$X79),8)","v":0},{"$f":"LARGE(($H79,$J79,$L79,$N79,$P79,$R79,$T79,$V79,$X79),9)","v":0}]
[{"$f":"A79+1","v":76},null,null,null,0,0,null,{"$f":"LOOKUP(G80,Poängberäkning!$B$6:$B$97,Poängberäkning!$C$6:$C$97)","v":0},null,{"$f":"LOOKUP(I80,Poängberäkning!$B$6:$B$97,Poängberäkning!$C$6:$C$97)","v":0},null,{"$f":"LOOKUP(K80,Poängberäkning!$B$6:$B$97,Poängberäkning!$C$6:$C$97)","v":0},null,{"$f":"LOOKUP(M80,Poängberäkning!$B$6:$B$97,Poängberäkning!$C$6:$C$97)","v":0},null,{"$f":"LOOKUP(O80,Poängberäkning!$B$6:$B$97,Poängberäkning!$C$6:$C$97)","v":0},null,{"$f":"LOOKUP(Q80,[1]Poängberäkning!$B$6:$B$97,[1]Poängberäkning!$C$6:$C$97)","v":0},null,{"$f":"LOOKUP(S80,[1]Poängberäkning!$B$6:$B$97,[1]Poängberäkning!$C$6:$C$97)","v":0},null,{"$f":"LOOKUP(U80,[1]Poängberäkning!$B$6:$B$97,[1]Poängberäkning!$C$6:$C$97)","v":0},null,{"$f":"LOOKUP(W80,[1]Poängberäkning!$B$6:$B$97,[1]Poängberäkning!$C$6:$C$97)","v":0},{"$f":"LARGE(($H80,$J80,$L80,$N80,$P80,$R80,$T80,$V80,$X80),1)","v":0},{"$f":"LARGE(($H80,$J80,$L80,$N80,$P80,$R80,$T80,$V80,$X80),2)","v":0},{"$f":"LARGE(($H80,$J80,$L80,$N80,$P80,$R80,$T80,$V80,$X80),3)","v":0},{"$f":"LARGE(($H80,$J80,$L80,$N80,$P80,$R80,$T80,$V80,$X80),4)","v":0},{"$f":"LARGE(($H80,$J80,$L80,$N80,$P80,$R80,$T80,$V80,$X80),5)","v":0},{"$f":"LARGE(($H80,$J80,$L80,$N80,$P80,$R80,$T80,$V80,$X80),6)","v":0},{"$f":"LARGE(($H80,$J80,$L80,$N80,$P80,$R80,$T80,$V80,$X80),7)","v":0},{"$f":"LARGE(($H80,$J80,$L80,$N80,$P80,$R80,$T80,$V80,$X80),8)","v":0},{"$f":"LARGE(($H80,$J80,$L80,$N80,$P80,$R80,$T80,$V80,$X80),9)","v":0}]
[{"$f":"A80+1","v":77},null,null,null,0,0,null,{"$f":"LOOKUP(G81,Poängberäkning!$B$6:$B$97,Poängberäkning!$C$6:$C$97)","v":0},null,{"$f":"LOOKUP(I81,Poängberäkning!$B$6:$B$97,Poängberäkning!$C$6:$C$97)","v":0},null,{"$f":"LOOKUP(K81,Poängberäkning!$B$6:$B$97,Poängberäkning!$C$6:$C$97)","v":0},null,{"$f":"LOOKUP(M81,Poängberäkning!$B$6:$B$97,Poängberäkning!$C$6:$C$97)","v":0},null,{"$f":"LOOKUP(O81,Poängberäkning!$B$6:$B$97,Poängberäkning!$C$6:$C$97)","v":0},null,{"$f":"LOOKUP(Q81,[1]Poängberäkning!$B$6:$B$97,[1]Poängberäkning!$C$6:$C$97)","v":0},null,{"$f":"LOOKUP(S81,[1]Poängberäkning!$B$6:$B$97,[1]Poängberäkning!$C$6:$C$97)","v":0},null,{"$f":"LOOKUP(U81,[1]Poängberäkning!$B$6:$B$97,[1]Poängberäkning!$C$6:$C$97)","v":0},null,{"$f":"LOOKUP(W81,[1]Poängberäkning!$B$6:$B$97,[1]Poängberäkning!$C$6:$C$97)","v":0},{"$f":"LARGE(($H81,$J81,$L81,$N81,$P81,$R81,$T81,$V81,$X81),1)","v":0},{"$f":"LARGE(($H81,$J81,$L81,$N81,$P81,$R81,$T81,$V81,$X81),2)","v":0},{"$f":"LARGE(($H81,$J81,$L81,$N81,$P81,$R81,$T81,$V81,$X81),3)","v":0},{"$f":"LARGE(($H81,$J81,$L81,$N81,$P81,$R81,$T81,$V81,$X81),4)","v":0},{"$f":"LARGE(($H81,$J81,$L81,$N81,$P81,$R81,$T81,$V81,$X81),5)","v":0},{"$f":"LARGE(($H81,$J81,$L81,$N81,$P81,$R81,$T81,$V81,$X81),6)","v":0},{"$f":"LARGE(($H81,$J81,$L81,$N81,$P81,$R81,$T81,$V81,$X81),7)","v":0},{"$f":"LARGE(($H81,$J81,$L81,$N81,$P81,$R81,$T81,$V81,$X81),8)","v":0},{"$f":"LARGE(($H81,$J81,$L81,$N81,$P81,$R81,$T81,$V81,$X81),9)","v":0}]
[{"$f":"A81+1","v":78},null,null,null,0,0,null,{"$f":"LOOKUP(G82,Poängberäkning!$B$6:$B$97,Poängberäkning!$C$6:$C$97)","v":0},null,{"$f":"LOOKUP(I82,Poängberäkning!$B$6:$B$97,Poängberäkning!$C$6:$C$97)","v":0},null,{"$f":"LOOKUP(K82,Poängberäkning!$B$6:$B$97,Poängberäkning!$C$6:$C$97)","v":0},null,{"$f":"LOOKUP(M82,Poängberäkning!$B$6:$B$97,Poängberäkning!$C$6:$C$97)","v":0},null,{"$f":"LOOKUP(O82,Poängberäkning!$B$6:$B$97,Poängberäkning!$C$6:$C$97)","v":0},null,{"$f":"LOOKUP(Q82,[1]Poängberäkning!$B$6:$B$97,[1]Poängberäkning!$C$6:$C$97)","v":0},null,{"$f":"LOOKUP(S82,[1]Poängberäkning!$B$6:$B$97,[1]Poängberäkning!$C$6:$C$97)","v":0},null,{"$f":"LOOKUP(U82,[1]Poängberäkning!$B$6:$B$97,[1]Poängberäkning!$C$6:$C$97)","v":0},null,{"$f":"LOOKUP(W82,[1]Poängberäkning!$B$6:$B$97,[1]Poängberäkning!$C$6:$C$97)","v":0},{"$f":"LARGE(($H82,$J82,$L82,$N82,$P82,$R82,$T82,$V82,$X82),1)","v":0},{"$f":"LARGE(($H82,$J82,$L82,$N82,$P82,$R82,$T82,$V82,$X82),2)","v":0},{"$f":"LARGE(($H82,$J82,$L82,$N82,$P82,$R82,$T82,$V82,$X82),3)","v":0},{"$f":"LARGE(($H82,$J82,$L82,$N82,$P82,$R82,$T82,$V82,$X82),4)","v":0},{"$f":"LARGE(($H82,$J82,$L82,$N82,$P82,$R82,$T82,$V82,$X82),5)","v":0},{"$f":"LARGE(($H82,$J82,$L82,$N82,$P82,$R82,$T82,$V82,$X82),6)","v":0},{"$f":"LARGE(($H82,$J82,$L82,$N82,$P82,$R82,$T82,$V82,$X82),7)","v":0},{"$f":"LARGE(($H82,$J82,$L82,$N82,$P82,$R82,$T82,$V82,$X82),8)","v":0},{"$f":"LARGE(($H82,$J82,$L82,$N82,$P82,$R82,$T82,$V82,$X82),9)","v":0}]
[79,null,null,null,0,0,null,{"$f":"LOOKUP(G83,Poängberäkning!$B$6:$B$97,Poängberäkning!$C$6:$C$97)","v":0},null,{"$f":"LOOKUP(I83,Poängberäkning!$B$6:$B$97,Poängberäkning!$C$6:$C$97)","v":0},null,{"$f":"LOOKUP(K83,Poängberäkning!$B$6:$B$97,Poängberäkning!$C$6:$C$97)","v":0},null,{"$f":"LOOKUP(M83,Poängberäkning!$B$6:$B$97,Poängberäkning!$C$6:$C$97)","v":0},null,{"$f":"LOOKUP(O83,Poängberäkning!$B$6:$B$97,Poängberäkning!$C$6:$C$97)","v":0},null,{"$f":"LOOKUP(Q83,[1]Poängberäkning!$B$6:$B$97,[1]Poängberäkning!$C$6:$C$97)","v":0},null,{"$f":"LOOKUP(S83,[1]Poängberäkning!$B$6:$B$97,[1]Poängberäkning!$C$6:$C$97)","v":0},null,{"$f":"LOOKUP(U83,[1]Poängberäkning!$B$6:$B$97,[1]Poängberäkning!$C$6:$C$97)","v":0},null,{"$f":"LOOKUP(W83,[1]Poängberäkning!$B$6:$B$97,[1]Poängberäkning!$C$6:$C$97)","v":0},{"$f":"LARGE(($H83,$J83,$L83,$N83,$P83,$R83,$T83,$V83,$X83),1)","v":0},{"$f":"LARGE(($H83,$J83,$L83,$N83,$P83,$R83,$T83,$V83,$X83),2)","v":0},{"$f":"LARGE(($H83,$J83,$L83,$N83,$P83,$R83,$T83,$V83,$X83),3)","v":0},{"$f":"LARGE(($H83,$J83,$L83,$N83,$P83,$R83,$T83,$V83,$X83),4)","v":0},{"$f":"LARGE(($H83,$J83,$L83,$N83,$P83,$R83,$T83,$V83,$X83),5)","v":0},{"$f":"LARGE(($H83,$J83,$L83,$N83,$P83,$R83,$T83,$V83,$X83),6)","v":0},{"$f":"LARGE(($H83,$J83,$L83,$N83,$P83,$R83,$T83,$V83,$X83),7)","v":0},{"$f":"LARGE(($H83,$J83,$L83,$N83,$P83,$R83,$T83,$V83,$X83),8)","v":0},{"$f":"LARGE(($H83,$J83,$L83,$N83,$P83,$R83,$T83,$V83,$X83),9)","v":0}]
[80,null,null,null,0,0,null,{"$f":"LOOKUP(G84,Poängberäkning!$B$6:$B$97,Poängberäkning!$C$6:$C$97)","v":0},null,{"$f":"LOOKUP(I84,Poängberäkning!$B$6:$B$97,Poängberäkning!$C$6:$C$97)","v":0},null,{"$f":"LOOKUP(K84,Poängberäkning!$B$6:$B$97,Poängberäkning!$C$6:$C$97)","v":0},null,{"$f":"LOOKUP(M84,Poängberäkning!$B$6:$B$97,Poängberäkning!$C$6:$C$97)","v":0},null,{"$f":"LOOKUP(O84,Poängberäkning!$B$6:$B$97,Poängberäkning!$C$6:$C$97)","v":0},null,{"$f":"LOOKUP(Q84,[1]Poängberäkning!$B$6:$B$97,[1]Poängberäkning!$C$6:$C$97)","v":0},null,{"$f":"LOOKUP(S84,[1]Poängberäkning!$B$6:$B$97,[1]Poängberäkning!$C$6:$C$97)","v":0},null,{"$f":"LOOKUP(U84,[1]Poängberäkning!$B$6:$B$97,[1]Poängberäkning!$C$6:$C$97)","v":0},null,{"$f":"LOOKUP(W84,[1]Poängberäkning!$B$6:$B$97,[1]Poängberäkning!$C$6:$C$97)","v":0},{"$f":"LARGE(($H84,$J84,$L84,$N84,$P84,$R84,$T84,$V84,$X84),1)","v":0},{"$f":"LARGE(($H84,$J84,$L84,$N84,$P84,$R84,$T84,$V84,$X84),2)","v":0},{"$f":"LARGE(($H84,$J84,$L84,$N84,$P84,$R84,$T84,$V84,$X84),3)","v":0},{"$f":"LARGE(($H84,$J84,$L84,$N84,$P84,$R84,$T84,$V84,$X84),4)","v":0},{"$f":"LARGE(($H84,$J84,$L84,$N84,$P84,$R84,$T84,$V84,$X84),5)","v":0},{"$f":"LARGE(($H84,$J84,$L84,$N84,$P84,$R84,$T84,$V84,$X84),6)","v":0},{"$f":"LARGE(($H84,$J84,$L84,$N84,$P84,$R84,$T84,$V84,$X84),7)","v":0},{"$f":"LARGE(($H84,$J84,$L84,$N84,$P84,$R84,$T84,$V84,$X84),8)","v":0},{"$f":"LARGE(($H84,$J84,$L84,$N84,$P84,$R84,$T84,$V84,$X84),9)","v":0}]
[81,null,null,null,0,0,null,{"$f":"LOOKUP(G85,Poängberäkning!$B$6:$B$97,Poängberäkning!$C$6:$C$97)","v":0},null,{"$f":"LOOKUP(I85,Poängberäkning!$B$6:$B$97,Poängberäkning!$C$6:$C$97)","v":0},null,{"$f":"LOOKUP(K85,Poängberäkning!$B$6:$B$97,Poängberäkning!$C$6:$C$97)","v":0},null,{"$f":"LOOKUP(M85,Poängberäkning!$B$6:$B$97,Poängberäkning!$C$6:$C$97)","v":0},null,{"$f":"LOOKUP(O85,Poängberäkning!$B$6:$B$97,Poängberäkning!$C$6:$C$97)","v":0},null,{"$f":"LOOKUP(Q85,[1]Poängberäkning!$B$6:$B$97,[1]Poängberäkning!$C$6:$C$97)","v":0},null,{"$f":"LOOKUP(S85,[1]Poängberäkning!$B$6:$B$97,[1]Poängberäkning!$C$6:$C$97)","v":0},null,{"$f":"LOOKUP(U85,[1]Poängberäkning!$B$6:$B$97,[1]Poängberäkning!$C$6:$C$97)","v":0},null,{"$f":"LOOKUP(W85,[1]Poängberäkning!$B$6:$B$97,[1]Poängberäkning!$C$6:$C$97)","v":0},{"$f":"LARGE(($H85,$J85,$L85,$N85,$P85,$R85,$T85,$V85,$X85),1)","v":0},{"$f":"LARGE(($H85,$J85,$L85,$N85,$P85,$R85,$T85,$V85,$X85),2)","v":0},{"$f":"LARGE(($H85,$J85,$L85,$N85,$P85,$R85,$T85,$V85,$X85),3)","v":0},{"$f":"LARGE(($H85,$J85,$L85,$N85,$P85,$R85,$T85,$V85,$X85),4)","v":0},{"$f":"LARGE(($H85,$J85,$L85,$N85,$P85,$R85,$T85,$V85,$X85),5)","v":0},{"$f":"LARGE(($H85,$J85,$L85,$N85,$P85,$R85,$T85,$V85,$X85),6)","v":0},{"$f":"LARGE(($H85,$J85,$L85,$N85,$P85,$R85,$T85,$V85,$X85),7)","v":0},{"$f":"LARGE(($H85,$J85,$L85,$N85,$P85,$R85,$T85,$V85,$X85),8)","v":0},{"$f":"LARGE(($H85,$J85,$L85,$N85,$P85,$R85,$T85,$V85,$X85),9)","v":0}]
[82,null,null,null,0,0,null,{"$f":"LOOKUP(G86,Poängberäkning!$B$6:$B$97,Poängberäkning!$C$6:$C$97)","v":0},null,{"$f":"LOOKUP(I86,Poängberäkning!$B$6:$B$97,Poängberäkning!$C$6:$C$97)","v":0},null,{"$f":"LOOKUP(K86,Poängberäkning!$B$6:$B$97,Poängberäkning!$C$6:$C$97)","v":0},null,{"$f":"LOOKUP(M86,Poängberäkning!$B$6:$B$97,Poängberäkning!$C$6:$C$97)","v":0},null,{"$f":"LOOKUP(O86,Poängberäkning!$B$6:$B$97,Poängberäkning!$C$6:$C$97)","v":0},null,{"$f":"LOOKUP(Q86,[1]Poängberäkning!$B$6:$B$97,[1]Poängberäkning!$C$6:$C$97)","v":0},null,{"$f":"LOOKUP(S86,[1]Poängberäkning!$B$6:$B$97,[1]Poängberäkning!$C$6:$C$97)","v":0},null,{"$f":"LOOKUP(U86,[1]Poängberäkning!$B$6:$B$97,[1]Poängberäkning!$C$6:$C$97)","v":0},null,{"$f":"LOOKUP(W86,[1]Poängberäkning!$B$6:$B$97,[1]Poängberäkning!$C$6:$C$97)","v":0},{"$f":"LARGE(($H86,$J86,$L86,$N86,$P86,$R86,$T86,$V86,$X86),1)","v":0},{"$f":"LARGE(($H86,$J86,$L86,$N86,$P86,$R86,$T86,$V86,$X86),2)","v":0},{"$f":"LARGE(($H86,$J86,$L86,$N86,$P86,$R86,$T86,$V86,$X86),3)","v":0},{"$f":"LARGE(($H86,$J86,$L86,$N86,$P86,$R86,$T86,$V86,$X86),4)","v":0},{"$f":"LARGE(($H86,$J86,$L86,$N86,$P86,$R86,$T86,$V86,$X86),5)","v":0},{"$f":"LARGE(($H86,$J86,$L86,$N86,$P86,$R86,$T86,$V86,$X86),6)","v":0},{"$f":"LARGE(($H86,$J86,$L86,$N86,$P86,$R86,$T86,$V86,$X86),7)","v":0},{"$f":"LARGE(($H86,$J86,$L86,$N86,$P86,$R86,$T86,$V86,$X86),8)","v":0},{"$f":"LARGE(($H86,$J86,$L86,$N86,$P86,$R86,$T86,$V86,$X86),9)","v":0}]
[83,null,null,null,0,0,null,{"$f":"LOOKUP(G87,Poängberäkning!$B$6:$B$97,Poängberäkning!$C$6:$C$97)","v":0},null,{"$f":"LOOKUP(I87,Poängberäkning!$B$6:$B$97,Poängberäkning!$C$6:$C$97)","v":0},null,{"$f":"LOOKUP(K87,Poängberäkning!$B$6:$B$97,Poängberäkning!$C$6:$C$97)","v":0},null,{"$f":"LOOKUP(M87,Poängberäkning!$B$6:$B$97,Poängberäkning!$C$6:$C$97)","v":0},null,{"$f":"LOOKUP(O87,Poängberäkning!$B$6:$B$97,Poängberäkning!$C$6:$C$97)","v":0},null,{"$f":"LOOKUP(Q87,[1]Poängberäkning!$B$6:$B$97,[1]Poängberäkning!$C$6:$C$97)","v":0},null,{"$f":"LOOKUP(S87,[1]Poängberäkning!$B$6:$B$97,[1]Poängberäkning!$C$6:$C$97)","v":0},null,{"$f":"LOOKUP(U87,[1]Poängberäkning!$B$6:$B$97,[1]Poängberäkning!$C$6:$C$97)","v":0},null,{"$f":"LOOKUP(W87,[1]Poängberäkning!$B$6:$B$97,[1]Poängberäkning!$C$6:$C$97)","v":0},{"$f":"LARGE(($H87,$J87,$L87,$N87,$P87,$R87,$T87,$V87,$X87),1)","v":0},{"$f":"LARGE(($H87,$J87,$L87,$N87,$P87,$R87,$T87,$V87,$X87),2)","v":0},{"$f":"LARGE(($H87,$J87,$L87,$N87,$P87,$R87,$T87,$V87,$X87),3)","v":0},{"$f":"LARGE(($H87,$J87,$L87,$N87,$P87,$R87,$T87,$V87,$X87),4)","v":0},{"$f":"LARGE(($H87,$J87,$L87,$N87,$P87,$R87,$T87,$V87,$X87),5)","v":0},{"$f":"LARGE(($H87,$J87,$L87,$N87,$P87,$R87,$T87,$V87,$X87),6)","v":0},{"$f":"LARGE(($H87,$J87,$L87,$N87,$P87,$R87,$T87,$V87,$X87),7)","v":0},{"$f":"LARGE(($H87,$J87,$L87,$N87,$P87,$R87,$T87,$V87,$X87),8)","v":0},{"$f":"LARGE(($H87,$J87,$L87,$N87,$P87,$R87,$T87,$V87,$X87),9)","v":0}]
[84,null,null,null,0,0,null,{"$f":"LOOKUP(G88,Poängberäkning!$B$6:$B$97,Poängberäkning!$C$6:$C$97)","v":0},null,{"$f":"LOOKUP(I88,Poängberäkning!$B$6:$B$97,Poängberäkning!$C$6:$C$97)","v":0},null,{"$f":"LOOKUP(K88,Poängberäkning!$B$6:$B$97,Poängberäkning!$C$6:$C$97)","v":0},null,{"$f":"LOOKUP(M88,Poängberäkning!$B$6:$B$97,Poängberäkning!$C$6:$C$97)","v":0},null,{"$f":"LOOKUP(O88,Poängberäkning!$B$6:$B$97,Poängberäkning!$C$6:$C$97)","v":0},null,{"$f":"LOOKUP(Q88,[1]Poängberäkning!$B$6:$B$97,[1]Poängberäkning!$C$6:$C$97)","v":0},null,{"$f":"LOOKUP(S88,[1]Poängberäkning!$B$6:$B$97,[1]Poängberäkning!$C$6:$C$97)","v":0},null,{"$f":"LOOKUP(U88,[1]Poängberäkning!$B$6:$B$97,[1]Poängberäkning!$C$6:$C$97)","v":0},null,{"$f":"LOOKUP(W88,[1]Poängberäkning!$B$6:$B$97,[1]Poängberäkning!$C$6:$C$97)","v":0},{"$f":"LARGE(($H88,$J88,$L88,$N88,$P88,$R88,$T88,$V88,$X88),1)","v":0},{"$f":"LARGE(($H88,$J88,$L88,$N88,$P88,$R88,$T88,$V88,$X88),2)","v":0},{"$f":"LARGE(($H88,$J88,$L88,$N88,$P88,$R88,$T88,$V88,$X88),3)","v":0},{"$f":"LARGE(($H88,$J88,$L88,$N88,$P88,$R88,$T88,$V88,$X88),4)","v":0},{"$f":"LARGE(($H88,$J88,$L88,$N88,$P88,$R88,$T88,$V88,$X88),5)","v":0},{"$f":"LARGE(($H88,$J88,$L88,$N88,$P88,$R88,$T88,$V88,$X88),6)","v":0},{"$f":"LARGE(($H88,$J88,$L88,$N88,$P88,$R88,$T88,$V88,$X88),7)","v":0},{"$f":"LARGE(($H88,$J88,$L88,$N88,$P88,$R88,$T88,$V88,$X88),8)","v":0},{"$f":"LARGE(($H88,$J88,$L88,$N88,$P88,$R88,$T88,$V88,$X88),9)","v":0}]
[85,null,null,null,0,0,null,{"$f":"LOOKUP(G89,Poängberäkning!$B$6:$B$97,Poängberäkning!$C$6:$C$97)","v":0},null,{"$f":"LOOKUP(I89,Poängberäkning!$B$6:$B$97,Poängberäkning!$C$6:$C$97)","v":0},null,{"$f":"LOOKUP(K89,Poängberäkning!$B$6:$B$97,Poängberäkning!$C$6:$C$97)","v":0},null,{"$f":"LOOKUP(M89,Poängberäkning!$B$6:$B$97,Poängberäkning!$C$6:$C$97)","v":0},null,{"$f":"LOOKUP(O89,Poängberäkning!$B$6:$B$97,Poängberäkning!$C$6:$C$97)","v":0},null,{"$f":"LOOKUP(Q89,[1]Poängberäkning!$B$6:$B$97,[1]Poängberäkning!$C$6:$C$97)","v":0},null,{"$f":"LOOKUP(S89,[1]Poängberäkning!$B$6:$B$97,[1]Poängberäkning!$C$6:$C$97)","v":0},null,{"$f":"LOOKUP(U89,[1]Poängberäkning!$B$6:$B$97,[1]Poängberäkning!$C$6:$C$97)","v":0},null,{"$f":"LOOKUP(W89,[1]Poängberäkning!$B$6:$B$97,[1]Poängberäkning!$C$6:$C$97)","v":0},{"$f":"LARGE(($H89,$J89,$L89,$N89,$P89,$R89,$T89,$V89,$X89),1)","v":0},{"$f":"LARGE(($H89,$J89,$L89,$N89,$P89,$R89,$T89,$V89,$X89),2)","v":0},{"$f":"LARGE(($H89,$J89,$L89,$N89,$P89,$R89,$T89,$V89,$X89),3)","v":0},{"$f":"LARGE(($H89,$J89,$L89,$N89,$P89,$R89,$T89,$V89,$X89),4)","v":0},{"$f":"LARGE(($H89,$J89,$L89,$N89,$P89,$R89,$T89,$V89,$X89),5)","v":0},{"$f":"LARGE(($H89,$J89,$L89,$N89,$P89,$R89,$T89,$V89,$X89),6)","v":0},{"$f":"LARGE(($H89,$J89,$L89,$N89,$P89,$R89,$T89,$V89,$X89),7)","v":0},{"$f":"LARGE(($H89,$J89,$L89,$N89,$P89,$R89,$T89,$V89,$X89),8)","v":0},{"$f":"LARGE(($H89,$J89,$L89,$N89,$P89,$R89,$T89,$V89,$X89),9)","v":0}]
[{"$f":"A89+1","v":86},null,null,null,0,0,null,{"$f":"LOOKUP(G90,Poängberäkning!$B$6:$B$97,Poängberäkning!$C$6:$C$97)","v":0},null,{"$f":"LOOKUP(I90,Poängberäkning!$B$6:$B$97,Poängberäkning!$C$6:$C$97)","v":0},null,{"$f":"LOOKUP(K90,Poängberäkning!$B$6:$B$97,Poängberäkning!$C$6:$C$97)","v":0},null,{"$f":"LOOKUP(M90,Poängberäkning!$B$6:$B$97,Poängberäkning!$C$6:$C$97)","v":0},null,{"$f":"LOOKUP(O90,Poängberäkning!$B$6:$B$97,Poängberäkning!$C$6:$C$97)","v":0},null,{"$f":"LOOKUP(Q90,[1]Poängberäkning!$B$6:$B$97,[1]Poängberäkning!$C$6:$C$97)","v":0},null,{"$f":"LOOKUP(S90,[1]Poängberäkning!$B$6:$B$97,[1]Poängberäkning!$C$6:$C$97)","v":0},null,{"$f":"LOOKUP(U90,[1]Poängberäkning!$B$6:$B$97,[1]Poängberäkning!$C$6:$C$97)","v":0},null,{"$f":"LOOKUP(W90,[1]Poängberäkning!$B$6:$B$97,[1]Poängberäkning!$C$6:$C$97)","v":0},{"$f":"LARGE(($H90,$J90,$L90,$N90,$P90,$R90,$T90,$V90,$X90),1)","v":0},{"$f":"LARGE(($H90,$J90,$L90,$N90,$P90,$R90,$T90,$V90,$X90),2)","v":0},{"$f":"LARGE(($H90,$J90,$L90,$N90,$P90,$R90,$T90,$V90,$X90),3)","v":0},{"$f":"LARGE(($H90,$J90,$L90,$N90,$P90,$R90,$T90,$V90,$X90),4)","v":0},{"$f":"LARGE(($H90,$J90,$L90,$N90,$P90,$R90,$T90,$V90,$X90),5)","v":0},{"$f":"LARGE(($H90,$J90,$L90,$N90,$P90,$R90,$T90,$V90,$X90),6)","v":0},{"$f":"LARGE(($H90,$J90,$L90,$N90,$P90,$R90,$T90,$V90,$X90),7)","v":0},{"$f":"LARGE(($H90,$J90,$L90,$N90,$P90,$R90,$T90,$V90,$X90),8)","v":0},{"$f":"LARGE(($H90,$J90,$L90,$N90,$P90,$R90,$T90,$V90,$X90),9)","v":0}]

{"sheet":"H 11-12","index":6,"n_rows":90,"n_cols":33,"rows_kept":90,"cut":false,"hidden":false,"merged":[[2,24,3,32],[3,6,3,7],[3,8,3,9],[3,10,3,11],[3,12,3,13],[3,14,3,15],[3,16,3,17],[3,18,3,19],[3,20,3,21],[3,22,3,23],[1,16,2,17],[1,18,2,19],[1,20,1,21],[1,22,2,23],[2,4,2,5],[2,20,2,21],[0,2,0,15],[1,0,2,1],[1,2,2,3],[1,4,1,5],[1,6,2,7],[1,8,2,9],[1,10,2,11],[1,12,2,13],[1,14,2,15]]}
[]
["H 11-12",null,null,null,null,null,"Sälen GS",null,"Falun GS",null,"Norrbärke SL",null,"Borlänge SL",null,"Orsa GS",null,null,null,null,null,null,null,"Deltävling",null,"1:a","2:a","3:e","4:e","5:e","6:e","7:e","8:e","9:e"]
[null,null,null,null,"Poäng",null,null,null,null,null,null,null,null,null,null,null,null,null,null,null,null,null,null,null,"De 5 bästa åken.                         "]
["Rang","Född","Namn","Klubb","3 Bästa","Totalt","Sö 24/1   Tot",null,"Sö 14/2      Tot",null,"Sö 21/2    Tot",null,"Lö 27/2   Tot",null,"Lö 2/4   Tot"]
[1,2004,"SÖDERLIND Linus","Örebro SLF",{"$f":"SUM(Y5:AA5)","v":280},{"$f":"H5+J5+L5+N5+P5+R5+T5+V5+X5","v":280},1,{"$f":"LOOKUP(G5,Poängberäkning!$B$6:$B$97,Poängberäkning!$C$6:$C$97)","v":100},null,{"$f":"LOOKUP(I5,Poängberäkning!$B$6:$B$97,Poängberäkning!$C$6:$C$97)","v":0},1,{"$f":"LOOKUP(K5,Poängberäkning!$B$6:$B$97,Poängberäkning!$C$6:$C$97)","v":100},99,{"$f":"LOOKUP(M5,Poängberäkning!$B$6:$B$97,Poängberäkning!$C$6:$C$97)","v":0},2,{"$f":"LOOKUP(O5,Poängberäkning!$B$6:$B$97,Poängberäkning!$C$6:$C$97)","v":80},null,{"$f":"LOOKUP(Q5,[1]Poängberäkning!$B$6:$B$97,[1]Poängberäkning!$C$6:$C$97)","v":0},null,{"$f":"LOOKUP(S5,[1]Poängberäkning!$B$6:$B$97,[1]Poängberäkning!$C$6:$C$97)","v":0},null,{"$f":"LOOKUP(U5,[1]Poängberäkning!$B$6:$B$97,[1]Poängberäkning!$C$6:$C$97)","v":0},null,{"$f":"LOOKUP(W5,[1]Poängberäkning!$B$6:$B$97,[1]Poängberäkning!$C$6:$C$97)","v":0},{"$f":"LARGE(($H5,$J5,$L5,$N5,$P5,$R5,$T5,$V5,$X5),1)","v":100},{"$f":"LARGE(($H5,$J5,$L5,$N5,$P5,$R5,$T5,$V5,$X5),2)","v":100},{"$f":"LARGE(($H5,$J5,$L5,$N5,$P5,$R5,$T5,$V5,$X5),3)","v":80},{"$f":"LARGE(($H5,$J5,$L5,$N5,$P5,$R5,$T5,$V5,$X5),4)","v":0},{"$f":"LARGE(($H5,$J5,$L5,$N5,$P5,$R5,$T5,$V5,$X5),5)","v":0},{"$f":"LARGE(($H5,$J5,$L5,$N5,$P5,$R5,$T5,$V5,$X5),6)","v":0},{"$f":"LARGE(($H5,$J5,$L5,$N5,$P5,$R5,$T5,$V5,$X5),7)","v":0},{"$f":"LARGE(($H5,$J5,$L5,$N5,$P5,$R5,$T5,$V5,$X5),8)","v":0},{"$f":"LARGE(($H5,$J5,$L5,$N5,$P5,$R5,$T5,$V5,$X5),9)","v":0}]
[{"$f":"A5+1","v":2},2004,"WIKZELL Dante","Rättviks SLK",210,260,4,{"$f":"LOOKUP(G6,Poängberäkning!$B$6:$B$97,Poängberäkning!$C$6:$C$97)","v":60},2,{"$f":"LOOKUP(I6,Poängberäkning!$B$6:$B$97,Poängberäkning!$C$6:$C$97)","v":80},null,{"$f":"LOOKUP(K6,Poängberäkning!$B$6:$B$97,Poängberäkning!$C$6:$C$97)","v":0},3,{"$f":"LOOKUP(M6,Poängberäkning!$B$6:$B$97,Poängberäkning!$C$6:$C$97)","v":70},6,{"$f":"LOOKUP(O6,Poängberäkning!$B$6:$B$97,Poängberäkning!$C$6:$C$97)","v":50},null,{"$f":"LOOKUP(Q6,[1]Poängberäkning!$B$6:$B$97,[1]Poängberäkning!$C$6:$C$97)","v":0},null,{"$f":"LOOKUP(S6,[1]Poängberäkning!$B$6:$B$97,[1]Poängberäkning!$C$6:$C$97)","v":0},null,{"$f":"LOOKUP(U6,[1]Poängberäkning!$B$6:$B$97,[1]Poängberäkning!$C$6:$C$97)","v":0},null,{"$f":"LOOKUP(W6,[1]Poängberäkning!$B$6:$B$97,[1]Poängberäkning!$C$6:$C$97)","v":0},{"$f":"LARGE(($H6,$J6,$L6,$N6,$P6,$R6,$T6,$V6,$X6),1)","v":80},{"$f":"LARGE(($H6,$J6,$L6,$N6,$P6,$R6,$T6,$V6,$X6),2)","v":70},{"$f":"LARGE(($H6,$J6,$L6,$N6,$P6,$R6,$T6,$V6,$X6),3)","v":60},{"$f":"LARGE(($H6,$J6,$L6,$N6,$P6,$R6,$T6,$V6,$X6),4)","v":50},{"$f":"LARGE(($H6,$J6,$L6,$N6,$P6,$R6,$T6,$V6,$X6),5)","v":0},{"$f":"LARGE(($H6,$J6,$L6,$N6,$P6,$R6,$T6,$V6,$X6),6)","v":0},{"$f":"LARGE(($H6,$J6,$L6,$N6,$P6,$R6,$T6,$V6,$X6),7)","v":0},{"$f":"LARGE(($H6,$J6,$L6,$N6,$P6,$R6,$T6,$V6,$X6),8)","v":0},{"$f":"LARGE(($H6,$J6,$L6,$N6,$P6,$R6,$T6,$V6,$X6),9)","v":0}]
[{"$f":"A6+1","v":3},2004,"WAHLBERG David","IFK Falun",186,186,2,{"$f":"LOOKUP(G7,Poängberäkning!$B$6:$B$97,Poängberäkning!$C$6:$C$97)","v":80},3,{"$f":"LOOKUP(I7,Poängberäkning!$B$6:$B$97,Poängberäkning!$C$6:$C$97)","v":70},null,{"$f":"LOOKUP(K7,Poängberäkning!$B$6:$B$97,Poängberäkning!$C$6:$C$97)","v":0},15,{"$f":"LOOKUP(M7,Poängberäkning!$B$6:$B$97,Poängberäkning!$C$6:$C$97)","v":36},null,{"$f":"LOOKUP(O7,Poängberäkning!$B$6:$B$97,Poängberäkning!$C$6:$C$97)","v":0},null,{"$f":"LOOKUP(Q7,[1]Poängberäkning!$B$6:$B$97,[1]Poängberäkning!$C$6:$C$97)","v":0},null,{"$f":"LOOKUP(S7,[1]Poängberäkning!$B$6:$B$97,[1]Poängberäkning!$C$6:$C$97)","v":0},null,{"$f":"LOOKUP(U7,[1]Poängberäkning!$B$6:$B$97,[1]Poängberäkning!$C$6:$C$97)","v":0},null,{"$f":"LOOKUP(W7,[1]Poängberäkning!$B$6:$B$97,[1]Poängberäkning!$C$6:$C$97)","v":0},{"$f":"LARGE(($H7,$J7,$L7,$N7,$P7,$R7,$T7,$V7,$X7),1)","v":80},{"$f":"LARGE(($H7,$J7,$L7,$N7,$P7,$R7,$T7,$V7,$X7),2)","v":70},{"$f":"LARGE(($H7,$J7,$L7,$N7,$P7,$R7,$T7,$V7,$X7),3)","v":36},{"$f":"LARGE(($H7,$J7,$L7,$N7,$P7,$R7,$T7,$V7,$X7),4)","v":0},{"$f":"LARGE(($H7,$J7,$L7,$N7,$P7,$R7,$T7,$V7,$X7),5)","v":0},{"$f":"LARGE(($H7,$J7,$L7,$N7,$P7,$R7,$T7,$V7,$X7),6)","v":0},{"$f":"LARGE(($H7,$J7,$L7,$N7,$P7,$R7,$T7,$V7,$X7),7)","v":0},{"$f":"LARGE(($H7,$J7,$L7,$N7,$P7,$R7,$T7,$V7,$X7),8)","v":0},{"$f":"LARGE(($H7,$J7,$L7,$N7,$P7,$R7,$T7,$V7,$X7),9)","v":0}]
[{"$f":"A7+1","v":4},2005,"ANDERSSON Erik","Båsenberga SLK",185,213,null,{"$f":"LOOKUP(G8,Poängberäkning!$B$6:$B$97,Poängberäkning!$C$6:$C$97)","v":0},6,{"$f":"LOOKUP(I8,Poängberäkning!$B$6:$B$97,Poängberäkning!$C$6:$C$97)","v":50},2,{"$f":"LOOKUP(K8,Poängberäkning!$B$6:$B$97,Poängberäkning!$C$6:$C$97)","v":80},5,{"$f":"LOOKUP(M8,Poängberäkning!$B$6:$B$97,Poängberäkning!$C$6:$C$97)","v":55},23,{"$f":"LOOKUP(O8,Poängberäkning!$B$6:$B$97,Poängberäkning!$C$6:$C$97)","v":28},null,{"$f":"LOOKUP(Q8,[1]Poängberäkning!$B$6:$B$97,[1]Poängberäkning!$C$6:$C$97)","v":0},null,{"$f":"LOOKUP(S8,[1]Poängberäkning!$B$6:$B$97,[1]Poängberäkning!$C$6:$C$97)","v":0},null,{"$f":"LOOKUP(U8,[1]Poängberäkning!$B$6:$B$97,[1]Poängberäkning!$C$6:$C$97)","v":0},null,{"$f":"LOOKUP(W8,[1]Poängberäkning!$B$6:$B$97,[1]Poängberäkning!$C$6:$C$97)","v":0},{"$f":"LARGE(($H8,$J8,$L8,$N8,$P8,$R8,$T8,$V8,$X8),1)","v":80},{"$f":"LARGE(($H8,$J8,$L8,$N8,$P8,$R8,$T8,$V8,$X8),2)","v":55},{"$f":"LARGE(($H8,$J8,$L8,$N8,$P8,$R8,$T8,$V8,$X8),3)","v":50},{"$f":"LARGE(($H8,$J8,$L8,$N8,$P8,$R8,$T8,$V8,$X8),4)","v":28},{"$f":"LARGE(($H8,$J8,$L8,$N8,$P8,$R8,$T8,$V8,$X8),5)","v":0},{"$f":"LARGE(($H8,$J8,$L8,$N8,$P8,$R8,$T8,$V8,$X8),6)","v":0},{"$f":"LARGE(($H8,$J8,$L8,$N8,$P8,$R8,$T8,$V8,$X8),7)","v":0},{"$f":"LARGE(($H8,$J8,$L8,$N8,$P8,$R8,$T8,$V8,$X8),8)","v":0},{"$f":"LARGE(($H8,$J8,$L8,$N8,$P8,$R8,$T8,$V8,$X8),9)","v":0}]
[5,2005,"BOHM Adam","Huddinge SK AF",180,180,null,{"$f":"LOOKUP(G9,Poängberäkning!$B$6:$B$97,Poängberäkning!$C$6:$C$97)","v":0},null,{"$f":"LOOKUP(I9,Poängberäkning!$B$6:$B$97,Poängberäkning!$C$6:$C$97)","v":0},null,{"$f":"LOOKUP(K9,Poängberäkning!$B$6:$B$97,Poängberäkning!$C$6:$C$97)","v":0},2,{"$f":"LOOKUP(M9,Poängberäkning!$B$6:$B$97,Poängberäkning!$C$6:$C$97)","v":80},1,{"$f":"LOOKUP(O9,Poängberäkning!$B$6:$B$97,Poängberäkning!$C$6:$C$97)","v":100},null,{"$f":"LOOKUP(Q9,[1]Poängberäkning!$B$6:$B$97,[1]Poängberäkning!$C$6:$C$97)","v":0},null,{"$f":"LOOKUP(S9,[1]Poängberäkning!$B$6:$B$97,[1]Poängberäkning!$C$6:$C$97)","v":0},null,{"$f":"LOOKUP(U9,[1]Poängberäkning!$B$6:$B$97,[1]Poängberäkning!$C$6:$C$97)","v":0},null,{"$f":"LOOKUP(W9,[1]Poängberäkning!$B$6:$B$97,[1]Poängberäkning!$C$6:$C$97)","v":0},{"$f":"LARGE(($H9,$J9,$L9,$N9,$P9,$R9,$T9,$V9,$X9),1)","v":100},{"$f":"LARGE(($H9,$J9,$L9,$N9,$P9,$R9,$T9,$V9,$X9),2)","v":80},{"$f":"LARGE(($H9,$J9,$L9,$N9,$P9,$R9,$T9,$V9,$X9),3)","v":0},{"$f":"LARGE(($H9,$J9,$L9,$N9,$P9,$R9,$T9,$V9,$X9),4)","v":0},{"$f":"LARGE(($H9,$J9,$L9,$N9,$P9,$R9,$T9,$V9,$X9),5)","v":0},{"$f":"LARGE(($H9,$J9,$L9,$N9,$P9,$R9,$T9,$V9,$X9),6)","v":0},{"$f":"LARGE(($H9,$J9,$L9,$N9,$P9,$R9,$T9,$V9,$X9),7)","v":0},{"$f":"LARGE(($H9,$J9,$L9,$N9,$P9,$R9,$T9,$V9,$X9),8)","v":0},{"$f":"LARGE(($H9,$J9,$L9,$N9,$P9,$R9,$T9,$V9,$X9),9)","v":0}]
[6,2005,"GRIMBERG Nils","IFK Falun",163,211,7,{"$f":"LOOKUP(G10,Poängberäkning!$B$6:$B$97,Poängberäkning!$C$6:$C$97)","v":48},5,{"$f":"LOOKUP(I10,Poängberäkning!$B$6:$B$97,Poängberäkning!$C$6:$C$97)","v":55},4,{"$f":"LOOKUP(K10,Poängberäkning!$B$6:$B$97,Poängberäkning!$C$6:$C$97)","v":60},7,{"$f":"LOOKUP(M10,Poängberäkning!$B$6:$B$97,Poängberäkning!$C$6:$C$97)","v":48},null,{"$f":"LOOKUP(O10,Poängberäkning!$B$6:$B$97,Poängberäkning!$C$6:$C$97)","v":0},null,{"$f":"LOOKUP(Q10,[1]Poängberäkning!$B$6:$B$97,[1]Poängberäkning!$C$6:$C$97)","v":0},null,{"$f":"LOOKUP(S10,[1]Poängberäkning!$B$6:$B$97,[1]Poängberäkning!$C$6:$C$97)","v":0},null,{"$f":"LOOKUP(U10,[1]Poängberäkning!$B$6:$B$97,[1]Poängberäkning!$C$6:$C$97)","v":0},null,{"$f":"LOOKUP(W10,[1]Poängberäkning!$B$6:$B$97,[1]Poängberäkning!$C$6:$C$97)","v":0},{"$f":"LARGE(($H10,$J10,$L10,$N10,$P10,$R10,$T10,$V10,$X10),1)","v":60},{"$f":"LARGE(($H10,$J10,$L10,$N10,$P10,$R10,$T10,$V10,$X10),2)","v":55},{"$f":"LARGE(($H10,$J10,$L10,$N10,$P10,$R10,$T10,$V10,$X10),3)","v":48},{"$f":"LARGE(($H10,$J10,$L10,$N10,$P10,$R10,$T10,$V10,$X10),4)","v":48},{"$f":"LARGE(($H10,$J10,$L10,$N10,$P10,$R10,$T10,$V10,$X10),5)","v":0},{"$f":"LARGE(($H10,$J10,$L10,$N10,$P10,$R10,$T10,$V10,$X10),6)","v":0},{"$f":"LARGE(($H10,$J10,$L10,$N10,$P10,$R10,$T10,$V10,$X10),7)","v":0},{"$f":"LARGE(($H10,$J10,$L10,$N10,$P10,$R10,$T10,$V10,$X10),8)","v":0},{"$f":"LARGE(($H10,$J10,$L10,$N10,$P10,$R10,$T10,$V10,$X10),9)","v":0}]
[7,2004,"LISON ALMKVIST Beppe","Norrköpings SK",155,155,null,{"$f":"LOOKUP(G11,Poängberäkning!$B$6:$B$97,Poängberäkning!$C$6:$C$97)","v":0},null,{"$f":"LOOKUP(I11,Poängberäkning!$B$6:$B$97,Poängberäkning!$C$6:$C$97)","v":0},null,{"$f":"LOOKUP(K11,Poängberäkning!$B$6:$B$97,Poängberäkning!$C$6:$C$97)","v":0},1,{"$f":"LOOKUP(M11,Poängberäkning!$B$6:$B$97,Poängberäkning!$C$6:$C$97)","v":100},5,{"$f":"LOOKUP(O11,Poängberäkning!$B$6:$B$97,Poängberäkning!$C$6:$C$97)","v":55},null,{"$f":"LOOKUP(Q11,[1]Poängberäkning!$B$6:$B$97,[1]Poängberäkning!$C$6:$C$97)","v":0},null,{"$f":"LOOKUP(S11,[1]Poängberäkning!$B$6:$B$97,[1]Poängberäkning!$C$6:$C$97)","v":0},null,{"$f":"LOOKUP(U11,[1]Poängberäkning!$B$6:$B$97,[1]Poängberäkning!$C$6:$C$97)","v":0},null,{"$f":"LOOKUP(W11,[1]Poängberäkning!$B$6:$B$97,[1]Poängberäkning!$C$6:$C$97)","v":0},{"$f":"LARGE(($H11,$J11,$L11,$N11,$P11,$R11,$T11,$V11,$X11),1)","v":100},{"$f":"LARGE(($H11,$J11,$L11,$N11,$P11,$R11,$T11,$V11,$X11),2)","v":55},{"$f":"LARGE(($H11,$J11,$L11,$N11,$P11,$R11,$T11,$V11,$X11),3)","v":0},{"$f":"LARGE(($H11,$J11,$L11,$N11,$P11,$R11,$T11,$V11,$X11),4)","v":0},{"$f":"LARGE(($H11,$J11,$L11,$N11,$P11,$R11,$T11,$V11,$X11),5)","v":0},{"$f":"LARGE(($H11,$J11,$L11,$N11,$P11,$R11,$T11,$V11,$X11),6)","v":0},{"$f":"LARGE(($H11,$J11,$L11,$N11,$P11,$R11,$T11,$V11,$X11),7)","v":0},{"$f":"LARGE(($H11,$J11,$L11,$N11,$P11,$R11,$T11,$V11,$X11),8)","v":0},{"$f":"LARGE(($H11,$J11,$L11,$N11,$P11,$R11,$T11,$V11,$X11),9)","v":0}]
[8,2005,"KARLSSON George","Arboga Alpina",150,150,null,{"$f":"LOOKUP(G12,Poängberäkning!$B$6:$B$97,Poängberäkning!$C$6:$C$97)","v":0},null,{"$f":"LOOKUP(I12,Poängberäkning!$B$6:$B$97,Poängberäkning!$C$6:$C$97)","v":0},3,{"$f":"LOOKUP(K12,Poängberäkning!$B$6:$B$97,Poängberäkning!$C$6:$C$97)","v":70},10,{"$f":"LOOKUP(M12,Poängberäkning!$B$6:$B$97,Poängberäkning!$C$6:$C$97)","v":42},13,{"$f":"LOOKUP(O12,Poängberäkning!$B$6:$B$97,Poängberäkning!$C$6:$C$97)","v":38},null,{"$f":"LOOKUP(Q12,[1]Poängberäkning!$B$6:$B$97,[1]Poängberäkning!$C$6:$C$97)","v":0},null,{"$f":"LOOKUP(S12,[1]Poängberäkning!$B$6:$B$97,[1]Poängberäkning!$C$6:$C$97)","v":0},null,{"$f":"LOOKUP(U12,[1]Poängberäkning!$B$6:$B$97,[1]Poängberäkning!$C$6:$C$97)","v":0},null,{"$f":"LOOKUP(W12,[1]Poängberäkning!$B$6:$B$97,[1]Poängberäkning!$C$6:$C$97)","v":0},{"$f":"LARGE(($H12,$J12,$L12,$N12,$P12,$R12,$T12,$V12,$X12),1)","v":70},{"$f":"LARGE(($H12,$J12,$L12,$N12,$P12,$R12,$T12,$V12,$X12),2)","v":42},{"$f":"LARGE(($H12,$J12,$L12,$N12,$P12,$R12,$T12,$V12,$X12),3)","v":38},{"$f":"LARGE(($H12,$J12,$L12,$N12,$P12,$R12,$T12,$V12,$X12),4)","v":0},{"$f":"LARGE(($H12,$J12,$L12,$N12,$P12,$R12,$T12,$V12,$X12),5)","v":0},{"$f":"LARGE(($H12,$J12,$L12,$N12,$P12,$R12,$T12,$V12,$X12),6)","v":0},{"$f":"LARGE(($H12,$J12,$L12,$N12,$P12,$R12,$T12,$V12,$X12),7)","v":0},{"$f":"LARGE(($H12,$J12,$L12,$N12,$P12,$R12,$T12,$V12,$X12),8)","v":0},{"$f":"LARGE(($H12,$J12,$L12,$N12,$P12,$R12,$T12,$V12,$X12),9)","v":0}]
[9,2005,"LARSSON Måns","Sälens IF",118,118,3,{"$f":"LOOKUP(G13,Poängberäkning!$B$6:$B$97,Poängberäkning!$C$6:$C$97)","v":70},7,{"$f":"LOOKUP(I13,Poängberäkning!$B$6:$B$97,Poängberäkning!$C$6:$C$97)","v":48},null,{"$f":"LOOKUP(K13,Poängberäkning!$B$6:$B$97,Poängberäkning!$C$6:$C$97)","v":0},null,{"$f":"LOOKUP(M13,Poängberäkning!$B$6:$B$97,Poängberäkning!$C$6:$C$97)","v":0},null,{"$f":"LOOKUP(O13,Poängberäkning!$B$6:$B$97,Poängberäkning!$C$6:$C$97)","v":0},null,{"$f":"LOOKUP(Q13,[1]Poängberäkning!$B$6:$B$97,[1]Poängberäkning!$C$6:$C$97)","v":0},null,{"$f":"LOOKUP(S13,[1]Poängberäkning!$B$6:$B$97,[1]Poängberäkning!$C$6:$C$97)","v":0},null,{"$f":"LOOKUP(U13,[1]Poängberäkning!$B$6:$B$97,[1]Poängberäkning!$C$6:$C$97)","v":0},null,{"$f":"LOOKUP(W13,[1]Poängberäkning!$B$6:$B$97,[1]Poängberäkning!$C$6:$C$97)","v":0},{"$f":"LARGE(($H13,$J13,$L13,$N13,$P13,$R13,$T13,$V13,$X13),1)","v":70},{"$f":"LARGE(($H13,$J13,$L13,$N13,$P13,$R13,$T13,$V13,$X13),2)","v":48},{"$f":"LARGE(($H13,$J13,$L13,$N13,$P13,$R13,$T13,$V13,$X13),3)","v":0},{"$f":"LARGE(($H13,$J13,$L13,$N13,$P13,$R13,$T13,$V13,$X13),4)","v":0},{"$f":"LARGE(($H13,$J13,$L13,$N13,$P13,$R13,$T13,$V13,$X13),5)","v":0},{"$f":"LARGE(($H13,$J13,$L13,$N13,$P13,$R13,$T13,$V13,$X13),6)","v":0},{"$f":"LARGE(($H13,$J13,$L13,$N13,$P13,$R13,$T13,$V13,$X13),7)","v":0},{"$f":"LARGE(($H13,$J13,$L13,$N13,$P13,$R13,$T13,$V13,$X13),8)","v":0},{"$f":"LARGE(($H13,$J13,$L13,$N13,$P13,$R13,$T13,$V13,$X13),9)","v":0}]
[10,2005,"MÖLLER Måns","Sollentuna SLK",106,106,null,{"$f":"LOOKUP(G14,Poängberäkning!$B$6:$B$97,Poängberäkning!$C$6:$C$97)","v":0},null,{"$f":"LOOKUP(I14,Poängberäkning!$B$6:$B$97,Poängberäkning!$C$6:$C$97)","v":0},null,{"$f":"LOOKUP(K14,Poängberäkning!$B$6:$B$97,Poängberäkning!$C$6:$C$97)","v":0},4,{"$f":"LOOKUP(M14,Poängberäkning!$B$6:$B$97,Poängberäkning!$C$6:$C$97)","v":60},8,{"$f":"LOOKUP(O14,Poängberäkning!$B$6:$B$97,Poängberäkning!$C$6:$C$97)","v":46},null,{"$f":"LOOKUP(Q14,[1]Poängberäkning!$B$6:$B$97,[1]Poängberäkning!$C$6:$C$97)","v":0},null,{"$f":"LOOKUP(S14,[1]Poängberäkning!$B$6:$B$97,[1]Poängberäkning!$C$6:$C$97)","v":0},null,{"$f":"LOOKUP(U14,[1]Poängberäkning!$B$6:$B$97,[1]Poängberäkning!$C$6:$C$97)","v":0},null,{"$f":"LOOKUP(W14,[1]Poängberäkning!$B$6:$B$97,[1]Poängberäkning!$C$6:$C$97)","v":0},{"$f":"LARGE(($H14,$J14,$L14,$N14,$P14,$R14,$T14,$V14,$X14),1)","v":60},{"$f":"LARGE(($H14,$J14,$L14,$N14,$P14,$R14,$T14,$V14,$X14),2)","v":46},{"$f":"LARGE(($H14,$J14,$L14,$N14,$P14,$R14,$T14,$V14,$X14),3)","v":0},{"$f":"LARGE(($H14,$J14,$L14,$N14,$P14,$R14,$T14,$V14,$X14),4)","v":0},{"$f":"LARGE(($H14,$J14,$L14,$N14,$P14,$R14,$T14,$V14,$X14),5)","v":0},{"$f":"LARGE(($H14,$J14,$L14,$N14,$P14,$R14,$T14,$V14,$X14),6)","v":0},{"$f":"LARGE(($H14,$J14,$L14,$N14,$P14,$R14,$T14,$V14,$X14),7)","v":0},{"$f":"LARGE(($H14,$J14,$L14,$N14,$P14,$R14,$T14,$V14,$X14),8)","v":0},{"$f":"LARGE(($H14,$J14,$L14,$N14,$P14,$R14,$T14,$V14,$X14),9)","v":0}]
[11,2004,"SORBE Andre","Tunafors SK",100,100,null,{"$f":"LOOKUP(G15,Poängberäkning!$B$6:$B$97,Poängberäkning!$C$6:$C$97)","v":0},1,{"$f":"LOOKUP(I15,Poängberäkning!$B$6:$B$97,Poängberäkning!$C$6:$C$97)","v":100},null,{"$f":"LOOKUP(K15,Poängberäkning!$B$6:$B$97,Poängberäkning!$C$6:$C$97)","v":0},null,{"$f":"LOOKUP(M15,Poängberäkning!$B$6:$B$97,Poängberäkning!$C$6:$C$97)","v":0},99,{"$f":"LOOKUP(O15,Poängberäkning!$B$6:$B$97,Poängberäkning!$C$6:$C$97)","v":0},null,{"$f":"LOOKUP(Q15,[1]Poängberäkning!$B$6:$B$97,[1]Poängberäkning!$C$6:$C$97)","v":0},null,{"$f":"LOOKUP(S15,[1]Poängberäkning!$B$6:$B$97,[1]Poängberäkning!$C$6:$C$97)","v":0},null,{"$f":"LOOKUP(U15,[1]Poängberäkning!$B$6:$B$97,[1]Poängberäkning!$C$6:$C$97)","v":0},null,{"$f":"LOOKUP(W15,[1]Poängberäkning!$B$6:$B$97,[1]Poängberäkning!$C$6:$C$97)","v":0},{"$f":"LARGE(($H15,$J15,$L15,$N15,$P15,$R15,$T15,$V15,$X15),1)","v":100},{"$f":"LARGE(($H15,$J15,$L15,$N15,$P15,$R15,$T15,$V15,$X15),2)","v":0},{"$f":"LARGE(($H15,$J15,$L15,$N15,$P15,$R15,$T15,$V15,$X15),3)","v":0},{"$f":"LARGE(($H15,$J15,$L15,$N15,$P15,$R15,$T15,$V15,$X15),4)","v":0},{"$f":"LARGE(($H15,$J15,$L15,$N15,$P15,$R15,$T15,$V15,$X15),5)","v":0},{"$f":"LARGE(($H15,$J15,$L15,$N15,$P15,$R15,$T15,$V15,$X15),6)","v":0},{"$f":"LARGE(($H15,$J15,$L15,$N15,$P15,$R15,$T15,$V15,$X15),7)","v":0},{"$f":"LARGE(($H15,$J15,$L15,$N15,$P15,$R15,$T15,$V15,$X15),8)","v":0},{"$f":"LARGE(($H15,$J15,$L15,$N15,$P15,$R15,$T15,$V15,$X15),9)","v":0}]
[12,2005,"WESTIN Linus","Örebro SLF",98,98,6,{"$f":"LOOKUP(G16,Poängberäkning!$B$6:$B$97,Poängberäkning!$C$6:$C$97)","v":50},null,{"$f":"LOOKUP(I16,Poängberäkning!$B$6:$B$97,Poängberäkning!$C$6:$C$97)","v":0},7,{"$f":"LOOKUP(K16,Poängberäkning!$B$6:$B$97,Poängberäkning!$C$6:$C$97)","v":48},null,{"$f":"LOOKUP(M16,Poängberäkning!$B$6:$B$97,Poängberäkning!$C$6:$C$97)","v":0},null,{"$f":"LOOKUP(O16,Poängberäkning!$B$6:$B$97,Poängberäkning!$C$6:$C$97)","v":0},null,{"$f":"LOOKUP(Q16,[1]Poängberäkning!$B$6:$B$97,[1]Poängberäkning!$C$6:$C$97)","v":0},null,{"$f":"LOOKUP(S16,[1]Poängberäkning!$B$6:$B$97,[1]Poängberäkning!$C$6:$C$97)","v":0},null,{"$f":"LOOKUP(U16,[1]Poängberäkning!$B$6:$B$97,[1]Poängberäkning!$C$6:$C$97)","v":0},null,{"$f":"LOOKUP(W16,[1]Poängberäkning!$B$6:$B$97,[1]Poängberäkning!$C$6:$C$97)","v":0},{"$f":"LARGE(($H16,$J16,$L16,$N16,$P16,$R16,$T16,$V16,$X16),1)","v":50},{"$f":"LARGE(($H16,$J16,$L16,$N16,$P16,$R16,$T16,$V16,$X16),2)","v":48},{"$f":"LARGE(($H16,$J16,$L16,$N16,$P16,$R16,$T16,$V16,$X16),3)","v":0},{"$f":"LARGE(($H16,$J16,$L16,$N16,$P16,$R16,$T16,$V16,$X16),4)","v":0},{"$f":"LARGE(($H16,$J16,$L16,$N16,$P16,$R16,$T16,$V16,$X16),5)","v":0},{"$f":"LARGE(($H16,$J16,$L16,$N16,$P16,$R16,$T16,$V16,$X16),6)","v":0},{"$f":"LARGE(($H16,$J16,$L16,$N16,$P16,$R16,$T16,$V16,$X16),7)","v":0},{"$f":"LARGE(($H16,$J16,$L16,$N16,$P16,$R16,$T16,$V16,$X16),8)","v":0},{"$f":"LARGE(($H16,$J16,$L16,$N16,$P16,$R16,$T16,$V16,$X16),9)","v":0}]
[13,2005,"WENGELIN Albin","Kungsbergets AK",94,94,null,{"$f":"LOOKUP(G17,Poängberäkning!$B$6:$B$97,Poängberäkning!$C$6:$C$97)","v":0},null,{"$f":"LOOKUP(I17,Poängberäkning!$B$6:$B$97,Poängberäkning!$C$6:$C$97)","v":0},null,{"$f":"LOOKUP(K17,Poängberäkning!$B$6:$B$97,Poängberäkning!$C$6:$C$97)","v":0},6,{"$f":"LOOKUP(M17,Poängberäkning!$B$6:$B$97,Poängberäkning!$C$6:$C$97)","v":50},9,{"$f":"LOOKUP(O17,Poängberäkning!$B$6:$B$97,Poängberäkning!$C$6:$C$97)","v":44},null,{"$f":"LOOKUP(Q17,[1]Poängberäkning!$B$6:$B$97,[1]Poängberäkning!$C$6:$C$97)","v":0},null,{"$f":"LOOKUP(S17,[1]Poängberäkning!$B$6:$B$97,[1]Poängberäkning!$C$6:$C$97)","v":0},null,{"$f":"LOOKUP(U17,[1]Poängberäkning!$B$6:$B$97,[1]Poängberäkning!$C$6:$C$97)","v":0},null,{"$f":"LOOKUP(W17,[1]Poängberäkning!$B$6:$B$97,[1]Poängberäkning!$C$6:$C$97)","v":0},{"$f":"LARGE(($H17,$J17,$L17,$N17,$P17,$R17,$T17,$V17,$X17),1)","v":50},{"$f":"LARGE(($H17,$J17,$L17,$N17,$P17,$R17,$T17,$V17,$X17),2)","v":44},{"$f":"LARGE(($H17,$J17,$L17,$N17,$P17,$R17,$T17,$V17,$X17),3)","v":0},{"$f":"LARGE(($H17,$J17,$L17,$N17,$P17,$R17,$T17,$V17,$X17),4)","v":0},{"$f":"LARGE(($H17,$J17,$L17,$N17,$P17,$R17,$T17,$V17,$X17),5)","v":0},{"$f":"LARGE(($H17,$J17,$L17,$N17,$P17,$R17,$T17,$V17,$X17),6)","v":0},{"$f":"LARGE(($H17,$J17,$L17,$N17,$P17,$R17,$T17,$V17,$X17),7)","v":0},{"$f":"LARGE(($H17,$J17,$L17,$N17,$P17,$R17,$T17,$V17,$X17),8)","v":0},{"$f":"LARGE(($H17,$J17,$L17,$N17,$P17,$R17,$T17,$V17,$X17),9)","v":0}]
[14,2005,"ANDERSSON Kalle","Norrbärke SK Alpin",92,92,null,{"$f":"LOOKUP(G18,Poängberäkning!$B$6:$B$97,Poängberäkning!$C$6:$C$97)","v":0},99,{"$f":"LOOKUP(I18,Poängberäkning!$B$6:$B$97,Poängberäkning!$C$6:$C$97)","v":0},5,{"$f":"LOOKUP(K18,Poängberäkning!$B$6:$B$97,Poängberäkning!$C$6:$C$97)","v":55},14,{"$f":"LOOKUP(M18,Poängberäkning!$B$6:$B$97,Poängberäkning!$C$6:$C$97)","v":37},null,{"$f":"LOOKUP(O18,Poängberäkning!$B$6:$B$97,Poängberäkning!$C$6:$C$97)","v":0},null,{"$f":"LOOKUP(Q18,[1]Poängberäkning!$B$6:$B$97,[1]Poängberäkning!$C$6:$C$97)","v":0},null,{"$f":"LOOKUP(S18,[1]Poängberäkning!$B$6:$B$97,[1]Poängberäkning!$C$6:$C$97)","v":0},null,{"$f":"LOOKUP(U18,[1]Poängberäkning!$B$6:$B$97,[1]Poängberäkning!$C$6:$C$97)","v":0},null,{"$f":"LOOKUP(W18,[1]Poängberäkning!$B$6:$B$97,[1]Poängberäkning!$C$6:$C$97)","v":0},{"$f":"LARGE(($H18,$J18,$L18,$N18,$P18,$R18,$T18,$V18,$X18),1)","v":55},{"$f":"LARGE(($H18,$J18,$L18,$N18,$P18,$R18,$T18,$V18,$X18),2)","v":37},{"$f":"LARGE(($H18,$J18,$L18,$N18,$P18,$R18,$T18,$V18,$X18),3)","v":0},{"$f":"LARGE(($H18,$J18,$L18,$N18,$P18,$R18,$T18,$V18,$X18),4)","v":0},{"$f":"LARGE(($H18,$J18,$L18,$N18,$P18,$R18,$T18,$V18,$X18),5)","v":0},{"$f":"LARGE(($H18,$J18,$L18,$N18,$P18,$R18,$T18,$V18,$X18),6)","v":0},{"$f":"LARGE(($H18,$J18,$L18,$N18,$P18,$R18,$T18,$V18,$X18),7)","v":0},{"$f":"LARGE(($H18,$J18,$L18,$N18,$P18,$R18,$T18,$V18,$X18),8)","v":0},{"$f":"LARGE(($H18,$J18,$L18,$N18,$P18,$R18,$T18,$V18,$X18),9)","v":0}]
[15,2005,"HABING Erik","Sälens IF",88,88,5,{"$f":"LOOKUP(G19,Poängberäkning!$B$6:$B$97,Poängberäkning!$C$6:$C$97)","v":55},null,{"$f":"LOOKUP(I19,Poängberäkning!$B$6:$B$97,Poängberäkning!$C$6:$C$97)","v":0},null,{"$f":"LOOKUP(K19,Poängberäkning!$B$6:$B$97,Poängberäkning!$C$6:$C$97)","v":0},null,{"$f":"LOOKUP(M19,Poängberäkning!$B$6:$B$97,Poängberäkning!$C$6:$C$97)","v":0},18,{"$f":"LOOKUP(O19,Poängberäkning!$B$6:$B$97,Poängberäkning!$C$6:$C$97)","v":33},null,{"$f":"LOOKUP(Q19,[1]Poängberäkning!$B$6:$B$97,[1]Poängberäkning!$C$6:$C$97)","v":0},null,{"$f":"LOOKUP(S19,[1]Poängberäkning!$B$6:$B$97,[1]Poängberäkning!$C$6:$C$97)","v":0},null,{"$f":"LOOKUP(U19,[1]Poängberäkning!$B$6:$B$97,[1]Poängberäkning!$C$6:$C$97)","v":0},null,{"$f":"LOOKUP(W19,[1]Poängberäkning!$B$6:$B$97,[1]Poängberäkning!$C$6:$C$97)","v":0},{"$f":"LARGE(($H19,$J19,$L19,$N19,$P19,$R19,$T19,$V19,$X19),1)","v":55},{"$f":"LARGE(($H19,$J19,$L19,$N19,$P19,$R19,$T19,$V19,$X19),2)","v":33},{"$f":"LARGE(($H19,$J19,$L19,$N19,$P19,$R19,$T19,$V19,$X19),3)","v":0},{"$f":"LARGE(($H19,$J19,$L19,$N19,$P19,$R19,$T19,$V19,$X19),4)","v":0},{"$f":"LARGE(($H19,$J19,$L19,$N19,$P19,$R19,$T19,$V19,$X19),5)","v":0},{"$f":"LARGE(($H19,$J19,$L19,$N19,$P19,$R19,$T19,$V19,$X19),6)","v":0},{"$f":"LARGE(($H19,$J19,$L19,$N19,$P19,$R19,$T19,$V19,$X19),7)","v":0},{"$f":"LARGE(($H19,$J19,$L19,$N19,$P19,$R19,$T19,$V19,$X19),8)","v":0},{"$f":"LARGE(($H19,$J19,$L19,$N19,$P19,$R19,$T19,$V19,$X19),9)","v":0}]
[16,2005,"LUNDQUIST Gabriel","Rättviks SLK",81,81,null,{"$f":"LOOKUP(G20,Poängberäkning!$B$6:$B$97,Poängberäkning!$C$6:$C$97)","v":0},8,{"$f":"LOOKUP(I20,Poängberäkning!$B$6:$B$97,Poängberäkning!$C$6:$C$97)","v":46},null,{"$f":"LOOKUP(K20,Poängberäkning!$B$6:$B$97,Poängberäkning!$C$6:$C$97)","v":0},16,{"$f":"LOOKUP(M20,Poängberäkning!$B$6:$B$97,Poängberäkning!$C$6:$C$97)","v":35},null,{"$f":"LOOKUP(O20,Poängberäkning!$B$6:$B$97,Poängberäkning!$C$6:$C$97)","v":0},null,{"$f":"LOOKUP(Q20,[1]Poängberäkning!$B$6:$B$97,[1]Poängberäkning!$C$6:$C$97)","v":0},null,{"$f":"LOOKUP(S20,[1]Poängberäkning!$B$6:$B$97,[1]Poängberäkning!$C$6:$C$97)","v":0},null,{"$f":"LOOKUP(U20,[1]Poängberäkning!$B$6:$B$97,[1]Poängberäkning!$C$6:$C$97)","v":0},null,{"$f":"LOOKUP(W20,[1]Poängberäkning!$B$6:$B$97,[1]Poängberäkning!$C$6:$C$97)","v":0},{"$f":"LARGE(($H20,$J20,$L20,$N20,$P20,$R20,$T20,$V20,$X20),1)","v":46},{"$f":"LARGE(($H20,$J20,$L20,$N20,$P20,$R20,$T20,$V20,$X20),2)","v":35},{"$f":"LARGE(($H20,$J20,$L20,$N20,$P20,$R20,$T20,$V20,$X20),3)","v":0},{"$f":"LARGE(($H20,$J20,$L20,$N20,$P20,$R20,$T20,$V20,$X20),4)","v":0},{"$f":"LARGE(($H20,$J20,$L20,$N20,$P20,$R20,$T20,$V20,$X20),5)","v":0},{"$f":"LARGE(($H20,$J20,$L20,$N20,$P20,$R20,$T20,$V20,$X20),6)","v":0},{"$f":"LARGE(($H20,$J20,$L20,$N20,$P20,$R20,$T20,$V20,$X20),7)","v":0},{"$f":"LARGE(($H20,$J20,$L20,$N20,$P20,$R20,$T20,$V20,$X20),8)","v":0},{"$f":"LARGE(($H20,$J20,$L20,$N20,$P20,$R20,$T20,$V20,$X20),9)","v":0}]
[17,2004,"NORLINDER Felix","IFK Borlänge",80,80,null,{"$f":"LOOKUP(G21,Poängberäkning!$B$6:$B$97,Poängberäkning!$C$6:$C$97)","v":0},null,{"$f":"LOOKUP(I21,Poängberäkning!$B$6:$B$97,Poängberäkning!$C$6:$C$97)","v":0},6,{"$f":"LOOKUP(K21,Poängberäkning!$B$6:$B$97,Poängberäkning!$C$6:$C$97)","v":50},99,{"$f":"LOOKUP(M21,Poängberäkning!$B$6:$B$97,Poängberäkning!$C$6:$C$97)","v":0},21,{"$f":"LOOKUP(O21,Poängberäkning!$B$6:$B$97,Poängberäkning!$C$6:$C$97)","v":30},null,{"$f":"LOOKUP(Q21,[1]Poängberäkning!$B$6:$B$97,[1]Poängberäkning!$C$6:$C$97)","v":0},null,{"$f":"LOOKUP(S21,[1]Poängberäkning!$B$6:$B$97,[1]Poängberäkning!$C$6:$C$97)","v":0},null,{"$f":"LOOKUP(U21,[1]Poängberäkning!$B$6:$B$97,[1]Poängberäkning!$C$6:$C$97)","v":0},null,{"$f":"LOOKUP(W21,[1]Poängberäkning!$B$6:$B$97,[1]Poängberäkning!$C$6:$C$97)","v":0},{"$f":"LARGE(($H21,$J21,$L21,$N21,$P21,$R21,$T21,$V21,$X21),1)","v":50},{"$f":"LARGE(($H21,$J21,$L21,$N21,$P21,$R21,$T21,$V21,$X21),2)","v":30},{"$f":"LARGE(($H21,$J21,$L21,$N21,$P21,$R21,$T21,$V21,$X21),3)","v":0},{"$f":"LARGE(($H21,$J21,$L21,$N21,$P21,$R21,$T21,$V21,$X21),4)","v":0},{"$f":"LARGE(($H21,$J21,$L21,$N21,$P21,$R21,$T21,$V21,$X21),5)","v":0},{"$f":"LARGE(($H21,$J21,$L21,$N21,$P21,$R21,$T21,$V21,$X21),6)","v":0},{"$f":"LARGE(($H21,$J21,$L21,$N21,$P21,$R21,$T21,$V21,$X21),7)","v":0},{"$f":"LARGE(($H21,$J21,$L21,$N21,$P21,$R21,$T21,$V21,$X21),8)","v":0},{"$f":"LARGE(($H21,$J21,$L21,$N21,$P21,$R21,$T21,$V21,$X21),9)","v":0}]
[18,2004,"LARSSON Albin","Sälens IF",70,70,null,{"$f":"LOOKUP(G22,Poängberäkning!$B$6:$B$97,Poängberäkning!$C$6:$C$97)","v":0},null,{"$f":"LOOKUP(I22,Poängberäkning!$B$6:$B$97,Poängberäkning!$C$6:$C$97)","v":0},null,{"$f":"LOOKUP(K22,Poängberäkning!$B$6:$B$97,Poängberäkning!$C$6:$C$97)","v":0},null,{"$f":"LOOKUP(M22,Poängberäkning!$B$6:$B$97,Poängberäkning!$C$6:$C$97)","v":0},3,{"$f":"LOOKUP(O22,Poängberäkning!$B$6:$B$97,Poängberäkning!$C$6:$C$97)","v":70},null,{"$f":"LOOKUP(Q22,[1]Poängberäkning!$B$6:$B$97,[1]Poängberäkning!$C$6:$C$97)","v":0},null,{"$f":"LOOKUP(S22,[1]Poängberäkning!$B$6:$B$97,[1]Poängberäkning!$C$6:$C$97)","v":0},null,{"$f":"LOOKUP(U22,[1]Poängberäkning!$B$6:$B$97,[1]Poängberäkning!$C$6:$C$97)","v":0},null,{"$f":"LOOKUP(W22,[1]Poängberäkning!$B$6:$B$97,[1]Poängberäkning!$C$6:$C$97)","v":0},{"$f":"LARGE(($H22,$J22,$L22,$N22,$P22,$R22,$T22,$V22,$X22),1)","v":70},{"$f":"LARGE(($H22,$J22,$L22,$N22,$P22,$R22,$T22,$V22,$X22),2)","v":0},{"$f":"LARGE(($H22,$J22,$L22,$N22,$P22,$R22,$T22,$V22,$X22),3)","v":0},{"$f":"LARGE(($H22,$J22,$L22,$N22,$P22,$R22,$T22,$V22,$X22),4)","v":0},{"$f":"LARGE(($H22,$J22,$L22,$N22,$P22,$R22,$T22,$V22,$X22),5)","v":0},{"$f":"LARGE(($H22,$J22,$L22,$N22,$P22,$R22,$T22,$V22,$X22),6)","v":0},{"$f":"LARGE(($H22,$J22,$L22,$N22,$P22,$R22,$T22,$V22,$X22),7)","v":0},{"$f":"LARGE(($H22,$J22,$L22,$N22,$P22,$R22,$T22,$V22,$X22),8)","v":0},{"$f":"LARGE(($H22,$J22,$L22,$N22,$P22,$R22,$T22,$V22,$X22),9)","v":0}]
[19,2004,"STRÖMBERG Oscar","IFK Borlänge",70,70,null,{"$f":"LOOKUP(G23,Poängberäkning!$B$6:$B$97,Poängberäkning!$C$6:$C$97)","v":0},null,{"$f":"LOOKUP(I23,Poängberäkning!$B$6:$B$97,Poängberäkning!$C$6:$C$97)","v":0},null,{"$f":"LOOKUP(K23,Poängberäkning!$B$6:$B$97,Poängberäkning!$C$6:$C$97)","v":0},13,{"$f":"LOOKUP(M23,Poängberäkning!$B$6:$B$97,Poängberäkning!$C$6:$C$97)","v":38},19,{"$f":"LOOKUP(O23,Poängberäkning!$B$6:$B$97,Poängberäkning!$C$6:$C$97)","v":32},null,{"$f":"LOOKUP(Q23,[1]Poängberäkning!$B$6:$B$97,[1]Poängberäkning!$C$6:$C$97)","v":0},null,{"$f":"LOOKUP(S23,[1]Poängberäkning!$B$6:$B$97,[1]Poängberäkning!$C$6:$C$97)","v":0},null,{"$f":"LOOKUP(U23,[1]Poängberäkning!$B$6:$B$97,[1]Poängberäkning!$C$6:$C$97)","v":0},null,{"$f":"LOOKUP(W23,[1]Poängberäkning!$B$6:$B$97,[1]Poängberäkning!$C$6:$C$97)","v":0},{"$f":"LARGE(($H23,$J23,$L23,$N23,$P23,$R23,$T23,$V23,$X23),1)","v":38},{"$f":"LARGE(($H23,$J23,$L23,$N23,$P23,$R23,$T23,$V23,$X23),2)","v":32},{"$f":"LARGE(($H23,$J23,$L23,$N23,$P23,$R23,$T23,$V23,$X23),3)","v":0},{"$f":"LARGE(($H23,$J23,$L23,$N23,$P23,$R23,$T23,$V23,$X23),4)","v":0},{"$f":"LARGE(($H23,$J23,$L23,$N23,$P23,$R23,$T23,$V23,$X23),5)","v":0},{"$f":"LARGE(($H23,$J23,$L23,$N23,$P23,$R23,$T23,$V23,$X23),6)","v":0},{"$f":"LARGE(($H23,$J23,$L23,$N23,$P23,$R23,$T23,$V23,$X23),7)","v":0},{"$f":"LARGE(($H23,$J23,$L23,$N23,$P23,$R23,$T23,$V23,$X23),8)","v":0},{"$f":"LARGE(($H23,$J23,$L23,$N23,$P23,$R23,$T23,$V23,$X23),9)","v":0}]
[20,2005,"HAGMAN John","Sollentuna SLK",60,60,null,{"$f":"LOOKUP(G24,Poängberäkning!$B$6:$B$97,Poängberäkning!$C$6:$C$97)","v":0},null,{"$f":"LOOKUP(I24,Poängberäkning!$B$6:$B$97,Poängberäkning!$C$6:$C$97)","v":0},null,{"$f":"LOOKUP(K24,Poängberäkning!$B$6:$B$97,Poängberäkning!$C$6:$C$97)","v":0},null,{"$f":"LOOKUP(M24,Poängberäkning!$B$6:$B$97,Poängberäkning!$C$6:$C$97)","v":0},4,{"$f":"LOOKUP(O24,Poängberäkning!$B$6:$B$97,Poängberäkning!$C$6:$C$97)","v":60},null,{"$f":"LOOKUP(Q24,[1]Poängberäkning!$B$6:$B$97,[1]Poängberäkning!$C$6:$C$97)","v":0},null,{"$f":"LOOKUP(S24,[1]Poängberäkning!$B$6:$B$97,[1]Poängberäkning!$C$6:$C$97)","v":0},null,{"$f":"LOOKUP(U24,[1]Poängberäkning!$B$6:$B$97,[1]Poängberäkning!$C$6:$C$97)","v":0},null,{"$f":"LOOKUP(W24,[1]Poängberäkning!$B$6:$B$97,[1]Poängberäkning!$C$6:$C$97)","v":0},{"$f":"LARGE(($H24,$J24,$L24,$N24,$P24,$R24,$T24,$V24,$X24),1)","v":60},{"$f":"LARGE(($H24,$J24,$L24,$N24,$P24,$R24,$T24,$V24,$X24),2)","v":0},{"$f":"LARGE(($H24,$J24,$L24,$N24,$P24,$R24,$T24,$V24,$X24),3)","v":0},{"$f":"LARGE(($H24,$J24,$L24,$N24,$P24,$R24,$T24,$V24,$X24),4)","v":0},{"$f":"LARGE(($H24,$J24,$L24,$N24,$P24,$R24,$T24,$V24,$X24),5)","v":0},{"$f":"LARGE(($H24,$J24,$L24,$N24,$P24,$R24,$T24,$V24,$X24),6)","v":0},{"$f":"LARGE(($H24,$J24,$L24,$N24,$P24,$R24,$T24,$V24,$X24),7)","v":0},{"$f":"LARGE(($H24,$J24,$L24,$N24,$P24,$R24,$T24,$V24,$X24),8)","v":0},{"$f":"LARGE(($H24,$J24,$L24,$N24,$P24,$R24,$T24,$V24,$X24),9)","v":0}]
[21,2005,"LIND Carl","IFK Borlänge",60,60,null,{"$f":"LOOKUP(G25,Poängberäkning!$B$6:$B$97,Poängberäkning!$C$6:$C$97)","v":0},4,{"$f":"LOOKUP(I25,Poängberäkning!$B$6:$B$97,Poängberäkning!$C$6:$C$97)","v":60},null,{"$f":"LOOKUP(K25,Poängberäkning!$B$6:$B$97,Poängberäkning!$C$6:$C$97)","v":0},99,{"$f":"LOOKUP(M25,Poängberäkning!$B$6:$B$97,Poängberäkning!$C$6:$C$97)","v":0},null,{"$f":"LOOKUP(O25,Poängberäkning!$B$6:$B$97,Poängberäkning!$C$6:$C$97)","v":0},null,{"$f":"LOOKUP(Q25,[1]Poängberäkning!$B$6:$B$97,[1]Poängberäkning!$C$6:$C$97)","v":0},null,{"$f":"LOOKUP(S25,[1]Poängberäkning!$B$6:$B$97,[1]Poängberäkning!$C$6:$C$97)","v":0},null,{"$f":"LOOKUP(U25,[1]Poängberäkning!$B$6:$B$97,[1]Poängberäkning!$C$6:$C$97)","v":0},null,{"$f":"LOOKUP(W25,[1]Poängberäkning!$B$6:$B$97,[1]Poängberäkning!$C$6:$C$97)","v":0},{"$f":"LARGE(($H25,$J25,$L25,$N25,$P25,$R25,$T25,$V25,$X25),1)","v":60},{"$f":"LARGE(($H25,$J25,$L25,$N25,$P25,$R25,$T25,$V25,$X25),2)","v":0},{"$f":"LARGE(($H25,$J25,$L25,$N25,$P25,$R25,$T25,$V25,$X25),3)","v":0},{"$f":"LARGE(($H25,$J25,$L25,$N25,$P25,$R25,$T25,$V25,$X25),4)","v":0},{"$f":"LARGE(($H25,$J25,$L25,$N25,$P25,$R25,$T25,$V25,$X25),5)","v":0},{"$f":"LARGE(($H25,$J25,$L25,$N25,$P25,$R25,$T25,$V25,$X25),6)","v":0},{"$f":"LARGE(($H25,$J25,$L25,$N25,$P25,$R25,$T25,$V25,$X25),7)","v":0},{"$f":"LARGE(($H25,$J25,$L25,$N25,$P25,$R25,$T25,$V25,$X25),8)","v":0},{"$f":"LARGE(($H25,$J25,$L25,$N25,$P25,$R25,$T25,$V25,$X25),9)","v":0}]
[22,2005,"EKLUND Hampus","Täby SLK",48,48,null,{"$f":"LOOKUP(G26,Poängberäkning!$B$6:$B$97,Poängberäkning!$C$6:$C$97)","v":0},null,{"$f":"LOOKUP(I26,Poängberäkning!$B$6:$B$97,Poängberäkning!$C$6:$C$97)","v":0},null,{"$f":"LOOKUP(K26,Poängberäkning!$B$6:$B$97,Poängberäkning!$C$6:$C$97)","v":0},null,{"$f":"LOOKUP(M26,Poängberäkning!$B$6:$B$97,Poängberäkning!$C$6:$C$97)","v":0},7,{"$f":"LOOKUP(O26,Poängberäkning!$B$6:$B$97,Poängberäkning!$C$6:$C$97)","v":48},null,{"$f":"LOOKUP(Q26,[1]Poängberäkning!$B$6:$B$97,[1]Poängberäkning!$C$6:$C$97)","v":0},null,{"$f":"LOOKUP(S26,[1]Poängberäkning!$B$6:$B$97,[1]Poängberäkning!$C$6:$C$97)","v":0},null,{"$f":"LOOKUP(U26,[1]Poängberäkning!$B$6:$B$97,[1]Poängberäkning!$C$6:$C$97)","v":0},null,{"$f":"LOOKUP(W26,[1]Poängberäkning!$B$6:$B$97,[1]Poängberäkning!$C$6:$C$97)","v":0},{"$f":"LARGE(($H26,$J26,$L26,$N26,$P26,$R26,$T26,$V26,$X26),1)","v":48},{"$f":"LARGE(($H26,$J26,$L26,$N26,$P26,$R26,$T26,$V26,$X26),2)","v":0},{"$f":"LARGE(($H26,$J26,$L26,$N26,$P26,$R26,$T26,$V26,$X26),3)","v":0},{"$f":"LARGE(($H26,$J26,$L26,$N26,$P26,$R26,$T26,$V26,$X26),4)","v":0},{"$f":"LARGE(($H26,$J26,$L26,$N26,$P26,$R26,$T26,$V26,$X26),5)","v":0},{"$f":"LARGE(($H26,$J26,$L26,$N26,$P26,$R26,$T26,$V26,$X26),6)","v":0},{"$f":"LARGE(($H26,$J26,$L26,$N26,$P26,$R26,$T26,$V26,$X26),7)","v":0},{"$f":"LARGE(($H26,$J26,$L26,$N26,$P26,$R26,$T26,$V26,$X26),8)","v":0},{"$f":"LARGE(($H26,$J26,$L26,$N26,$P26,$R26,$T26,$V26,$X26),9)","v":0}]
[23,2004,"HOLMA Buster","IFK Lidingö Slalomklubb",46,46,null,{"$f":"LOOKUP(G27,Poängberäkning!$B$6:$B$97,Poängberäkning!$C$6:$C$97)","v":0},null,{"$f":"LOOKUP(I27,Poängberäkning!$B$6:$B$97,Poängberäkning!$C$6:$C$97)","v":0},null,{"$f":"LOOKUP(K27,Poängberäkning!$B$6:$B$97,Poängberäkning!$C$6:$C$97)","v":0},8,{"$f":"LOOKUP(M27,Poängberäkning!$B$6:$B$97,Poängberäkning!$C$6:$C$97)","v":46},null,{"$f":"LOOKUP(O27,Poängberäkning!$B$6:$B$97,Poängberäkning!$C$6:$C$97)","v":0},null,{"$f":"LOOKUP(Q27,[1]Poängberäkning!$B$6:$B$97,[1]Poängberäkning!$C$6:$C$97)","v":0},null,{"$f":"LOOKUP(S27,[1]Poängberäkning!$B$6:$B$97,[1]Poängberäkning!$C$6:$C$97)","v":0},null,{"$f":"LOOKUP(U27,[1]Poängberäkning!$B$6:$B$97,[1]Poängberäkning!$C$6:$C$97)","v":0},null,{"$f":"LOOKUP(W27,[1]Poängberäkning!$B$6:$B$97,[1]Poängberäkning!$C$6:$C$97)","v":0},{"$f":"LARGE(($H27,$J27,$L27,$N27,$P27,$R27,$T27,$V27,$X27),1)","v":46},{"$f":"LARGE(($H27,$J27,$L27,$N27,$P27,$R27,$T27,$V27,$X27),2)","v":0},{"$f":"LARGE(($H27,$J27,$L27,$N27,$P27,$R27,$T27,$V27,$X27),3)","v":0},{"$f":"LARGE(($H27,$J27,$L27,$N27,$P27,$R27,$T27,$V27,$X27),4)","v":0},{"$f":"LARGE(($H27,$J27,$L27,$N27,$P27,$R27,$T27,$V27,$X27),5)","v":0},{"$f":"LARGE(($H27,$J27,$L27,$N27,$P27,$R27,$T27,$V27,$X27),6)","v":0},{"$f":"LARGE(($H27,$J27,$L27,$N27,$P27,$R27,$T27,$V27,$X27),7)","v":0},{"$f":"LARGE(($H27,$J27,$L27,$N27,$P27,$R27,$T27,$V27,$X27),8)","v":0},{"$f":"LARGE(($H27,$J27,$L27,$N27,$P27,$R27,$T27,$V27,$X27),9)","v":0}]
[24,2005,"JAKOBSSON Axel","Norrbärke SK Alpin",46,46,null,{"$f":"LOOKUP(G28,Poängberäkning!$B$6:$B$97,Poängberäkning!$C$6:$C$97)","v":0},99,{"$f":"LOOKUP(I28,Poängberäkning!$B$6:$B$97,Poängberäkning!$C$6:$C$97)","v":0},8,{"$f":"LOOKUP(K28,Poängberäkning!$B$6:$B$97,Poängberäkning!$C$6:$C$97)","v":46},null,{"$f":"LOOKUP(M28,Poängberäkning!$B$6:$B$97,Poängberäkning!$C$6:$C$97)","v":0},null,{"$f":"LOOKUP(O28,Poängberäkning!$B$6:$B$97,Poängberäkning!$C$6:$C$97)","v":0},null,{"$f":"LOOKUP(Q28,[1]Poängberäkning!$B$6:$B$97,[1]Poängberäkning!$C$6:$C$97)","v":0},null,{"$f":"LOOKUP(S28,[1]Poängberäkning!$B$6:$B$97,[1]Poängberäkning!$C$6:$C$97)","v":0},null,{"$f":"LOOKUP(U28,[1]Poängberäkning!$B$6:$B$97,[1]Poängberäkning!$C$6:$C$97)","v":0},null,{"$f":"LOOKUP(W28,[1]Poängberäkning!$B$6:$B$97,[1]Poängberäkning!$C$6:$C$97)","v":0},{"$f":"LARGE(($H28,$J28,$L28,$N28,$P28,$R28,$T28,$V28,$X28),1)","v":46},{"$f":"LARGE(($H28,$J28,$L28,$N28,$P28,$R28,$T28,$V28,$X28),2)","v":0},{"$f":"LARGE(($H28,$J28,$L28,$N28,$P28,$R28,$T28,$V28,$X28),3)","v":0},{"$f":"LARGE(($H28,$J28,$L28,$N28,$P28,$R28,$T28,$V28,$X28),4)","v":0},{"$f":"LARGE(($H28,$J28,$L28,$N28,$P28,$R28,$T28,$V28,$X28),5)","v":0},{"$f":"LARGE(($H28,$J28,$L28,$N28,$P28,$R28,$T28,$V28,$X28),6)","v":0},{"$f":"LARGE(($H28,$J28,$L28,$N28,$P28,$R28,$T28,$V28,$X28),7)","v":0},{"$f":"LARGE(($H28,$J28,$L28,$N28,$P28,$R28,$T28,$V28,$X28),8)","v":0},{"$f":"LARGE(($H28,$J28,$L28,$N28,$P28,$R28,$T28,$V28,$X28),9)","v":0}]
[25,2004,"ABRAHAMSSON Sixten","IFK Falun",44,44,null,{"$f":"LOOKUP(G29,Poängberäkning!$B$6:$B$97,Poängberäkning!$C$6:$C$97)","v":0},9,{"$f":"LOOKUP(I29,Poängberäkning!$B$6:$B$97,Poängberäkning!$C$6:$C$97)","v":44},null,{"$f":"LOOKUP(K29,Poängberäkning!$B$6:$B$97,Poängberäkning!$C$6:$C$97)","v":0},null,{"$f":"LOOKUP(M29,Poängberäkning!$B$6:$B$97,Poängberäkning!$C$6:$C$97)","v":0},null,{"$f":"LOOKUP(O29,Poängberäkning!$B$6:$B$97,Poängberäkning!$C$6:$C$97)","v":0},null,{"$f":"LOOKUP(Q29,[1]Poängberäkning!$B$6:$B$97,[1]Poängberäkning!$C$6:$C$97)","v":0},null,{"$f":"LOOKUP(S29,[1]Poängberäkning!$B$6:$B$97,[1]Poängberäkning!$C$6:$C$97)","v":0},null,{"$f":"LOOKUP(U29,[1]Poängberäkning!$B$6:$B$97,[1]Poängberäkning!$C$6:$C$97)","v":0},null,{"$f":"LOOKUP(W29,[1]Poängberäkning!$B$6:$B$97,[1]Poängberäkning!$C$6:$C$97)","v":0},{"$f":"LARGE(($H29,$J29,$L29,$N29,$P29,$R29,$T29,$V29,$X29),1)","v":44},{"$f":"LARGE(($H29,$J29,$L29,$N29,$P29,$R29,$T29,$V29,$X29),2)","v":0},{"$f":"LARGE(($H29,$J29,$L29,$N29,$P29,$R29,$T29,$V29,$X29),3)","v":0},{"$f":"LARGE(($H29,$J29,$L29,$N29,$P29,$R29,$T29,$V29,$X29),4)","v":0},{"$f":"LARGE(($H29,$J29,$L29,$N29,$P29,$R29,$T29,$V29,$X29),5)","v":0},{"$f":"LARGE(($H29,$J29,$L29,$N29,$P29,$R29,$T29,$V29,$X29),6)","v":0},{"$f":"LARGE(($H29,$J29,$L29,$N29,$P29,$R29,$T29,$V29,$X29),7)","v":0},{"$f":"LARGE(($H29,$J29,$L29,$N29,$P29,$R29,$T29,$V29,$X29),8)","v":0},{"$f":"LARGE(($H29,$J29,$L29,$N29,$P29,$R29,$T29,$V29,$X29),9)","v":0}]
[26,2005,"ERIKSSON Lucas","IFK Borlänge",44,44,null,{"$f":"LOOKUP(G30,Poängberäkning!$B$6:$B$97,Poängberäkning!$C$6:$C$97)","v":0},null,{"$f":"LOOKUP(I30,Poängberäkning!$B$6:$B$97,Poängberäkning!$C$6:$C$97)","v":0},null,{"$f":"LOOKUP(K30,Poängberäkning!$B$6:$B$97,Poängberäkning!$C$6:$C$97)","v":0},9,{"$f":"LOOKUP(M30,Poängberäkning!$B$6:$B$97,Poängberäkning!$C$6:$C$97)","v":44},null,{"$f":"LOOKUP(O30,Poängberäkning!$B$6:$B$97,Poängberäkning!$C$6:$C$97)","v":0},null,{"$f":"LOOKUP(Q30,[1]Poängberäkning!$B$6:$B$97,[1]Poängberäkning!$C$6:$C$97)","v":0},null,{"$f":"LOOKUP(S30,[1]Poängberäkning!$B$6:$B$97,[1]Poängberäkning!$C$6:$C$97)","v":0},null,{"$f":"LOOKUP(U30,[1]Poängberäkning!$B$6:$B$97,[1]Poängberäkning!$C$6:$C$97)","v":0},null,{"$f":"LOOKUP(W30,[1]Poängberäkning!$B$6:$B$97,[1]Poängberäkning!$C$6:$C$97)","v":0},{"$f":"LARGE(($H30,$J30,$L30,$N30,$P30,$R30,$T30,$V30,$X30),1)","v":44},{"$f":"LARGE(($H30,$J30,$L30,$N30,$P30,$R30,$T30,$V30,$X30),2)","v":0},{"$f":"LARGE(($H30,$J30,$L30,$N30,$P30,$R30,$T30,$V30,$X30),3)","v":0},{"$f":"LARGE(($H30,$J30,$L30,$N30,$P30,$R30,$T30,$V30,$X30),4)","v":0},{"$f":"LARGE(($H30,$J30,$L30,$N30,$P30,$R30,$T30,$V30,$X30),5)","v":0},{"$f":"LARGE(($H30,$J30,$L30,$N30,$P30,$R30,$T30,$V30,$X30),6)","v":0},{"$f":"LARGE(($H30,$J30,$L30,$N30,$P30,$R30,$T30,$V30,$X30),7)","v":0},{"$f":"LARGE(($H30,$J30,$L30,$N30,$P30,$R30,$T30,$V30,$X30),8)","v":0},{"$f":"LARGE(($H30,$J30,$L30,$N30,$P30,$R30,$T30,$V30,$X30),9)","v":0}]
[27,2004,"HUSS Noel","Sollentuna SLK",42,42,null,{"$f":"LOOKUP(G31,Poängberäkning!$B$6:$B$97,Poängberäkning!$C$6:$C$97)","v":0},null,{"$f":"LOOKUP(I31,Poängberäkning!$B$6:$B$97,Poängberäkning!$C$6:$C$97)","v":0},null,{"$f":"LOOKUP(K31,Poängberäkning!$B$6:$B$97,Poängberäkning!$C$6:$C$97)","v":0},null,{"$f":"LOOKUP(M31,Poängberäkning!$B$6:$B$97,Poängberäkning!$C$6:$C$97)","v":0},10,{"$f":"LOOKUP(O31,Poängberäkning!$B$6:$B$97,Poängberäkning!$C$6:$C$97)","v":42},null,{"$f":"LOOKUP(Q31,[1]Poängberäkning!$B$6:$B$97,[1]Poängberäkning!$C$6:$C$97)","v":0},null,{"$f":"LOOKUP(S31,[1]Poängberäkning!$B$6:$B$97,[1]Poängberäkning!$C$6:$C$97)","v":0},null,{"$f":"LOOKUP(U31,[1]Poängberäkning!$B$6:$B$97,[1]Poängberäkning!$C$6:$C$97)","v":0},null,{"$f":"LOOKUP(W31,[1]Poängberäkning!$B$6:$B$97,[1]Poängberäkning!$C$6:$C$97)","v":0},{"$f":"LARGE(($H31,$J31,$L31,$N31,$P31,$R31,$T31,$V31,$X31),1)","v":42},{"$f":"LARGE(($H31,$J31,$L31,$N31,$P31,$R31,$T31,$V31,$X31),2)","v":0},{"$f":"LARGE(($H31,$J31,$L31,$N31,$P31,$R31,$T31,$V31,$X31),3)","v":0},{"$f":"LARGE(($H31,$J31,$L31,$N31,$P31,$R31,$T31,$V31,$X31),4)","v":0},{"$f":"LARGE(($H31,$J31,$L31,$N31,$P31,$R31,$T31,$V31,$X31),5)","v":0},{"$f":"LARGE(($H31,$J31,$L31,$N31,$P31,$R31,$T31,$V31,$X31),6)","v":0},{"$f":"LARGE(($H31,$J31,$L31,$N31,$P31,$R31,$T31,$V31,$X31),7)","v":0},{"$f":"LARGE(($H31,$J31,$L31,$N31,$P31,$R31,$T31,$V31,$X31),8)","v":0},{"$f":"LARGE(($H31,$J31,$L31,$N31,$P31,$R31,$T31,$V31,$X31),9)","v":0}]
[28,2005,"JAEGERFALK Theo","Roslagens AK",40,40,null,{"$f":"LOOKUP(G32,Poängberäkning!$B$6:$B$97,Poängberäkning!$C$6:$C$97)","v":0},null,{"$f":"LOOKUP(I32,Poängberäkning!$B$6:$B$97,Poängberäkning!$C$6:$C$97)","v":0},null,{"$f":"LOOKUP(K32,Poängberäkning!$B$6:$B$97,Poängberäkning!$C$6:$C$97)","v":0},null,{"$f":"LOOKUP(M32,Poängberäkning!$B$6:$B$97,Poängberäkning!$C$6:$C$97)","v":0},11,{"$f":"LOOKUP(O32,Poängberäkning!$B$6:$B$97,Poängberäkning!$C$6:$C$97)","v":40},null,{"$f":"LOOKUP(Q32,[1]Poängberäkning!$B$6:$B$97,[1]Poängberäkning!$C$6:$C$97)","v":0},null,{"$f":"LOOKUP(S32,[1]Poängberäkning!$B$6:$B$97,[1]Poängberäkning!$C$6:$C$97)","v":0},null,{"$f":"LOOKUP(U32,[1]Poängberäkning!$B$6:$B$97,[1]Poängberäkning!$C$6:$C$97)","v":0},null,{"$f":"LOOKUP(W32,[1]Poängberäkning!$B$6:$B$97,[1]Poängberäkning!$C$6:$C$97)","v":0},{"$f":"LARGE(($H32,$J32,$L32,$N32,$P32,$R32,$T32,$V32,$X32),1)","v":40},{"$f":"LARGE(($H32,$J32,$L32,$N32,$P32,$R32,$T32,$V32,$X32),2)","v":0},{"$f":"LARGE(($H32,$J32,$L32,$N32,$P32,$R32,$T32,$V32,$X32),3)","v":0},{"$f":"LARGE(($H32,$J32,$L32,$N32,$P32,$R32,$T32,$V32,$X32),4)","v":0},{"$f":"LARGE(($H32,$J32,$L32,$N32,$P32,$R32,$T32,$V32,$X32),5)","v":0},{"$f":"LARGE(($H32,$J32,$L32,$N32,$P32,$R32,$T32,$V32,$X32),6)","v":0},{"$f":"LARGE(($H32,$J32,$L32,$N32,$P32,$R32,$T32,$V32,$X32),7)","v":0},{"$f":"LARGE(($H32,$J32,$L32,$N32,$P32,$R32,$T32,$V32,$X32),8)","v":0},{"$f":"LARGE(($H32,$J32,$L32,$N32,$P32,$R32,$T32,$V32,$X32),9)","v":0}]
[29,2005,"DAHLBORG Fred","IFK Lidingö Slalomklubb",40,40,null,{"$f":"LOOKUP(G33,Poängberäkning!$B$6:$B$97,Poängberäkning!$C$6:$C$97)","v":0},null,{"$f":"LOOKUP(I33,Poängberäkning!$B$6:$B$97,Poängberäkning!$C$6:$C$97)","v":0},null,{"$f":"LOOKUP(K33,Poängberäkning!$B$6:$B$97,Poängberäkning!$C$6:$C$97)","v":0},11,{"$f":"LOOKUP(M33,Poängberäkning!$B$6:$B$97,Poängberäkning!$C$6:$C$97)","v":40},null,{"$f":"LOOKUP(O33,Poängberäkning!$B$6:$B$97,Poängberäkning!$C$6:$C$97)","v":0},null,{"$f":"LOOKUP(Q33,[1]Poängberäkning!$B$6:$B$97,[1]Poängberäkning!$C$6:$C$97)","v":0},null,{"$f":"LOOKUP(S33,[1]Poängberäkning!$B$6:$B$97,[1]Poängberäkning!$C$6:$C$97)","v":0},null,{"$f":"LOOKUP(U33,[1]Poängberäkning!$B$6:$B$97,[1]Poängberäkning!$C$6:$C$97)","v":0},null,{"$f":"LOOKUP(W33,[1]Poängberäkning!$B$6:$B$97,[1]Poängberäkning!$C$6:$C$97)","v":0},{"$f":"LARGE(($H33,$J33,$L33,$N33,$P33,$R33,$T33,$V33,$X33),1)","v":40},{"$f":"LARGE(($H33,$J33,$L33,$N33,$P33,$R33,$T33,$V33,$X33),2)","v":0},{"$f":"LARGE(($H33,$J33,$L33,$N33,$P33,$R33,$T33,$V33,$X33),3)","v":0},{"$f":"LARGE(($H33,$J33,$L33,$N33,$P33,$R33,$T33,$V33,$X33),4)","v":0},{"$f":"LARGE(($H33,$J33,$L33,$N33,$P33,$R33,$T33,$V33,$X33),5)","v":0},{"$f":"LARGE(($H33,$J33,$L33,$N33,$P33,$R33,$T33,$V33,$X33),6)","v":0},{"$f":"LARGE(($H33,$J33,$L33,$N33,$P33,$R33,$T33,$V33,$X33),7)","v":0},{"$f":"LARGE(($H33,$J33,$L33,$N33,$P33,$R33,$T33,$V33,$X33),8)","v":0},{"$f":"LARGE(($H33,$J33,$L33,$N33,$P33,$R33,$T33,$V33,$X33),9)","v":0}]
[30,2005,"ENEQVIST Viktor","Djurgårdens IF AF",39,39,null,{"$f":"LOOKUP(G34,Poängberäkning!$B$6:$B$97,Poängberäkning!$C$6:$C$97)","v":0},null,{"$f":"LOOKUP(I34,Poängberäkning!$B$6:$B$97,Poängberäkning!$C$6:$C$97)","v":0},null,{"$f":"LOOKUP(K34,Poängberäkning!$B$6:$B$97,Poängberäkning!$C$6:$C$97)","v":0},null,{"$f":"LOOKUP(M34,Poängberäkning!$B$6:$B$97,Poängberäkning!$C$6:$C$97)","v":0},12,{"$f":"LOOKUP(O34,Poängberäkning!$B$6:$B$97,Poängberäkning!$C$6:$C$97)","v":39},null,{"$f":"LOOKUP(Q34,[1]Poängberäkning!$B$6:$B$97,[1]Poängberäkning!$C$6:$C$97)","v":0},null,{"$f":"LOOKUP(S34,[1]Poängberäkning!$B$6:$B$97,[1]Poängberäkning!$C$6:$C$97)","v":0},null,{"$f":"LOOKUP(U34,[1]Poängberäkning!$B$6:$B$97,[1]Poängberäkning!$C$6:$C$97)","v":0},null,{"$f":"LOOKUP(W34,[1]Poängberäkning!$B$6:$B$97,[1]Poängberäkning!$C$6:$C$97)","v":0},{"$f":"LARGE(($H34,$J34,$L34,$N34,$P34,$R34,$T34,$V34,$X34),1)","v":39},{"$f":"LARGE(($H34,$J34,$L34,$N34,$P34,$R34,$T34,$V34,$X34),2)","v":0},{"$f":"LARGE(($H34,$J34,$L34,$N34,$P34,$R34,$T34,$V34,$X34),3)","v":0},{"$f":"LARGE(($H34,$J34,$L34,$N34,$P34,$R34,$T34,$V34,$X34),4)","v":0},{"$f":"LARGE(($H34,$J34,$L34,$N34,$P34,$R34,$T34,$V34,$X34),5)","v":0},{"$f":"LARGE(($H34,$J34,$L34,$N34,$P34,$R34,$T34,$V34,$X34),6)","v":0},{"$f":"LARGE(($H34,$J34,$L34,$N34,$P34,$R34,$T34,$V34,$X34),7)","v":0},{"$f":"LARGE(($H34,$J34,$L34,$N34,$P34,$R34,$T34,$V34,$X34),8)","v":0},{"$f":"LARGE(($H34,$J34,$L34,$N34,$P34,$R34,$T34,$V34,$X34),9)","v":0}]
[31,2004,"BOJFELT Sebastian","IFK Borlänge",39,39,null,{"$f":"LOOKUP(G35,Poängberäkning!$B$6:$B$97,Poängberäkning!$C$6:$C$97)","v":0},null,{"$f":"LOOKUP(I35,Poängberäkning!$B$6:$B$97,Poängberäkning!$C$6:$C$97)","v":0},null,{"$f":"LOOKUP(K35,Poängberäkning!$B$6:$B$97,Poängberäkning!$C$6:$C$97)","v":0},12,{"$f":"LOOKUP(M35,Poängberäkning!$B$6:$B$97,Poängberäkning!$C$6:$C$97)","v":39},null,{"$f":"LOOKUP(O35,Poängberäkning!$B$6:$B$97,Poängberäkning!$C$6:$C$97)","v":0},null,{"$f":"LOOKUP(Q35,[1]Poängberäkning!$B$6:$B$97,[1]Poängberäkning!$C$6:$C$97)","v":0},null,{"$f":"LOOKUP(S35,[1]Poängberäkning!$B$6:$B$97,[1]Poängberäkning!$C$6:$C$97)","v":0},null,{"$f":"LOOKUP(U35,[1]Poängberäkning!$B$6:$B$97,[1]Poängberäkning!$C$6:$C$97)","v":0},null,{"$f":"LOOKUP(W35,[1]Poängberäkning!$B$6:$B$97,[1]Poängberäkning!$C$6:$C$97)","v":0},{"$f":"LARGE(($H35,$J35,$L35,$N35,$P35,$R35,$T35,$V35,$X35),1)","v":39},{"$f":"LARGE(($H35,$J35,$L35,$N35,$P35,$R35,$T35,$V35,$X35),2)","v":0},{"$f":"LARGE(($H35,$J35,$L35,$N35,$P35,$R35,$T35,$V35,$X35),3)","v":0},{"$f":"LARGE(($H35,$J35,$L35,$N35,$P35,$R35,$T35,$V35,$X35),4)","v":0},{"$f":"LARGE(($H35,$J35,$L35,$N35,$P35,$R35,$T35,$V35,$X35),5)","v":0},{"$f":"LARGE(($H35,$J35,$L35,$N35,$P35,$R35,$T35,$V35,$X35),6)","v":0},{"$f":"LARGE(($H35,$J35,$L35,$N35,$P35,$R35,$T35,$V35,$X35),7)","v":0},{"$f":"LARGE(($H35,$J35,$L35,$N35,$P35,$R35,$T35,$V35,$X35),8)","v":0},{"$f":"LARGE(($H35,$J35,$L35,$N35,$P35,$R35,$T35,$V35,$X35),9)","v":0}]
[32,2004,"LORD Max","Tunafors SK",37,37,null,{"$f":"LOOKUP(G36,Poängberäkning!$B$6:$B$97,Poängberäkning!$C$6:$C$97)","v":0},null,{"$f":"LOOKUP(I36,Poängberäkning!$B$6:$B$97,Poängberäkning!$C$6:$C$97)","v":0},null,{"$f":"LOOKUP(K36,Poängberäkning!$B$6:$B$97,Poängberäkning!$C$6:$C$97)","v":0},null,{"$f":"LOOKUP(M36,Poängberäkning!$B$6:$B$97,Poängberäkning!$C$6:$C$97)","v":0},14,{"$f":"LOOKUP(O36,Poängberäkning!$B$6:$B$97,Poängberäkning!$C$6:$C$97)","v":37},null,{"$f":"LOOKUP(Q36,[1]Poängberäkning!$B$6:$B$97,[1]Poängberäkning!$C$6:$C$97)","v":0},null,{"$f":"LOOKUP(S36,[1]Poängberäkning!$B$6:$B$97,[1]Poängberäkning!$C$6:$C$97)","v":0},null,{"$f":"LOOKUP(U36,[1]Poängberäkning!$B$6:$B$97,[1]Poängberäkning!$C$6:$C$97)","v":0},null,{"$f":"LOOKUP(W36,[1]Poängberäkning!$B$6:$B$97,[1]Poängberäkning!$C$6:$C$97)","v":0},{"$f":"LARGE(($H36,$J36,$L36,$N36,$P36,$R36,$T36,$V36,$X36),1)","v":37},{"$f":"LARGE(($H36,$J36,$L36,$N36,$P36,$R36,$T36,$V36,$X36),2)","v":0},{"$f":"LARGE(($H36,$J36,$L36,$N36,$P36,$R36,$T36,$V36,$X36),3)","v":0},{"$f":"LARGE(($H36,$J36,$L36,$N36,$P36,$R36,$T36,$V36,$X36),4)","v":0},{"$f":"LARGE(($H36,$J36,$L36,$N36,$P36,$R36,$T36,$V36,$X36),5)","v":0},{"$f":"LARGE(($H36,$J36,$L36,$N36,$P36,$R36,$T36,$V36,$X36),6)","v":0},{"$f":"LARGE(($H36,$J36,$L36,$N36,$P36,$R36,$T36,$V36,$X36),7)","v":0},{"$f":"LARGE(($H36,$J36,$L36,$N36,$P36,$R36,$T36,$V36,$X36),8)","v":0},{"$f":"LARGE(($H36,$J36,$L36,$N36,$P36,$R36,$T36,$V36,$X36),9)","v":0}]
[33,2004,"NILSSON Hugo","Edsbyns IF Alpina Förening",{"$f":"SUM(Y37:AA37)","v":36},{"$f":"H37+J37+L37+N37+P37+R37+T37+V37+X37","v":36},null,{"$f":"LOOKUP(G37,Poängberäkning!$B$6:$B$97,Poängberäkning!$C$6:$C$97)","v":0},null,{"$f":"LOOKUP(I37,Poängberäkning!$B$6:$B$97,Poängberäkning!$C$6:$C$97)","v":0},null,{"$f":"LOOKUP(K37,Poängberäkning!$B$6:$B$97,Poängberäkning!$C$6:$C$97)","v":0},null,{"$f":"LOOKUP(M37,Poängberäkning!$B$6:$B$97,Poängberäkning!$C$6:$C$97)","v":0},15,{"$f":"LOOKUP(O37,Poängberäkning!$B$6:$B$97,Poängberäkning!$C$6:$C$97)","v":36},null,{"$f":"LOOKUP(Q37,[1]Poängberäkning!$B$6:$B$97,[1]Poängberäkning!$C$6:$C$97)","v":0},null,{"$f":"LOOKUP(S37,[1]Poängberäkning!$B$6:$B$97,[1]Poängberäkning!$C$6:$C$97)","v":0},null,{"$f":"LOOKUP(U37,[1]Poängberäkning!$B$6:$B$97,[1]Poängberäkning!$C$6:$C$97)","v":0},null,{"$f":"LOOKUP(W37,[1]Poängberäkning!$B$6:$B$97,[1]Poängberäkning!$C$6:$C$97)","v":0},{"$f":"LARGE(($H37,$J37,$L37,$N37,$P37,$R37,$T37,$V37,$X37),1)","v":36},{"$f":"LARGE(($H37,$J37,$L37,$N37,$P37,$R37,$T37,$V37,$X37),2)","v":0},{"$f":"LARGE(($H37,$J37,$L37,$N37,$P37,$R37,$T37,$V37,$X37),3)","v":0},{"$f":"LARGE(($H37,$J37,$L37,$N37,$P37,$R37,$T37,$V37,$X37),4)","v":0},{"$f":"LARGE(($H37,$J37,$L37,$N37,$P37,$R37,$T37,$V37,$X37),5)","v":0},{"$f":"LARGE(($H37,$J37,$L37,$N37,$P37,$R37,$T37,$V37,$X37),6)","v":0},{"$f":"LARGE(($H37,$J37,$L37,$N37,$P37,$R37,$T37,$V37,$X37),7)","v":0},{"$f":"LARGE(($H37,$J37,$L37,$N37,$P37,$R37,$T37,$V37,$X37),8)","v":0},{"$f":"LARGE(($H37,$J37,$L37,$N37,$P37,$R37,$T37,$V37,$X37),9)","v":0}]
[34,2004,"HELLERSTEDT Isak","IFK Sävsjö",35,35,null,{"$f":"LOOKUP(G38,Poängberäkning!$B$6:$B$97,Poängberäkning!$C$6:$C$97)","v":0},null,{"$f":"LOOKUP(I38,Poängberäkning!$B$6:$B$97,Poängberäkning!$C$6:$C$97)","v":0},null,{"$f":"LOOKUP(K38,Poängberäkning!$B$6:$B$97,Poängberäkning!$C$6:$C$97)","v":0},null,{"$f":"LOOKUP(M38,Poängberäkning!$B$6:$B$97,Poängberäkning!$C$6:$C$97)","v":0},16,{"$f":"LOOKUP(O38,Poängberäkning!$B$6:$B$97,Poängberäkning!$C$6:$C$97)","v":35},null,{"$f":"LOOKUP(Q38,[1]Poängberäkning!$B$6:$B$97,[1]Poängberäkning!$C$6:$C$97)","v":0},null,{"$f":"LOOKUP(S38,[1]Poängberäkning!$B$6:$B$97,[1]Poängberäkning!$C$6:$C$97)","v":0},null,{"$f":"LOOKUP(U38,[1]Poängberäkning!$B$6:$B$97,[1]Poängberäkning!$C$6:$C$97)","v":0},null,{"$f":"LOOKUP(W38,[1]Poängberäkning!$B$6:$B$97,[1]Poängberäkning!$C$6:$C$97)","v":0},{"$f":"LARGE(($H38,$J38,$L38,$N38,$P38,$R38,$T38,$V38,$X38),1)","v":35},{"$f":"LARGE(($H38,$J38,$L38,$N38,$P38,$R38,$T38,$V38,$X38),2)","v":0},{"$f":"LARGE(($H38,$J38,$L38,$N38,$P38,$R38,$T38,$V38,$X38),3)","v":0},{"$f":"LARGE(($H38,$J38,$L38,$N38,$P38,$R38,$T38,$V38,$X38),4)","v":0},{"$f":"LARGE(($H38,$J38,$L38,$N38,$P38,$R38,$T38,$V38,$X38),5)","v":0},{"$f":"LARGE(($H38,$J38,$L38,$N38,$P38,$R38,$T38,$V38,$X38),6)","v":0},{"$f":"LARGE(($H38,$J38,$L38,$N38,$P38,$R38,$T38,$V38,$X38),7)","v":0},{"$f":"LARGE(($H38,$J38,$L38,$N38,$P38,$R38,$T38,$V38,$X38),8)","v":0},{"$f":"LARGE(($H38,$J38,$L38,$N38,$P38,$R38,$T38,$V38,$X38),9)","v":0}]
[35,2004,"HERMANSSON Hugo","IFK Sävsjö",34,34,null,{"$f":"LOOKUP(G39,Poängberäkning!$B$6:$B$97,Poängberäkning!$C$6:$C$97)","v":0},null,{"$f":"LOOKUP(I39,Poängberäkning!$B$6:$B$97,Poängberäkning!$C$6:$C$97)","v":0},null,{"$f":"LOOKUP(K39,Poängberäkning!$B$6:$B$97,Poängberäkning!$C$6:$C$97)","v":0},null,{"$f":"LOOKUP(M39,Poängberäkning!$B$6:$B$97,Poängberäkning!$C$6:$C$97)","v":0},17,{"$f":"LOOKUP(O39,Poängberäkning!$B$6:$B$97,Poängberäkning!$C$6:$C$97)","v":34},null,{"$f":"LOOKUP(Q39,[1]Poängberäkning!$B$6:$B$97,[1]Poängberäkning!$C$6:$C$97)","v":0},null,{"$f":"LOOKUP(S39,[1]Poängberäkning!$B$6:$B$97,[1]Poängberäkning!$C$6:$C$97)","v":0},null,{"$f":"LOOKUP(U39,[1]Poängberäkning!$B$6:$B$97,[1]Poängberäkning!$C$6:$C$97)","v":0},null,{"$f":"LOOKUP(W39,[1]Poängberäkning!$B$6:$B$97,[1]Poängberäkning!$C$6:$C$97)","v":0},{"$f":"LARGE(($H39,$J39,$L39,$N39,$P39,$R39,$T39,$V39,$X39),1)","v":34},{"$f":"LARGE(($H39,$J39,$L39,$N39,$P39,$R39,$T39,$V39,$X39),2)","v":0},{"$f":"LARGE(($H39,$J39,$L39,$N39,$P39,$R39,$T39,$V39,$X39),3)","v":0},{"$f":"LARGE(($H39,$J39,$L39,$N39,$P39,$R39,$T39,$V39,$X39),4)","v":0},{"$f":"LARGE(($H39,$J39,$L39,$N39,$P39,$R39,$T39,$V39,$X39),5)","v":0},{"$f":"LARGE(($H39,$J39,$L39,$N39,$P39,$R39,$T39,$V39,$X39),6)","v":0},{"$f":"LARGE(($H39,$J39,$L39,$N39,$P39,$R39,$T39,$V39,$X39),7)","v":0},{"$f":"LARGE(($H39,$J39,$L39,$N39,$P39,$R39,$T39,$V39,$X39),8)","v":0},{"$f":"LARGE(($H39,$J39,$L39,$N39,$P39,$R39,$T39,$V39,$X39),9)","v":0}]
[36,2005,"ÅNGSTRÖM Erik","Uppsala SLK",31,31,null,{"$f":"LOOKUP(G40,Poängberäkning!$B$6:$B$97,Poängberäkning!$C$6:$C$97)","v":0},null,{"$f":"LOOKUP(I40,Poängberäkning!$B$6:$B$97,Poängberäkning!$C$6:$C$97)","v":0},null,{"$f":"LOOKUP(K40,Poängberäkning!$B$6:$B$97,Poängberäkning!$C$6:$C$97)","v":0},null,{"$f":"LOOKUP(M40,Poängberäkning!$B$6:$B$97,Poängberäkning!$C$6:$C$97)","v":0},20,{"$f":"LOOKUP(O40,Poängberäkning!$B$6:$B$97,Poängberäkning!$C$6:$C$97)","v":31},null,{"$f":"LOOKUP(Q40,[1]Poängberäkning!$B$6:$B$97,[1]Poängberäkning!$C$6:$C$97)","v":0},null,{"$f":"LOOKUP(S40,[1]Poängberäkning!$B$6:$B$97,[1]Poängberäkning!$C$6:$C$97)","v":0},null,{"$f":"LOOKUP(U40,[1]Poängberäkning!$B$6:$B$97,[1]Poängberäkning!$C$6:$C$97)","v":0},null,{"$f":"LOOKUP(W40,[1]Poängberäkning!$B$6:$B$97,[1]Poängberäkning!$C$6:$C$97)","v":0},{"$f":"LARGE(($H40,$J40,$L40,$N40,$P40,$R40,$T40,$V40,$X40),1)","v":31},{"$f":"LARGE(($H40,$J40,$L40,$N40,$P40,$R40,$T40,$V40,$X40),2)","v":0},{"$f":"LARGE(($H40,$J40,$L40,$N40,$P40,$R40,$T40,$V40,$X40),3)","v":0},{"$f":"LARGE(($H40,$J40,$L40,$N40,$P40,$R40,$T40,$V40,$X40),4)","v":0},{"$f":"LARGE(($H40,$J40,$L40,$N40,$P40,$R40,$T40,$V40,$X40),5)","v":0},{"$f":"LARGE(($H40,$J40,$L40,$N40,$P40,$R40,$T40,$V40,$X40),6)","v":0},{"$f":"LARGE(($H40,$J40,$L40,$N40,$P40,$R40,$T40,$V40,$X40),7)","v":0},{"$f":"LARGE(($H40,$J40,$L40,$N40,$P40,$R40,$T40,$V40,$X40),8)","v":0},{"$f":"LARGE(($H40,$J40,$L40,$N40,$P40,$R40,$T40,$V40,$X40),9)","v":0}]
[37,2004,"ELIASSON Noel","Arboga Alpina",29,29,null,{"$f":"LOOKUP(G41,Poängberäkning!$B$6:$B$97,Poängberäkning!$C$6:$C$97)","v":0},null,{"$f":"LOOKUP(I41,Poängberäkning!$B$6:$B$97,Poängberäkning!$C$6:$C$97)","v":0},null,{"$f":"LOOKUP(K41,Poängberäkning!$B$6:$B$97,Poängberäkning!$C$6:$C$97)","v":0},null,{"$f":"LOOKUP(M41,Poängberäkning!$B$6:$B$97,Poängberäkning!$C$6:$C$97)","v":0},22,{"$f":"LOOKUP(O41,Poängberäkning!$B$6:$B$97,Poängberäkning!$C$6:$C$97)","v":29},null,{"$f":"LOOKUP(Q41,[1]Poängberäkning!$B$6:$B$97,[1]Poängberäkning!$C$6:$C$97)","v":0},null,{"$f":"LOOKUP(S41,[1]Poängberäkning!$B$6:$B$97,[1]Poängberäkning!$C$6:$C$97)","v":0},null,{"$f":"LOOKUP(U41,[1]Poängberäkning!$B$6:$B$97,[1]Poängberäkning!$C$6:$C$97)","v":0},null,{"$f":"LOOKUP(W41,[1]Poängberäkning!$B$6:$B$97,[1]Poängberäkning!$C$6:$C$97)","v":0},{"$f":"LARGE(($H41,$J41,$L41,$N41,$P41,$R41,$T41,$V41,$X41),1)","v":29},{"$f":"LARGE(($H41,$J41,$L41,$N41,$P41,$R41,$T41,$V41,$X41),2)","v":0},{"$f":"LARGE(($H41,$J41,$L41,$N41,$P41,$R41,$T41,$V41,$X41),3)","v":0},{"$f":"LARGE(($H41,$J41,$L41,$N41,$P41,$R41,$T41,$V41,$X41),4)","v":0},{"$f":"LARGE(($H41,$J41,$L41,$N41,$P41,$R41,$T41,$V41,$X41),5)","v":0},{"$f":"LARGE(($H41,$J41,$L41,$N41,$P41,$R41,$T41,$V41,$X41),6)","v":0},{"$f":"LARGE(($H41,$J41,$L41,$N41,$P41,$R41,$T41,$V41,$X41),7)","v":0},{"$f":"LARGE(($H41,$J41,$L41,$N41,$P41,$R41,$T41,$V41,$X41),8)","v":0},{"$f":"LARGE(($H41,$J41,$L41,$N41,$P41,$R41,$T41,$V41,$X41),9)","v":0}]
[38,2004,"WIBORG Noel","Orsa Alpina Klubb",27,27,null,{"$f":"LOOKUP(G42,Poängberäkning!$B$6:$B$97,Poängberäkning!$C$6:$C$97)","v":0},null,{"$f":"LOOKUP(I42,Poängberäkning!$B$6:$B$97,Poängberäkning!$C$6:$C$97)","v":0},null,{"$f":"LOOKUP(K42,Poängberäkning!$B$6:$B$97,Poängberäkning!$C$6:$C$97)","v":0},null,{"$f":"LOOKUP(M42,Poängberäkning!$B$6:$B$97,Poängberäkning!$C$6:$C$97)","v":0},24,{"$f":"LOOKUP(O42,Poängberäkning!$B$6:$B$97,Poängberäkning!$C$6:$C$97)","v":27},null,{"$f":"LOOKUP(Q42,[1]Poängberäkning!$B$6:$B$97,[1]Poängberäkning!$C$6:$C$97)","v":0},null,{"$f":"LOOKUP(S42,[1]Poängberäkning!$B$6:$B$97,[1]Poängberäkning!$C$6:$C$97)","v":0},null,{"$f":"LOOKUP(U42,[1]Poängberäkning!$B$6:$B$97,[1]Poängberäkning!$C$6:$C$97)","v":0},null,{"$f":"LOOKUP(W42,[1]Poängberäkning!$B$6:$B$97,[1]Poängberäkning!$C$6:$C$97)","v":0},{"$f":"LARGE(($H42,$J42,$L42,$N42,$P42,$R42,$T42,$V42,$X42),1)","v":27},{"$f":"LARGE(($H42,$J42,$L42,$N42,$P42,$R42,$T42,$V42,$X42),2)","v":0},{"$f":"LARGE(($H42,$J42,$L42,$N42,$P42,$R42,$T42,$V42,$X42),3)","v":0},{"$f":"LARGE(($H42,$J42,$L42,$N42,$P42,$R42,$T42,$V42,$X42),4)","v":0},{"$f":"LARGE(($H42,$J42,$L42,$N42,$P42,$R42,$T42,$V42,$X42),5)","v":0},{"$f":"LARGE(($H42,$J42,$L42,$N42,$P42,$R42,$T42,$V42,$X42),6)","v":0},{"$f":"LARGE(($H42,$J42,$L42,$N42,$P42,$R42,$T42,$V42,$X42),7)","v":0},{"$f":"LARGE(($H42,$J42,$L42,$N42,$P42,$R42,$T42,$V42,$X42),8)","v":0},{"$f":"LARGE(($H42,$J42,$L42,$N42,$P42,$R42,$T42,$V42,$X42),9)","v":0}]
[39,2005,"OLLAS Filip","Edsbyns IF Alpina Förening",26,26,null,{"$f":"LOOKUP(G43,Poängberäkning!$B$6:$B$97,Poängberäkning!$C$6:$C$97)","v":0},null,{"$f":"LOOKUP(I43,Poängberäkning!$B$6:$B$97,Poängberäkning!$C$6:$C$97)","v":0},null,{"$f":"LOOKUP(K43,Poängberäkning!$B$6:$B$97,Poängberäkning!$C$6:$C$97)","v":0},null,{"$f":"LOOKUP(M43,Poängberäkning!$B$6:$B$97,Poängberäkning!$C$6:$C$97)","v":0},25,{"$f":"LOOKUP(O43,Poängberäkning!$B$6:$B$97,Poängberäkning!$C$6:$C$97)","v":26},null,{"$f":"LOOKUP(Q43,[1]Poängberäkning!$B$6:$B$97,[1]Poängberäkning!$C$6:$C$97)","v":0},null,{"$f":"LOOKUP(S43,[1]Poängberäkning!$B$6:$B$97,[1]Poängberäkning!$C$6:$C$97)","v":0},null,{"$f":"LOOKUP(U43,[1]Poängberäkning!$B$6:$B$97,[1]Poängberäkning!$C$6:$C$97)","v":0},null,{"$f":"LOOKUP(W43,[1]Poängberäkning!$B$6:$B$97,[1]Poängberäkning!$C$6:$C$97)","v":0},{"$f":"LARGE(($H43,$J43,$L43,$N43,$P43,$R43,$T43,$V43,$X43),1)","v":26},{"$f":"LARGE(($H43,$J43,$L43,$N43,$P43,$R43,$T43,$V43,$X43),2)","v":0},{"$f":"LARGE(($H43,$J43,$L43,$N43,$P43,$R43,$T43,$V43,$X43),3)","v":0},{"$f":"LARGE(($H43,$J43,$L43,$N43,$P43,$R43,$T43,$V43,$X43),4)","v":0},{"$f":"LARGE(($H43,$J43,$L43,$N43,$P43,$R43,$T43,$V43,$X43),5)","v":0},{"$f":"LARGE(($H43,$J43,$L43,$N43,$P43,$R43,$T43,$V43,$X43),6)","v":0},{"$f":"LARGE(($H43,$J43,$L43,$N43,$P43,$R43,$T43,$V43,$X43),7)","v":0},{"$f":"LARGE(($H43,$J43,$L43,$N43,$P43,$R43,$T43,$V43,$X43),8)","v":0},{"$f":"LARGE(($H43,$J43,$L43,$N43,$P43,$R43,$T43,$V43,$X43),9)","v":0}]
[40,2004,"BERGELIN Calle","Båsenberga SLK",25,25,null,{"$f":"LOOKUP(G44,Poängberäkning!$B$6:$B$97,Poängberäkning!$C$6:$C$97)","v":0},null,{"$f":"LOOKUP(I44,Poängberäkning!$B$6:$B$97,Poängberäkning!$C$6:$C$97)","v":0},null,{"$f":"LOOKUP(K44,Poängberäkning!$B$6:$B$97,Poängberäkning!$C$6:$C$97)","v":0},null,{"$f":"LOOKUP(M44,Poängberäkning!$B$6:$B$97,Poängberäkning!$C$6:$C$97)","v":0},26,{"$f":"LOOKUP(O44,Poängberäkning!$B$6:$B$97,Poängberäkning!$C$6:$C$97)","v":25},null,{"$f":"LOOKUP(Q44,[1]Poängberäkning!$B$6:$B$97,[1]Poängberäkning!$C$6:$C$97)","v":0},null,{"$f":"LOOKUP(S44,[1]Poängberäkning!$B$6:$B$97,[1]Poängberäkning!$C$6:$C$97)","v":0},null,{"$f":"LOOKUP(U44,[1]Poängberäkning!$B$6:$B$97,[1]Poängberäkning!$C$6:$C$97)","v":0},null,{"$f":"LOOKUP(W44,[1]Poängberäkning!$B$6:$B$97,[1]Poängberäkning!$C$6:$C$97)","v":0},{"$f":"LARGE(($H44,$J44,$L44,$N44,$P44,$R44,$T44,$V44,$X44),1)","v":25},{"$f":"LARGE(($H44,$J44,$L44,$N44,$P44,$R44,$T44,$V44,$X44),2)","v":0},{"$f":"LARGE(($H44,$J44,$L44,$N44,$P44,$R44,$T44,$V44,$X44),3)","v":0},{"$f":"LARGE(($H44,$J44,$L44,$N44,$P44,$R44,$T44,$V44,$X44),4)","v":0},{"$f":"LARGE(($H44,$J44,$L44,$N44,$P44,$R44,$T44,$V44,$X44),5)","v":0},{"$f":"LARGE(($H44,$J44,$L44,$N44,$P44,$R44,$T44,$V44,$X44),6)","v":0},{"$f":"LARGE(($H44,$J44,$L44,$N44,$P44,$R44,$T44,$V44,$X44),7)","v":0},{"$f":"LARGE(($H44,$J44,$L44,$N44,$P44,$R44,$T44,$V44,$X44),8)","v":0},{"$f":"LARGE(($H44,$J44,$L44,$N44,$P44,$R44,$T44,$V44,$X44),9)","v":0}]
[41,2004,"HJORTSTAM Aron","Västerås Slalomklubb",24,24,null,{"$f":"LOOKUP(G45,Poängberäkning!$B$6:$B$97,Poängberäkning!$C$6:$C$97)","v":0},null,{"$f":"LOOKUP(I45,Poängberäkning!$B$6:$B$97,Poängberäkning!$C$6:$C$97)","v":0},null,{"$f":"LOOKUP(K45,Poängberäkning!$B$6:$B$97,Poängberäkning!$C$6:$C$97)","v":0},null,{"$f":"LOOKUP(M45,Poängberäkning!$B$6:$B$97,Poängberäkning!$C$6:$C$97)","v":0},27,{"$f":"LOOKUP(O45,Poängberäkning!$B$6:$B$97,Poängberäkning!$C$6:$C$97)","v":24},null,{"$f":"LOOKUP(Q45,[1]Poängberäkning!$B$6:$B$97,[1]Poängberäkning!$C$6:$C$97)","v":0},null,{"$f":"LOOKUP(S45,[1]Poängberäkning!$B$6:$B$97,[1]Poängberäkning!$C$6:$C$97)","v":0},null,{"$f":"LOOKUP(U45,[1]Poängberäkning!$B$6:$B$97,[1]Poängberäkning!$C$6:$C$97)","v":0},null,{"$f":"LOOKUP(W45,[1]Poängberäkning!$B$6:$B$97,[1]Poängberäkning!$C$6:$C$97)","v":0},{"$f":"LARGE(($H45,$J45,$L45,$N45,$P45,$R45,$T45,$V45,$X45),1)","v":24},{"$f":"LARGE(($H45,$J45,$L45,$N45,$P45,$R45,$T45,$V45,$X45),2)","v":0},{"$f":"LARGE(($H45,$J45,$L45,$N45,$P45,$R45,$T45,$V45,$X45),3)","v":0},{"$f":"LARGE(($H45,$J45,$L45,$N45,$P45,$R45,$T45,$V45,$X45),4)","v":0},{"$f":"LARGE(($H45,$J45,$L45,$N45,$P45,$R45,$T45,$V45,$X45),5)","v":0},{"$f":"LARGE(($H45,$J45,$L45,$N45,$P45,$R45,$T45,$V45,$X45),6)","v":0},{"$f":"LARGE(($H45,$J45,$L45,$N45,$P45,$R45,$T45,$V45,$X45),7)","v":0},{"$f":"LARGE(($H45,$J45,$L45,$N45,$P45,$R45,$T45,$V45,$X45),8)","v":0},{"$f":"LARGE(($H45,$J45,$L45,$N45,$P45,$R45,$T45,$V45,$X45),9)","v":0}]
[42,2005,"NORDSTRÖM Hampus","Boge SLK",23,23,null,{"$f":"LOOKUP(G46,Poängberäkning!$B$6:$B$97,Poängberäkning!$C$6:$C$97)","v":0},null,{"$f":"LOOKUP(I46,Poängberäkning!$B$6:$B$97,Poängberäkning!$C$6:$C$97)","v":0},null,{"$f":"LOOKUP(K46,Poängberäkning!$B$6:$B$97,Poängberäkning!$C$6:$C$97)","v":0},null,{"$f":"LOOKUP(M46,Poängberäkning!$B$6:$B$97,Poängberäkning!$C$6:$C$97)","v":0},28,{"$f":"LOOKUP(O46,Poängberäkning!$B$6:$B$97,Poängberäkning!$C$6:$C$97)","v":23},null,{"$f":"LOOKUP(Q46,[1]Poängberäkning!$B$6:$B$97,[1]Poängberäkning!$C$6:$C$97)","v":0},null,{"$f":"LOOKUP(S46,[1]Poängberäkning!$B$6:$B$97,[1]Poängberäkning!$C$6:$C$97)","v":0},null,{"$f":"LOOKUP(U46,[1]Poängberäkning!$B$6:$B$97,[1]Poängberäkning!$C$6:$C$97)","v":0},null,{"$f":"LOOKUP(W46,[1]Poängberäkning!$B$6:$B$97,[1]Poängberäkning!$C$6:$C$97)","v":0},{"$f":"LARGE(($H46,$J46,$L46,$N46,$P46,$R46,$T46,$V46,$X46),1)","v":23},{"$f":"LARGE(($H46,$J46,$L46,$N46,$P46,$R46,$T46,$V46,$X46),2)","v":0},{"$f":"LARGE(($H46,$J46,$L46,$N46,$P46,$R46,$T46,$V46,$X46),3)","v":0},{"$f":"LARGE(($H46,$J46,$L46,$N46,$P46,$R46,$T46,$V46,$X46),4)","v":0},{"$f":"LARGE(($H46,$J46,$L46,$N46,$P46,$R46,$T46,$V46,$X46),5)","v":0},{"$f":"LARGE(($H46,$J46,$L46,$N46,$P46,$R46,$T46,$V46,$X46),6)","v":0},{"$f":"LARGE(($H46,$J46,$L46,$N46,$P46,$R46,$T46,$V46,$X46),7)","v":0},{"$f":"LARGE(($H46,$J46,$L46,$N46,$P46,$R46,$T46,$V46,$X46),8)","v":0},{"$f":"LARGE(($H46,$J46,$L46,$N46,$P46,$R46,$T46,$V46,$X46),9)","v":0}]
[43,2005,"JÖNSSON Albin","IFK Sävsjö",22,22,null,{"$f":"LOOKUP(G47,Poängberäkning!$B$6:$B$97,Poängberäkning!$C$6:$C$97)","v":0},null,{"$f":"LOOKUP(I47,Poängberäkning!$B$6:$B$97,Poängberäkning!$C$6:$C$97)","v":0},null,{"$f":"LOOKUP(K47,Poängberäkning!$B$6:$B$97,Poängberäkning!$C$6:$C$97)","v":0},null,{"$f":"LOOKUP(M47,Poängberäkning!$B$6:$B$97,Poängberäkning!$C$6:$C$97)","v":0},29,{"$f":"LOOKUP(O47,Poängberäkning!$B$6:$B$97,Poängberäkning!$C$6:$C$97)","v":22},null,{"$f":"LOOKUP(Q47,[1]Poängberäkning!$B$6:$B$97,[1]Poängberäkning!$C$6:$C$97)","v":0},null,{"$f":"LOOKUP(S47,[1]Poängberäkning!$B$6:$B$97,[1]Poängberäkning!$C$6:$C$97)","v":0},null,{"$f":"LOOKUP(U47,[1]Poängberäkning!$B$6:$B$97,[1]Poängberäkning!$C$6:$C$97)","v":0},null,{"$f":"LOOKUP(W47,[1]Poängberäkning!$B$6:$B$97,[1]Poängberäkning!$C$6:$C$97)","v":0},{"$f":"LARGE(($H47,$J47,$L47,$N47,$P47,$R47,$T47,$V47,$X47),1)","v":22},{"$f":"LARGE(($H47,$J47,$L47,$N47,$P47,$R47,$T47,$V47,$X47),2)","v":0},{"$f":"LARGE(($H47,$J47,$L47,$N47,$P47,$R47,$T47,$V47,$X47),3)","v":0},{"$f":"LARGE(($H47,$J47,$L47,$N47,$P47,$R47,$T47,$V47,$X47),4)","v":0},{"$f":"LARGE(($H47,$J47,$L47,$N47,$P47,$R47,$T47,$V47,$X47),5)","v":0},{"$f":"LARGE(($H47,$J47,$L47,$N47,$P47,$R47,$T47,$V47,$X47),6)","v":0},{"$f":"LARGE(($H47,$J47,$L47,$N47,$P47,$R47,$T47,$V47,$X47),7)","v":0},{"$f":"LARGE(($H47,$J47,$L47,$N47,$P47,$R47,$T47,$V47,$X47),8)","v":0},{"$f":"LARGE(($H47,$J47,$L47,$N47,$P47,$R47,$T47,$V47,$X47),9)","v":0}]
[44,2005,"PETTERSSON August","IFK Grängesberg AK",21,21,null,{"$f":"LOOKUP(G48,Poängberäkning!$B$6:$B$97,Poängberäkning!$C$6:$C$97)","v":0},null,{"$f":"LOOKUP(I48,Poängberäkning!$B$6:$B$97,Poängberäkning!$C$6:$C$97)","v":0},null,{"$f":"LOOKUP(K48,Poängberäkning!$B$6:$B$97,Poängberäkning!$C$6:$C$97)","v":0},99,{"$f":"LOOKUP(M48,Poängberäkning!$B$6:$B$97,Poängberäkning!$C$6:$C$97)","v":0},30,{"$f":"LOOKUP(O48,Poängberäkning!$B$6:$B$97,Poängberäkning!$C$6:$C$97)","v":21},null,{"$f":"LOOKUP(Q48,[1]Poängberäkning!$B$6:$B$97,[1]Poängberäkning!$C$6:$C$97)","v":0},null,{"$f":"LOOKUP(S48,[1]Poängberäkning!$B$6:$B$97,[1]Poängberäkning!$C$6:$C$97)","v":0},null,{"$f":"LOOKUP(U48,[1]Poängberäkning!$B$6:$B$97,[1]Poängberäkning!$C$6:$C$97)","v":0},null,{"$f":"LOOKUP(W48,[1]Poängberäkning!$B$6:$B$97,[1]Poängberäkning!$C$6:$C$97)","v":0},{"$f":"LARGE(($H48,$J48,$L48,$N48,$P48,$R48,$T48,$V48,$X48),1)","v":21},{"$f":"LARGE(($H48,$J48,$L48,$N48,$P48,$R48,$T48,$V48,$X48),2)","v":0},{"$f":"LARGE(($H48,$J48,$L48,$N48,$P48,$R48,$T48,$V48,$X48),3)","v":0},{"$f":"LARGE(($H48,$J48,$L48,$N48,$P48,$R48,$T48,$V48,$X48),4)","v":0},{"$f":"LARGE(($H48,$J48,$L48,$N48,$P48,$R48,$T48,$V48,$X48),5)","v":0},{"$f":"LARGE(($H48,$J48,$L48,$N48,$P48,$R48,$T48,$V48,$X48),6)","v":0},{"$f":"LARGE(($H48,$J48,$L48,$N48,$P48,$R48,$T48,$V48,$X48),7)","v":0},{"$f":"LARGE(($H48,$J48,$L48,$N48,$P48,$R48,$T48,$V48,$X48),8)","v":0},{"$f":"LARGE(($H48,$J48,$L48,$N48,$P48,$R48,$T48,$V48,$X48),9)","v":0}]
[45,2004,"EKELUND Isak","Gävle Alpina SK",20,20,null,{"$f":"LOOKUP(G49,Poängberäkning!$B$6:$B$97,Poängberäkning!$C$6:$C$97)","v":0},null,{"$f":"LOOKUP(I49,Poängberäkning!$B$6:$B$97,Poängberäkning!$C$6:$C$97)","v":0},null,{"$f":"LOOKUP(K49,Poängberäkning!$B$6:$B$97,Poängberäkning!$C$6:$C$97)","v":0},null,{"$f":"LOOKUP(M49,Poängberäkning!$B$6:$B$97,Poängberäkning!$C$6:$C$97)","v":0},31,{"$f":"LOOKUP(O49,Poängberäkning!$B$6:$B$97,Poängberäkning!$C$6:$C$97)","v":20},null,{"$f":"LOOKUP(Q49,[1]Poängberäkning!$B$6:$B$97,[1]Poängberäkning!$C$6:$C$97)","v":0},null,{"$f":"LOOKUP(S49,[1]Poängberäkning!$B$6:$B$97,[1]Poängberäkning!$C$6:$C$97)","v":0},null,{"$f":"LOOKUP(U49,[1]Poängberäkning!$B$6:$B$97,[1]Poängberäkning!$C$6:$C$97)","v":0},null,{"$f":"LOOKUP(W49,[1]Poängberäkning!$B$6:$B$97,[1]Poängberäkning!$C$6:$C$97)","v":0},{"$f":"LARGE(($H49,$J49,$L49,$N49,$P49,$R49,$T49,$V49,$X49),1)","v":20},{"$f":"LARGE(($H49,$J49,$L49,$N49,$P49,$R49,$T49,$V49,$X49),2)","v":0},{"$f":"LARGE(($H49,$J49,$L49,$N49,$P49,$R49,$T49,$V49,$X49),3)","v":0},{"$f":"LARGE(($H49,$J49,$L49,$N49,$P49,$R49,$T49,$V49,$X49),4)","v":0},{"$f":"LARGE(($H49,$J49,$L49,$N49,$P49,$R49,$T49,$V49,$X49),5)","v":0},{"$f":"LARGE(($H49,$J49,$L49,$N49,$P49,$R49,$T49,$V49,$X49),6)","v":0},{"$f":"LARGE(($H49,$J49,$L49,$N49,$P49,$R49,$T49,$V49,$X49),7)","v":0},{"$f":"LARGE(($H49,$J49,$L49,$N49,$P49,$R49,$T49,$V49,$X49),8)","v":0},{"$f":"LARGE(($H49,$J49,$L49,$N49,$P49,$R49,$T49,$V49,$X49),9)","v":0}]
[46,2005,"LODIN Edvin","Branäs AK",19,19,null,{"$f":"LOOKUP(G50,Poängberäkning!$B$6:$B$97,Poängberäkning!$C$6:$C$97)","v":0},null,{"$f":"LOOKUP(I50,Poängberäkning!$B$6:$B$97,Poängberäkning!$C$6:$C$97)","v":0},null,{"$f":"LOOKUP(K50,Poängberäkning!$B$6:$B$97,Poängberäkning!$C$6:$C$97)","v":0},null,{"$f":"LOOKUP(M50,Poängberäkning!$B$6:$B$97,Poängberäkning!$C$6:$C$97)","v":0},32,{"$f":"LOOKUP(O50,Poängberäkning!$B$6:$B$97,Poängberäkning!$C$6:$C$97)","v":19},null,{"$f":"LOOKUP(Q50,[1]Poängberäkning!$B$6:$B$97,[1]Poängberäkning!$C$6:$C$97)","v":0},null,{"$f":"LOOKUP(S50,[1]Poängberäkning!$B$6:$B$97,[1]Poängberäkning!$C$6:$C$97)","v":0},null,{"$f":"LOOKUP(U50,[1]Poängberäkning!$B$6:$B$97,[1]Poängberäkning!$C$6:$C$97)","v":0},null,{"$f":"LOOKUP(W50,[1]Poängberäkning!$B$6:$B$97,[1]Poängberäkning!$C$6:$C$97)","v":0},{"$f":"LARGE(($H50,$J50,$L50,$N50,$P50,$R50,$T50,$V50,$X50),1)","v":19},{"$f":"LARGE(($H50,$J50,$L50,$N50,$P50,$R50,$T50,$V50,$X50),2)","v":0},{"$f":"LARGE(($H50,$J50,$L50,$N50,$P50,$R50,$T50,$V50,$X50),3)","v":0},{"$f":"LARGE(($H50,$J50,$L50,$N50,$P50,$R50,$T50,$V50,$X50),4)","v":0},{"$f":"LARGE(($H50,$J50,$L50,$N50,$P50,$R50,$T50,$V50,$X50),5)","v":0},{"$f":"LARGE(($H50,$J50,$L50,$N50,$P50,$R50,$T50,$V50,$X50),6)","v":0},{"$f":"LARGE(($H50,$J50,$L50,$N50,$P50,$R50,$T50,$V50,$X50),7)","v":0},{"$f":"LARGE(($H50,$J50,$L50,$N50,$P50,$R50,$T50,$V50,$X50),8)","v":0},{"$f":"LARGE(($H50,$J50,$L50,$N50,$P50,$R50,$T50,$V50,$X50),9)","v":0}]
[47,2004,"FÜHR Adrian","Båsenberga SLK",0,0,null,{"$f":"LOOKUP(G51,Poängberäkning!$B$6:$B$97,Poängberäkning!$C$6:$C$97)","v":0},null,{"$f":"LOOKUP(I51,Poängberäkning!$B$6:$B$97,Poängberäkning!$C$6:$C$97)","v":0},null,{"$f":"LOOKUP(K51,Poängberäkning!$B$6:$B$97,Poängberäkning!$C$6:$C$97)","v":0},null,{"$f":"LOOKUP(M51,Poängberäkning!$B$6:$B$97,Poängberäkning!$C$6:$C$97)","v":0},99,{"$f":"LOOKUP(O51,Poängberäkning!$B$6:$B$97,Poängberäkning!$C$6:$C$97)","v":0},null,{"$f":"LOOKUP(Q51,[1]Poängberäkning!$B$6:$B$97,[1]Poängberäkning!$C$6:$C$97)","v":0},null,{"$f":"LOOKUP(S51,[1]Poängberäkning!$B$6:$B$97,[1]Poängberäkning!$C$6:$C$97)","v":0},null,{"$f":"LOOKUP(U51,[1]Poängberäkning!$B$6:$B$97,[1]Poängberäkning!$C$6:$C$97)","v":0},null,{"$f":"LOOKUP(W51,[1]Poängberäkning!$B$6:$B$97,[1]Poängberäkning!$C$6:$C$97)","v":0},{"$f":"LARGE(($H51,$J51,$L51,$N51,$P51,$R51,$T51,$V51,$X51),1)","v":0},{"$f":"LARGE(($H51,$J51,$L51,$N51,$P51,$R51,$T51,$V51,$X51),2)","v":0},{"$f":"LARGE(($H51,$J51,$L51,$N51,$P51,$R51,$T51,$V51,$X51),3)","v":0},{"$f":"LARGE(($H51,$J51,$L51,$N51,$P51,$R51,$T51,$V51,$X51),4)","v":0},{"$f":"LARGE(($H51,$J51,$L51,$N51,$P51,$R51,$T51,$V51,$X51),5)","v":0},{"$f":"LARGE(($H51,$J51,$L51,$N51,$P51,$R51,$T51,$V51,$X51),6)","v":0},{"$f":"LARGE(($H51,$J51,$L51,$N51,$P51,$R51,$T51,$V51,$X51),7)","v":0},{"$f":"LARGE(($H51,$J51,$L51,$N51,$P51,$R51,$T51,$V51,$X51),8)","v":0},{"$f":"LARGE(($H51,$J51,$L51,$N51,$P51,$R51,$T51,$V51,$X51),9)","v":0}]
[48,2005,"MÅNSSON Arthur","Täby SLK",0,0,null,{"$f":"LOOKUP(G52,Poängberäkning!$B$6:$B$97,Poängberäkning!$C$6:$C$97)","v":0},null,{"$f":"LOOKUP(I52,Poängberäkning!$B$6:$B$97,Poängberäkning!$C$6:$C$97)","v":0},null,{"$f":"LOOKUP(K52,Poängberäkning!$B$6:$B$97,Poängberäkning!$C$6:$C$97)","v":0},null,{"$f":"LOOKUP(M52,Poängberäkning!$B$6:$B$97,Poängberäkning!$C$6:$C$97)","v":0},99,{"$f":"LOOKUP(O52,Poängberäkning!$B$6:$B$97,Poängberäkning!$C$6:$C$97)","v":0},null,{"$f":"LOOKUP(Q52,[1]Poängberäkning!$B$6:$B$97,[1]Poängberäkning!$C$6:$C$97)","v":0},null,{"$f":"LOOKUP(S52,[1]Poängberäkning!$B$6:$B$97,[1]Poängberäkning!$C$6:$C$97)","v":0},null,{"$f":"LOOKUP(U52,[1]Poängberäkning!$B$6:$B$97,[1]Poängberäkning!$C$6:$C$97)","v":0},null,{"$f":"LOOKUP(W52,[1]Poängberäkning!$B$6:$B$97,[1]Poängberäkning!$C$6:$C$97)","v":0},{"$f":"LARGE(($H52,$J52,$L52,$N52,$P52,$R52,$T52,$V52,$X52),1)","v":0},{"$f":"LARGE(($H52,$J52,$L52,$N52,$P52,$R52,$T52,$V52,$X52),2)","v":0},{"$f":"LARGE(($H52,$J52,$L52,$N52,$P52,$R52,$T52,$V52,$X52),3)","v":0},{"$f":"LARGE(($H52,$J52,$L52,$N52,$P52,$R52,$T52,$V52,$X52),4)","v":0},{"$f":"LARGE(($H52,$J52,$L52,$N52,$P52,$R52,$T52,$V52,$X52),5)","v":0},{"$f":"LARGE(($H52,$J52,$L52,$N52,$P52,$R52,$T52,$V52,$X52),6)","v":0},{"$f":"LARGE(($H52,$J52,$L52,$N52,$P52,$R52,$T52,$V52,$X52),7)","v":0},{"$f":"LARGE(($H52,$J52,$L52,$N52,$P52,$R52,$T52,$V52,$X52),8)","v":0},{"$f":"LARGE(($H52,$J52,$L52,$N52,$P52,$R52,$T52,$V52,$X52),9)","v":0}]
[49,2004,"PETERSSON Sam","Kungsbergets AK",0,0,null,{"$f":"LOOKUP(G53,Poängberäkning!$B$6:$B$97,Poängberäkning!$C$6:$C$97)","v":0},null,{"$f":"LOOKUP(I53,Poängberäkning!$B$6:$B$97,Poängberäkning!$C$6:$C$97)","v":0},null,{"$f":"LOOKUP(K53,Poängberäkning!$B$6:$B$97,Poängberäkning!$C$6:$C$97)","v":0},null,{"$f":"LOOKUP(M53,Poängberäkning!$B$6:$B$97,Poängberäkning!$C$6:$C$97)","v":0},99,{"$f":"LOOKUP(O53,Poängberäkning!$B$6:$B$97,Poängberäkning!$C$6:$C$97)","v":0},null,{"$f":"LOOKUP(Q53,[1]Poängberäkning!$B$6:$B$97,[1]Poängberäkning!$C$6:$C$97)","v":0},null,{"$f":"LOOKUP(S53,[1]Poängberäkning!$B$6:$B$97,[1]Poängberäkning!$C$6:$C$97)","v":0},null,{"$f":"LOOKUP(U53,[1]Poängberäkning!$B$6:$B$97,[1]Poängberäkning!$C$6:$C$97)","v":0},null,{"$f":"LOOKUP(W53,[1]Poängberäkning!$B$6:$B$97,[1]Poängberäkning!$C$6:$C$97)","v":0},{"$f":"LARGE(($H53,$J53,$L53,$N53,$P53,$R53,$T53,$V53,$X53),1)","v":0},{"$f":"LARGE(($H53,$J53,$L53,$N53,$P53,$R53,$T53,$V53,$X53),2)","v":0},{"$f":"LARGE(($H53,$J53,$L53,$N53,$P53,$R53,$T53,$V53,$X53),3)","v":0},{"$f":"LARGE(($H53,$J53,$L53,$N53,$P53,$R53,$T53,$V53,$X53),4)","v":0},{"$f":"LARGE(($H53,$J53,$L53,$N53,$P53,$R53,$T53,$V53,$X53),5)","v":0},{"$f":"LARGE(($H53,$J53,$L53,$N53,$P53,$R53,$T53,$V53,$X53),6)","v":0},{"$f":"LARGE(($H53,$J53,$L53,$N53,$P53,$R53,$T53,$V53,$X53),7)","v":0},{"$f":"LARGE(($H53,$J53,$L53,$N53,$P53,$R53,$T53,$V53,$X53),8)","v":0},{"$f":"LARGE(($H53,$J53,$L53,$N53,$P53,$R53,$T53,$V53,$X53),9)","v":0}]
[50,2004,"SVED Nils","IF Hudik Alpin",0,0,null,{"$f":"LOOKUP(G54,Poängberäkning!$B$6:$B$97,Poängberäkning!$C$6:$C$97)","v":0},null,{"$f":"LOOKUP(I54,Poängberäkning!$B$6:$B$97,Poängberäkning!$C$6:$C$97)","v":0},null,{"$f":"LOOKUP(K54,Poängberäkning!$B$6:$B$97,Poängberäkning!$C$6:$C$97)","v":0},null,{"$f":"LOOKUP(M54,Poängberäkning!$B$6:$B$97,Poängberäkning!$C$6:$C$97)","v":0},99,{"$f":"LOOKUP(O54,Poängberäkning!$B$6:$B$97,Poängberäkning!$C$6:$C$97)","v":0},null,{"$f":"LOOKUP(Q54,[1]Poängberäkning!$B$6:$B$97,[1]Poängberäkning!$C$6:$C$97)","v":0},null,{"$f":"LOOKUP(S54,[1]Poängberäkning!$B$6:$B$97,[1]Poängberäkning!$C$6:$C$97)","v":0},null,{"$f":"LOOKUP(U54,[1]Poängberäkning!$B$6:$B$97,[1]Poängberäkning!$C$6:$C$97)","v":0},null,{"$f":"LOOKUP(W54,[1]Poängberäkning!$B$6:$B$97,[1]Poängberäkning!$C$6:$C$97)","v":0},{"$f":"LARGE(($H54,$J54,$L54,$N54,$P54,$R54,$T54,$V54,$X54),1)","v":0},{"$f":"LARGE(($H54,$J54,$L54,$N54,$P54,$R54,$T54,$V54,$X54),2)","v":0},{"$f":"LARGE(($H54,$J54,$L54,$N54,$P54,$R54,$T54,$V54,$X54),3)","v":0},{"$f":"LARGE(($H54,$J54,$L54,$N54,$P54,$R54,$T54,$V54,$X54),4)","v":0},{"$f":"LARGE(($H54,$J54,$L54,$N54,$P54,$R54,$T54,$V54,$X54),5)","v":0},{"$f":"LARGE(($H54,$J54,$L54,$N54,$P54,$R54,$T54,$V54,$X54),6)","v":0},{"$f":"LARGE(($H54,$J54,$L54,$N54,$P54,$R54,$T54,$V54,$X54),7)","v":0},{"$f":"LARGE(($H54,$J54,$L54,$N54,$P54,$R54,$T54,$V54,$X54),8)","v":0},{"$f":"LARGE(($H54,$J54,$L54,$N54,$P54,$R54,$T54,$V54,$X54),9)","v":0}]
[51,2004,"NOACK Felix","Gävle Alpina SK",0,0,null,{"$f":"LOOKUP(G55,Poängberäkning!$B$6:$B$97,Poängberäkning!$C$6:$C$97)","v":0},null,{"$f":"LOOKUP(I55,Poängberäkning!$B$6:$B$97,Poängberäkning!$C$6:$C$97)","v":0},null,{"$f":"LOOKUP(K55,Poängberäkning!$B$6:$B$97,Poängberäkning!$C$6:$C$97)","v":0},99,{"$f":"LOOKUP(M55,Poängberäkning!$B$6:$B$97,Poängberäkning!$C$6:$C$97)","v":0},null,{"$f":"LOOKUP(O55,Poängberäkning!$B$6:$B$97,Poängberäkning!$C$6:$C$97)","v":0},null,{"$f":"LOOKUP(Q55,[1]Poängberäkning!$B$6:$B$97,[1]Poängberäkning!$C$6:$C$97)","v":0},null,{"$f":"LOOKUP(S55,[1]Poängberäkning!$B$6:$B$97,[1]Poängberäkning!$C$6:$C$97)","v":0},null,{"$f":"LOOKUP(U55,[1]Poängberäkning!$B$6:$B$97,[1]Poängberäkning!$C$6:$C$97)","v":0},null,{"$f":"LOOKUP(W55,[1]Poängberäkning!$B$6:$B$97,[1]Poängberäkning!$C$6:$C$97)","v":0},{"$f":"LARGE(($H55,$J55,$L55,$N55,$P55,$R55,$T55,$V55,$X55),1)","v":0},{"$f":"LARGE(($H55,$J55,$L55,$N55,$P55,$R55,$T55,$V55,$X55),2)","v":0},{"$f":"LARGE(($H55,$J55,$L55,$N55,$P55,$R55,$T55,$V55,$X55),3)","v":0},{"$f":"LARGE(($H55,$J55,$L55,$N55,$P55,$R55,$T55,$V55,$X55),4)","v":0},{"$f":"LARGE(($H55,$J55,$L55,$N55,$P55,$R55,$T55,$V55,$X55),5)","v":0},{"$f":"LARGE(($H55,$J55,$L55,$N55,$P55,$R55,$T55,$V55,$X55),6)","v":0},{"$f":"LARGE(($H55,$J55,$L55,$N55,$P55,$R55,$T55,$V55,$X55),7)","v":0},{"$f":"LARGE(($H55,$J55,$L55,$N55,$P55,$R55,$T55,$V55,$X55),8)","v":0},{"$f":"LARGE(($H55,$J55,$L55,$N55,$P55,$R55,$T55,$V55,$X55),9)","v":0}]
[52,2004,"PETTERSSON NOORD Nils","IFK Lidingö Slalomklubb",0,0,null,{"$f":"LOOKUP(G56,Poängberäkning!$B$6:$B$97,Poängberäkning!$C$6:$C$97)","v":0},null,{"$f":"LOOKUP(I56,Poängberäkning!$B$6:$B$97,Poängberäkning!$C$6:$C$97)","v":0},null,{"$f":"LOOKUP(K56,Poängberäkning!$B$6:$B$97,Poängberäkning!$C$6:$C$97)","v":0},99,{"$f":"LOOKUP(M56,Poängberäkning!$B$6:$B$97,Poängberäkning!$C$6:$C$97)","v":0},null,{"$f":"LOOKUP(O56,Poängberäkning!$B$6:$B$97,Poängberäkning!$C$6:$C$97)","v":0},null,{"$f":"LOOKUP(Q56,[1]Poängberäkning!$B$6:$B$97,[1]Poängberäkning!$C$6:$C$97)","v":0},null,{"$f":"LOOKUP(S56,[1]Poängberäkning!$B$6:$B$97,[1]Poängberäkning!$C$6:$C$97)","v":0},null,{"$f":"LOOKUP(U56,[1]Poängberäkning!$B$6:$B$97,[1]Poängberäkning!$C$6:$C$97)","v":0},null,{"$f":"LOOKUP(W56,[1]Poängberäkning!$B$6:$B$97,[1]Poängberäkning!$C$6:$C$97)","v":0},{"$f":"LARGE(($H56,$J56,$L56,$N56,$P56,$R56,$T56,$V56,$X56),1)","v":0},{"$f":"LARGE(($H56,$J56,$L56,$N56,$P56,$R56,$T56,$V56,$X56),2)","v":0},{"$f":"LARGE(($H56,$J56,$L56,$N56,$P56,$R56,$T56,$V56,$X56),3)","v":0},{"$f":"LARGE(($H56,$J56,$L56,$N56,$P56,$R56,$T56,$V56,$X56),4)","v":0},{"$f":"LARGE(($H56,$J56,$L56,$N56,$P56,$R56,$T56,$V56,$X56),5)","v":0},{"$f":"LARGE(($H56,$J56,$L56,$N56,$P56,$R56,$T56,$V56,$X56),6)","v":0},{"$f":"LARGE(($H56,$J56,$L56,$N56,$P56,$R56,$T56,$V56,$X56),7)","v":0},{"$f":"LARGE(($H56,$J56,$L56,$N56,$P56,$R56,$T56,$V56,$X56),8)","v":0},{"$f":"LARGE(($H56,$J56,$L56,$N56,$P56,$R56,$T56,$V56,$X56),9)","v":0}]
[53,2004,"REYNIER Lucas","Djurgårdens IF AF",0,0,null,{"$f":"LOOKUP(G57,Poängberäkning!$B$6:$B$97,Poängberäkning!$C$6:$C$97)","v":0},null,{"$f":"LOOKUP(I57,Poängberäkning!$B$6:$B$97,Poängberäkning!$C$6:$C$97)","v":0},null,{"$f":"LOOKUP(K57,Poängberäkning!$B$6:$B$97,Poängberäkning!$C$6:$C$97)","v":0},null,{"$f":"LOOKUP(M57,Poängberäkning!$B$6:$B$97,Poängberäkning!$C$6:$C$97)","v":0},null,{"$f":"LOOKUP(O57,Poängberäkning!$B$6:$B$97,Poängberäkning!$C$6:$C$97)","v":0},null,{"$f":"LOOKUP(Q57,[1]Poängberäkning!$B$6:$B$97,[1]Poängberäkning!$C$6:$C$97)","v":0},null,{"$f":"LOOKUP(S57,[1]Poängberäkning!$B$6:$B$97,[1]Poängberäkning!$C$6:$C$97)","v":0},null,{"$f":"LOOKUP(U57,[1]Poängberäkning!$B$6:$B$97,[1]Poängberäkning!$C$6:$C$97)","v":0},null,{"$f":"LOOKUP(W57,[1]Poängberäkning!$B$6:$B$97,[1]Poängberäkning!$C$6:$C$97)","v":0},{"$f":"LARGE(($H57,$J57,$L57,$N57,$P57,$R57,$T57,$V57,$X57),1)","v":0},{"$f":"LARGE(($H57,$J57,$L57,$N57,$P57,$R57,$T57,$V57,$X57),2)","v":0},{"$f":"LARGE(($H57,$J57,$L57,$N57,$P57,$R57,$T57,$V57,$X57),3)","v":0},{"$f":"LARGE(($H57,$J57,$L57,$N57,$P57,$R57,$T57,$V57,$X57),4)","v":0},{"$f":"LARGE(($H57,$J57,$L57,$N57,$P57,$R57,$T57,$V57,$X57),5)","v":0},{"$f":"LARGE(($H57,$J57,$L57,$N57,$P57,$R57,$T57,$V57,$X57),6)","v":0},{"$f":"LARGE(($H57,$J57,$L57,$N57,$P57,$R57,$T57,$V57,$X57),7)","v":0},{"$f":"LARGE(($H57,$J57,$L57,$N57,$P57,$R57,$T57,$V57,$X57),8)","v":0},{"$f":"LARGE(($H57,$J57,$L57,$N57,$P57,$R57,$T57,$V57,$X57),9)","v":0}]
[54,2005,"VESTBERG Rasmus","Väst Alpin SK Göteborg",0,0,null,{"$f":"LOOKUP(G58,Poängberäkning!$B$6:$B$97,Poängberäkning!$C$6:$C$97)","v":0},null,{"$f":"LOOKUP(I58,Poängberäkning!$B$6:$B$97,Poängberäkning!$C$6:$C$97)","v":0},null,{"$f":"LOOKUP(K58,Poängberäkning!$B$6:$B$97,Poängberäkning!$C$6:$C$97)","v":0},null,{"$f":"LOOKUP(M58,Poängberäkning!$B$6:$B$97,Poängberäkning!$C$6:$C$97)","v":0},null,{"$f":"LOOKUP(O58,Poängberäkning!$B$6:$B$97,Poängberäkning!$C$6:$C$97)","v":0},null,{"$f":"LOOKUP(Q58,[1]Poängberäkning!$B$6:$B$97,[1]Poängberäkning!$C$6:$C$97)","v":0},null,{"$f":"LOOKUP(S58,[1]Poängberäkning!$B$6:$B$97,[1]Poängberäkning!$C$6:$C$97)","v":0},null,{"$f":"LOOKUP(U58,[1]Poängberäkning!$B$6:$B$97,[1]Poängberäkning!$C$6:$C$97)","v":0},null,{"$f":"LOOKUP(W58,[1]Poängberäkning!$B$6:$B$97,[1]Poängberäkning!$C$6:$C$97)","v":0},{"$f":"LARGE(($H58,$J58,$L58,$N58,$P58,$R58,$T58,$V58,$X58),1)","v":0},{"$f":"LARGE(($H58,$J58,$L58,$N58,$P58,$R58,$T58,$V58,$X58),2)","v":0},{"$f":"LARGE(($H58,$J58,$L58,$N58,$P58,$R58,$T58,$V58,$X58),3)","v":0},{"$f":"LARGE(($H58,$J58,$L58,$N58,$P58,$R58,$T58,$V58,$X58),4)","v":0},{"$f":"LARGE(($H58,$J58,$L58,$N58,$P58,$R58,$T58,$V58,$X58),5)","v":0},{"$f":"LARGE(($H58,$J58,$L58,$N58,$P58,$R58,$T58,$V58,$X58),6)","v":0},{"$f":"LARGE(($H58,$J58,$L58,$N58,$P58,$R58,$T58,$V58,$X58),7)","v":0},{"$f":"LARGE(($H58,$J58,$L58,$N58,$P58,$R58,$T58,$V58,$X58),8)","v":0},{"$f":"LARGE(($H58,$J58,$L58,$N58,$P58,$R58,$T58,$V58,$X58),9)","v":0}]
[55,null,null,null,0,0,null,{"$f":"LOOKUP(G59,Poängberäkning!$B$6:$B$97,Poängberäkning!$C$6:$C$97)","v":0},null,{"$f":"LOOKUP(I59,Poängberäkning!$B$6:$B$97,Poängberäkning!$C$6:$C$97)","v":0},null,{"$f":"LOOKUP(K59,Poängberäkning!$B$6:$B$97,Poängberäkning!$C$6:$C$97)","v":0},null,{"$f":"LOOKUP(M59,Poängberäkning!$B$6:$B$97,Poängberäkning!$C$6:$C$97)","v":0},null,{"$f":"LOOKUP(O59,Poängberäkning!$B$6:$B$97,Poängberäkning!$C$6:$C$97)","v":0},null,{"$f":"LOOKUP(Q59,[1]Poängberäkning!$B$6:$B$97,[1]Poängberäkning!$C$6:$C$97)","v":0},null,{"$f":"LOOKUP(S59,[1]Poängberäkning!$B$6:$B$97,[1]Poängberäkning!$C$6:$C$97)","v":0},null,{"$f":"LOOKUP(U59,[1]Poängberäkning!$B$6:$B$97,[1]Poängberäkning!$C$6:$C$97)","v":0},null,{"$f":"LOOKUP(W59,[1]Poängberäkning!$B$6:$B$97,[1]Poängberäkning!$C$6:$C$97)","v":0},{"$f":"LARGE(($H59,$J59,$L59,$N59,$P59,$R59,$T59,$V59,$X59),1)","v":0},{"$f":"LARGE(($H59,$J59,$L59,$N59,$P59,$R59,$T59,$V59,$X59),2)","v":0},{"$f":"LARGE(($H59,$J59,$L59,$N59,$P59,$R59,$T59,$V59,$X59),3)","v":0},{"$f":"LARGE(($H59,$J59,$L59,$N59,$P59,$R59,$T59,$V59,$X59),4)","v":0},{"$f":"LARGE(($H59,$J59,$L59,$N59,$P59,$R59,$T59,$V59,$X59),5)","v":0},{"$f":"LARGE(($H59,$J59,$L59,$N59,$P59,$R59,$T59,$V59,$X59),6)","v":0},{"$f":"LARGE(($H59,$J59,$L59,$N59,$P59,$R59,$T59,$V59,$X59),7)","v":0},{"$f":"LARGE(($H59,$J59,$L59,$N59,$P59,$R59,$T59,$V59,$X59),8)","v":0},{"$f":"LARGE(($H59,$J59,$L59,$N59,$P59,$R59,$T59,$V59,$X59),9)","v":0}]
[56,null,null,null,0,0,null,{"$f":"LOOKUP(G60,Poängberäkning!$B$6:$B$97,Poängberäkning!$C$6:$C$97)","v":0},null,{"$f":"LOOKUP(I60,Poängberäkning!$B$6:$B$97,Poängberäkning!$C$6:$C$97)","v":0},null,{"$f":"LOOKUP(K60,Poängberäkning!$B$6:$B$97,Poängberäkning!$C$6:$C$97)","v":0},null,{"$f":"LOOKUP(M60,Poängberäkning!$B$6:$B$97,Poängberäkning!$C$6:$C$97)","v":0},null,{"$f":"LOOKUP(O60,Poängberäkning!$B$6:$B$97,Poängberäkning!$C$6:$C$97)","v":0},null,{"$f":"LOOKUP(Q60,[1]Poängberäkning!$B$6:$B$97,[1]Poängberäkning!$C$6:$C$97)","v":0},null,{"$f":"LOOKUP(S60,[1]Poängberäkning!$B$6:$B$97,[1]Poängberäkning!$C$6:$C$97)","v":0},null,{"$f":"LOOKUP(U60,[1]Poängberäkning!$B$6:$B$97,[1]Poängberäkning!$C$6:$C$97)","v":0},null,{"$f":"LOOKUP(W60,[1]Poängberäkning!$B$6:$B$97,[1]Poängberäkning!$C$6:$C$97)","v":0},{"$f":"LARGE(($H60,$J60,$L60,$N60,$P60,$R60,$T60,$V60,$X60),1)","v":0},{"$f":"LARGE(($H60,$J60,$L60,$N60,$P60,$R60,$T60,$V60,$X60),2)","v":0},{"$f":"LARGE(($H60,$J60,$L60,$N60,$P60,$R60,$T60,$V60,$X60),3)","v":0},{"$f":"LARGE(($H60,$J60,$L60,$N60,$P60,$R60,$T60,$V60,$X60),4)","v":0},{"$f":"LARGE(($H60,$J60,$L60,$N60,$P60,$R60,$T60,$V60,$X60),5)","v":0},{"$f":"LARGE(($H60,$J60,$L60,$N60,$P60,$R60,$T60,$V60,$X60),6)","v":0},{"$f":"LARGE(($H60,$J60,$L60,$N60,$P60,$R60,$T60,$V60,$X60),7)","v":0},{"$f":"LARGE(($H60,$J60,$L60,$N60,$P60,$R60,$T60,$V60,$X60),8)","v":0},{"$f":"LARGE(($H60,$J60,$L60,$N60,$P60,$R60,$T60,$V60,$X60),9)","v":0}]
[57,null,null,null,0,0,null,{"$f":"LOOKUP(G61,Poängberäkning!$B$6:$B$97,Poängberäkning!$C$6:$C$97)","v":0},null,{"$f":"LOOKUP(I61,Poängberäkning!$B$6:$B$97,Poängberäkning!$C$6:$C$97)","v":0},null,{"$f":"LOOKUP(K61,Poängberäkning!$B$6:$B$97,Poängberäkning!$C$6:$C$97)","v":0},null,{"$f":"LOOKUP(M61,Poängberäkning!$B$6:$B$97,Poängberäkning!$C$6:$C$97)","v":0},null,{"$f":"LOOKUP(O61,Poängberäkning!$B$6:$B$97,Poängberäkning!$C$6:$C$97)","v":0},null,{"$f":"LOOKUP(Q61,[1]Poängberäkning!$B$6:$B$97,[1]Poängberäkning!$C$6:$C$97)","v":0},null,{"$f":"LOOKUP(S61,[1]Poängberäkning!$B$6:$B$97,[1]Poängberäkning!$C$6:$C$97)","v":0},null,{"$f":"LOOKUP(U61,[1]Poängberäkning!$B$6:$B$97,[1]Poängberäkning!$C$6:$C$97)","v":0},null,{"$f":"LOOKUP(W61,[1]Poängberäkning!$B$6:$B$97,[1]Poängberäkning!$C$6:$C$97)","v":0},{"$f":"LARGE(($H61,$J61,$L61,$N61,$P61,$R61,$T61,$V61,$X61),1)","v":0},{"$f":"LARGE(($H61,$J61,$L61,$N61,$P61,$R61,$T61,$V61,$X61),2)","v":0},{"$f":"LARGE(($H61,$J61,$L61,$N61,$P61,$R61,$T61,$V61,$X61),3)","v":0},{"$f":"LARGE(($H61,$J61,$L61,$N61,$P61,$R61,$T61,$V61,$X61),4)","v":0},{"$f":"LARGE(($H61,$J61,$L61,$N61,$P61,$R61,$T61,$V61,$X61),5)","v":0},{"$f":"LARGE(($H61,$J61,$L61,$N61,$P61,$R61,$T61,$V61,$X61),6)","v":0},{"$f":"LARGE(($H61,$J61,$L61,$N61,$P61,$R61,$T61,$V61,$X61),7)","v":0},{"$f":"LARGE(($H61,$J61,$L61,$N61,$P61,$R61,$T61,$V61,$X61),8)","v":0},{"$f":"LARGE(($H61,$J61,$L61,$N61,$P61,$R61,$T61,$V61,$X61),9)","v":0}]
[58,null,null,null,0,0,null,{"$f":"LOOKUP(G62,Poängberäkning!$B$6:$B$97,Poängberäkning!$C$6:$C$97)","v":0},null,{"$f":"LOOKUP(I62,Poängberäkning!$B$6:$B$97,Poängberäkning!$C$6:$C$97)","v":0},null,{"$f":"LOOKUP(K62,Poängberäkning!$B$6:$B$97,Poängberäkning!$C$6:$C$97)","v":0},null,{"$f":"LOOKUP(M62,Poängberäkning!$B$6:$B$97,Poängberäkning!$C$6:$C$97)","v":0},null,{"$f":"LOOKUP(O62,Poängberäkning!$B$6:$B$97,Poängberäkning!$C$6:$C$97)","v":0},null,{"$f":"LOOKUP(Q62,[1]Poängberäkning!$B$6:$B$97,[1]Poängberäkning!$C$6:$C$97)","v":0},null,{"$f":"LOOKUP(S62,[1]Poängberäkning!$B$6:$B$97,[1]Poängberäkning!$C$6:$C$97)","v":0},null,{"$f":"LOOKUP(U62,[1]Poängberäkning!$B$6:$B$97,[1]Poängberäkning!$C$6:$C$97)","v":0},null,{"$f":"LOOKUP(W62,[1]Poängberäkning!$B$6:$B$97,[1]Poängberäkning!$C$6:$C$97)","v":0},{"$f":"LARGE(($H62,$J62,$L62,$N62,$P62,$R62,$T62,$V62,$X62),1)","v":0},{"$f":"LARGE(($H62,$J62,$L62,$N62,$P62,$R62,$T62,$V62,$X62),2)","v":0},{"$f":"LARGE(($H62,$J62,$L62,$N62,$P62,$R62,$T62,$V62,$X62),3)","v":0},{"$f":"LARGE(($H62,$J62,$L62,$N62,$P62,$R62,$T62,$V62,$X62),4)","v":0},{"$f":"LARGE(($H62,$J62,$L62,$N62,$P62,$R62,$T62,$V62,$X62),5)","v":0},{"$f":"LARGE(($H62,$J62,$L62,$N62,$P62,$R62,$T62,$V62,$X62),6)","v":0},{"$f":"LARGE(($H62,$J62,$L62,$N62,$P62,$R62,$T62,$V62,$X62),7)","v":0},{"$f":"LARGE(($H62,$J62,$L62,$N62,$P62,$R62,$T62,$V62,$X62),8)","v":0},{"$f":"LARGE(($H62,$J62,$L62,$N62,$P62,$R62,$T62,$V62,$X62),9)","v":0}]
[59,null,null,null,0,0,null,{"$f":"LOOKUP(G63,Poängberäkning!$B$6:$B$97,Poängberäkning!$C$6:$C$97)","v":0},null,{"$f":"LOOKUP(I63,Poängberäkning!$B$6:$B$97,Poängberäkning!$C$6:$C$97)","v":0},null,{"$f":"LOOKUP(K63,Poängberäkning!$B$6:$B$97,Poängberäkning!$C$6:$C$97)","v":0},null,{"$f":"LOOKUP(M63,Poängberäkning!$B$6:$B$97,Poängberäkning!$C$6:$C$97)","v":0},null,{"$f":"LOOKUP(O63,Poängberäkning!$B$6:$B$97,Poängberäkning!$C$6:$C$97)","v":0},null,{"$f":"LOOKUP(Q63,[1]Poängberäkning!$B$6:$B$97,[1]Poängberäkning!$C$6:$C$97)","v":0},null,{"$f":"LOOKUP(S63,[1]Poängberäkning!$B$6:$B$97,[1]Poängberäkning!$C$6:$C$97)","v":0},null,{"$f":"LOOKUP(U63,[1]Poängberäkning!$B$6:$B$97,[1]Poängberäkning!$C$6:$C$97)","v":0},null,{"$f":"LOOKUP(W63,[1]Poängberäkning!$B$6:$B$97,[1]Poängberäkning!$C$6:$C$97)","v":0},{"$f":"LARGE(($H63,$J63,$L63,$N63,$P63,$R63,$T63,$V63,$X63),1)","v":0},{"$f":"LARGE(($H63,$J63,$L63,$N63,$P63,$R63,$T63,$V63,$X63),2)","v":0},{"$f":"LARGE(($H63,$J63,$L63,$N63,$P63,$R63,$T63,$V63,$X63),3)","v":0},{"$f":"LARGE(($H63,$J63,$L63,$N63,$P63,$R63,$T63,$V63,$X63),4)","v":0},{"$f":"LARGE(($H63,$J63,$L63,$N63,$P63,$R63,$T63,$V63,$X63),5)","v":0},{"$f":"LARGE(($H63,$J63,$L63,$N63,$P63,$R63,$T63,$V63,$X63),6)","v":0},{"$f":"LARGE(($H63,$J63,$L63,$N63,$P63,$R63,$T63,$V63,$X63),7)","v":0},{"$f":"LARGE(($H63,$J63,$L63,$N63,$P63,$R63,$T63,$V63,$X63),8)","v":0},{"$f":"LARGE(($H63,$J63,$L63,$N63,$P63,$R63,$T63,$V63,$X63),9)","v":0}]
[60,null,null,null,0,0,null,{"$f":"LOOKUP(G64,Poängberäkning!$B$6:$B$97,Poängberäkning!$C$6:$C$97)","v":0},null,{"$f":"LOOKUP(I64,Poängberäkning!$B$6:$B$97,Poängberäkning!$C$6:$C$97)","v":0},null,{"$f":"LOOKUP(K64,Poängberäkning!$B$6:$B$97,Poängberäkning!$C$6:$C$97)","v":0},null,{"$f":"LOOKUP(M64,Poängberäkning!$B$6:$B$97,Poängberäkning!$C$6:$C$97)","v":0},null,{"$f":"LOOKUP(O64,Poängberäkning!$B$6:$B$97,Poängberäkning!$C$6:$C$97)","v":0},null,{"$f":"LOOKUP(Q64,[1]Poängberäkning!$B$6:$B$97,[1]Poängberäkning!$C$6:$C$97)","v":0},null,{"$f":"LOOKUP(S64,[1]Poängberäkning!$B$6:$B$97,[1]Poängberäkning!$C$6:$C$97)","v":0},null,{"$f":"LOOKUP(U64,[1]Poängberäkning!$B$6:$B$97,[1]Poängberäkning!$C$6:$C$97)","v":0},null,{"$f":"LOOKUP(W64,[1]Poängberäkning!$B$6:$B$97,[1]Poängberäkning!$C$6:$C$97)","v":0},{"$f":"LARGE(($H64,$J64,$L64,$N64,$P64,$R64,$T64,$V64,$X64),1)","v":0},{"$f":"LARGE(($H64,$J64,$L64,$N64,$P64,$R64,$T64,$V64,$X64),2)","v":0},{"$f":"LARGE(($H64,$J64,$L64,$N64,$P64,$R64,$T64,$V64,$X64),3)","v":0},{"$f":"LARGE(($H64,$J64,$L64,$N64,$P64,$R64,$T64,$V64,$X64),4)","v":0},{"$f":"LARGE(($H64,$J64,$L64,$N64,$P64,$R64,$T64,$V64,$X64),5)","v":0},{"$f":"LARGE(($H64,$J64,$L64,$N64,$P64,$R64,$T64,$V64,$X64),6)","v":0},{"$f":"LARGE(($H64,$J64,$L64,$N64,$P64,$R64,$T64,$V64,$X64),7)","v":0},{"$f":"LARGE(($H64,$J64,$L64,$N64,$P64,$R64,$T64,$V64,$X64),8)","v":0},{"$f":"LARGE(($H64,$J64,$L64,$N64,$P64,$R64,$T64,$V64,$X64),9)","v":0}]
[61,null,null,null,0,0,null,{"$f":"LOOKUP(G65,Poängberäkning!$B$6:$B$97,Poängberäkning!$C$6:$C$97)","v":0},null,{"$f":"LOOKUP(I65,Poängberäkning!$B$6:$B$97,Poängberäkning!$C$6:$C$97)","v":0},null,{"$f":"LOOKUP(K65,Poängberäkning!$B$6:$B$97,Poängberäkning!$C$6:$C$97)","v":0},null,{"$f":"LOOKUP(M65,Poängberäkning!$B$6:$B$97,Poängberäkning!$C$6:$C$97)","v":0},null,{"$f":"LOOKUP(O65,Poängberäkning!$B$6:$B$97,Poängberäkning!$C$6:$C$97)","v":0},null,{"$f":"LOOKUP(Q65,[1]Poängberäkning!$B$6:$B$97,[1]Poängberäkning!$C$6:$C$97)","v":0},null,{"$f":"LOOKUP(S65,[1]Poängberäkning!$B$6:$B$97,[1]Poängberäkning!$C$6:$C$97)","v":0},null,{"$f":"LOOKUP(U65,[1]Poängberäkning!$B$6:$B$97,[1]Poängberäkning!$C$6:$C$97)","v":0},null,{"$f":"LOOKUP(W65,[1]Poängberäkning!$B$6:$B$97,[1]Poängberäkning!$C$6:$C$97)","v":0},{"$f":"LARGE(($H65,$J65,$L65,$N65,$P65,$R65,$T65,$V65,$X65),1)","v":0},{"$f":"LARGE(($H65,$J65,$L65,$N65,$P65,$R65,$T65,$V65,$X65),2)","v":0},{"$f":"LARGE(($H65,$J65,$L65,$N65,$P65,$R65,$T65,$V65,$X65),3)","v":0},{"$f":"LARGE(($H65,$J65,$L65,$N65,$P65,$R65,$T65,$V65,$X65),4)","v":0},{"$f":"LARGE(($H65,$J65,$L65,$N65,$P65,$R65,$T65,$V65,$X65),5)","v":0},{"$f":"LARGE(($H65,$J65,$L65,$N65,$P65,$R65,$T65,$V65,$X65),6)","v":0},{"$f":"LARGE(($H65,$J65,$L65,$N65,$P65,$R65,$T65,$V65,$X65),7)","v":0},{"$f":"LARGE(($H65,$J65,$L65,$N65,$P65,$R65,$T65,$V65,$X65),8)","v":0},{"$f":"LARGE(($H65,$J65,$L65,$N65,$P65,$R65,$T65,$V65,$X65),9)","v":0}]
[62,null,null,null,0,0,null,{"$f":"LOOKUP(G66,Poängberäkning!$B$6:$B$97,Poängberäkning!$C$6:$C$97)","v":0},null,{"$f":"LOOKUP(I66,Poängberäkning!$B$6:$B$97,Poängberäkning!$C$6:$C$97)","v":0},null,{"$f":"LOOKUP(K66,Poängberäkning!$B$6:$B$97,Poängberäkning!$C$6:$C$97)","v":0},null,{"$f":"LOOKUP(M66,Poängberäkning!$B$6:$B$97,Poängberäkning!$C$6:$C$97)","v":0},null,{"$f":"LOOKUP(O66,Poängberäkning!$B$6:$B$97,Poängberäkning!$C$6:$C$97)","v":0},null,{"$f":"LOOKUP(Q66,[1]Poängberäkning!$B$6:$B$97,[1]Poängberäkning!$C$6:$C$97)","v":0},null,{"$f":"LOOKUP(S66,[1]Poängberäkning!$B$6:$B$97,[1]Poängberäkning!$C$6:$C$97)","v":0},null,{"$f":"LOOKUP(U66,[1]Poängberäkning!$B$6:$B$97,[1]Poängberäkning!$C$6:$C$97)","v":0},null,{"$f":"LOOKUP(W66,[1]Poängberäkning!$B$6:$B$97,[1]Poängberäkning!$C$6:$C$97)","v":0},{"$f":"LARGE(($H66,$J66,$L66,$N66,$P66,$R66,$T66,$V66,$X66),1)","v":0},{"$f":"LARGE(($H66,$J66,$L66,$N66,$P66,$R66,$T66,$V66,$X66),2)","v":0},{"$f":"LARGE(($H66,$J66,$L66,$N66,$P66,$R66,$T66,$V66,$X66),3)","v":0},{"$f":"LARGE(($H66,$J66,$L66,$N66,$P66,$R66,$T66,$V66,$X66),4)","v":0},{"$f":"LARGE(($H66,$J66,$L66,$N66,$P66,$R66,$T66,$V66,$X66),5)","v":0},{"$f":"LARGE(($H66,$J66,$L66,$N66,$P66,$R66,$T66,$V66,$X66),6)","v":0},{"$f":"LARGE(($H66,$J66,$L66,$N66,$P66,$R66,$T66,$V66,$X66),7)","v":0},{"$f":"LARGE(($H66,$J66,$L66,$N66,$P66,$R66,$T66,$V66,$X66),8)","v":0},{"$f":"LARGE(($H66,$J66,$L66,$N66,$P66,$R66,$T66,$V66,$X66),9)","v":0}]
[63,null,null,null,0,0,null,{"$f":"LOOKUP(G67,Poängberäkning!$B$6:$B$97,Poängberäkning!$C$6:$C$97)","v":0},null,{"$f":"LOOKUP(I67,Poängberäkning!$B$6:$B$97,Poängberäkning!$C$6:$C$97)","v":0},null,{"$f":"LOOKUP(K67,Poängberäkning!$B$6:$B$97,Poängberäkning!$C$6:$C$97)","v":0},null,{"$f":"LOOKUP(M67,Poängberäkning!$B$6:$B$97,Poängberäkning!$C$6:$C$97)","v":0},null,{"$f":"LOOKUP(O67,Poängberäkning!$B$6:$B$97,Poängberäkning!$C$6:$C$97)","v":0},null,{"$f":"LOOKUP(Q67,[1]Poängberäkning!$B$6:$B$97,[1]Poängberäkning!$C$6:$C$97)","v":0},null,{"$f":"LOOKUP(S67,[1]Poängberäkning!$B$6:$B$97,[1]Poängberäkning!$C$6:$C$97)","v":0},null,{"$f":"LOOKUP(U67,[1]Poängberäkning!$B$6:$B$97,[1]Poängberäkning!$C$6:$C$97)","v":0},null,{"$f":"LOOKUP(W67,[1]Poängberäkning!$B$6:$B$97,[1]Poängberäkning!$C$6:$C$97)","v":0},{"$f":"LARGE(($H67,$J67,$L67,$N67,$P67,$R67,$T67,$V67,$X67),1)","v":0},{"$f":"LARGE(($H67,$J67,$L67,$N67,$P67,$R67,$T67,$V67,$X67),2)","v":0},{"$f":"LARGE(($H67,$J67,$L67,$N67,$P67,$R67,$T67,$V67,$X67),3)","v":0},{"$f":"LARGE(($H67,$J67,$L67,$N67,$P67,$R67,$T67,$V67,$X67),4)","v":0},{"$f":"LARGE(($H67,$J67,$L67,$N67,$P67,$R67,$T67,$V67,$X67),5)","v":0},{"$f":"LARGE(($H67,$J67,$L67,$N67,$P67,$R67,$T67,$V67,$X67),6)","v":0},{"$f":"LARGE(($H67,$J67,$L67,$N67,$P67,$R67,$T67,$V67,$X67),7)","v":0},{"$f":"LARGE(($H67,$J67,$L67,$N67,$P67,$R67,$T67,$V67,$X67),8)","v":0},{"$f":"LARGE(($H67,$J67,$L67,$N67,$P67,$R67,$T67,$V67,$X67),9)","v":0}]
[64,null,null,null,0,0,null,{"$f":"LOOKUP(G68,Poängberäkning!$B$6:$B$97,Poängberäkning!$C$6:$C$97)","v":0},null,{"$f":"LOOKUP(I68,Poängberäkning!$B$6:$B$97,Poängberäkning!$C$6:$C$97)","v":0},null,{"$f":"LOOKUP(K68,Poängberäkning!$B$6:$B$97,Poängberäkning!$C$6:$C$97)","v":0},null,{"$f":"LOOKUP(M68,Poängberäkning!$B$6:$B$97,Poängberäkning!$C$6:$C$97)","v":0},null,{"$f":"LOOKUP(O68,Poängberäkning!$B$6:$B$97,Poängberäkning!$C$6:$C$97)","v":0},null,{"$f":"LOOKUP(Q68,[1]Poängberäkning!$B$6:$B$97,[1]Poängberäkning!$C$6:$C$97)","v":0},null,{"$f":"LOOKUP(S68,[1]Poängberäkning!$B$6:$B$97,[1]Poängberäkning!$C$6:$C$97)","v":0},null,{"$f":"LOOKUP(U68,[1]Poängberäkning!$B$6:$B$97,[1]Poängberäkning!$C$6:$C$97)","v":0},null,{"$f":"LOOKUP(W68,[1]Poängberäkning!$B$6:$B$97,[1]Poängberäkning!$C$6:$C$97)","v":0},{"$f":"LARGE(($H68,$J68,$L68,$N68,$P68,$R68,$T68,$V68,$X68),1)","v":0},{"$f":"LARGE(($H68,$J68,$L68,$N68,$P68,$R68,$T68,$V68,$X68),2)","v":0},{"$f":"LARGE(($H68,$J68,$L68,$N68,$P68,$R68,$T68,$V68,$X68),3)","v":0},{"$f":"LARGE(($H68,$J68,$L68,$N68,$P68,$R68,$T68,$V68,$X68),4)","v":0},{"$f":"LARGE(($H68,$J68,$L68,$N68,$P68,$R68,$T68,$V68,$X68),5)","v":0},{"$f":"LARGE(($H68,$J68,$L68,$N68,$P68,$R68,$T68,$V68,$X68),6)","v":0},{"$f":"LARGE(($H68,$J68,$L68,$N68,$P68,$R68,$T68,$V68,$X68),7)","v":0},{"$f":"LARGE(($H68,$J68,$L68,$N68,$P68,$R68,$T68,$V68,$X68),8)","v":0},{"$f":"LARGE(($H68,$J68,$L68,$N68,$P68,$R68,$T68,$V68,$X68),9)","v":0}]
[65,null,null,null,{"$f":"SUM(Y69:AA69)","v":0},{"$f":"H69+J69+L69+N69+P69+R69+T69+V69+X69","v":0},null,{"$f":"LOOKUP(G69,Poängberäkning!$B$6:$B$97,Poängberäkning!$C$6:$C$97)","v":0},null,{"$f":"LOOKUP(I69,Poängberäkning!$B$6:$B$97,Poängberäkning!$C$6:$C$97)","v":0},null,{"$f":"LOOKUP(K69,Poängberäkning!$B$6:$B$97,Poängberäkning!$C$6:$C$97)","v":0},null,{"$f":"LOOKUP(M69,Poängberäkning!$B$6:$B$97,Poängberäkning!$C$6:$C$97)","v":0},null,{"$f":"LOOKUP(O69,Poängberäkning!$B$6:$B$97,Poängberäkning!$C$6:$C$97)","v":0},null,{"$f":"LOOKUP(Q69,[1]Poängberäkning!$B$6:$B$97,[1]Poängberäkning!$C$6:$C$97)","v":0},null,{"$f":"LOOKUP(S69,[1]Poängberäkning!$B$6:$B$97,[1]Poängberäkning!$C$6:$C$97)","v":0},null,{"$f":"LOOKUP(U69,[1]Poängberäkning!$B$6:$B$97,[1]Poängberäkning!$C$6:$C$97)","v":0},null,{"$f":"LOOKUP(W69,[1]Poängberäkning!$B$6:$B$97,[1]Poängberäkning!$C$6:$C$97)","v":0},{"$f":"LARGE(($H69,$J69,$L69,$N69,$P69,$R69,$T69,$V69,$X69),1)","v":0},{"$f":"LARGE(($H69,$J69,$L69,$N69,$P69,$R69,$T69,$V69,$X69),2)","v":0},{"$f":"LARGE(($H69,$J69,$L69,$N69,$P69,$R69,$T69,$V69,$X69),3)","v":0},{"$f":"LARGE(($H69,$J69,$L69,$N69,$P69,$R69,$T69,$V69,$X69),4)","v":0},{"$f":"LARGE(($H69,$J69,$L69,$N69,$P69,$R69,$T69,$V69,$X69),5)","v":0},{"$f":"LARGE(($H69,$J69,$L69,$N69,$P69,$R69,$T69,$V69,$X69),6)","v":0},{"$f":"LARGE(($H69,$J69,$L69,$N69,$P69,$R69,$T69,$V69,$X69),7)","v":0},{"$f":"LARGE(($H69,$J69,$L69,$N69,$P69,$R69,$T69,$V69,$X69),8)","v":0},{"$f":"LARGE(($H69,$J69,$L69,$N69,$P69,$R69,$T69,$V69,$X69),9)","v":0}]
[66,null,null,null,0,0,null,{"$f":"LOOKUP(G70,Poängberäkning!$B$6:$B$97,Poängberäkning!$C$6:$C$97)","v":0},null,{"$f":"LOOKUP(I70,Poängberäkning!$B$6:$B$97,Poängberäkning!$C$6:$C$97)","v":0},null,{"$f":"LOOKUP(K70,Poängberäkning!$B$6:$B$97,Poängberäkning!$C$6:$C$97)","v":0},null,{"$f":"LOOKUP(M70,Poängberäkning!$B$6:$B$97,Poängberäkning!$C$6:$C$97)","v":0},null,{"$f":"LOOKUP(O70,Poängberäkning!$B$6:$B$97,Poängberäkning!$C$6:$C$97)","v":0},null,{"$f":"LOOKUP(Q70,[1]Poängberäkning!$B$6:$B$97,[1]Poängberäkning!$C$6:$C$97)","v":0},null,{"$f":"LOOKUP(S70,[1]Poängberäkning!$B$6:$B$97,[1]Poängberäkning!$C$6:$C$97)","v":0},null,{"$f":"LOOKUP(U70,[1]Poängberäkning!$B$6:$B$97,[1]Poängberäkning!$C$6:$C$97)","v":0},null,{"$f":"LOOKUP(W70,[1]Poängberäkning!$B$6:$B$97,[1]Poängberäkning!$C$6:$C$97)","v":0},{"$f":"LARGE(($H70,$J70,$L70,$N70,$P70,$R70,$T70,$V70,$X70),1)","v":0},{"$f":"LARGE(($H70,$J70,$L70,$N70,$P70,$R70,$T70,$V70,$X70),2)","v":0},{"$f":"LARGE(($H70,$J70,$L70,$N70,$P70,$R70,$T70,$V70,$X70),3)","v":0},{"$f":"LARGE(($H70,$J70,$L70,$N70,$P70,$R70,$T70,$V70,$X70),4)","v":0},{"$f":"LARGE(($H70,$J70,$L70,$N70,$P70,$R70,$T70,$V70,$X70),5)","v":0},{"$f":"LARGE(($H70,$J70,$L70,$N70,$P70,$R70,$T70,$V70,$X70),6)","v":0},{"$f":"LARGE(($H70,$J70,$L70,$N70,$P70,$R70,$T70,$V70,$X70),7)","v":0},{"$f":"LARGE(($H70,$J70,$L70,$N70,$P70,$R70,$T70,$V70,$X70),8)","v":0},{"$f":"LARGE(($H70,$J70,$L70,$N70,$P70,$R70,$T70,$V70,$X70),9)","v":0}]
[67,null,null,null,0,0,null,{"$f":"LOOKUP(G71,Poängberäkning!$B$6:$B$97,Poängberäkning!$C$6:$C$97)","v":0},null,{"$f":"LOOKUP(I71,Poängberäkning!$B$6:$B$97,Poängberäkning!$C$6:$C$97)","v":0},null,{"$f":"LOOKUP(K71,Poängberäkning!$B$6:$B$97,Poängberäkning!$C$6:$C$97)","v":0},null,{"$f":"LOOKUP(M71,Poängberäkning!$B$6:$B$97,Poängberäkning!$C$6:$C$97)","v":0},null,{"$f":"LOOKUP(O71,Poängberäkning!$B$6:$B$97,Poängberäkning!$C$6:$C$97)","v":0},null,{"$f":"LOOKUP(Q71,[1]Poängberäkning!$B$6:$B$97,[1]Poängberäkning!$C$6:$C$97)","v":0},null,{"$f":"LOOKUP(S71,[1]Poängberäkning!$B$6:$B$97,[1]Poängberäkning!$C$6:$C$97)","v":0},null,{"$f":"LOOKUP(U71,[1]Poängberäkning!$B$6:$B$97,[1]Poängberäkning!$C$6:$C$97)","v":0},null,{"$f":"LOOKUP(W71,[1]Poängberäkning!$B$6:$B$97,[1]Poängberäkning!$C$6:$C$97)","v":0},{"$f":"LARGE(($H71,$J71,$L71,$N71,$P71,$R71,$T71,$V71,$X71),1)","v":0},{"$f":"LARGE(($H71,$J71,$L71,$N71,$P71,$R71,$T71,$V71,$X71),2)","v":0},{"$f":"LARGE(($H71,$J71,$L71,$N71,$P71,$R71,$T71,$V71,$X71),3)","v":0},{"$f":"LARGE(($H71,$J71,$L71,$N71,$P71,$R71,$T71,$V71,$X71),4)","v":0},{"$f":"LARGE(($H71,$J71,$L71,$N71,$P71,$R71,$T71,$V71,$X71),5)","v":0},{"$f":"LARGE(($H71,$J71,$L71,$N71,$P71,$R71,$T71,$V71,$X71),6)","v":0},{"$f":"LARGE(($H71,$J71,$L71,$N71,$P71,$R71,$T71,$V71,$X71),7)","v":0},{"$f":"LARGE(($H71,$J71,$L71,$N71,$P71,$R71,$T71,$V71,$X71),8)","v":0},{"$f":"LARGE(($H71,$J71,$L71,$N71,$P71,$R71,$T71,$V71,$X71),9)","v":0}]
[{"$f":"A71+1","v":68},null,null,null,0,0,null,{"$f":"LOOKUP(G72,Poängberäkning!$B$6:$B$97,Poängberäkning!$C$6:$C$97)","v":0},null,{"$f":"LOOKUP(I72,Poängberäkning!$B$6:$B$97,Poängberäkning!$C$6:$C$97)","v":0},null,{"$f":"LOOKUP(K72,Poängberäkning!$B$6:$B$97,Poängberäkning!$C$6:$C$97)","v":0},null,{"$f":"LOOKUP(M72,Poängberäkning!$B$6:$B$97,Poängberäkning!$C$6:$C$97)","v":0},null,{"$f":"LOOKUP(O72,Poängberäkning!$B$6:$B$97,Poängberäkning!$C$6:$C$97)","v":0},null,{"$f":"LOOKUP(Q72,[1]Poängberäkning!$B$6:$B$97,[1]Poängberäkning!$C$6:$C$97)","v":0},null,{"$f":"LOOKUP(S72,[1]Poängberäkning!$B$6:$B$97,[1]Poängberäkning!$C$6:$C$97)","v":0},null,{"$f":"LOOKUP(U72,[1]Poängberäkning!$B$6:$B$97,[1]Poängberäkning!$C$6:$C$97)","v":0},null,{"$f":"LOOKUP(W72,[1]Poängberäkning!$B$6:$B$97,[1]Poängberäkning!$C$6:$C$97)","v":0},{"$f":"LARGE(($H72,$J72,$L72,$N72,$P72,$R72,$T72,$V72,$X72),1)","v":0},{"$f":"LARGE(($H72,$J72,$L72,$N72,$P72,$R72,$T72,$V72,$X72),2)","v":0},{"$f":"LARGE(($H72,$J72,$L72,$N72,$P72,$R72,$T72,$V72,$X72),3)","v":0},{"$f":"LARGE(($H72,$J72,$L72,$N72,$P72,$R72,$T72,$V72,$X72),4)","v":0},{"$f":"LARGE(($H72,$J72,$L72,$N72,$P72,$R72,$T72,$V72,$X72),5)","v":0},{"$f":"LARGE(($H72,$J72,$L72,$N72,$P72,$R72,$T72,$V72,$X72),6)","v":0},{"$f":"LARGE(($H72,$J72,$L72,$N72,$P72,$R72,$T72,$V72,$X72),7)","v":0},{"$f":"LARGE(($H72,$J72,$L72,$N72,$P72,$R72,$T72,$V72,$X72),8)","v":0},{"$f":"LARGE(($H72,$J72,$L72,$N72,$P72,$R72,$T72,$V72,$X72),9)","v":0}]
[69,null,null,null,0,0,null,{"$f":"LOOKUP(G73,Poängberäkning!$B$6:$B$97,Poängberäkning!$C$6:$C$97)","v":0},null,{"$f":"LOOKUP(I73,Poängberäkning!$B$6:$B$97,Poängberäkning!$C$6:$C$97)","v":0},null,{"$f":"LOOKUP(K73,Poängberäkning!$B$6:$B$97,Poängberäkning!$C$6:$C$97)","v":0},null,{"$f":"LOOKUP(M73,Poängberäkning!$B$6:$B$97,Poängberäkning!$C$6:$C$97)","v":0},null,{"$f":"LOOKUP(O73,Poängberäkning!$B$6:$B$97,Poängberäkning!$C$6:$C$97)","v":0},null,{"$f":"LOOKUP(Q73,[1]Poängberäkning!$B$6:$B$97,[1]Poängberäkning!$C$6:$C$97)","v":0},null,{"$f":"LOOKUP(S73,[1]Poängberäkning!$B$6:$B$97,[1]Poängberäkning!$C$6:$C$97)","v":0},null,{"$f":"LOOKUP(U73,[1]Poängberäkning!$B$6:$B$97,[1]Poängberäkning!$C$6:$C$97)","v":0},null,{"$f":"LOOKUP(W73,[1]Poängberäkning!$B$6:$B$97,[1]Poängberäkning!$C$6:$C$97)","v":0},{"$f":"LARGE(($H73,$J73,$L73,$N73,$P73,$R73,$T73,$V73,$X73),1)","v":0},{"$f":"LARGE(($H73,$J73,$L73,$N73,$P73,$R73,$T73,$V73,$X73),2)","v":0},{"$f":"LARGE(($H73,$J73,$L73,$N73,$P73,$R73,$T73,$V73,$X73),3)","v":0},{"$f":"LARGE(($H73,$J73,$L73,$N73,$P73,$R73,$T73,$V73,$X73),4)","v":0},{"$f":"LARGE(($H73,$J73,$L73,$N73,$P73,$R73,$T73,$V73,$X73),5)","v":0},{"$f":"LARGE(($H73,$J73,$L73,$N73,$P73,$R73,$T73,$V73,$X73),6)","v":0},{"$f":"LARGE(($H73,$J73,$L73,$N73,$P73,$R73,$T73,$V73,$X73),7)","v":0},{"$f":"LARGE(($H73,$J73,$L73,$N73,$P73,$R73,$T73,$V73,$X73),8)","v":0},{"$f":"LARGE(($H73,$J73,$L73,$N73,$P73,$R73,$T73,$V73,$X73),9)","v":0}]
[70,null,null,null,0,0,null,{"$f":"LOOKUP(G74,Poängberäkning!$B$6:$B$97,Poängberäkning!$C$6:$C$97)","v":0},null,{"$f":"LOOKUP(I74,Poängberäkning!$B$6:$B$97,Poängberäkning!$C$6:$C$97)","v":0},null,{"$f":"LOOKUP(K74,Poängberäkning!$B$6:$B$97,Poängberäkning!$C$6:$C$97)","v":0},null,{"$f":"LOOKUP(M74,Poängberäkning!$B$6:$B$97,Poängberäkning!$C$6:$C$97)","v":0},null,{"$f":"LOOKUP(O74,Poängberäkning!$B$6:$B$97,Poängberäkning!$C$6:$C$97)","v":0},null,{"$f":"LOOKUP(Q74,[1]Poängberäkning!$B$6:$B$97,[1]Poängberäkning!$C$6:$C$97)","v":0},null,{"$f":"LOOKUP(S74,[1]Poängberäkning!$B$6:$B$97,[1]Poängberäkning!$C$6:$C$97)","v":0},null,{"$f":"LOOKUP(U74,[1]Poängberäkning!$B$6:$B$97,[1]Poängberäkning!$C$6:$C$97)","v":0},null,{"$f":"LOOKUP(W74,[1]Poängberäkning!$B$6:$B$97,[1]Poängberäkning!$C$6:$C$97)","v":0},{"$f":"LARGE(($H74,$J74,$L74,$N74,$P74,$R74,$T74,$V74,$X74),1)","v":0},{"$f":"LARGE(($H74,$J74,$L74,$N74,$P74,$R74,$T74,$V74,$X74),2)","v":0},{"$f":"LARGE(($H74,$J74,$L74,$N74,$P74,$R74,$T74,$V74,$X74),3)","v":0},{"$f":"LARGE(($H74,$J74,$L74,$N74,$P74,$R74,$T74,$V74,$X74),4)","v":0},{"$f":"LARGE(($H74,$J74,$L74,$N74,$P74,$R74,$T74,$V74,$X74),5)","v":0},{"$f":"LARGE(($H74,$J74,$L74,$N74,$P74,$R74,$T74,$V74,$X74),6)","v":0},{"$f":"LARGE(($H74,$J74,$L74,$N74,$P74,$R74,$T74,$V74,$X74),7)","v":0},{"$f":"LARGE(($H74,$J74,$L74,$N74,$P74,$R74,$T74,$V74,$X74),8)","v":0},{"$f":"LARGE(($H74,$J74,$L74,$N74,$P74,$R74,$T74,$V74,$X74),9)","v":0}]
[71,null,null,null,0,0,null,{"$f":"LOOKUP(G75,Poängberäkning!$B$6:$B$97,Poängberäkning!$C$6:$C$97)","v":0},null,{"$f":"LOOKUP(I75,Poängberäkning!$B$6:$B$97,Poängberäkning!$C$6:$C$97)","v":0},null,{"$f":"LOOKUP(K75,Poängberäkning!$B$6:$B$97,Poängberäkning!$C$6:$C$97)","v":0},null,{"$f":"LOOKUP(M75,Poängberäkning!$B$6:$B$97,Poängberäkning!$C$6:$C$97)","v":0},null,{"$f":"LOOKUP(O75,Poängberäkning!$B$6:$B$97,Poängberäkning!$C$6:$C$97)","v":0},null,{"$f":"LOOKUP(Q75,[1]Poängberäkning!$B$6:$B$97,[1]Poängberäkning!$C$6:$C$97)","v":0},null,{"$f":"LOOKUP(S75,[1]Poängberäkning!$B$6:$B$97,[1]Poängberäkning!$C$6:$C$97)","v":0},null,{"$f":"LOOKUP(U75,[1]Poängberäkning!$B$6:$B$97,[1]Poängberäkning!$C$6:$C$97)","v":0},null,{"$f":"LOOKUP(W75,[1]Poängberäkning!$B$6:$B$97,[1]Poängberäkning!$C$6:$C$97)","v":0},{"$f":"LARGE(($H75,$J75,$L75,$N75,$P75,$R75,$T75,$V75,$X75),1)","v":0},{"$f":"LARGE(($H75,$J75,$L75,$N75,$P75,$R75,$T75,$V75,$X75),2)","v":0},{"$f":"LARGE(($H75,$J75,$L75,$N75,$P75,$R75,$T75,$V75,$X75),3)","v":0},{"$f":"LARGE(($H75,$J75,$L75,$N75,$P75,$R75,$T75,$V75,$X75),4)","v":0},{"$f":"LARGE(($H75,$J75,$L75,$N75,$P75,$R75,$T75,$V75,$X75),5)","v":0},{"$f":"LARGE(($H75,$J75,$L75,$N75,$P75,$R75,$T75,$V75,$X75),6)","v":0},{"$f":"LARGE(($H75,$J75,$L75,$N75,$P75,$R75,$T75,$V75,$X75),7)","v":0},{"$f":"LARGE(($H75,$J75,$L75,$N75,$P75,$R75,$T75,$V75,$X75),8)","v":0},{"$f":"LARGE(($H75,$J75,$L75,$N75,$P75,$R75,$T75,$V75,$X75),9)","v":0}]
[72,null,null,null,0,0,null,{"$f":"LOOKUP(G76,Poängberäkning!$B$6:$B$97,Poängberäkning!$C$6:$C$97)","v":0},null,{"$f":"LOOKUP(I76,Poängberäkning!$B$6:$B$97,Poängberäkning!$C$6:$C$97)","v":0},null,{"$f":"LOOKUP(K76,Poängberäkning!$B$6:$B$97,Poängberäkning!$C$6:$C$97)","v":0},null,{"$f":"LOOKUP(M76,Poängberäkning!$B$6:$B$97,Poängberäkning!$C$6:$C$97)","v":0},null,{"$f":"LOOKUP(O76,Poängberäkning!$B$6:$B$97,Poängberäkning!$C$6:$C$97)","v":0},null,{"$f":"LOOKUP(Q76,[1]Poängberäkning!$B$6:$B$97,[1]Poängberäkning!$C$6:$C$97)","v":0},null,{"$f":"LOOKUP(S76,[1]Poängberäkning!$B$6:$B$97,[1]Poängberäkning!$C$6:$C$97)","v":0},null,{"$f":"LOOKUP(U76,[1]Poängberäkning!$B$6:$B$97,[1]Poängberäkning!$C$6:$C$97)","v":0},null,{"$f":"LOOKUP(W76,[1]Poängberäkning!$B$6:$B$97,[1]Poängberäkning!$C$6:$C$97)","v":0},{"$f":"LARGE(($H76,$J76,$L76,$N76,$P76,$R76,$T76,$V76,$X76),1)","v":0},{"$f":"LARGE(($H76,$J76,$L76,$N76,$P76,$R76,$T76,$V76,$X76),2)","v":0},{"$f":"LARGE(($H76,$J76,$L76,$N76,$P76,$R76,$T76,$V76,$X76),3)","v":0},{"$f":"LARGE(($H76,$J76,$L76,$N76,$P76,$R76,$T76,$V76,$X76),4)","v":0},{"$f":"LARGE(($H76,$J76,$L76,$N76,$P76,$R76,$T76,$V76,$X76),5)","v":0},{"$f":"LARGE(($H76,$J76,$L76,$N76,$P76,$R76,$T76,$V76,$X76),6)","v":0},{"$f":"LARGE(($H76,$J76,$L76,$N76,$P76,$R76,$T76,$V76,$X76),7)","v":0},{"$f":"LARGE(($H76,$J76,$L76,$N76,$P76,$R76,$T76,$V76,$X76),8)","v":0},{"$f":"LARGE(($H76,$J76,$L76,$N76,$P76,$R76,$T76,$V76,$X76),9)","v":0}]
[73,null,null,null,0,0,null,{"$f":"LOOKUP(G77,Poängberäkning!$B$6:$B$97,Poängberäkning!$C$6:$C$97)","v":0},null,{"$f":"LOOKUP(I77,Poängberäkning!$B$6:$B$97,Poängberäkning!$C$6:$C$97)","v":0},null,{"$f":"LOOKUP(K77,Poängberäkning!$B$6:$B$97,Poängberäkning!$C$6:$C$97)","v":0},null,{"$f":"LOOKUP(M77,Poängberäkning!$B$6:$B$97,Poängberäkning!$C$6:$C$97)","v":0},null,{"$f":"LOOKUP(O77,Poängberäkning!$B$6:$B$97,Poängberäkning!$C$6:$C$97)","v":0},null,{"$f":"LOOKUP(Q77,[1]Poängberäkning!$B$6:$B$97,[1]Poängberäkning!$C$6:$C$97)","v":0},null,{"$f":"LOOKUP(S77,[1]Poängberäkning!$B$6:$B$97,[1]Poängberäkning!$C$6:$C$97)","v":0},null,{"$f":"LOOKUP(U77,[1]Poängberäkning!$B$6:$B$97,[1]Poängberäkning!$C$6:$C$97)","v":0},null,{"$f":"LOOKUP(W77,[1]Poängberäkning!$B$6:$B$97,[1]Poängberäkning!$C$6:$C$97)","v":0},{"$f":"LARGE(($H77,$J77,$L77,$N77,$P77,$R77,$T77,$V77,$X77),1)","v":0},{"$f":"LARGE(($H77,$J77,$L77,$N77,$P77,$R77,$T77,$V77,$X77),2)","v":0},{"$f":"LARGE(($H77,$J77,$L77,$N77,$P77,$R77,$T77,$V77,$X77),3)","v":0},{"$f":"LARGE(($H77,$J77,$L77,$N77,$P77,$R77,$T77,$V77,$X77),4)","v":0},{"$f":"LARGE(($H77,$J77,$L77,$N77,$P77,$R77,$T77,$V77,$X77),5)","v":0},{"$f":"LARGE(($H77,$J77,$L77,$N77,$P77,$R77,$T77,$V77,$X77),6)","v":0},{"$f":"LARGE(($H77,$J77,$L77,$N77,$P77,$R77,$T77,$V77,$X77),7)","v":0},{"$f":"LARGE(($H77,$J77,$L77,$N77,$P77,$R77,$T77,$V77,$X77),8)","v":0},{"$f":"LARGE(($H77,$J77,$L77,$N77,$P77,$R77,$T77,$V77,$X77),9)","v":0}]
[74,null,null,null,0,0,null,{"$f":"LOOKUP(G78,Poängberäkning!$B$6:$B$97,Poängberäkning!$C$6:$C$97)","v":0},null,{"$f":"LOOKUP(I78,Poängberäkning!$B$6:$B$97,Poängberäkning!$C$6:$C$97)","v":0},null,{"$f":"LOOKUP(K78,Poängberäkning!$B$6:$B$97,Poängberäkning!$C$6:$C$97)","v":0},null,{"$f":"LOOKUP(M78,Poängberäkning!$B$6:$B$97,Poängberäkning!$C$6:$C$97)","v":0},null,{"$f":"LOOKUP(O78,Poängberäkning!$B$6:$B$97,Poängberäkning!$C$6:$C$97)","v":0},null,{"$f":"LOOKUP(Q78,[1]Poängberäkning!$B$6:$B$97,[1]Poängberäkning!$C$6:$C$97)","v":0},null,{"$f":"LOOKUP(S78,[1]Poängberäkning!$B$6:$B$97,[1]Poängberäkning!$C$6:$C$97)","v":0},null,{"$f":"LOOKUP(U78,[1]Poängberäkning!$B$6:$B$97,[1]Poängberäkning!$C$6:$C$97)","v":0},null,{"$f":"LOOKUP(W78,[1]Poängberäkning!$B$6:$B$97,[1]Poängberäkning!$C$6:$C$97)","v":0},{"$f":"LARGE(($H78,$J78,$L78,$N78,$P78,$R78,$T78,$V78,$X78),1)","v":0},{"$f":"LARGE(($H78,$J78,$L78,$N78,$P78,$R78,$T78,$V78,$X78),2)","v":0},{"$f":"LARGE(($H78,$J78,$L78,$N78,$P78,$R78,$T78,$V78,$X78),3)","v":0},{"$f":"LARGE(($H78,$J78,$L78,$N78,$P78,$R78,$T78,$V78,$X78),4)","v":0},{"$f":"LARGE(($H78,$J78,$L78,$N78,$P78,$R78,$T78,$V78,$X78),5)","v":0},{"$f":"LARGE(($H78,$J78,$L78,$N78,$P78,$R78,$T78,$V78,$X78),6)","v":0},{"$f":"LARGE(($H78,$J78,$L78,$N78,$P78,$R78,$T78,$V78,$X78),7)","v":0},{"$f":"LARGE(($H78,$J78,$L78,$N78,$P78,$R78,$T78,$V78,$X78),8)","v":0},{"$f":"LARGE(($H78,$J78,$L78,$N78,$P78,$R78,$T78,$V78,$X78),9)","v":0}]
[75,null,null,null,0,0,null,{"$f":"LOOKUP(G79,Poängberäkning!$B$6:$B$97,Poängberäkning!$C$6:$C$97)","v":0},null,{"$f":"LOOKUP(I79,Poängberäkning!$B$6:$B$97,Poängberäkning!$C$6:$C$97)","v":0},null,{"$f":"LOOKUP(K79,Poängberäkning!$B$6:$B$97,Poängberäkning!$C$6:$C$97)","v":0},null,{"$f":"LOOKUP(M79,Poängberäkning!$B$6:$B$97,Poängberäkning!$C$6:$C$97)","v":0},null,{"$f":"LOOKUP(O79,Poängberäkning!$B$6:$B$97,Poängberäkning!$C$6:$C$97)","v":0},null,{"$f":"LOOKUP(Q79,[1]Poängberäkning!$B$6:$B$97,[1]Poängberäkning!$C$6:$C$97)","v":0},null,{"$f":"LOOKUP(S79,[1]Poängberäkning!$B$6:$B$97,[1]Poängberäkning!$C$6:$C$97)","v":0},null,{"$f":"LOOKUP(U79,[1]Poängberäkning!$B$6:$B$97,[1]Poängberäkning!$C$6:$C$97)","v":0},null,{"$f":"LOOKUP(W79,[1]Poängberäkning!$B$6:$B$97,[1]Poängberäkning!$C$6:$C$97)","v":0},{"$f":"LARGE(($H79,$J79,$L79,$N79,$P79,$R79,$T79,$V79,$X79),1)","v":0},{"$f":"LARGE(($H79,$J79,$L79,$N79,$P79,$R79,$T79,$V79,$X79),2)","v":0},{"$f":"LARGE(($H79,$J79,$L79,$N79,$P79,$R79,$T79,$V79,$X79),3)","v":0},{"$f":"LARGE(($H79,$J79,$L79,$N79,$P79,$R79,$T79,$V79,$X79),4)","v":0},{"$f":"LARGE(($H79,$J79,$L79,$N79,$P79,$R79,$T79,$V79,$X79),5)","v":0},{"$f":"LARGE(($H79,$J79,$L79,$N79,$P79,$R79,$T79,$V79,$X79),6)","v":0},{"$f":"LARGE(($H79,$J79,$L79,$N79,$P79,$R79,$T79,$V79,$X79),7)","v":0},{"$f":"LARGE(($H79,$J79,$L79,$N79,$P79,$R79,$T79,$V79,$X79),8)","v":0},{"$f":"LARGE(($H79,$J79,$L79,$N79,$P79,$R79,$T79,$V79,$X79),9)","v":0}]
[{"$f":"A79+1","v":76},null,null,null,0,0,null,{"$f":"LOOKUP(G80,Poängberäkning!$B$6:$B$97,Poängberäkning!$C$6:$C$97)","v":0},null,{"$f":"LOOKUP(I80,Poängberäkning!$B$6:$B$97,Poängberäkning!$C$6:$C$97)","v":0},null,{"$f":"LOOKUP(K80,Poängberäkning!$B$6:$B$97,Poängberäkning!$C$6:$C$97)","v":0},null,{"$f":"LOOKUP(M80,Poängberäkning!$B$6:$B$97,Poängberäkning!$C$6:$C$97)","v":0},null,{"$f":"LOOKUP(O80,Poängberäkning!$B$6:$B$97,Poängberäkning!$C$6:$C$97)","v":0},null,{"$f":"LOOKUP(Q80,[1]Poängberäkning!$B$6:$B$97,[1]Poängberäkning!$C$6:$C$97)","v":0},null,{"$f":"LOOKUP(S80,[1]Poängberäkning!$B$6:$B$97,[1]Poängberäkning!$C$6:$C$97)","v":0},null,{"$f":"LOOKUP(U80,[1]Poängberäkning!$B$6:$B$97,[1]Poängberäkning!$C$6:$C$97)","v":0},null,{"$f":"LOOKUP(W80,[1]Poängberäkning!$B$6:$B$97,[1]Poängberäkning!$C$6:$C$97)","v":0},{"$f":"LARGE(($H80,$J80,$L80,$N80,$P80,$R80,$T80,$V80,$X80),1)","v":0},{"$f":"LARGE(($H80,$J80,$L80,$N80,$P80,$R80,$T80,$V80,$X80),2)","v":0},{"$f":"LARGE(($H80,$J80,$L80,$N80,$P80,$R80,$T80,$V80,$X80),3)","v":0},{"$f":"LARGE(($H80,$J80,$L80,$N80,$P80,$R80,$T80,$V80,$X80),4)","v":0},{"$f":"LARGE(($H80,$J80,$L80,$N80,$P80,$R80,$T80,$V80,$X80),5)","v":0},{"$f":"LARGE(($H80,$J80,$L80,$N80,$P80,$R80,$T80,$V80,$X80),6)","v":0},{"$f":"LARGE(($H80,$J80,$L80,$N80,$P80,$R80,$T80,$V80,$X80),7)","v":0},{"$f":"LARGE(($H80,$J80,$L80,$N80,$P80,$R80,$T80,$V80,$X80),8)","v":0},{"$f":"LARGE(($H80,$J80,$L80,$N80,$P80,$R80,$T80,$V80,$X80),9)","v":0}]
[{"$f":"A80+1","v":77},null,null,null,0,0,null,{"$f":"LOOKUP(G81,Poängberäkning!$B$6:$B$97,Poängberäkning!$C$6:$C$97)","v":0},null,{"$f":"LOOKUP(I81,Poängberäkning!$B$6:$B$97,Poängberäkning!$C$6:$C$97)","v":0},null,{"$f":"LOOKUP(K81,Poängberäkning!$B$6:$B$97,Poängberäkning!$C$6:$C$97)","v":0},null,{"$f":"LOOKUP(M81,Poängberäkning!$B$6:$B$97,Poängberäkning!$C$6:$C$97)","v":0},null,{"$f":"LOOKUP(O81,Poängberäkning!$B$6:$B$97,Poängberäkning!$C$6:$C$97)","v":0},null,{"$f":"LOOKUP(Q81,[1]Poängberäkning!$B$6:$B$97,[1]Poängberäkning!$C$6:$C$97)","v":0},null,{"$f":"LOOKUP(S81,[1]Poängberäkning!$B$6:$B$97,[1]Poängberäkning!$C$6:$C$97)","v":0},null,{"$f":"LOOKUP(U81,[1]Poängberäkning!$B$6:$B$97,[1]Poängberäkning!$C$6:$C$97)","v":0},null,{"$f":"LOOKUP(W81,[1]Poängberäkning!$B$6:$B$97,[1]Poängberäkning!$C$6:$C$97)","v":0},{"$f":"LARGE(($H81,$J81,$L81,$N81,$P81,$R81,$T81,$V81,$X81),1)","v":0},{"$f":"LARGE(($H81,$J81,$L81,$N81,$P81,$R81,$T81,$V81,$X81),2)","v":0},{"$f":"LARGE(($H81,$J81,$L81,$N81,$P81,$R81,$T81,$V81,$X81),3)","v":0},{"$f":"LARGE(($H81,$J81,$L81,$N81,$P81,$R81,$T81,$V81,$X81),4)","v":0},{"$f":"LARGE(($H81,$J81,$L81,$N81,$P81,$R81,$T81,$V81,$X81),5)","v":0},{"$f":"LARGE(($H81,$J81,$L81,$N81,$P81,$R81,$T81,$V81,$X81),6)","v":0},{"$f":"LARGE(($H81,$J81,$L81,$N81,$P81,$R81,$T81,$V81,$X81),7)","v":0},{"$f":"LARGE(($H81,$J81,$L81,$N81,$P81,$R81,$T81,$V81,$X81),8)","v":0},{"$f":"LARGE(($H81,$J81,$L81,$N81,$P81,$R81,$T81,$V81,$X81),9)","v":0}]
[{"$f":"A81+1","v":78},null,null,null,0,0,null,{"$f":"LOOKUP(G82,Poängberäkning!$B$6:$B$97,Poängberäkning!$C$6:$C$97)","v":0},null,{"$f":"LOOKUP(I82,Poängberäkning!$B$6:$B$97,Poängberäkning!$C$6:$C$97)","v":0},null,{"$f":"LOOKUP(K82,Poängberäkning!$B$6:$B$97,Poängberäkning!$C$6:$C$97)","v":0},null,{"$f":"LOOKUP(M82,Poängberäkning!$B$6:$B$97,Poängberäkning!$C$6:$C$97)","v":0},null,{"$f":"LOOKUP(O82,Poängberäkning!$B$6:$B$97,Poängberäkning!$C$6:$C$97)","v":0},null,{"$f":"LOOKUP(Q82,[1]Poängberäkning!$B$6:$B$97,[1]Poängberäkning!$C$6:$C$97)","v":0},null,{"$f":"LOOKUP(S82,[1]Poängberäkning!$B$6:$B$97,[1]Poängberäkning!$C$6:$C$97)","v":0},null,{"$f":"LOOKUP(U82,[1]Poängberäkning!$B$6:$B$97,[1]Poängberäkning!$C$6:$C$97)","v":0},null,{"$f":"LOOKUP(W82,[1]Poängberäkning!$B$6:$B$97,[1]Poängberäkning!$C$6:$C$97)","v":0},{"$f":"LARGE(($H82,$J82,$L82,$N82,$P82,$R82,$T82,$V82,$X82),1)","v":0},{"$f":"LARGE(($H82,$J82,$L82,$N82,$P82,$R82,$T82,$V82,$X82),2)","v":0},{"$f":"LARGE(($H82,$J82,$L82,$N82,$P82,$R82,$T82,$V82,$X82),3)","v":0},{"$f":"LARGE(($H82,$J82,$L82,$N82,$P82,$R82,$T82,$V82,$X82),4)","v":0},{"$f":"LARGE(($H82,$J82,$L82,$N82,$P82,$R82,$T82,$V82,$X82),5)","v":0},{"$f":"LARGE(($H82,$J82,$L82,$N82,$P82,$R82,$T82,$V82,$X82),6)","v":0},{"$f":"LARGE(($H82,$J82,$L82,$N82,$P82,$R82,$T82,$V82,$X82),7)","v":0},{"$f":"LARGE(($H82,$J82,$L82,$N82,$P82,$R82,$T82,$V82,$X82),8)","v":0},{"$f":"LARGE(($H82,$J82,$L82,$N82,$P82,$R82,$T82,$V82,$X82),9)","v":0}]
[79,null,null,null,0,0,null,{"$f":"LOOKUP(G83,Poängberäkning!$B$6:$B$97,Poängberäkning!$C$6:$C$97)","v":0},null,{"$f":"LOOKUP(I83,Poängberäkning!$B$6:$B$97,Poängberäkning!$C$6:$C$97)","v":0},null,{"$f":"LOOKUP(K83,Poängberäkning!$B$6:$B$97,Poängberäkning!$C$6:$C$97)","v":0},null,{"$f":"LOOKUP(M83,Poängberäkning!$B$6:$B$97,Poängberäkning!$C$6:$C$97)","v":0},null,{"$f":"LOOKUP(O83,Poängberäkning!$B$6:$B$97,Poängberäkning!$C$6:$C$97)","v":0},null,{"$f":"LOOKUP(Q83,[1]Poängberäkning!$B$6:$B$97,[1]Poängberäkning!$C$6:$C$97)","v":0},null,{"$f":"LOOKUP(S83,[1]Poängberäkning!$B$6:$B$97,[1]Poängberäkning!$C$6:$C$97)","v":0},null,{"$f":"LOOKUP(U83,[1]Poängberäkning!$B$6:$B$97,[1]Poängberäkning!$C$6:$C$97)","v":0},null,{"$f":"LOOKUP(W83,[1]Poängberäkning!$B$6:$B$97,[1]Poängberäkning!$C$6:$C$97)","v":0},{"$f":"LARGE(($H83,$J83,$L83,$N83,$P83,$R83,$T83,$V83,$X83),1)","v":0},{"$f":"LARGE(($H83,$J83,$L83,$N83,$P83,$R83,$T83,$V83,$X83),2)","v":0},{"$f":"LARGE(($H83,$J83,$L83,$N83,$P83,$R83,$T83,$V83,$X83),3)","v":0},{"$f":"LARGE(($H83,$J83,$L83,$N83,$P83,$R83,$T83,$V83,$X83),4)","v":0},{"$f":"LARGE(($H83,$J83,$L83,$N83,$P83,$R83,$T83,$V83,$X83),5)","v":0},{"$f":"LARGE(($H83,$J83,$L83,$N83,$P83,$R83,$T83,$V83,$X83),6)","v":0},{"$f":"LARGE(($H83,$J83,$L83,$N83,$P83,$R83,$T83,$V83,$X83),7)","v":0},{"$f":"LARGE(($H83,$J83,$L83,$N83,$P83,$R83,$T83,$V83,$X83),8)","v":0},{"$f":"LARGE(($H83,$J83,$L83,$N83,$P83,$R83,$T83,$V83,$X83),9)","v":0}]
[80,null,null,null,0,0,null,{"$f":"LOOKUP(G84,Poängberäkning!$B$6:$B$97,Poängberäkning!$C$6:$C$97)","v":0},null,{"$f":"LOOKUP(I84,Poängberäkning!$B$6:$B$97,Poängberäkning!$C$6:$C$97)","v":0},null,{"$f":"LOOKUP(K84,Poängberäkning!$B$6:$B$97,Poängberäkning!$C$6:$C$97)","v":0},null,{"$f":"LOOKUP(M84,Poängberäkning!$B$6:$B$97,Poängberäkning!$C$6:$C$97)","v":0},null,{"$f":"LOOKUP(O84,Poängberäkning!$B$6:$B$97,Poängberäkning!$C$6:$C$97)","v":0},null,{"$f":"LOOKUP(Q84,[1]Poängberäkning!$B$6:$B$97,[1]Poängberäkning!$C$6:$C$97)","v":0},null,{"$f":"LOOKUP(S84,[1]Poängberäkning!$B$6:$B$97,[1]Poängberäkning!$C$6:$C$97)","v":0},null,{"$f":"LOOKUP(U84,[1]Poängberäkning!$B$6:$B$97,[1]Poängberäkning!$C$6:$C$97)","v":0},null,{"$f":"LOOKUP(W84,[1]Poängberäkning!$B$6:$B$97,[1]Poängberäkning!$C$6:$C$97)","v":0},{"$f":"LARGE(($H84,$J84,$L84,$N84,$P84,$R84,$T84,$V84,$X84),1)","v":0},{"$f":"LARGE(($H84,$J84,$L84,$N84,$P84,$R84,$T84,$V84,$X84),2)","v":0},{"$f":"LARGE(($H84,$J84,$L84,$N84,$P84,$R84,$T84,$V84,$X84),3)","v":0},{"$f":"LARGE(($H84,$J84,$L84,$N84,$P84,$R84,$T84,$V84,$X84),4)","v":0},{"$f":"LARGE(($H84,$J84,$L84,$N84,$P84,$R84,$T84,$V84,$X84),5)","v":0},{"$f":"LARGE(($H84,$J84,$L84,$N84,$P84,$R84,$T84,$V84,$X84),6)","v":0},{"$f":"LARGE(($H84,$J84,$L84,$N84,$P84,$R84,$T84,$V84,$X84),7)","v":0},{"$f":"LARGE(($H84,$J84,$L84,$N84,$P84,$R84,$T84,$V84,$X84),8)","v":0},{"$f":"LARGE(($H84,$J84,$L84,$N84,$P84,$R84,$T84,$V84,$X84),9)","v":0}]
[81,null,null,null,0,0,null,{"$f":"LOOKUP(G85,Poängberäkning!$B$6:$B$97,Poängberäkning!$C$6:$C$97)","v":0},null,{"$f":"LOOKUP(I85,Poängberäkning!$B$6:$B$97,Poängberäkning!$C$6:$C$97)","v":0},null,{"$f":"LOOKUP(K85,Poängberäkning!$B$6:$B$97,Poängberäkning!$C$6:$C$97)","v":0},null,{"$f":"LOOKUP(M85,Poängberäkning!$B$6:$B$97,Poängberäkning!$C$6:$C$97)","v":0},null,{"$f":"LOOKUP(O85,Poängberäkning!$B$6:$B$97,Poängberäkning!$C$6:$C$97)","v":0},null,{"$f":"LOOKUP(Q85,[1]Poängberäkning!$B$6:$B$97,[1]Poängberäkning!$C$6:$C$97)","v":0},null,{"$f":"LOOKUP(S85,[1]Poängberäkning!$B$6:$B$97,[1]Poängberäkning!$C$6:$C$97)","v":0},null,{"$f":"LOOKUP(U85,[1]Poängberäkning!$B$6:$B$97,[1]Poängberäkning!$C$6:$C$97)","v":0},null,{"$f":"LOOKUP(W85,[1]Poängberäkning!$B$6:$B$97,[1]Poängberäkning!$C$6:$C$97)","v":0},{"$f":"LARGE(($H85,$J85,$L85,$N85,$P85,$R85,$T85,$V85,$X85),1)","v":0},{"$f":"LARGE(($H85,$J85,$L85,$N85,$P85,$R85,$T85,$V85,$X85),2)","v":0},{"$f":"LARGE(($H85,$J85,$L85,$N85,$P85,$R85,$T85,$V85,$X85),3)","v":0},{"$f":"LARGE(($H85,$J85,$L85,$N85,$P85,$R85,$T85,$V85,$X85),4)","v":0},{"$f":"LARGE(($H85,$J85,$L85,$N85,$P85,$R85,$T85,$V85,$X85),5)","v":0},{"$f":"LARGE(($H85,$J85,$L85,$N85,$P85,$R85,$T85,$V85,$X85),6)","v":0},{"$f":"LARGE(($H85,$J85,$L85,$N85,$P85,$R85,$T85,$V85,$X85),7)","v":0},{"$f":"LARGE(($H85,$J85,$L85,$N85,$P85,$R85,$T85,$V85,$X85),8)","v":0},{"$f":"LARGE(($H85,$J85,$L85,$N85,$P85,$R85,$T85,$V85,$X85),9)","v":0}]
[82,null,null,null,0,0,null,{"$f":"LOOKUP(G86,Poängberäkning!$B$6:$B$97,Poängberäkning!$C$6:$C$97)","v":0},null,{"$f":"LOOKUP(I86,Poängberäkning!$B$6:$B$97,Poängberäkning!$C$6:$C$97)","v":0},null,{"$f":"LOOKUP(K86,Poängberäkning!$B$6:$B$97,Poängberäkning!$C$6:$C$97)","v":0},null,{"$f":"LOOKUP(M86,Poängberäkning!$B$6:$B$97,Poängberäkning!$C$6:$C$97)","v":0},null,{"$f":"LOOKUP(O86,Poängberäkning!$B$6:$B$97,Poängberäkning!$C$6:$C$97)","v":0},null,{"$f":"LOOKUP(Q86,[1]Poängberäkning!$B$6:$B$97,[1]Poängberäkning!$C$6:$C$97)","v":0},null,{"$f":"LOOKUP(S86,[1]Poängberäkning!$B$6:$B$97,[1]Poängberäkning!$C$6:$C$97)","v":0},null,{"$f":"LOOKUP(U86,[1]Poängberäkning!$B$6:$B$97,[1]Poängberäkning!$C$6:$C$97)","v":0},null,{"$f":"LOOKUP(W86,[1]Poängberäkning!$B$6:$B$97,[1]Poängberäkning!$C$6:$C$97)","v":0},{"$f":"LARGE(($H86,$J86,$L86,$N86,$P86,$R86,$T86,$V86,$X86),1)","v":0},{"$f":"LARGE(($H86,$J86,$L86,$N86,$P86,$R86,$T86,$V86,$X86),2)","v":0},{"$f":"LARGE(($H86,$J86,$L86,$N86,$P86,$R86,$T86,$V86,$X86),3)","v":0},{"$f":"LARGE(($H86,$J86,$L86,$N86,$P86,$R86,$T86,$V86,$X86),4)","v":0},{"$f":"LARGE(($H86,$J86,$L86,$N86,$P86,$R86,$T86,$V86,$X86),5)","v":0},{"$f":"LARGE(($H86,$J86,$L86,$N86,$P86,$R86,$T86,$V86,$X86),6)","v":0},{"$f":"LARGE(($H86,$J86,$L86,$N86,$P86,$R86,$T86,$V86,$X86),7)","v":0},{"$f":"LARGE(($H86,$J86,$L86,$N86,$P86,$R86,$T86,$V86,$X86),8)","v":0},{"$f":"LARGE(($H86,$J86,$L86,$N86,$P86,$R86,$T86,$V86,$X86),9)","v":0}]
[83,null,null,null,0,0,null,{"$f":"LOOKUP(G87,Poängberäkning!$B$6:$B$97,Poängberäkning!$C$6:$C$97)","v":0},null,{"$f":"LOOKUP(I87,Poängberäkning!$B$6:$B$97,Poängberäkning!$C$6:$C$97)","v":0},null,{"$f":"LOOKUP(K87,Poängberäkning!$B$6:$B$97,Poängberäkning!$C$6:$C$97)","v":0},null,{"$f":"LOOKUP(M87,Poängberäkning!$B$6:$B$97,Poängberäkning!$C$6:$C$97)","v":0},null,{"$f":"LOOKUP(O87,Poängberäkning!$B$6:$B$97,Poängberäkning!$C$6:$C$97)","v":0},null,{"$f":"LOOKUP(Q87,[1]Poängberäkning!$B$6:$B$97,[1]Poängberäkning!$C$6:$C$97)","v":0},null,{"$f":"LOOKUP(S87,[1]Poängberäkning!$B$6:$B$97,[1]Poängberäkning!$C$6:$C$97)","v":0},null,{"$f":"LOOKUP(U87,[1]Poängberäkning!$B$6:$B$97,[1]Poängberäkning!$C$6:$C$97)","v":0},null,{"$f":"LOOKUP(W87,[1]Poängberäkning!$B$6:$B$97,[1]Poängberäkning!$C$6:$C$97)","v":0},{"$f":"LARGE(($H87,$J87,$L87,$N87,$P87,$R87,$T87,$V87,$X87),1)","v":0},{"$f":"LARGE(($H87,$J87,$L87,$N87,$P87,$R87,$T87,$V87,$X87),2)","v":0},{"$f":"LARGE(($H87,$J87,$L87,$N87,$P87,$R87,$T87,$V87,$X87),3)","v":0},{"$f":"LARGE(($H87,$J87,$L87,$N87,$P87,$R87,$T87,$V87,$X87),4)","v":0},{"$f":"LARGE(($H87,$J87,$L87,$N87,$P87,$R87,$T87,$V87,$X87),5)","v":0},{"$f":"LARGE(($H87,$J87,$L87,$N87,$P87,$R87,$T87,$V87,$X87),6)","v":0},{"$f":"LARGE(($H87,$J87,$L87,$N87,$P87,$R87,$T87,$V87,$X87),7)","v":0},{"$f":"LARGE(($H87,$J87,$L87,$N87,$P87,$R87,$T87,$V87,$X87),8)","v":0},{"$f":"LARGE(($H87,$J87,$L87,$N87,$P87,$R87,$T87,$V87,$X87),9)","v":0}]
[84,null,null,null,0,0,null,{"$f":"LOOKUP(G88,Poängberäkning!$B$6:$B$97,Poängberäkning!$C$6:$C$97)","v":0},null,{"$f":"LOOKUP(I88,Poängberäkning!$B$6:$B$97,Poängberäkning!$C$6:$C$97)","v":0},null,{"$f":"LOOKUP(K88,Poängberäkning!$B$6:$B$97,Poängberäkning!$C$6:$C$97)","v":0},null,{"$f":"LOOKUP(M88,Poängberäkning!$B$6:$B$97,Poängberäkning!$C$6:$C$97)","v":0},null,{"$f":"LOOKUP(O88,Poängberäkning!$B$6:$B$97,Poängberäkning!$C$6:$C$97)","v":0},null,{"$f":"LOOKUP(Q88,[1]Poängberäkning!$B$6:$B$97,[1]Poängberäkning!$C$6:$C$97)","v":0},null,{"$f":"LOOKUP(S88,[1]Poängberäkning!$B$6:$B$97,[1]Poängberäkning!$C$6:$C$97)","v":0},null,{"$f":"LOOKUP(U88,[1]Poängberäkning!$B$6:$B$97,[1]Poängberäkning!$C$6:$C$97)","v":0},null,{"$f":"LOOKUP(W88,[1]Poängberäkning!$B$6:$B$97,[1]Poängberäkning!$C$6:$C$97)","v":0},{"$f":"LARGE(($H88,$J88,$L88,$N88,$P88,$R88,$T88,$V88,$X88),1)","v":0},{"$f":"LARGE(($H88,$J88,$L88,$N88,$P88,$R88,$T88,$V88,$X88),2)","v":0},{"$f":"LARGE(($H88,$J88,$L88,$N88,$P88,$R88,$T88,$V88,$X88),3)","v":0},{"$f":"LARGE(($H88,$J88,$L88,$N88,$P88,$R88,$T88,$V88,$X88),4)","v":0},{"$f":"LARGE(($H88,$J88,$L88,$N88,$P88,$R88,$T88,$V88,$X88),5)","v":0},{"$f":"LARGE(($H88,$J88,$L88,$N88,$P88,$R88,$T88,$V88,$X88),6)","v":0},{"$f":"LARGE(($H88,$J88,$L88,$N88,$P88,$R88,$T88,$V88,$X88),7)","v":0},{"$f":"LARGE(($H88,$J88,$L88,$N88,$P88,$R88,$T88,$V88,$X88),8)","v":0},{"$f":"LARGE(($H88,$J88,$L88,$N88,$P88,$R88,$T88,$V88,$X88),9)","v":0}]
[85,null,null,null,0,0,null,{"$f":"LOOKUP(G89,Poängberäkning!$B$6:$B$97,Poängberäkning!$C$6:$C$97)","v":0},null,{"$f":"LOOKUP(I89,Poängberäkning!$B$6:$B$97,Poängberäkning!$C$6:$C$97)","v":0},null,{"$f":"LOOKUP(K89,Poängberäkning!$B$6:$B$97,Poängberäkning!$C$6:$C$97)","v":0},null,{"$f":"LOOKUP(M89,Poängberäkning!$B$6:$B$97,Poängberäkning!$C$6:$C$97)","v":0},null,{"$f":"LOOKUP(O89,Poängberäkning!$B$6:$B$97,Poängberäkning!$C$6:$C$97)","v":0},null,{"$f":"LOOKUP(Q89,[1]Poängberäkning!$B$6:$B$97,[1]Poängberäkning!$C$6:$C$97)","v":0},null,{"$f":"LOOKUP(S89,[1]Poängberäkning!$B$6:$B$97,[1]Poängberäkning!$C$6:$C$97)","v":0},null,{"$f":"LOOKUP(U89,[1]Poängberäkning!$B$6:$B$97,[1]Poängberäkning!$C$6:$C$97)","v":0},null,{"$f":"LOOKUP(W89,[1]Poängberäkning!$B$6:$B$97,[1]Poängberäkning!$C$6:$C$97)","v":0},{"$f":"LARGE(($H89,$J89,$L89,$N89,$P89,$R89,$T89,$V89,$X89),1)","v":0},{"$f":"LARGE(($H89,$J89,$L89,$N89,$P89,$R89,$T89,$V89,$X89),2)","v":0},{"$f":"LARGE(($H89,$J89,$L89,$N89,$P89,$R89,$T89,$V89,$X89),3)","v":0},{"$f":"LARGE(($H89,$J89,$L89,$N89,$P89,$R89,$T89,$V89,$X89),4)","v":0},{"$f":"LARGE(($H89,$J89,$L89,$N89,$P89,$R89,$T89,$V89,$X89),5)","v":0},{"$f":"LARGE(($H89,$J89,$L89,$N89,$P89,$R89,$T89,$V89,$X89),6)","v":0},{"$f":"LARGE(($H89,$J89,$L89,$N89,$P89,$R89,$T89,$V89,$X89),7)","v":0},{"$f":"LARGE(($H89,$J89,$L89,$N89,$P89,$R89,$T89,$V89,$X89),8)","v":0},{"$f":"LARGE(($H89,$J89,$L89,$N89,$P89,$R89,$T89,$V89,$X89),9)","v":0}]
[{"$f":"A89+1","v":86},null,null,null,0,0,null,{"$f":"LOOKUP(G90,Poängberäkning!$B$6:$B$97,Poängberäkning!$C$6:$C$97)","v":0},null,{"$f":"LOOKUP(I90,Poängberäkning!$B$6:$B$97,Poängberäkning!$C$6:$C$97)","v":0},null,{"$f":"LOOKUP(K90,Poängberäkning!$B$6:$B$97,Poängberäkning!$C$6:$C$97)","v":0},null,{"$f":"LOOKUP(M90,Poängberäkning!$B$6:$B$97,Poängberäkning!$C$6:$C$97)","v":0},null,{"$f":"LOOKUP(O90,Poängberäkning!$B$6:$B$97,Poängberäkning!$C$6:$C$97)","v":0},null,{"$f":"LOOKUP(Q90,[1]Poängberäkning!$B$6:$B$97,[1]Poängberäkning!$C$6:$C$97)","v":0},null,{"$f":"LOOKUP(S90,[1]Poängberäkning!$B$6:$B$97,[1]Poängberäkning!$C$6:$C$97)","v":0},null,{"$f":"LOOKUP(U90,[1]Poängberäkning!$B$6:$B$97,[1]Poängberäkning!$C$6:$C$97)","v":0},null,{"$f":"LOOKUP(W90,[1]Poängberäkning!$B$6:$B$97,[1]Poängberäkning!$C$6:$C$97)","v":0},{"$f":"LARGE(($H90,$J90,$L90,$N90,$P90,$R90,$T90,$V90,$X90),1)","v":0},{"$f":"LARGE(($H90,$J90,$L90,$N90,$P90,$R90,$T90,$V90,$X90),2)","v":0},{"$f":"LARGE(($H90,$J90,$L90,$N90,$P90,$R90,$T90,$V90,$X90),3)","v":0},{"$f":"LARGE(($H90,$J90,$L90,$N90,$P90,$R90,$T90,$V90,$X90),4)","v":0},{"$f":"LARGE(($H90,$J90,$L90,$N90,$P90,$R90,$T90,$V90,$X90),5)","v":0},{"$f":"LARGE(($H90,$J90,$L90,$N90,$P90,$R90,$T90,$V90,$X90),6)","v":0},{"$f":"LARGE(($H90,$J90,$L90,$N90,$P90,$R90,$T90,$V90,$X90),7)","v":0},{"$f":"LARGE(($H90,$J90,$L90,$N90,$P90,$R90,$T90,$V90,$X90),8)","v":0},{"$f":"LARGE(($H90,$J90,$L90,$N90,$P90,$R90,$T90,$V90,$X90),9)","v":0}]

{"sheet":"D 13-14","index":7,"n_rows":90,"n_cols":33,"rows_kept":90,"cut":false,"hidden":false,"merged":[[2,24,3,32],[3,6,3,7],[3,8,3,9],[3,10,3,11],[3,12,3,13],[3,14,3,15],[3,16,3,17],[3,18,3,19],[3,20,3,21],[3,22,3,23],[1,16,2,17],[1,18,2,19],[1,20,1,21],[1,22,2,23],[2,4,2,5],[2,20,2,21],[0,2,0,15],[1,0,2,1],[1,2,2,3],[1,4,1,5],[1,6,2,7],[1,8,2,9],[1,10,2,11],[1,12,2,13],[1,14,2,15]]}
[]
["D 13-14",null,null,null,null,null,"Sälen GS",null,"Falun GS",null,"Norrbärke SL",null,"Borlänge SL",null,"Orsa GS",null,null,null,null,null,null,null,"Deltävling",null,"1:a","2:a","3:e","4:e","5:e","6:e","7:e","8:e","9:e"]
[null,null,null,null,"Poäng",null,null,null,null,null,null,null,null,null,null,null,null,null,null,null,null,null,null,null,"De 5 bästa åken.                         "]
["Rang","Född","Namn","Klubb","3 Bästa","Totalt","Sö 24/1   Tot",null,"Sö 14/2      Tot",null,"Sö 21/2    Tot",null,"Lö 27/2   Tot",null,"Lö 2/4   Tot"]
[1,2002,"JOBS Maja","Leksands SLK",{"$f":"SUM(Y5:AA5)","v":250},{"$f":"H5+J5+L5+N5+P5+R5+T5+V5+X5","v":271},null,{"$f":"LOOKUP(G5,Poängberäkning!$B$6:$B$97,Poängberäkning!$C$6:$C$97)","v":0},1,{"$f":"LOOKUP(I5,Poängberäkning!$B$6:$B$97,Poängberäkning!$C$6:$C$97)","v":100},2,{"$f":"LOOKUP(K5,Poängberäkning!$B$6:$B$97,Poängberäkning!$C$6:$C$97)","v":80},3,{"$f":"LOOKUP(M5,Poängberäkning!$B$6:$B$97,Poängberäkning!$C$6:$C$97)","v":70},30,{"$f":"LOOKUP(O5,Poängberäkning!$B$6:$B$97,Poängberäkning!$C$6:$C$97)","v":21},null,{"$f":"LOOKUP(Q5,[1]Poängberäkning!$B$6:$B$97,[1]Poängberäkning!$C$6:$C$97)","v":0},null,{"$f":"LOOKUP(S5,[1]Poängberäkning!$B$6:$B$97,[1]Poängberäkning!$C$6:$C$97)","v":0},null,{"$f":"LOOKUP(U5,[1]Poängberäkning!$B$6:$B$97,[1]Poängberäkning!$C$6:$C$97)","v":0},null,{"$f":"LOOKUP(W5,[1]Poängberäkning!$B$6:$B$97,[1]Poängberäkning!$C$6:$C$97)","v":0},{"$f":"LARGE(($H5,$J5,$L5,$N5,$P5,$R5,$T5,$V5,$X5),1)","v":100},{"$f":"LARGE(($H5,$J5,$L5,$N5,$P5,$R5,$T5,$V5,$X5),2)","v":80},{"$f":"LARGE(($H5,$J5,$L5,$N5,$P5,$R5,$T5,$V5,$X5),3)","v":70},{"$f":"LARGE(($H5,$J5,$L5,$N5,$P5,$R5,$T5,$V5,$X5),4)","v":21},{"$f":"LARGE(($H5,$J5,$L5,$N5,$P5,$R5,$T5,$V5,$X5),5)","v":0},{"$f":"LARGE(($H5,$J5,$L5,$N5,$P5,$R5,$T5,$V5,$X5),6)","v":0},{"$f":"LARGE(($H5,$J5,$L5,$N5,$P5,$R5,$T5,$V5,$X5),7)","v":0},{"$f":"LARGE(($H5,$J5,$L5,$N5,$P5,$R5,$T5,$V5,$X5),8)","v":0},{"$f":"LARGE(($H5,$J5,$L5,$N5,$P5,$R5,$T5,$V5,$X5),9)","v":0}]
[{"$f":"A5+1","v":2},2002,"LILJENBORG Lova","IFK Falun",200,283,2,{"$f":"LOOKUP(G6,Poängberäkning!$B$6:$B$97,Poängberäkning!$C$6:$C$97)","v":80},4,{"$f":"LOOKUP(I6,Poängberäkning!$B$6:$B$97,Poängberäkning!$C$6:$C$97)","v":60},9,{"$f":"LOOKUP(K6,Poängberäkning!$B$6:$B$97,Poängberäkning!$C$6:$C$97)","v":44},4,{"$f":"LOOKUP(M6,Poängberäkning!$B$6:$B$97,Poängberäkning!$C$6:$C$97)","v":60},12,{"$f":"LOOKUP(O6,Poängberäkning!$B$6:$B$97,Poängberäkning!$C$6:$C$97)","v":39},null,{"$f":"LOOKUP(Q6,[1]Poängberäkning!$B$6:$B$97,[1]Poängberäkning!$C$6:$C$97)","v":0},null,{"$f":"LOOKUP(S6,[1]Poängberäkning!$B$6:$B$97,[1]Poängberäkning!$C$6:$C$97)","v":0},null,{"$f":"LOOKUP(U6,[1]Poängberäkning!$B$6:$B$97,[1]Poängberäkning!$C$6:$C$97)","v":0},null,{"$f":"LOOKUP(W6,[1]Poängberäkning!$B$6:$B$97,[1]Poängberäkning!$C$6:$C$97)","v":0},{"$f":"LARGE(($H6,$J6,$L6,$N6,$P6,$R6,$T6,$V6,$X6),1)","v":80},{"$f":"LARGE(($H6,$J6,$L6,$N6,$P6,$R6,$T6,$V6,$X6),2)","v":60},{"$f":"LARGE(($H6,$J6,$L6,$N6,$P6,$R6,$T6,$V6,$X6),3)","v":60},{"$f":"LARGE(($H6,$J6,$L6,$N6,$P6,$R6,$T6,$V6,$X6),4)","v":44},{"$f":"LARGE(($H6,$J6,$L6,$N6,$P6,$R6,$T6,$V6,$X6),5)","v":39},{"$f":"LARGE(($H6,$J6,$L6,$N6,$P6,$R6,$T6,$V6,$X6),6)","v":0},{"$f":"LARGE(($H6,$J6,$L6,$N6,$P6,$R6,$T6,$V6,$X6),7)","v":0},{"$f":"LARGE(($H6,$J6,$L6,$N6,$P6,$R6,$T6,$V6,$X6),8)","v":0},{"$f":"LARGE(($H6,$J6,$L6,$N6,$P6,$R6,$T6,$V6,$X6),9)","v":0}]
[{"$f":"A6+1","v":3},2003,"BERGNER Emma","Malungs SLK",186,204,3,{"$f":"LOOKUP(G7,Poängberäkning!$B$6:$B$97,Poängberäkning!$C$6:$C$97)","v":70},3,{"$f":"LOOKUP(I7,Poängberäkning!$B$6:$B$97,Poängberäkning!$C$6:$C$97)","v":70},8,{"$f":"LOOKUP(K7,Poängberäkning!$B$6:$B$97,Poängberäkning!$C$6:$C$97)","v":46},99,{"$f":"LOOKUP(M7,Poängberäkning!$B$6:$B$97,Poängberäkning!$C$6:$C$97)","v":0},33,{"$f":"LOOKUP(O7,Poängberäkning!$B$6:$B$97,Poängberäkning!$C$6:$C$97)","v":18},null,{"$f":"LOOKUP(Q7,[1]Poängberäkning!$B$6:$B$97,[1]Poängberäkning!$C$6:$C$97)","v":0},null,{"$f":"LOOKUP(S7,[1]Poängberäkning!$B$6:$B$97,[1]Poängberäkning!$C$6:$C$97)","v":0},null,{"$f":"LOOKUP(U7,[1]Poängberäkning!$B$6:$B$97,[1]Poängberäkning!$C$6:$C$97)","v":0},null,{"$f":"LOOKUP(W7,[1]Poängberäkning!$B$6:$B$97,[1]Poängberäkning!$C$6:$C$97)","v":0},{"$f":"LARGE(($H7,$J7,$L7,$N7,$P7,$R7,$T7,$V7,$X7),1)","v":70},{"$f":"LARGE(($H7,$J7,$L7,$N7,$P7,$R7,$T7,$V7,$X7),2)","v":70},{"$f":"LARGE(($H7,$J7,$L7,$N7,$P7,$R7,$T7,$V7,$X7),3)","v":46},{"$f":"LARGE(($H7,$J7,$L7,$N7,$P7,$R7,$T7,$V7,$X7),4)","v":18},{"$f":"LARGE(($H7,$J7,$L7,$N7,$P7,$R7,$T7,$V7,$X7),5)","v":0},{"$f":"LARGE(($H7,$J7,$L7,$N7,$P7,$R7,$T7,$V7,$X7),6)","v":0},{"$f":"LARGE(($H7,$J7,$L7,$N7,$P7,$R7,$T7,$V7,$X7),7)","v":0},{"$f":"LARGE(($H7,$J7,$L7,$N7,$P7,$R7,$T7,$V7,$X7),8)","v":0},{"$f":"LARGE(($H7,$J7,$L7,$N7,$P7,$R7,$T7,$V7,$X7),9)","v":0}]
[{"$f":"A7+1","v":4},2002,"LAGGAR Karin","Rättviks SLK",171,171,10,{"$f":"LOOKUP(G8,Poängberäkning!$B$6:$B$97,Poängberäkning!$C$6:$C$97)","v":42},99,{"$f":"LOOKUP(I8,Poängberäkning!$B$6:$B$97,Poängberäkning!$C$6:$C$97)","v":0},1,{"$f":"LOOKUP(K8,Poängberäkning!$B$6:$B$97,Poängberäkning!$C$6:$C$97)","v":100},null,{"$f":"LOOKUP(M8,Poängberäkning!$B$6:$B$97,Poängberäkning!$C$6:$C$97)","v":0},22,{"$f":"LOOKUP(O8,Poängberäkning!$B$6:$B$97,Poängberäkning!$C$6:$C$97)","v":29},null,{"$f":"LOOKUP(Q8,[1]Poängberäkning!$B$6:$B$97,[1]Poängberäkning!$C$6:$C$97)","v":0},null,{"$f":"LOOKUP(S8,[1]Poängberäkning!$B$6:$B$97,[1]Poängberäkning!$C$6:$C$97)","v":0},null,{"$f":"LOOKUP(U8,[1]Poängberäkning!$B$6:$B$97,[1]Poängberäkning!$C$6:$C$97)","v":0},null,{"$f":"LOOKUP(W8,[1]Poängberäkning!$B$6:$B$97,[1]Poängberäkning!$C$6:$C$97)","v":0},{"$f":"LARGE(($H8,$J8,$L8,$N8,$P8,$R8,$T8,$V8,$X8),1)","v":100},{"$f":"LARGE(($H8,$J8,$L8,$N8,$P8,$R8,$T8,$V8,$X8),2)","v":42},{"$f":"LARGE(($H8,$J8,$L8,$N8,$P8,$R8,$T8,$V8,$X8),3)","v":29},{"$f":"LARGE(($H8,$J8,$L8,$N8,$P8,$R8,$T8,$V8,$X8),4)","v":0},{"$f":"LARGE(($H8,$J8,$L8,$N8,$P8,$R8,$T8,$V8,$X8),5)","v":0},{"$f":"LARGE(($H8,$J8,$L8,$N8,$P8,$R8,$T8,$V8,$X8),6)","v":0},{"$f":"LARGE(($H8,$J8,$L8,$N8,$P8,$R8,$T8,$V8,$X8),7)","v":0},{"$f":"LARGE(($H8,$J8,$L8,$N8,$P8,$R8,$T8,$V8,$X8),8)","v":0},{"$f":"LARGE(($H8,$J8,$L8,$N8,$P8,$R8,$T8,$V8,$X8),9)","v":0}]
[5,2003,"LOVÉN Clara","Orsa Alpina Klubb",166,196,6,{"$f":"LOOKUP(G9,Poängberäkning!$B$6:$B$97,Poängberäkning!$C$6:$C$97)","v":50},null,{"$f":"LOOKUP(I9,Poängberäkning!$B$6:$B$97,Poängberäkning!$C$6:$C$97)","v":0},3,{"$f":"LOOKUP(K9,Poängberäkning!$B$6:$B$97,Poängberäkning!$C$6:$C$97)","v":70},8,{"$f":"LOOKUP(M9,Poängberäkning!$B$6:$B$97,Poängberäkning!$C$6:$C$97)","v":46},21,{"$f":"LOOKUP(O9,Poängberäkning!$B$6:$B$97,Poängberäkning!$C$6:$C$97)","v":30},null,{"$f":"LOOKUP(Q9,[1]Poängberäkning!$B$6:$B$97,[1]Poängberäkning!$C$6:$C$97)","v":0},null,{"$f":"LOOKUP(S9,[1]Poängberäkning!$B$6:$B$97,[1]Poängberäkning!$C$6:$C$97)","v":0},null,{"$f":"LOOKUP(U9,[1]Poängberäkning!$B$6:$B$97,[1]Poängberäkning!$C$6:$C$97)","v":0},null,{"$f":"LOOKUP(W9,[1]Poängberäkning!$B$6:$B$97,[1]Poängberäkning!$C$6:$C$97)","v":0},{"$f":"LARGE(($H9,$J9,$L9,$N9,$P9,$R9,$T9,$V9,$X9),1)","v":70},{"$f":"LARGE(($H9,$J9,$L9,$N9,$P9,$R9,$T9,$V9,$X9),2)","v":50},{"$f":"LARGE(($H9,$J9,$L9,$N9,$P9,$R9,$T9,$V9,$X9),3)","v":46},{"$f":"LARGE(($H9,$J9,$L9,$N9,$P9,$R9,$T9,$V9,$X9),4)","v":30},{"$f":"LARGE(($H9,$J9,$L9,$N9,$P9,$R9,$T9,$V9,$X9),5)","v":0},{"$f":"LARGE(($H9,$J9,$L9,$N9,$P9,$R9,$T9,$V9,$X9),6)","v":0},{"$f":"LARGE(($H9,$J9,$L9,$N9,$P9,$R9,$T9,$V9,$X9),7)","v":0},{"$f":"LARGE(($H9,$J9,$L9,$N9,$P9,$R9,$T9,$V9,$X9),8)","v":0},{"$f":"LARGE(($H9,$J9,$L9,$N9,$P9,$R9,$T9,$V9,$X9),9)","v":0}]
[6,2002,"INGMARSSON Elvira","IFK Borlänge",155,218,9,{"$f":"LOOKUP(G10,Poängberäkning!$B$6:$B$97,Poängberäkning!$C$6:$C$97)","v":44},6,{"$f":"LOOKUP(I10,Poängberäkning!$B$6:$B$97,Poängberäkning!$C$6:$C$97)","v":50},5,{"$f":"LOOKUP(K10,Poängberäkning!$B$6:$B$97,Poängberäkning!$C$6:$C$97)","v":55},6,{"$f":"LOOKUP(M10,Poängberäkning!$B$6:$B$97,Poängberäkning!$C$6:$C$97)","v":50},32,{"$f":"LOOKUP(O10,Poängberäkning!$B$6:$B$97,Poängberäkning!$C$6:$C$97)","v":19},null,{"$f":"LOOKUP(Q10,[1]Poängberäkning!$B$6:$B$97,[1]Poängberäkning!$C$6:$C$97)","v":0},null,{"$f":"LOOKUP(S10,[1]Poängberäkning!$B$6:$B$97,[1]Poängberäkning!$C$6:$C$97)","v":0},null,{"$f":"LOOKUP(U10,[1]Poängberäkning!$B$6:$B$97,[1]Poängberäkning!$C$6:$C$97)","v":0},null,{"$f":"LOOKUP(W10,[1]Poängberäkning!$B$6:$B$97,[1]Poängberäkning!$C$6:$C$97)","v":0},{"$f":"LARGE(($H10,$J10,$L10,$N10,$P10,$R10,$T10,$V10,$X10),1)","v":55},{"$f":"LARGE(($H10,$J10,$L10,$N10,$P10,$R10,$T10,$V10,$X10),2)","v":50},{"$f":"LARGE(($H10,$J10,$L10,$N10,$P10,$R10,$T10,$V10,$X10),3)","v":50},{"$f":"LARGE(($H10,$J10,$L10,$N10,$P10,$R10,$T10,$V10,$X10),4)","v":44},{"$f":"LARGE(($H10,$J10,$L10,$N10,$P10,$R10,$T10,$V10,$X10),5)","v":19},{"$f":"LARGE(($H10,$J10,$L10,$N10,$P10,$R10,$T10,$V10,$X10),6)","v":0},{"$f":"LARGE(($H10,$J10,$L10,$N10,$P10,$R10,$T10,$V10,$X10),7)","v":0},{"$f":"LARGE(($H10,$J10,$L10,$N10,$P10,$R10,$T10,$V10,$X10),8)","v":0},{"$f":"LARGE(($H10,$J10,$L10,$N10,$P10,$R10,$T10,$V10,$X10),9)","v":0}]
[7,2003,"EKSTRÖM Lisa","IFK Falun",151,176,5,{"$f":"LOOKUP(G11,Poängberäkning!$B$6:$B$97,Poängberäkning!$C$6:$C$97)","v":55},8,{"$f":"LOOKUP(I11,Poängberäkning!$B$6:$B$97,Poängberäkning!$C$6:$C$97)","v":46},6,{"$f":"LOOKUP(K11,Poängberäkning!$B$6:$B$97,Poängberäkning!$C$6:$C$97)","v":50},99,{"$f":"LOOKUP(M11,Poängberäkning!$B$6:$B$97,Poängberäkning!$C$6:$C$97)","v":0},26,{"$f":"LOOKUP(O11,Poängberäkning!$B$6:$B$97,Poängberäkning!$C$6:$C$97)","v":25},null,{"$f":"LOOKUP(Q11,[1]Poängberäkning!$B$6:$B$97,[1]Poängberäkning!$C$6:$C$97)","v":0},null,{"$f":"LOOKUP(S11,[1]Poängberäkning!$B$6:$B$97,[1]Poängberäkning!$C$6:$C$97)","v":0},null,{"$f":"LOOKUP(U11,[1]Poängberäkning!$B$6:$B$97,[1]Poängberäkning!$C$6:$C$97)","v":0},null,{"$f":"LOOKUP(W11,[1]Poängberäkning!$B$6:$B$97,[1]Poängberäkning!$C$6:$C$97)","v":0},{"$f":"LARGE(($H11,$J11,$L11,$N11,$P11,$R11,$T11,$V11,$X11),1)","v":55},{"$f":"LARGE(($H11,$J11,$L11,$N11,$P11,$R11,$T11,$V11,$X11),2)","v":50},{"$f":"LARGE(($H11,$J11,$L11,$N11,$P11,$R11,$T11,$V11,$X11),3)","v":46},{"$f":"LARGE(($H11,$J11,$L11,$N11,$P11,$R11,$T11,$V11,$X11),4)","v":25},{"$f":"LARGE(($H11,$J11,$L11,$N11,$P11,$R11,$T11,$V11,$X11),5)","v":0},{"$f":"LARGE(($H11,$J11,$L11,$N11,$P11,$R11,$T11,$V11,$X11),6)","v":0},{"$f":"LARGE(($H11,$J11,$L11,$N11,$P11,$R11,$T11,$V11,$X11),7)","v":0},{"$f":"LARGE(($H11,$J11,$L11,$N11,$P11,$R11,$T11,$V11,$X11),8)","v":0},{"$f":"LARGE(($H11,$J11,$L11,$N11,$P11,$R11,$T11,$V11,$X11),9)","v":0}]
[8,2003,"OSKARSSON Hedvig","Sälens IF",148,148,1,{"$f":"LOOKUP(G12,Poängberäkning!$B$6:$B$97,Poängberäkning!$C$6:$C$97)","v":100},7,{"$f":"LOOKUP(I12,Poängberäkning!$B$6:$B$97,Poängberäkning!$C$6:$C$97)","v":48},null,{"$f":"LOOKUP(K12,Poängberäkning!$B$6:$B$97,Poängberäkning!$C$6:$C$97)","v":0},null,{"$f":"LOOKUP(M12,Poängberäkning!$B$6:$B$97,Poängberäkning!$C$6:$C$97)","v":0},null,{"$f":"LOOKUP(O12,Poängberäkning!$B$6:$B$97,Poängberäkning!$C$6:$C$97)","v":0},null,{"$f":"LOOKUP(Q12,[1]Poängberäkning!$B$6:$B$97,[1]Poängberäkning!$C$6:$C$97)","v":0},null,{"$f":"LOOKUP(S12,[1]Poängberäkning!$B$6:$B$97,[1]Poängberäkning!$C$6:$C$97)","v":0},null,{"$f":"LOOKUP(U12,[1]Poängberäkning!$B$6:$B$97,[1]Poängberäkning!$C$6:$C$97)","v":0},null,{"$f":"LOOKUP(W12,[1]Poängberäkning!$B$6:$B$97,[1]Poängberäkning!$C$6:$C$97)","v":0},{"$f":"LARGE(($H12,$J12,$L12,$N12,$P12,$R12,$T12,$V12,$X12),1)","v":100},{"$f":"LARGE(($H12,$J12,$L12,$N12,$P12,$R12,$T12,$V12,$X12),2)","v":48},{"$f":"LARGE(($H12,$J12,$L12,$N12,$P12,$R12,$T12,$V12,$X12),3)","v":0},{"$f":"LARGE(($H12,$J12,$L12,$N12,$P12,$R12,$T12,$V12,$X12),4)","v":0},{"$f":"LARGE(($H12,$J12,$L12,$N12,$P12,$R12,$T12,$V12,$X12),5)","v":0},{"$f":"LARGE(($H12,$J12,$L12,$N12,$P12,$R12,$T12,$V12,$X12),6)","v":0},{"$f":"LARGE(($H12,$J12,$L12,$N12,$P12,$R12,$T12,$V12,$X12),7)","v":0},{"$f":"LARGE(($H12,$J12,$L12,$N12,$P12,$R12,$T12,$V12,$X12),8)","v":0},{"$f":"LARGE(($H12,$J12,$L12,$N12,$P12,$R12,$T12,$V12,$X12),9)","v":0}]
[9,2002,"VEDIN Erica","Malungs SLK",143,166,8,{"$f":"LOOKUP(G13,Poängberäkning!$B$6:$B$97,Poängberäkning!$C$6:$C$97)","v":46},5,{"$f":"LOOKUP(I13,Poängberäkning!$B$6:$B$97,Poängberäkning!$C$6:$C$97)","v":55},null,{"$f":"LOOKUP(K13,Poängberäkning!$B$6:$B$97,Poängberäkning!$C$6:$C$97)","v":0},10,{"$f":"LOOKUP(M13,Poängberäkning!$B$6:$B$97,Poängberäkning!$C$6:$C$97)","v":42},28,{"$f":"LOOKUP(O13,Poängberäkning!$B$6:$B$97,Poängberäkning!$C$6:$C$97)","v":23},null,{"$f":"LOOKUP(Q13,[1]Poängberäkning!$B$6:$B$97,[1]Poängberäkning!$C$6:$C$97)","v":0},null,{"$f":"LOOKUP(S13,[1]Poängberäkning!$B$6:$B$97,[1]Poängberäkning!$C$6:$C$97)","v":0},null,{"$f":"LOOKUP(U13,[1]Poängberäkning!$B$6:$B$97,[1]Poängberäkning!$C$6:$C$97)","v":0},null,{"$f":"LOOKUP(W13,[1]Poängberäkning!$B$6:$B$97,[1]Poängberäkning!$C$6:$C$97)","v":0},{"$f":"LARGE(($H13,$J13,$L13,$N13,$P13,$R13,$T13,$V13,$X13),1)","v":55},{"$f":"LARGE(($H13,$J13,$L13,$N13,$P13,$R13,$T13,$V13,$X13),2)","v":46},{"$f":"LARGE(($H13,$J13,$L13,$N13,$P13,$R13,$T13,$V13,$X13),3)","v":42},{"$f":"LARGE(($H13,$J13,$L13,$N13,$P13,$R13,$T13,$V13,$X13),4)","v":23},{"$f":"LARGE(($H13,$J13,$L13,$N13,$P13,$R13,$T13,$V13,$X13),5)","v":0},{"$f":"LARGE(($H13,$J13,$L13,$N13,$P13,$R13,$T13,$V13,$X13),6)","v":0},{"$f":"LARGE(($H13,$J13,$L13,$N13,$P13,$R13,$T13,$V13,$X13),7)","v":0},{"$f":"LARGE(($H13,$J13,$L13,$N13,$P13,$R13,$T13,$V13,$X13),8)","v":0},{"$f":"LARGE(($H13,$J13,$L13,$N13,$P13,$R13,$T13,$V13,$X13),9)","v":0}]
[10,2002,"BORELIUS Emma","IFK Falun",137,137,4,{"$f":"LOOKUP(G14,Poängberäkning!$B$6:$B$97,Poängberäkning!$C$6:$C$97)","v":60},99,{"$f":"LOOKUP(I14,Poängberäkning!$B$6:$B$97,Poängberäkning!$C$6:$C$97)","v":0},null,{"$f":"LOOKUP(K14,Poängberäkning!$B$6:$B$97,Poängberäkning!$C$6:$C$97)","v":0},11,{"$f":"LOOKUP(M14,Poängberäkning!$B$6:$B$97,Poängberäkning!$C$6:$C$97)","v":40},14,{"$f":"LOOKUP(O14,Poängberäkning!$B$6:$B$97,Poängberäkning!$C$6:$C$97)","v":37},null,{"$f":"LOOKUP(Q14,[1]Poängberäkning!$B$6:$B$97,[1]Poängberäkning!$C$6:$C$97)","v":0},null,{"$f":"LOOKUP(S14,[1]Poängberäkning!$B$6:$B$97,[1]Poängberäkning!$C$6:$C$97)","v":0},null,{"$f":"LOOKUP(U14,[1]Poängberäkning!$B$6:$B$97,[1]Poängberäkning!$C$6:$C$97)","v":0},null,{"$f":"LOOKUP(W14,[1]Poängberäkning!$B$6:$B$97,[1]Poängberäkning!$C$6:$C$97)","v":0},{"$f":"LARGE(($H14,$J14,$L14,$N14,$P14,$R14,$T14,$V14,$X14),1)","v":60},{"$f":"LARGE(($H14,$J14,$L14,$N14,$P14,$R14,$T14,$V14,$X14),2)","v":40},{"$f":"LARGE(($H14,$J14,$L14,$N14,$P14,$R14,$T14,$V14,$X14),3)","v":37},{"$f":"LARGE(($H14,$J14,$L14,$N14,$P14,$R14,$T14,$V14,$X14),4)","v":0},{"$f":"LARGE(($H14,$J14,$L14,$N14,$P14,$R14,$T14,$V14,$X14),5)","v":0},{"$f":"LARGE(($H14,$J14,$L14,$N14,$P14,$R14,$T14,$V14,$X14),6)","v":0},{"$f":"LARGE(($H14,$J14,$L14,$N14,$P14,$R14,$T14,$V14,$X14),7)","v":0},{"$f":"LARGE(($H14,$J14,$L14,$N14,$P14,$R14,$T14,$V14,$X14),8)","v":0},{"$f":"LARGE(($H14,$J14,$L14,$N14,$P14,$R14,$T14,$V14,$X14),9)","v":0}]
[11,2002,"FRIDÉN Ebba","Väst Alpin SK Göteborg",130,130,null,{"$f":"LOOKUP(G15,Poängberäkning!$B$6:$B$97,Poängberäkning!$C$6:$C$97)","v":0},99,{"$f":"LOOKUP(I15,Poängberäkning!$B$6:$B$97,Poängberäkning!$C$6:$C$97)","v":0},4,{"$f":"LOOKUP(K15,Poängberäkning!$B$6:$B$97,Poängberäkning!$C$6:$C$97)","v":60},null,{"$f":"LOOKUP(M15,Poängberäkning!$B$6:$B$97,Poängberäkning!$C$6:$C$97)","v":0},3,{"$f":"LOOKUP(O15,Poängberäkning!$B$6:$B$97,Poängberäkning!$C$6:$C$97)","v":70},null,{"$f":"LOOKUP(Q15,[1]Poängberäkning!$B$6:$B$97,[1]Poängberäkning!$C$6:$C$97)","v":0},null,{"$f":"LOOKUP(S15,[1]Poängberäkning!$B$6:$B$97,[1]Poängberäkning!$C$6:$C$97)","v":0},null,{"$f":"LOOKUP(U15,[1]Poängberäkning!$B$6:$B$97,[1]Poängberäkning!$C$6:$C$97)","v":0},null,{"$f":"LOOKUP(W15,[1]Poängberäkning!$B$6:$B$97,[1]Poängberäkning!$C$6:$C$97)","v":0},{"$f":"LARGE(($H15,$J15,$L15,$N15,$P15,$R15,$T15,$V15,$X15),1)","v":70},{"$f":"LARGE(($H15,$J15,$L15,$N15,$P15,$R15,$T15,$V15,$X15),2)","v":60},{"$f":"LARGE(($H15,$J15,$L15,$N15,$P15,$R15,$T15,$V15,$X15),3)","v":0},{"$f":"LARGE(($H15,$J15,$L15,$N15,$P15,$R15,$T15,$V15,$X15),4)","v":0},{"$f":"LARGE(($H15,$J15,$L15,$N15,$P15,$R15,$T15,$V15,$X15),5)","v":0},{"$f":"LARGE(($H15,$J15,$L15,$N15,$P15,$R15,$T15,$V15,$X15),6)","v":0},{"$f":"LARGE(($H15,$J15,$L15,$N15,$P15,$R15,$T15,$V15,$X15),7)","v":0},{"$f":"LARGE(($H15,$J15,$L15,$N15,$P15,$R15,$T15,$V15,$X15),8)","v":0},{"$f":"LARGE(($H15,$J15,$L15,$N15,$P15,$R15,$T15,$V15,$X15),9)","v":0}]
[12,2002,"ANDERSSON Ella","Båsenberga SLK",123,123,null,{"$f":"LOOKUP(G16,Poängberäkning!$B$6:$B$97,Poängberäkning!$C$6:$C$97)","v":0},9,{"$f":"LOOKUP(I16,Poängberäkning!$B$6:$B$97,Poängberäkning!$C$6:$C$97)","v":44},7,{"$f":"LOOKUP(K16,Poängberäkning!$B$6:$B$97,Poängberäkning!$C$6:$C$97)","v":48},99,{"$f":"LOOKUP(M16,Poängberäkning!$B$6:$B$97,Poängberäkning!$C$6:$C$97)","v":0},20,{"$f":"LOOKUP(O16,Poängberäkning!$B$6:$B$97,Poängberäkning!$C$6:$C$97)","v":31},null,{"$f":"LOOKUP(Q16,[1]Poängberäkning!$B$6:$B$97,[1]Poängberäkning!$C$6:$C$97)","v":0},null,{"$f":"LOOKUP(S16,[1]Poängberäkning!$B$6:$B$97,[1]Poängberäkning!$C$6:$C$97)","v":0},null,{"$f":"LOOKUP(U16,[1]Poängberäkning!$B$6:$B$97,[1]Poängberäkning!$C$6:$C$97)","v":0},null,{"$f":"LOOKUP(W16,[1]Poängberäkning!$B$6:$B$97,[1]Poängberäkning!$C$6:$C$97)","v":0},{"$f":"LARGE(($H16,$J16,$L16,$N16,$P16,$R16,$T16,$V16,$X16),1)","v":48},{"$f":"LARGE(($H16,$J16,$L16,$N16,$P16,$R16,$T16,$V16,$X16),2)","v":44},{"$f":"LARGE(($H16,$J16,$L16,$N16,$P16,$R16,$T16,$V16,$X16),3)","v":31},{"$f":"LARGE(($H16,$J16,$L16,$N16,$P16,$R16,$T16,$V16,$X16),4)","v":0},{"$f":"LARGE(($H16,$J16,$L16,$N16,$P16,$R16,$T16,$V16,$X16),5)","v":0},{"$f":"LARGE(($H16,$J16,$L16,$N16,$P16,$R16,$T16,$V16,$X16),6)","v":0},{"$f":"LARGE(($H16,$J16,$L16,$N16,$P16,$R16,$T16,$V16,$X16),7)","v":0},{"$f":"LARGE(($H16,$J16,$L16,$N16,$P16,$R16,$T16,$V16,$X16),8)","v":0},{"$f":"LARGE(($H16,$J16,$L16,$N16,$P16,$R16,$T16,$V16,$X16),9)","v":0}]
[13,2003,"NARVING Maja","Örebro SLF",122,122,11,{"$f":"LOOKUP(G17,Poängberäkning!$B$6:$B$97,Poängberäkning!$C$6:$C$97)","v":40},null,{"$f":"LOOKUP(I17,Poängberäkning!$B$6:$B$97,Poängberäkning!$C$6:$C$97)","v":0},null,{"$f":"LOOKUP(K17,Poängberäkning!$B$6:$B$97,Poängberäkning!$C$6:$C$97)","v":0},5,{"$f":"LOOKUP(M17,Poängberäkning!$B$6:$B$97,Poängberäkning!$C$6:$C$97)","v":55},24,{"$f":"LOOKUP(O17,Poängberäkning!$B$6:$B$97,Poängberäkning!$C$6:$C$97)","v":27},null,{"$f":"LOOKUP(Q17,[1]Poängberäkning!$B$6:$B$97,[1]Poängberäkning!$C$6:$C$97)","v":0},null,{"$f":"LOOKUP(S17,[1]Poängberäkning!$B$6:$B$97,[1]Poängberäkning!$C$6:$C$97)","v":0},null,{"$f":"LOOKUP(U17,[1]Poängberäkning!$B$6:$B$97,[1]Poängberäkning!$C$6:$C$97)","v":0},null,{"$f":"LOOKUP(W17,[1]Poängberäkning!$B$6:$B$97,[1]Poängberäkning!$C$6:$C$97)","v":0},{"$f":"LARGE(($H17,$J17,$L17,$N17,$P17,$R17,$T17,$V17,$X17),1)","v":55},{"$f":"LARGE(($H17,$J17,$L17,$N17,$P17,$R17,$T17,$V17,$X17),2)","v":40},{"$f":"LARGE(($H17,$J17,$L17,$N17,$P17,$R17,$T17,$V17,$X17),3)","v":27},{"$f":"LARGE(($H17,$J17,$L17,$N17,$P17,$R17,$T17,$V17,$X17),4)","v":0},{"$f":"LARGE(($H17,$J17,$L17,$N17,$P17,$R17,$T17,$V17,$X17),5)","v":0},{"$f":"LARGE(($H17,$J17,$L17,$N17,$P17,$R17,$T17,$V17,$X17),6)","v":0},{"$f":"LARGE(($H17,$J17,$L17,$N17,$P17,$R17,$T17,$V17,$X17),7)","v":0},{"$f":"LARGE(($H17,$J17,$L17,$N17,$P17,$R17,$T17,$V17,$X17),8)","v":0},{"$f":"LARGE(($H17,$J17,$L17,$N17,$P17,$R17,$T17,$V17,$X17),9)","v":0}]
[14,2002,"WENGRUD Saga","Leksands SLK",121,168,12,{"$f":"LOOKUP(G18,Poängberäkning!$B$6:$B$97,Poängberäkning!$C$6:$C$97)","v":39},10,{"$f":"LOOKUP(I18,Poängberäkning!$B$6:$B$97,Poängberäkning!$C$6:$C$97)","v":42},11,{"$f":"LOOKUP(K18,Poängberäkning!$B$6:$B$97,Poängberäkning!$C$6:$C$97)","v":40},18,{"$f":"LOOKUP(M18,Poängberäkning!$B$6:$B$97,Poängberäkning!$C$6:$C$97)","v":33},37,{"$f":"LOOKUP(O18,Poängberäkning!$B$6:$B$97,Poängberäkning!$C$6:$C$97)","v":14},null,{"$f":"LOOKUP(Q18,[1]Poängberäkning!$B$6:$B$97,[1]Poängberäkning!$C$6:$C$97)","v":0},null,{"$f":"LOOKUP(S18,[1]Poängberäkning!$B$6:$B$97,[1]Poängberäkning!$C$6:$C$97)","v":0},null,{"$f":"LOOKUP(U18,[1]Poängberäkning!$B$6:$B$97,[1]Poängberäkning!$C$6:$C$97)","v":0},null,{"$f":"LOOKUP(W18,[1]Poängberäkning!$B$6:$B$97,[1]Poängberäkning!$C$6:$C$97)","v":0},{"$f":"LARGE(($H18,$J18,$L18,$N18,$P18,$R18,$T18,$V18,$X18),1)","v":42},{"$f":"LARGE(($H18,$J18,$L18,$N18,$P18,$R18,$T18,$V18,$X18),2)","v":40},{"$f":"LARGE(($H18,$J18,$L18,$N18,$P18,$R18,$T18,$V18,$X18),3)","v":39},{"$f":"LARGE(($H18,$J18,$L18,$N18,$P18,$R18,$T18,$V18,$X18),4)","v":33},{"$f":"LARGE(($H18,$J18,$L18,$N18,$P18,$R18,$T18,$V18,$X18),5)","v":14},{"$f":"LARGE(($H18,$J18,$L18,$N18,$P18,$R18,$T18,$V18,$X18),6)","v":0},{"$f":"LARGE(($H18,$J18,$L18,$N18,$P18,$R18,$T18,$V18,$X18),7)","v":0},{"$f":"LARGE(($H18,$J18,$L18,$N18,$P18,$R18,$T18,$V18,$X18),8)","v":0},{"$f":"LARGE(($H18,$J18,$L18,$N18,$P18,$R18,$T18,$V18,$X18),9)","v":0}]
[15,2003,"FORSMAN Jennefer","IFK Borlänge",108,114,15,{"$f":"LOOKUP(G19,Poängberäkning!$B$6:$B$97,Poängberäkning!$C$6:$C$97)","v":36},17,{"$f":"LOOKUP(I19,Poängberäkning!$B$6:$B$97,Poängberäkning!$C$6:$C$97)","v":34},13,{"$f":"LOOKUP(K19,Poängberäkning!$B$6:$B$97,Poängberäkning!$C$6:$C$97)","v":38},99,{"$f":"LOOKUP(M19,Poängberäkning!$B$6:$B$97,Poängberäkning!$C$6:$C$97)","v":0},45,{"$f":"LOOKUP(O19,Poängberäkning!$B$6:$B$97,Poängberäkning!$C$6:$C$97)","v":6},null,{"$f":"LOOKUP(Q19,[1]Poängberäkning!$B$6:$B$97,[1]Poängberäkning!$C$6:$C$97)","v":0},null,{"$f":"LOOKUP(S19,[1]Poängberäkning!$B$6:$B$97,[1]Poängberäkning!$C$6:$C$97)","v":0},null,{"$f":"LOOKUP(U19,[1]Poängberäkning!$B$6:$B$97,[1]Poängberäkning!$C$6:$C$97)","v":0},null,{"$f":"LOOKUP(W19,[1]Poängberäkning!$B$6:$B$97,[1]Poängberäkning!$C$6:$C$97)","v":0},{"$f":"LARGE(($H19,$J19,$L19,$N19,$P19,$R19,$T19,$V19,$X19),1)","v":38},{"$f":"LARGE(($H19,$J19,$L19,$N19,$P19,$R19,$T19,$V19,$X19),2)","v":36},{"$f":"LARGE(($H19,$J19,$L19,$N19,$P19,$R19,$T19,$V19,$X19),3)","v":34},{"$f":"LARGE(($H19,$J19,$L19,$N19,$P19,$R19,$T19,$V19,$X19),4)","v":6},{"$f":"LARGE(($H19,$J19,$L19,$N19,$P19,$R19,$T19,$V19,$X19),5)","v":0},{"$f":"LARGE(($H19,$J19,$L19,$N19,$P19,$R19,$T19,$V19,$X19),6)","v":0},{"$f":"LARGE(($H19,$J19,$L19,$N19,$P19,$R19,$T19,$V19,$X19),7)","v":0},{"$f":"LARGE(($H19,$J19,$L19,$N19,$P19,$R19,$T19,$V19,$X19),8)","v":0},{"$f":"LARGE(($H19,$J19,$L19,$N19,$P19,$R19,$T19,$V19,$X19),9)","v":0}]
[16,2002,"EDLUND Elin","IFK Falun",102,102,6,{"$f":"LOOKUP(G20,Poängberäkning!$B$6:$B$97,Poängberäkning!$C$6:$C$97)","v":50},12,{"$f":"LOOKUP(I20,Poängberäkning!$B$6:$B$97,Poängberäkning!$C$6:$C$97)","v":39},null,{"$f":"LOOKUP(K20,Poängberäkning!$B$6:$B$97,Poängberäkning!$C$6:$C$97)","v":0},null,{"$f":"LOOKUP(M20,Poängberäkning!$B$6:$B$97,Poängberäkning!$C$6:$C$97)","v":0},38,{"$f":"LOOKUP(O20,Poängberäkning!$B$6:$B$97,Poängberäkning!$C$6:$C$97)","v":13},null,{"$f":"LOOKUP(Q20,[1]Poängberäkning!$B$6:$B$97,[1]Poängberäkning!$C$6:$C$97)","v":0},null,{"$f":"LOOKUP(S20,[1]Poängberäkning!$B$6:$B$97,[1]Poängberäkning!$C$6:$C$97)","v":0},null,{"$f":"LOOKUP(U20,[1]Poängberäkning!$B$6:$B$97,[1]Poängberäkning!$C$6:$C$97)","v":0},null,{"$f":"LOOKUP(W20,[1]Poängberäkning!$B$6:$B$97,[1]Poängberäkning!$C$6:$C$97)","v":0},{"$f":"LARGE(($H20,$J20,$L20,$N20,$P20,$R20,$T20,$V20,$X20),1)","v":50},{"$f":"LARGE(($H20,$J20,$L20,$N20,$P20,$R20,$T20,$V20,$X20),2)","v":39},{"$f":"LARGE(($H20,$J20,$L20,$N20,$P20,$R20,$T20,$V20,$X20),3)","v":13},{"$f":"LARGE(($H20,$J20,$L20,$N20,$P20,$R20,$T20,$V20,$X20),4)","v":0},{"$f":"LARGE(($H20,$J20,$L20,$N20,$P20,$R20,$T20,$V20,$X20),5)","v":0},{"$f":"LARGE(($H20,$J20,$L20,$N20,$P20,$R20,$T20,$V20,$X20),6)","v":0},{"$f":"LARGE(($H20,$J20,$L20,$N20,$P20,$R20,$T20,$V20,$X20),7)","v":0},{"$f":"LARGE(($H20,$J20,$L20,$N20,$P20,$R20,$T20,$V20,$X20),8)","v":0},{"$f":"LARGE(($H20,$J20,$L20,$N20,$P20,$R20,$T20,$V20,$X20),9)","v":0}]
[17,2002,"DAHLIN Ronja","IF Hudik Alpin",100,100,null,{"$f":"LOOKUP(G21,Poängberäkning!$B$6:$B$97,Poängberäkning!$C$6:$C$97)","v":0},null,{"$f":"LOOKUP(I21,Poängberäkning!$B$6:$B$97,Poängberäkning!$C$6:$C$97)","v":0},null,{"$f":"LOOKUP(K21,Poängberäkning!$B$6:$B$97,Poängberäkning!$C$6:$C$97)","v":0},null,{"$f":"LOOKUP(M21,Poängberäkning!$B$6:$B$97,Poängberäkning!$C$6:$C$97)","v":0},1,{"$f":"LOOKUP(O21,Poängberäkning!$B$6:$B$97,Poängberäkning!$C$6:$C$97)","v":100},null,{"$f":"LOOKUP(Q21,[1]Poängberäkning!$B$6:$B$97,[1]Poängberäkning!$C$6:$C$97)","v":0},null,{"$f":"LOOKUP(S21,[1]Poängberäkning!$B$6:$B$97,[1]Poängberäkning!$C$6:$C$97)","v":0},null,{"$f":"LOOKUP(U21,[1]Poängberäkning!$B$6:$B$97,[1]Poängberäkning!$C$6:$C$97)","v":0},null,{"$f":"LOOKUP(W21,[1]Poängberäkning!$B$6:$B$97,[1]Poängberäkning!$C$6:$C$97)","v":0},{"$f":"LARGE(($H21,$J21,$L21,$N21,$P21,$R21,$T21,$V21,$X21),1)","v":100},{"$f":"LARGE(($H21,$J21,$L21,$N21,$P21,$R21,$T21,$V21,$X21),2)","v":0},{"$f":"LARGE(($H21,$J21,$L21,$N21,$P21,$R21,$T21,$V21,$X21),3)","v":0},{"$f":"LARGE(($H21,$J21,$L21,$N21,$P21,$R21,$T21,$V21,$X21),4)","v":0},{"$f":"LARGE(($H21,$J21,$L21,$N21,$P21,$R21,$T21,$V21,$X21),5)","v":0},{"$f":"LARGE(($H21,$J21,$L21,$N21,$P21,$R21,$T21,$V21,$X21),6)","v":0},{"$f":"LARGE(($H21,$J21,$L21,$N21,$P21,$R21,$T21,$V21,$X21),7)","v":0},{"$f":"LARGE(($H21,$J21,$L21,$N21,$P21,$R21,$T21,$V21,$X21),8)","v":0},{"$f":"LARGE(($H21,$J21,$L21,$N21,$P21,$R21,$T21,$V21,$X21),9)","v":0}]
[18,2002,"MALM Cecilia","Sollentuna SLK",100,100,null,{"$f":"LOOKUP(G22,Poängberäkning!$B$6:$B$97,Poängberäkning!$C$6:$C$97)","v":0},null,{"$f":"LOOKUP(I22,Poängberäkning!$B$6:$B$97,Poängberäkning!$C$6:$C$97)","v":0},null,{"$f":"LOOKUP(K22,Poängberäkning!$B$6:$B$97,Poängberäkning!$C$6:$C$97)","v":0},1,{"$f":"LOOKUP(M22,Poängberäkning!$B$6:$B$97,Poängberäkning!$C$6:$C$97)","v":100},null,{"$f":"LOOKUP(O22,Poängberäkning!$B$6:$B$97,Poängberäkning!$C$6:$C$97)","v":0},null,{"$f":"LOOKUP(Q22,[1]Poängberäkning!$B$6:$B$97,[1]Poängberäkning!$C$6:$C$97)","v":0},null,{"$f":"LOOKUP(S22,[1]Poängberäkning!$B$6:$B$97,[1]Poängberäkning!$C$6:$C$97)","v":0},null,{"$f":"LOOKUP(U22,[1]Poängberäkning!$B$6:$B$97,[1]Poängberäkning!$C$6:$C$97)","v":0},null,{"$f":"LOOKUP(W22,[1]Poängberäkning!$B$6:$B$97,[1]Poängberäkning!$C$6:$C$97)","v":0},{"$f":"LARGE(($H22,$J22,$L22,$N22,$P22,$R22,$T22,$V22,$X22),1)","v":100},{"$f":"LARGE(($H22,$J22,$L22,$N22,$P22,$R22,$T22,$V22,$X22),2)","v":0},{"$f":"LARGE(($H22,$J22,$L22,$N22,$P22,$R22,$T22,$V22,$X22),3)","v":0},{"$f":"LARGE(($H22,$J22,$L22,$N22,$P22,$R22,$T22,$V22,$X22),4)","v":0},{"$f":"LARGE(($H22,$J22,$L22,$N22,$P22,$R22,$T22,$V22,$X22),5)","v":0},{"$f":"LARGE(($H22,$J22,$L22,$N22,$P22,$R22,$T22,$V22,$X22),6)","v":0},{"$f":"LARGE(($H22,$J22,$L22,$N22,$P22,$R22,$T22,$V22,$X22),7)","v":0},{"$f":"LARGE(($H22,$J22,$L22,$N22,$P22,$R22,$T22,$V22,$X22),8)","v":0},{"$f":"LARGE(($H22,$J22,$L22,$N22,$P22,$R22,$T22,$V22,$X22),9)","v":0}]
[19,2002,"BACK-NILSSON Anna","Leksands SLK",82,82,13,{"$f":"LOOKUP(G23,Poängberäkning!$B$6:$B$97,Poängberäkning!$C$6:$C$97)","v":38},null,{"$f":"LOOKUP(I23,Poängberäkning!$B$6:$B$97,Poängberäkning!$C$6:$C$97)","v":0},null,{"$f":"LOOKUP(K23,Poängberäkning!$B$6:$B$97,Poängberäkning!$C$6:$C$97)","v":0},9,{"$f":"LOOKUP(M23,Poängberäkning!$B$6:$B$97,Poängberäkning!$C$6:$C$97)","v":44},null,{"$f":"LOOKUP(O23,Poängberäkning!$B$6:$B$97,Poängberäkning!$C$6:$C$97)","v":0},null,{"$f":"LOOKUP(Q23,[1]Poängberäkning!$B$6:$B$97,[1]Poängberäkning!$C$6:$C$97)","v":0},null,{"$f":"LOOKUP(S23,[1]Poängberäkning!$B$6:$B$97,[1]Poängberäkning!$C$6:$C$97)","v":0},null,{"$f":"LOOKUP(U23,[1]Poängberäkning!$B$6:$B$97,[1]Poängberäkning!$C$6:$C$97)","v":0},null,{"$f":"LOOKUP(W23,[1]Poängberäkning!$B$6:$B$97,[1]Poängberäkning!$C$6:$C$97)","v":0},{"$f":"LARGE(($H23,$J23,$L23,$N23,$P23,$R23,$T23,$V23,$X23),1)","v":44},{"$f":"LARGE(($H23,$J23,$L23,$N23,$P23,$R23,$T23,$V23,$X23),2)","v":38},{"$f":"LARGE(($H23,$J23,$L23,$N23,$P23,$R23,$T23,$V23,$X23),3)","v":0},{"$f":"LARGE(($H23,$J23,$L23,$N23,$P23,$R23,$T23,$V23,$X23),4)","v":0},{"$f":"LARGE(($H23,$J23,$L23,$N23,$P23,$R23,$T23,$V23,$X23),5)","v":0},{"$f":"LARGE(($H23,$J23,$L23,$N23,$P23,$R23,$T23,$V23,$X23),6)","v":0},{"$f":"LARGE(($H23,$J23,$L23,$N23,$P23,$R23,$T23,$V23,$X23),7)","v":0},{"$f":"LARGE(($H23,$J23,$L23,$N23,$P23,$R23,$T23,$V23,$X23),8)","v":0},{"$f":"LARGE(($H23,$J23,$L23,$N23,$P23,$R23,$T23,$V23,$X23),9)","v":0}]
[20,2002,"VON REEDTZ Sofia","Gävle Alpina SK",80,80,null,{"$f":"LOOKUP(G24,Poängberäkning!$B$6:$B$97,Poängberäkning!$C$6:$C$97)","v":0},null,{"$f":"LOOKUP(I24,Poängberäkning!$B$6:$B$97,Poängberäkning!$C$6:$C$97)","v":0},null,{"$f":"LOOKUP(K24,Poängberäkning!$B$6:$B$97,Poängberäkning!$C$6:$C$97)","v":0},null,{"$f":"LOOKUP(M24,Poängberäkning!$B$6:$B$97,Poängberäkning!$C$6:$C$97)","v":0},2,{"$f":"LOOKUP(O24,Poängberäkning!$B$6:$B$97,Poängberäkning!$C$6:$C$97)","v":80},null,{"$f":"LOOKUP(Q24,[1]Poängberäkning!$B$6:$B$97,[1]Poängberäkning!$C$6:$C$97)","v":0},null,{"$f":"LOOKUP(S24,[1]Poängberäkning!$B$6:$B$97,[1]Poängberäkning!$C$6:$C$97)","v":0},null,{"$f":"LOOKUP(U24,[1]Poängberäkning!$B$6:$B$97,[1]Poängberäkning!$C$6:$C$97)","v":0},null,{"$f":"LOOKUP(W24,[1]Poängberäkning!$B$6:$B$97,[1]Poängberäkning!$C$6:$C$97)","v":0},{"$f":"LARGE(($H24,$J24,$L24,$N24,$P24,$R24,$T24,$V24,$X24),1)","v":80},{"$f":"LARGE(($H24,$J24,$L24,$N24,$P24,$R24,$T24,$V24,$X24),2)","v":0},{"$f":"LARGE(($H24,$J24,$L24,$N24,$P24,$R24,$T24,$V24,$X24),3)","v":0},{"$f":"LARGE(($H24,$J24,$L24,$N24,$P24,$R24,$T24,$V24,$X24),4)","v":0},{"$f":"LARGE(($H24,$J24,$L24,$N24,$P24,$R24,$T24,$V24,$X24),5)","v":0},{"$f":"LARGE(($H24,$J24,$L24,$N24,$P24,$R24,$T24,$V24,$X24),6)","v":0},{"$f":"LARGE(($H24,$J24,$L24,$N24,$P24,$R24,$T24,$V24,$X24),7)","v":0},{"$f":"LARGE(($H24,$J24,$L24,$N24,$P24,$R24,$T24,$V24,$X24),8)","v":0},{"$f":"LARGE(($H24,$J24,$L24,$N24,$P24,$R24,$T24,$V24,$X24),9)","v":0}]
[21,2002,"HELLMAN Josefine","IFK Falun",80,80,99,{"$f":"LOOKUP(G25,Poängberäkning!$B$6:$B$97,Poängberäkning!$C$6:$C$97)","v":0},2,{"$f":"LOOKUP(I25,Poängberäkning!$B$6:$B$97,Poängberäkning!$C$6:$C$97)","v":80},null,{"$f":"LOOKUP(K25,Poängberäkning!$B$6:$B$97,Poängberäkning!$C$6:$C$97)","v":0},null,{"$f":"LOOKUP(M25,Poängberäkning!$B$6:$B$97,Poängberäkning!$C$6:$C$97)","v":0},null,{"$f":"LOOKUP(O25,Poängberäkning!$B$6:$B$97,Poängberäkning!$C$6:$C$97)","v":0},null,{"$f":"LOOKUP(Q25,[1]Poängberäkning!$B$6:$B$97,[1]Poängberäkning!$C$6:$C$97)","v":0},null,{"$f":"LOOKUP(S25,[1]Poängberäkning!$B$6:$B$97,[1]Poängberäkning!$C$6:$C$97)","v":0},null,{"$f":"LOOKUP(U25,[1]Poängberäkning!$B$6:$B$97,[1]Poängberäkning!$C$6:$C$97)","v":0},null,{"$f":"LOOKUP(W25,[1]Poängberäkning!$B$6:$B$97,[1]Poängberäkning!$C$6:$C$97)","v":0},{"$f":"LARGE(($H25,$J25,$L25,$N25,$P25,$R25,$T25,$V25,$X25),1)","v":80},{"$f":"LARGE(($H25,$J25,$L25,$N25,$P25,$R25,$T25,$V25,$X25),2)","v":0},{"$f":"LARGE(($H25,$J25,$L25,$N25,$P25,$R25,$T25,$V25,$X25),3)","v":0},{"$f":"LARGE(($H25,$J25,$L25,$N25,$P25,$R25,$T25,$V25,$X25),4)","v":0},{"$f":"LARGE(($H25,$J25,$L25,$N25,$P25,$R25,$T25,$V25,$X25),5)","v":0},{"$f":"LARGE(($H25,$J25,$L25,$N25,$P25,$R25,$T25,$V25,$X25),6)","v":0},{"$f":"LARGE(($H25,$J25,$L25,$N25,$P25,$R25,$T25,$V25,$X25),7)","v":0},{"$f":"LARGE(($H25,$J25,$L25,$N25,$P25,$R25,$T25,$V25,$X25),8)","v":0},{"$f":"LARGE(($H25,$J25,$L25,$N25,$P25,$R25,$T25,$V25,$X25),9)","v":0}]
[22,2002,"STRÖMSTEDT Ella-Carolina","Östersund-Frösö SLK",80,80,null,{"$f":"LOOKUP(G26,Poängberäkning!$B$6:$B$97,Poängberäkning!$C$6:$C$97)","v":0},null,{"$f":"LOOKUP(I26,Poängberäkning!$B$6:$B$97,Poängberäkning!$C$6:$C$97)","v":0},null,{"$f":"LOOKUP(K26,Poängberäkning!$B$6:$B$97,Poängberäkning!$C$6:$C$97)","v":0},2,{"$f":"LOOKUP(M26,Poängberäkning!$B$6:$B$97,Poängberäkning!$C$6:$C$97)","v":80},null,{"$f":"LOOKUP(O26,Poängberäkning!$B$6:$B$97,Poängberäkning!$C$6:$C$97)","v":0},null,{"$f":"LOOKUP(Q26,[1]Poängberäkning!$B$6:$B$97,[1]Poängberäkning!$C$6:$C$97)","v":0},null,{"$f":"LOOKUP(S26,[1]Poängberäkning!$B$6:$B$97,[1]Poängberäkning!$C$6:$C$97)","v":0},null,{"$f":"LOOKUP(U26,[1]Poängberäkning!$B$6:$B$97,[1]Poängberäkning!$C$6:$C$97)","v":0},null,{"$f":"LOOKUP(W26,[1]Poängberäkning!$B$6:$B$97,[1]Poängberäkning!$C$6:$C$97)","v":0},{"$f":"LARGE(($H26,$J26,$L26,$N26,$P26,$R26,$T26,$V26,$X26),1)","v":80},{"$f":"LARGE(($H26,$J26,$L26,$N26,$P26,$R26,$T26,$V26,$X26),2)","v":0},{"$f":"LARGE(($H26,$J26,$L26,$N26,$P26,$R26,$T26,$V26,$X26),3)","v":0},{"$f":"LARGE(($H26,$J26,$L26,$N26,$P26,$R26,$T26,$V26,$X26),4)","v":0},{"$f":"LARGE(($H26,$J26,$L26,$N26,$P26,$R26,$T26,$V26,$X26),5)","v":0},{"$f":"LARGE(($H26,$J26,$L26,$N26,$P26,$R26,$T26,$V26,$X26),6)","v":0},{"$f":"LARGE(($H26,$J26,$L26,$N26,$P26,$R26,$T26,$V26,$X26),7)","v":0},{"$f":"LARGE(($H26,$J26,$L26,$N26,$P26,$R26,$T26,$V26,$X26),8)","v":0},{"$f":"LARGE(($H26,$J26,$L26,$N26,$P26,$R26,$T26,$V26,$X26),9)","v":0}]
[23,2003,"PERES Saga","IFK Falun",77,77,99,{"$f":"LOOKUP(G27,Poängberäkning!$B$6:$B$97,Poängberäkning!$C$6:$C$97)","v":0},16,{"$f":"LOOKUP(I27,Poängberäkning!$B$6:$B$97,Poängberäkning!$C$6:$C$97)","v":35},10,{"$f":"LOOKUP(K27,Poängberäkning!$B$6:$B$97,Poängberäkning!$C$6:$C$97)","v":42},99,{"$f":"LOOKUP(M27,Poängberäkning!$B$6:$B$97,Poängberäkning!$C$6:$C$97)","v":0},null,{"$f":"LOOKUP(O27,Poängberäkning!$B$6:$B$97,Poängberäkning!$C$6:$C$97)","v":0},null,{"$f":"LOOKUP(Q27,[1]Poängberäkning!$B$6:$B$97,[1]Poängberäkning!$C$6:$C$97)","v":0},null,{"$f":"LOOKUP(S27,[1]Poängberäkning!$B$6:$B$97,[1]Poängberäkning!$C$6:$C$97)","v":0},null,{"$f":"LOOKUP(U27,[1]Poängberäkning!$B$6:$B$97,[1]Poängberäkning!$C$6:$C$97)","v":0},null,{"$f":"LOOKUP(W27,[1]Poängberäkning!$B$6:$B$97,[1]Poängberäkning!$C$6:$C$97)","v":0},{"$f":"LARGE(($H27,$J27,$L27,$N27,$P27,$R27,$T27,$V27,$X27),1)","v":42},{"$f":"LARGE(($H27,$J27,$L27,$N27,$P27,$R27,$T27,$V27,$X27),2)","v":35},{"$f":"LARGE(($H27,$J27,$L27,$N27,$P27,$R27,$T27,$V27,$X27),3)","v":0},{"$f":"LARGE(($H27,$J27,$L27,$N27,$P27,$R27,$T27,$V27,$X27),4)","v":0},{"$f":"LARGE(($H27,$J27,$L27,$N27,$P27,$R27,$T27,$V27,$X27),5)","v":0},{"$f":"LARGE(($H27,$J27,$L27,$N27,$P27,$R27,$T27,$V27,$X27),6)","v":0},{"$f":"LARGE(($H27,$J27,$L27,$N27,$P27,$R27,$T27,$V27,$X27),7)","v":0},{"$f":"LARGE(($H27,$J27,$L27,$N27,$P27,$R27,$T27,$V27,$X27),8)","v":0},{"$f":"LARGE(($H27,$J27,$L27,$N27,$P27,$R27,$T27,$V27,$X27),9)","v":0}]
[24,2003,"BÄCK Nellie","IFK Falun",67,67,null,{"$f":"LOOKUP(G28,Poängberäkning!$B$6:$B$97,Poängberäkning!$C$6:$C$97)","v":0},19,{"$f":"LOOKUP(I28,Poängberäkning!$B$6:$B$97,Poängberäkning!$C$6:$C$97)","v":32},null,{"$f":"LOOKUP(K28,Poängberäkning!$B$6:$B$97,Poängberäkning!$C$6:$C$97)","v":0},16,{"$f":"LOOKUP(M28,Poängberäkning!$B$6:$B$97,Poängberäkning!$C$6:$C$97)","v":35},null,{"$f":"LOOKUP(O28,Poängberäkning!$B$6:$B$97,Poängberäkning!$C$6:$C$97)","v":0},null,{"$f":"LOOKUP(Q28,[1]Poängberäkning!$B$6:$B$97,[1]Poängberäkning!$C$6:$C$97)","v":0},null,{"$f":"LOOKUP(S28,[1]Poängberäkning!$B$6:$B$97,[1]Poängberäkning!$C$6:$C$97)","v":0},null,{"$f":"LOOKUP(U28,[1]Poängberäkning!$B$6:$B$97,[1]Poängberäkning!$C$6:$C$97)","v":0},null,{"$f":"LOOKUP(W28,[1]Poängberäkning!$B$6:$B$97,[1]Poängberäkning!$C$6:$C$97)","v":0},{"$f":"LARGE(($H28,$J28,$L28,$N28,$P28,$R28,$T28,$V28,$X28),1)","v":35},{"$f":"LARGE(($H28,$J28,$L28,$N28,$P28,$R28,$T28,$V28,$X28),2)","v":32},{"$f":"LARGE(($H28,$J28,$L28,$N28,$P28,$R28,$T28,$V28,$X28),3)","v":0},{"$f":"LARGE(($H28,$J28,$L28,$N28,$P28,$R28,$T28,$V28,$X28),4)","v":0},{"$f":"LARGE(($H28,$J28,$L28,$N28,$P28,$R28,$T28,$V28,$X28),5)","v":0},{"$f":"LARGE(($H28,$J28,$L28,$N28,$P28,$R28,$T28,$V28,$X28),6)","v":0},{"$f":"LARGE(($H28,$J28,$L28,$N28,$P28,$R28,$T28,$V28,$X28),7)","v":0},{"$f":"LARGE(($H28,$J28,$L28,$N28,$P28,$R28,$T28,$V28,$X28),8)","v":0},{"$f":"LARGE(($H28,$J28,$L28,$N28,$P28,$R28,$T28,$V28,$X28),9)","v":0}]
[25,2003,"NYMAN Ingrid","Norrbärke SK Alpin",67,67,null,{"$f":"LOOKUP(G29,Poängberäkning!$B$6:$B$97,Poängberäkning!$C$6:$C$97)","v":0},21,{"$f":"LOOKUP(I29,Poängberäkning!$B$6:$B$97,Poängberäkning!$C$6:$C$97)","v":30},14,{"$f":"LOOKUP(K29,Poängberäkning!$B$6:$B$97,Poängberäkning!$C$6:$C$97)","v":37},null,{"$f":"LOOKUP(M29,Poängberäkning!$B$6:$B$97,Poängberäkning!$C$6:$C$97)","v":0},null,{"$f":"LOOKUP(O29,Poängberäkning!$B$6:$B$97,Poängberäkning!$C$6:$C$97)","v":0},null,{"$f":"LOOKUP(Q29,[1]Poängberäkning!$B$6:$B$97,[1]Poängberäkning!$C$6:$C$97)","v":0},null,{"$f":"LOOKUP(S29,[1]Poängberäkning!$B$6:$B$97,[1]Poängberäkning!$C$6:$C$97)","v":0},null,{"$f":"LOOKUP(U29,[1]Poängberäkning!$B$6:$B$97,[1]Poängberäkning!$C$6:$C$97)","v":0},null,{"$f":"LOOKUP(W29,[1]Poängberäkning!$B$6:$B$97,[1]Poängberäkning!$C$6:$C$97)","v":0},{"$f":"LARGE(($H29,$J29,$L29,$N29,$P29,$R29,$T29,$V29,$X29),1)","v":37},{"$f":"LARGE(($H29,$J29,$L29,$N29,$P29,$R29,$T29,$V29,$X29),2)","v":30},{"$f":"LARGE(($H29,$J29,$L29,$N29,$P29,$R29,$T29,$V29,$X29),3)","v":0},{"$f":"LARGE(($H29,$J29,$L29,$N29,$P29,$R29,$T29,$V29,$X29),4)","v":0},{"$f":"LARGE(($H29,$J29,$L29,$N29,$P29,$R29,$T29,$V29,$X29),5)","v":0},{"$f":"LARGE(($H29,$J29,$L29,$N29,$P29,$R29,$T29,$V29,$X29),6)","v":0},{"$f":"LARGE(($H29,$J29,$L29,$N29,$P29,$R29,$T29,$V29,$X29),7)","v":0},{"$f":"LARGE(($H29,$J29,$L29,$N29,$P29,$R29,$T29,$V29,$X29),8)","v":0},{"$f":"LARGE(($H29,$J29,$L29,$N29,$P29,$R29,$T29,$V29,$X29),9)","v":0}]
[26,2003,"ELFVING Alva","IFK Borlänge",66,66,17,{"$f":"LOOKUP(G30,Poängberäkning!$B$6:$B$97,Poängberäkning!$C$6:$C$97)","v":34},null,{"$f":"LOOKUP(I30,Poängberäkning!$B$6:$B$97,Poängberäkning!$C$6:$C$97)","v":0},null,{"$f":"LOOKUP(K30,Poängberäkning!$B$6:$B$97,Poängberäkning!$C$6:$C$97)","v":0},19,{"$f":"LOOKUP(M30,Poängberäkning!$B$6:$B$97,Poängberäkning!$C$6:$C$97)","v":32},null,{"$f":"LOOKUP(O30,Poängberäkning!$B$6:$B$97,Poängberäkning!$C$6:$C$97)","v":0},null,{"$f":"LOOKUP(Q30,[1]Poängberäkning!$B$6:$B$97,[1]Poängberäkning!$C$6:$C$97)","v":0},null,{"$f":"LOOKUP(S30,[1]Poängberäkning!$B$6:$B$97,[1]Poängberäkning!$C$6:$C$97)","v":0},null,{"$f":"LOOKUP(U30,[1]Poängberäkning!$B$6:$B$97,[1]Poängberäkning!$C$6:$C$97)","v":0},null,{"$f":"LOOKUP(W30,[1]Poängberäkning!$B$6:$B$97,[1]Poängberäkning!$C$6:$C$97)","v":0},{"$f":"LARGE(($H30,$J30,$L30,$N30,$P30,$R30,$T30,$V30,$X30),1)","v":34},{"$f":"LARGE(($H30,$J30,$L30,$N30,$P30,$R30,$T30,$V30,$X30),2)","v":32},{"$f":"LARGE(($H30,$J30,$L30,$N30,$P30,$R30,$T30,$V30,$X30),3)","v":0},{"$f":"LARGE(($H30,$J30,$L30,$N30,$P30,$R30,$T30,$V30,$X30),4)","v":0},{"$f":"LARGE(($H30,$J30,$L30,$N30,$P30,$R30,$T30,$V30,$X30),5)","v":0},{"$f":"LARGE(($H30,$J30,$L30,$N30,$P30,$R30,$T30,$V30,$X30),6)","v":0},{"$f":"LARGE(($H30,$J30,$L30,$N30,$P30,$R30,$T30,$V30,$X30),7)","v":0},{"$f":"LARGE(($H30,$J30,$L30,$N30,$P30,$R30,$T30,$V30,$X30),8)","v":0},{"$f":"LARGE(($H30,$J30,$L30,$N30,$P30,$R30,$T30,$V30,$X30),9)","v":0}]
[27,2002,"NORLING Filippa","Leksands SLK",63,63,18,{"$f":"LOOKUP(G31,Poängberäkning!$B$6:$B$97,Poängberäkning!$C$6:$C$97)","v":33},22,{"$f":"LOOKUP(I31,Poängberäkning!$B$6:$B$97,Poängberäkning!$C$6:$C$97)","v":29},null,{"$f":"LOOKUP(K31,Poängberäkning!$B$6:$B$97,Poängberäkning!$C$6:$C$97)","v":0},null,{"$f":"LOOKUP(M31,Poängberäkning!$B$6:$B$97,Poängberäkning!$C$6:$C$97)","v":0},54,{"$f":"LOOKUP(O31,Poängberäkning!$B$6:$B$97,Poängberäkning!$C$6:$C$97)","v":1},null,{"$f":"LOOKUP(Q31,[1]Poängberäkning!$B$6:$B$97,[1]Poängberäkning!$C$6:$C$97)","v":0},null,{"$f":"LOOKUP(S31,[1]Poängberäkning!$B$6:$B$97,[1]Poängberäkning!$C$6:$C$97)","v":0},null,{"$f":"LOOKUP(U31,[1]Poängberäkning!$B$6:$B$97,[1]Poängberäkning!$C$6:$C$97)","v":0},null,{"$f":"LOOKUP(W31,[1]Poängberäkning!$B$6:$B$97,[1]Poängberäkning!$C$6:$C$97)","v":0},{"$f":"LARGE(($H31,$J31,$L31,$N31,$P31,$R31,$T31,$V31,$X31),1)","v":33},{"$f":"LARGE(($H31,$J31,$L31,$N31,$P31,$R31,$T31,$V31,$X31),2)","v":29},{"$f":"LARGE(($H31,$J31,$L31,$N31,$P31,$R31,$T31,$V31,$X31),3)","v":1},{"$f":"LARGE(($H31,$J31,$L31,$N31,$P31,$R31,$T31,$V31,$X31),4)","v":0},{"$f":"LARGE(($H31,$J31,$L31,$N31,$P31,$R31,$T31,$V31,$X31),5)","v":0},{"$f":"LARGE(($H31,$J31,$L31,$N31,$P31,$R31,$T31,$V31,$X31),6)","v":0},{"$f":"LARGE(($H31,$J31,$L31,$N31,$P31,$R31,$T31,$V31,$X31),7)","v":0},{"$f":"LARGE(($H31,$J31,$L31,$N31,$P31,$R31,$T31,$V31,$X31),8)","v":0},{"$f":"LARGE(($H31,$J31,$L31,$N31,$P31,$R31,$T31,$V31,$X31),9)","v":0}]
[28,2002,"PETERSON Elin","Valfjällets SLK",60,60,null,{"$f":"LOOKUP(G32,Poängberäkning!$B$6:$B$97,Poängberäkning!$C$6:$C$97)","v":0},null,{"$f":"LOOKUP(I32,Poängberäkning!$B$6:$B$97,Poängberäkning!$C$6:$C$97)","v":0},null,{"$f":"LOOKUP(K32,Poängberäkning!$B$6:$B$97,Poängberäkning!$C$6:$C$97)","v":0},null,{"$f":"LOOKUP(M32,Poängberäkning!$B$6:$B$97,Poängberäkning!$C$6:$C$97)","v":0},4,{"$f":"LOOKUP(O32,Poängberäkning!$B$6:$B$97,Poängberäkning!$C$6:$C$97)","v":60},null,{"$f":"LOOKUP(Q32,[1]Poängberäkning!$B$6:$B$97,[1]Poängberäkning!$C$6:$C$97)","v":0},null,{"$f":"LOOKUP(S32,[1]Poängberäkning!$B$6:$B$97,[1]Poängberäkning!$C$6:$C$97)","v":0},null,{"$f":"LOOKUP(U32,[1]Poängberäkning!$B$6:$B$97,[1]Poängberäkning!$C$6:$C$97)","v":0},null,{"$f":"LOOKUP(W32,[1]Poängberäkning!$B$6:$B$97,[1]Poängberäkning!$C$6:$C$97)","v":0},{"$f":"LARGE(($H32,$J32,$L32,$N32,$P32,$R32,$T32,$V32,$X32),1)","v":60},{"$f":"LARGE(($H32,$J32,$L32,$N32,$P32,$R32,$T32,$V32,$X32),2)","v":0},{"$f":"LARGE(($H32,$J32,$L32,$N32,$P32,$R32,$T32,$V32,$X32),3)","v":0},{"$f":"LARGE(($H32,$J32,$L32,$N32,$P32,$R32,$T32,$V32,$X32),4)","v":0},{"$f":"LARGE(($H32,$J32,$L32,$N32,$P32,$R32,$T32,$V32,$X32),5)","v":0},{"$f":"LARGE(($H32,$J32,$L32,$N32,$P32,$R32,$T32,$V32,$X32),6)","v":0},{"$f":"LARGE(($H32,$J32,$L32,$N32,$P32,$R32,$T32,$V32,$X32),7)","v":0},{"$f":"LARGE(($H32,$J32,$L32,$N32,$P32,$R32,$T32,$V32,$X32),8)","v":0},{"$f":"LARGE(($H32,$J32,$L32,$N32,$P32,$R32,$T32,$V32,$X32),9)","v":0}]
[29,2002,"HERLIN Annie","SK Vitesse",55,55,null,{"$f":"LOOKUP(G33,Poängberäkning!$B$6:$B$97,Poängberäkning!$C$6:$C$97)","v":0},null,{"$f":"LOOKUP(I33,Poängberäkning!$B$6:$B$97,Poängberäkning!$C$6:$C$97)","v":0},null,{"$f":"LOOKUP(K33,Poängberäkning!$B$6:$B$97,Poängberäkning!$C$6:$C$97)","v":0},null,{"$f":"LOOKUP(M33,Poängberäkning!$B$6:$B$97,Poängberäkning!$C$6:$C$97)","v":0},5,{"$f":"LOOKUP(O33,Poängberäkning!$B$6:$B$97,Poängberäkning!$C$6:$C$97)","v":55},null,{"$f":"LOOKUP(Q33,[1]Poängberäkning!$B$6:$B$97,[1]Poängberäkning!$C$6:$C$97)","v":0},null,{"$f":"LOOKUP(S33,[1]Poängberäkning!$B$6:$B$97,[1]Poängberäkning!$C$6:$C$97)","v":0},null,{"$f":"LOOKUP(U33,[1]Poängberäkning!$B$6:$B$97,[1]Poängberäkning!$C$6:$C$97)","v":0},null,{"$f":"LOOKUP(W33,[1]Poängberäkning!$B$6:$B$97,[1]Poängberäkning!$C$6:$C$97)","v":0},{"$f":"LARGE(($H33,$J33,$L33,$N33,$P33,$R33,$T33,$V33,$X33),1)","v":55},{"$f":"LARGE(($H33,$J33,$L33,$N33,$P33,$R33,$T33,$V33,$X33),2)","v":0},{"$f":"LARGE(($H33,$J33,$L33,$N33,$P33,$R33,$T33,$V33,$X33),3)","v":0},{"$f":"LARGE(($H33,$J33,$L33,$N33,$P33,$R33,$T33,$V33,$X33),4)","v":0},{"$f":"LARGE(($H33,$J33,$L33,$N33,$P33,$R33,$T33,$V33,$X33),5)","v":0},{"$f":"LARGE(($H33,$J33,$L33,$N33,$P33,$R33,$T33,$V33,$X33),6)","v":0},{"$f":"LARGE(($H33,$J33,$L33,$N33,$P33,$R33,$T33,$V33,$X33),7)","v":0},{"$f":"LARGE(($H33,$J33,$L33,$N33,$P33,$R33,$T33,$V33,$X33),8)","v":0},{"$f":"LARGE(($H33,$J33,$L33,$N33,$P33,$R33,$T33,$V33,$X33),9)","v":0}]
[30,2002,"SILFWERPLATZ Matilda","Malungs SLK",54,54,null,{"$f":"LOOKUP(G34,Poängberäkning!$B$6:$B$97,Poängberäkning!$C$6:$C$97)","v":0},13,{"$f":"LOOKUP(I34,Poängberäkning!$B$6:$B$97,Poängberäkning!$C$6:$C$97)","v":38},null,{"$f":"LOOKUP(K34,Poängberäkning!$B$6:$B$97,Poängberäkning!$C$6:$C$97)","v":0},null,{"$f":"LOOKUP(M34,Poängberäkning!$B$6:$B$97,Poängberäkning!$C$6:$C$97)","v":0},35,{"$f":"LOOKUP(O34,Poängberäkning!$B$6:$B$97,Poängberäkning!$C$6:$C$97)","v":16},null,{"$f":"LOOKUP(Q34,[1]Poängberäkning!$B$6:$B$97,[1]Poängberäkning!$C$6:$C$97)","v":0},null,{"$f":"LOOKUP(S34,[1]Poängberäkning!$B$6:$B$97,[1]Poängberäkning!$C$6:$C$97)","v":0},null,{"$f":"LOOKUP(U34,[1]Poängberäkning!$B$6:$B$97,[1]Poängberäkning!$C$6:$C$97)","v":0},null,{"$f":"LOOKUP(W34,[1]Poängberäkning!$B$6:$B$97,[1]Poängberäkning!$C$6:$C$97)","v":0},{"$f":"LARGE(($H34,$J34,$L34,$N34,$P34,$R34,$T34,$V34,$X34),1)","v":38},{"$f":"LARGE(($H34,$J34,$L34,$N34,$P34,$R34,$T34,$V34,$X34),2)","v":16},{"$f":"LARGE(($H34,$J34,$L34,$N34,$P34,$R34,$T34,$V34,$X34),3)","v":0},{"$f":"LARGE(($H34,$J34,$L34,$N34,$P34,$R34,$T34,$V34,$X34),4)","v":0},{"$f":"LARGE(($H34,$J34,$L34,$N34,$P34,$R34,$T34,$V34,$X34),5)","v":0},{"$f":"LARGE(($H34,$J34,$L34,$N34,$P34,$R34,$T34,$V34,$X34),6)","v":0},{"$f":"LARGE(($H34,$J34,$L34,$N34,$P34,$R34,$T34,$V34,$X34),7)","v":0},{"$f":"LARGE(($H34,$J34,$L34,$N34,$P34,$R34,$T34,$V34,$X34),8)","v":0},{"$f":"LARGE(($H34,$J34,$L34,$N34,$P34,$R34,$T34,$V34,$X34),9)","v":0}]
[31,2002,"LOFT Celine","Klövsjö Alpina",50,50,null,{"$f":"LOOKUP(G35,Poängberäkning!$B$6:$B$97,Poängberäkning!$C$6:$C$97)","v":0},null,{"$f":"LOOKUP(I35,Poängberäkning!$B$6:$B$97,Poängberäkning!$C$6:$C$97)","v":0},null,{"$f":"LOOKUP(K35,Poängberäkning!$B$6:$B$97,Poängberäkning!$C$6:$C$97)","v":0},null,{"$f":"LOOKUP(M35,Poängberäkning!$B$6:$B$97,Poängberäkning!$C$6:$C$97)","v":0},6,{"$f":"LOOKUP(O35,Poängberäkning!$B$6:$B$97,Poängberäkning!$C$6:$C$97)","v":50},null,{"$f":"LOOKUP(Q35,[1]Poängberäkning!$B$6:$B$97,[1]Poängberäkning!$C$6:$C$97)","v":0},null,{"$f":"LOOKUP(S35,[1]Poängberäkning!$B$6:$B$97,[1]Poängberäkning!$C$6:$C$97)","v":0},null,{"$f":"LOOKUP(U35,[1]Poängberäkning!$B$6:$B$97,[1]Poängberäkning!$C$6:$C$97)","v":0},null,{"$f":"LOOKUP(W35,[1]Poängberäkning!$B$6:$B$97,[1]Poängberäkning!$C$6:$C$97)","v":0},{"$f":"LARGE(($H35,$J35,$L35,$N35,$P35,$R35,$T35,$V35,$X35),1)","v":50},{"$f":"LARGE(($H35,$J35,$L35,$N35,$P35,$R35,$T35,$V35,$X35),2)","v":0},{"$f":"LARGE(($H35,$J35,$L35,$N35,$P35,$R35,$T35,$V35,$X35),3)","v":0},{"$f":"LARGE(($H35,$J35,$L35,$N35,$P35,$R35,$T35,$V35,$X35),4)","v":0},{"$f":"LARGE(($H35,$J35,$L35,$N35,$P35,$R35,$T35,$V35,$X35),5)","v":0},{"$f":"LARGE(($H35,$J35,$L35,$N35,$P35,$R35,$T35,$V35,$X35),6)","v":0},{"$f":"LARGE(($H35,$J35,$L35,$N35,$P35,$R35,$T35,$V35,$X35),7)","v":0},{"$f":"LARGE(($H35,$J35,$L35,$N35,$P35,$R35,$T35,$V35,$X35),8)","v":0},{"$f":"LARGE(($H35,$J35,$L35,$N35,$P35,$R35,$T35,$V35,$X35),9)","v":0}]
[32,2002,"KLARÉUS Frida","Roslagens AK",49,49,null,{"$f":"LOOKUP(G36,Poängberäkning!$B$6:$B$97,Poängberäkning!$C$6:$C$97)","v":0},null,{"$f":"LOOKUP(I36,Poängberäkning!$B$6:$B$97,Poängberäkning!$C$6:$C$97)","v":0},null,{"$f":"LOOKUP(K36,Poängberäkning!$B$6:$B$97,Poängberäkning!$C$6:$C$97)","v":0},12,{"$f":"LOOKUP(M36,Poängberäkning!$B$6:$B$97,Poängberäkning!$C$6:$C$97)","v":39},41,{"$f":"LOOKUP(O36,Poängberäkning!$B$6:$B$97,Poängberäkning!$C$6:$C$97)","v":10},null,{"$f":"LOOKUP(Q36,[1]Poängberäkning!$B$6:$B$97,[1]Poängberäkning!$C$6:$C$97)","v":0},null,{"$f":"LOOKUP(S36,[1]Poängberäkning!$B$6:$B$97,[1]Poängberäkning!$C$6:$C$97)","v":0},null,{"$f":"LOOKUP(U36,[1]Poängberäkning!$B$6:$B$97,[1]Poängberäkning!$C$6:$C$97)","v":0},null,{"$f":"LOOKUP(W36,[1]Poängberäkning!$B$6:$B$97,[1]Poängberäkning!$C$6:$C$97)","v":0},{"$f":"LARGE(($H36,$J36,$L36,$N36,$P36,$R36,$T36,$V36,$X36),1)","v":39},{"$f":"LARGE(($H36,$J36,$L36,$N36,$P36,$R36,$T36,$V36,$X36),2)","v":10},{"$f":"LARGE(($H36,$J36,$L36,$N36,$P36,$R36,$T36,$V36,$X36),3)","v":0},{"$f":"LARGE(($H36,$J36,$L36,$N36,$P36,$R36,$T36,$V36,$X36),4)","v":0},{"$f":"LARGE(($H36,$J36,$L36,$N36,$P36,$R36,$T36,$V36,$X36),5)","v":0},{"$f":"LARGE(($H36,$J36,$L36,$N36,$P36,$R36,$T36,$V36,$X36),6)","v":0},{"$f":"LARGE(($H36,$J36,$L36,$N36,$P36,$R36,$T36,$V36,$X36),7)","v":0},{"$f":"LARGE(($H36,$J36,$L36,$N36,$P36,$R36,$T36,$V36,$X36),8)","v":0},{"$f":"LARGE(($H36,$J36,$L36,$N36,$P36,$R36,$T36,$V36,$X36),9)","v":0}]
[33,2002,"ÅRSJÖ Maja","Norrköpings SK",{"$f":"SUM(Y37:AA37)","v":48},{"$f":"H37+J37+L37+N37+P37+R37+T37+V37+X37","v":48},null,{"$f":"LOOKUP(G37,Poängberäkning!$B$6:$B$97,Poängberäkning!$C$6:$C$97)","v":0},null,{"$f":"LOOKUP(I37,Poängberäkning!$B$6:$B$97,Poängberäkning!$C$6:$C$97)","v":0},null,{"$f":"LOOKUP(K37,Poängberäkning!$B$6:$B$97,Poängberäkning!$C$6:$C$97)","v":0},null,{"$f":"LOOKUP(M37,Poängberäkning!$B$6:$B$97,Poängberäkning!$C$6:$C$97)","v":0},7,{"$f":"LOOKUP(O37,Poängberäkning!$B$6:$B$97,Poängberäkning!$C$6:$C$97)","v":48},null,{"$f":"LOOKUP(Q37,[1]Poängberäkning!$B$6:$B$97,[1]Poängberäkning!$C$6:$C$97)","v":0},null,{"$f":"LOOKUP(S37,[1]Poängberäkning!$B$6:$B$97,[1]Poängberäkning!$C$6:$C$97)","v":0},null,{"$f":"LOOKUP(U37,[1]Poängberäkning!$B$6:$B$97,[1]Poängberäkning!$C$6:$C$97)","v":0},null,{"$f":"LOOKUP(W37,[1]Poängberäkning!$B$6:$B$97,[1]Poängberäkning!$C$6:$C$97)","v":0},{"$f":"LARGE(($H37,$J37,$L37,$N37,$P37,$R37,$T37,$V37,$X37),1)","v":48},{"$f":"LARGE(($H37,$J37,$L37,$N37,$P37,$R37,$T37,$V37,$X37),2)","v":0},{"$f":"LARGE(($H37,$J37,$L37,$N37,$P37,$R37,$T37,$V37,$X37),3)","v":0},{"$f":"LARGE(($H37,$J37,$L37,$N37,$P37,$R37,$T37,$V37,$X37),4)","v":0},{"$f":"LARGE(($H37,$J37,$L37,$N37,$P37,$R37,$T37,$V37,$X37),5)","v":0},{"$f":"LARGE(($H37,$J37,$L37,$N37,$P37,$R37,$T37,$V37,$X37),6)","v":0},{"$f":"LARGE(($H37,$J37,$L37,$N37,$P37,$R37,$T37,$V37,$X37),7)","v":0},{"$f":"LARGE(($H37,$J37,$L37,$N37,$P37,$R37,$T37,$V37,$X37),8)","v":0},{"$f":"LARGE(($H37,$J37,$L37,$N37,$P37,$R37,$T37,$V37,$X37),9)","v":0}]
[34,2003,"LUNDÉN Lova","Sollentuna SLK",48,48,null,{"$f":"LOOKUP(G38,Poängberäkning!$B$6:$B$97,Poängberäkning!$C$6:$C$97)","v":0},null,{"$f":"LOOKUP(I38,Poängberäkning!$B$6:$B$97,Poängberäkning!$C$6:$C$97)","v":0},null,{"$f":"LOOKUP(K38,Poängberäkning!$B$6:$B$97,Poängberäkning!$C$6:$C$97)","v":0},7,{"$f":"LOOKUP(M38,Poängberäkning!$B$6:$B$97,Poängberäkning!$C$6:$C$97)","v":48},null,{"$f":"LOOKUP(O38,Poängberäkning!$B$6:$B$97,Poängberäkning!$C$6:$C$97)","v":0},null,{"$f":"LOOKUP(Q38,[1]Poängberäkning!$B$6:$B$97,[1]Poängberäkning!$C$6:$C$97)","v":0},null,{"$f":"LOOKUP(S38,[1]Poängberäkning!$B$6:$B$97,[1]Poängberäkning!$C$6:$C$97)","v":0},null,{"$f":"LOOKUP(U38,[1]Poängberäkning!$B$6:$B$97,[1]Poängberäkning!$C$6:$C$97)","v":0},null,{"$f":"LOOKUP(W38,[1]Poängberäkning!$B$6:$B$97,[1]Poängberäkning!$C$6:$C$97)","v":0},{"$f":"LARGE(($H38,$J38,$L38,$N38,$P38,$R38,$T38,$V38,$X38),1)","v":48},{"$f":"LARGE(($H38,$J38,$L38,$N38,$P38,$R38,$T38,$V38,$X38),2)","v":0},{"$f":"LARGE(($H38,$J38,$L38,$N38,$P38,$R38,$T38,$V38,$X38),3)","v":0},{"$f":"LARGE(($H38,$J38,$L38,$N38,$P38,$R38,$T38,$V38,$X38),4)","v":0},{"$f":"LARGE(($H38,$J38,$L38,$N38,$P38,$R38,$T38,$V38,$X38),5)","v":0},{"$f":"LARGE(($H38,$J38,$L38,$N38,$P38,$R38,$T38,$V38,$X38),6)","v":0},{"$f":"LARGE(($H38,$J38,$L38,$N38,$P38,$R38,$T38,$V38,$X38),7)","v":0},{"$f":"LARGE(($H38,$J38,$L38,$N38,$P38,$R38,$T38,$V38,$X38),8)","v":0},{"$f":"LARGE(($H38,$J38,$L38,$N38,$P38,$R38,$T38,$V38,$X38),9)","v":0}]
[35,2002,"SJÖSTEN Tilde","Hjortens SK",46,46,null,{"$f":"LOOKUP(G39,Poängberäkning!$B$6:$B$97,Poängberäkning!$C$6:$C$97)","v":0},null,{"$f":"LOOKUP(I39,Poängberäkning!$B$6:$B$97,Poängberäkning!$C$6:$C$97)","v":0},null,{"$f":"LOOKUP(K39,Poängberäkning!$B$6:$B$97,Poängberäkning!$C$6:$C$97)","v":0},null,{"$f":"LOOKUP(M39,Poängberäkning!$B$6:$B$97,Poängberäkning!$C$6:$C$97)","v":0},8,{"$f":"LOOKUP(O39,Poängberäkning!$B$6:$B$97,Poängberäkning!$C$6:$C$97)","v":46},null,{"$f":"LOOKUP(Q39,[1]Poängberäkning!$B$6:$B$97,[1]Poängberäkning!$C$6:$C$97)","v":0},null,{"$f":"LOOKUP(S39,[1]Poängberäkning!$B$6:$B$97,[1]Poängberäkning!$C$6:$C$97)","v":0},null,{"$f":"LOOKUP(U39,[1]Poängberäkning!$B$6:$B$97,[1]Poängberäkning!$C$6:$C$97)","v":0},null,{"$f":"LOOKUP(W39,[1]Poängberäkning!$B$6:$B$97,[1]Poängberäkning!$C$6:$C$97)","v":0},{"$f":"LARGE(($H39,$J39,$L39,$N39,$P39,$R39,$T39,$V39,$X39),1)","v":46},{"$f":"LARGE(($H39,$J39,$L39,$N39,$P39,$R39,$T39,$V39,$X39),2)","v":0},{"$f":"LARGE(($H39,$J39,$L39,$N39,$P39,$R39,$T39,$V39,$X39),3)","v":0},{"$f":"LARGE(($H39,$J39,$L39,$N39,$P39,$R39,$T39,$V39,$X39),4)","v":0},{"$f":"LARGE(($H39,$J39,$L39,$N39,$P39,$R39,$T39,$V39,$X39),5)","v":0},{"$f":"LARGE(($H39,$J39,$L39,$N39,$P39,$R39,$T39,$V39,$X39),6)","v":0},{"$f":"LARGE(($H39,$J39,$L39,$N39,$P39,$R39,$T39,$V39,$X39),7)","v":0},{"$f":"LARGE(($H39,$J39,$L39,$N39,$P39,$R39,$T39,$V39,$X39),8)","v":0},{"$f":"LARGE(($H39,$J39,$L39,$N39,$P39,$R39,$T39,$V39,$X39),9)","v":0}]
[36,2003,"AICHER Emma","Sundsvalls SLK",44,44,null,{"$f":"LOOKUP(G40,Poängberäkning!$B$6:$B$97,Poängberäkning!$C$6:$C$97)","v":0},null,{"$f":"LOOKUP(I40,Poängberäkning!$B$6:$B$97,Poängberäkning!$C$6:$C$97)","v":0},null,{"$f":"LOOKUP(K40,Poängberäkning!$B$6:$B$97,Poängberäkning!$C$6:$C$97)","v":0},null,{"$f":"LOOKUP(M40,Poängberäkning!$B$6:$B$97,Poängberäkning!$C$6:$C$97)","v":0},9,{"$f":"LOOKUP(O40,Poängberäkning!$B$6:$B$97,Poängberäkning!$C$6:$C$97)","v":44},null,{"$f":"LOOKUP(Q40,[1]Poängberäkning!$B$6:$B$97,[1]Poängberäkning!$C$6:$C$97)","v":0},null,{"$f":"LOOKUP(S40,[1]Poängberäkning!$B$6:$B$97,[1]Poängberäkning!$C$6:$C$97)","v":0},null,{"$f":"LOOKUP(U40,[1]Poängberäkning!$B$6:$B$97,[1]Poängberäkning!$C$6:$C$97)","v":0},null,{"$f":"LOOKUP(W40,[1]Poängberäkning!$B$6:$B$97,[1]Poängberäkning!$C$6:$C$97)","v":0},{"$f":"LARGE(($H40,$J40,$L40,$N40,$P40,$R40,$T40,$V40,$X40),1)","v":44},{"$f":"LARGE(($H40,$J40,$L40,$N40,$P40,$R40,$T40,$V40,$X40),2)","v":0},{"$f":"LARGE(($H40,$J40,$L40,$N40,$P40,$R40,$T40,$V40,$X40),3)","v":0},{"$f":"LARGE(($H40,$J40,$L40,$N40,$P40,$R40,$T40,$V40,$X40),4)","v":0},{"$f":"LARGE(($H40,$J40,$L40,$N40,$P40,$R40,$T40,$V40,$X40),5)","v":0},{"$f":"LARGE(($H40,$J40,$L40,$N40,$P40,$R40,$T40,$V40,$X40),6)","v":0},{"$f":"LARGE(($H40,$J40,$L40,$N40,$P40,$R40,$T40,$V40,$X40),7)","v":0},{"$f":"LARGE(($H40,$J40,$L40,$N40,$P40,$R40,$T40,$V40,$X40),8)","v":0},{"$f":"LARGE(($H40,$J40,$L40,$N40,$P40,$R40,$T40,$V40,$X40),9)","v":0}]
[37,2002,"JANSSON Tova","Uppsala SLK",42,42,null,{"$f":"LOOKUP(G41,Poängberäkning!$B$6:$B$97,Poängberäkning!$C$6:$C$97)","v":0},null,{"$f":"LOOKUP(I41,Poängberäkning!$B$6:$B$97,Poängberäkning!$C$6:$C$97)","v":0},null,{"$f":"LOOKUP(K41,Poängberäkning!$B$6:$B$97,Poängberäkning!$C$6:$C$97)","v":0},null,{"$f":"LOOKUP(M41,Poängberäkning!$B$6:$B$97,Poängberäkning!$C$6:$C$97)","v":0},10,{"$f":"LOOKUP(O41,Poängberäkning!$B$6:$B$97,Poängberäkning!$C$6:$C$97)","v":42},null,{"$f":"LOOKUP(Q41,[1]Poängberäkning!$B$6:$B$97,[1]Poängberäkning!$C$6:$C$97)","v":0},null,{"$f":"LOOKUP(S41,[1]Poängberäkning!$B$6:$B$97,[1]Poängberäkning!$C$6:$C$97)","v":0},null,{"$f":"LOOKUP(U41,[1]Poängberäkning!$B$6:$B$97,[1]Poängberäkning!$C$6:$C$97)","v":0},null,{"$f":"LOOKUP(W41,[1]Poängberäkning!$B$6:$B$97,[1]Poängberäkning!$C$6:$C$97)","v":0},{"$f":"LARGE(($H41,$J41,$L41,$N41,$P41,$R41,$T41,$V41,$X41),1)","v":42},{"$f":"LARGE(($H41,$J41,$L41,$N41,$P41,$R41,$T41,$V41,$X41),2)","v":0},{"$f":"LARGE(($H41,$J41,$L41,$N41,$P41,$R41,$T41,$V41,$X41),3)","v":0},{"$f":"LARGE(($H41,$J41,$L41,$N41,$P41,$R41,$T41,$V41,$X41),4)","v":0},{"$f":"LARGE(($H41,$J41,$L41,$N41,$P41,$R41,$T41,$V41,$X41),5)","v":0},{"$f":"LARGE(($H41,$J41,$L41,$N41,$P41,$R41,$T41,$V41,$X41),6)","v":0},{"$f":"LARGE(($H41,$J41,$L41,$N41,$P41,$R41,$T41,$V41,$X41),7)","v":0},{"$f":"LARGE(($H41,$J41,$L41,$N41,$P41,$R41,$T41,$V41,$X41),8)","v":0},{"$f":"LARGE(($H41,$J41,$L41,$N41,$P41,$R41,$T41,$V41,$X41),9)","v":0}]
[38,2002,"WESTLUND Ellen","Ekshärads SLK",40,40,null,{"$f":"LOOKUP(G42,Poängberäkning!$B$6:$B$97,Poängberäkning!$C$6:$C$97)","v":0},null,{"$f":"LOOKUP(I42,Poängberäkning!$B$6:$B$97,Poängberäkning!$C$6:$C$97)","v":0},null,{"$f":"LOOKUP(K42,Poängberäkning!$B$6:$B$97,Poängberäkning!$C$6:$C$97)","v":0},null,{"$f":"LOOKUP(M42,Poängberäkning!$B$6:$B$97,Poängberäkning!$C$6:$C$97)","v":0},11,{"$f":"LOOKUP(O42,Poängberäkning!$B$6:$B$97,Poängberäkning!$C$6:$C$97)","v":40},null,{"$f":"LOOKUP(Q42,[1]Poängberäkning!$B$6:$B$97,[1]Poängberäkning!$C$6:$C$97)","v":0},null,{"$f":"LOOKUP(S42,[1]Poängberäkning!$B$6:$B$97,[1]Poängberäkning!$C$6:$C$97)","v":0},null,{"$f":"LOOKUP(U42,[1]Poängberäkning!$B$6:$B$97,[1]Poängberäkning!$C$6:$C$97)","v":0},null,{"$f":"LOOKUP(W42,[1]Poängberäkning!$B$6:$B$97,[1]Poängberäkning!$C$6:$C$97)","v":0},{"$f":"LARGE(($H42,$J42,$L42,$N42,$P42,$R42,$T42,$V42,$X42),1)","v":40},{"$f":"LARGE(($H42,$J42,$L42,$N42,$P42,$R42,$T42,$V42,$X42),2)","v":0},{"$f":"LARGE(($H42,$J42,$L42,$N42,$P42,$R42,$T42,$V42,$X42),3)","v":0},{"$f":"LARGE(($H42,$J42,$L42,$N42,$P42,$R42,$T42,$V42,$X42),4)","v":0},{"$f":"LARGE(($H42,$J42,$L42,$N42,$P42,$R42,$T42,$V42,$X42),5)","v":0},{"$f":"LARGE(($H42,$J42,$L42,$N42,$P42,$R42,$T42,$V42,$X42),6)","v":0},{"$f":"LARGE(($H42,$J42,$L42,$N42,$P42,$R42,$T42,$V42,$X42),7)","v":0},{"$f":"LARGE(($H42,$J42,$L42,$N42,$P42,$R42,$T42,$V42,$X42),8)","v":0},{"$f":"LARGE(($H42,$J42,$L42,$N42,$P42,$R42,$T42,$V42,$X42),9)","v":0}]
[39,2003,"FOLKESSON Elin","Malungs SLK",40,40,null,{"$f":"LOOKUP(G43,Poängberäkning!$B$6:$B$97,Poängberäkning!$C$6:$C$97)","v":0},15,{"$f":"LOOKUP(I43,Poängberäkning!$B$6:$B$97,Poängberäkning!$C$6:$C$97)","v":36},null,{"$f":"LOOKUP(K43,Poängberäkning!$B$6:$B$97,Poängberäkning!$C$6:$C$97)","v":0},99,{"$f":"LOOKUP(M43,Poängberäkning!$B$6:$B$97,Poängberäkning!$C$6:$C$97)","v":0},47,{"$f":"LOOKUP(O43,Poängberäkning!$B$6:$B$97,Poängberäkning!$C$6:$C$97)","v":4},null,{"$f":"LOOKUP(Q43,[1]Poängberäkning!$B$6:$B$97,[1]Poängberäkning!$C$6:$C$97)","v":0},null,{"$f":"LOOKUP(S43,[1]Poängberäkning!$B$6:$B$97,[1]Poängberäkning!$C$6:$C$97)","v":0},null,{"$f":"LOOKUP(U43,[1]Poängberäkning!$B$6:$B$97,[1]Poängberäkning!$C$6:$C$97)","v":0},null,{"$f":"LOOKUP(W43,[1]Poängberäkning!$B$6:$B$97,[1]Poängberäkning!$C$6:$C$97)","v":0},{"$f":"LARGE(($H43,$J43,$L43,$N43,$P43,$R43,$T43,$V43,$X43),1)","v":36},{"$f":"LARGE(($H43,$J43,$L43,$N43,$P43,$R43,$T43,$V43,$X43),2)","v":4},{"$f":"LARGE(($H43,$J43,$L43,$N43,$P43,$R43,$T43,$V43,$X43),3)","v":0},{"$f":"LARGE(($H43,$J43,$L43,$N43,$P43,$R43,$T43,$V43,$X43),4)","v":0},{"$f":"LARGE(($H43,$J43,$L43,$N43,$P43,$R43,$T43,$V43,$X43),5)","v":0},{"$f":"LARGE(($H43,$J43,$L43,$N43,$P43,$R43,$T43,$V43,$X43),6)","v":0},{"$f":"LARGE(($H43,$J43,$L43,$N43,$P43,$R43,$T43,$V43,$X43),7)","v":0},{"$f":"LARGE(($H43,$J43,$L43,$N43,$P43,$R43,$T43,$V43,$X43),8)","v":0},{"$f":"LARGE(($H43,$J43,$L43,$N43,$P43,$R43,$T43,$V43,$X43),9)","v":0}]
[40,2003,"EKWALL Alva","IFK Falun",40,40,99,{"$f":"LOOKUP(G44,Poängberäkning!$B$6:$B$97,Poängberäkning!$C$6:$C$97)","v":0},11,{"$f":"LOOKUP(I44,Poängberäkning!$B$6:$B$97,Poängberäkning!$C$6:$C$97)","v":40},null,{"$f":"LOOKUP(K44,Poängberäkning!$B$6:$B$97,Poängberäkning!$C$6:$C$97)","v":0},null,{"$f":"LOOKUP(M44,Poängberäkning!$B$6:$B$97,Poängberäkning!$C$6:$C$97)","v":0},null,{"$f":"LOOKUP(O44,Poängberäkning!$B$6:$B$97,Poängberäkning!$C$6:$C$97)","v":0},null,{"$f":"LOOKUP(Q44,[1]Poängberäkning!$B$6:$B$97,[1]Poängberäkning!$C$6:$C$97)","v":0},null,{"$f":"LOOKUP(S44,[1]Poängberäkning!$B$6:$B$97,[1]Poängberäkning!$C$6:$C$97)","v":0},null,{"$f":"LOOKUP(U44,[1]Poängberäkning!$B$6:$B$97,[1]Poängberäkning!$C$6:$C$97)","v":0},null,{"$f":"LOOKUP(W44,[1]Poängberäkning!$B$6:$B$97,[1]Poängberäkning!$C$6:$C$97)","v":0},{"$f":"LARGE(($H44,$J44,$L44,$N44,$P44,$R44,$T44,$V44,$X44),1)","v":40},{"$f":"LARGE(($H44,$J44,$L44,$N44,$P44,$R44,$T44,$V44,$X44),2)","v":0},{"$f":"LARGE(($H44,$J44,$L44,$N44,$P44,$R44,$T44,$V44,$X44),3)","v":0},{"$f":"LARGE(($H44,$J44,$L44,$N44,$P44,$R44,$T44,$V44,$X44),4)","v":0},{"$f":"LARGE(($H44,$J44,$L44,$N44,$P44,$R44,$T44,$V44,$X44),5)","v":0},{"$f":"LARGE(($H44,$J44,$L44,$N44,$P44,$R44,$T44,$V44,$X44),6)","v":0},{"$f":"LARGE(($H44,$J44,$L44,$N44,$P44,$R44,$T44,$V44,$X44),7)","v":0},{"$f":"LARGE(($H44,$J44,$L44,$N44,$P44,$R44,$T44,$V44,$X44),8)","v":0},{"$f":"LARGE(($H44,$J44,$L44,$N44,$P44,$R44,$T44,$V44,$X44),9)","v":0}]
[41,2002,"LÖVSTRAND Emilia","IFK Borlänge",39,39,null,{"$f":"LOOKUP(G45,Poängberäkning!$B$6:$B$97,Poängberäkning!$C$6:$C$97)","v":0},null,{"$f":"LOOKUP(I45,Poängberäkning!$B$6:$B$97,Poängberäkning!$C$6:$C$97)","v":0},12,{"$f":"LOOKUP(K45,Poängberäkning!$B$6:$B$97,Poängberäkning!$C$6:$C$97)","v":39},99,{"$f":"LOOKUP(M45,Poängberäkning!$B$6:$B$97,Poängberäkning!$C$6:$C$97)","v":0},null,{"$f":"LOOKUP(O45,Poängberäkning!$B$6:$B$97,Poängberäkning!$C$6:$C$97)","v":0},null,{"$f":"LOOKUP(Q45,[1]Poängberäkning!$B$6:$B$97,[1]Poängberäkning!$C$6:$C$97)","v":0},null,{"$f":"LOOKUP(S45,[1]Poängberäkning!$B$6:$B$97,[1]Poängberäkning!$C$6:$C$97)","v":0},null,{"$f":"LOOKUP(U45,[1]Poängberäkning!$B$6:$B$97,[1]Poängberäkning!$C$6:$C$97)","v":0},null,{"$f":"LOOKUP(W45,[1]Poängberäkning!$B$6:$B$97,[1]Poängberäkning!$C$6:$C$97)","v":0},{"$f":"LARGE(($H45,$J45,$L45,$N45,$P45,$R45,$T45,$V45,$X45),1)","v":39},{"$f":"LARGE(($H45,$J45,$L45,$N45,$P45,$R45,$T45,$V45,$X45),2)","v":0},{"$f":"LARGE(($H45,$J45,$L45,$N45,$P45,$R45,$T45,$V45,$X45),3)","v":0},{"$f":"LARGE(($H45,$J45,$L45,$N45,$P45,$R45,$T45,$V45,$X45),4)","v":0},{"$f":"LARGE(($H45,$J45,$L45,$N45,$P45,$R45,$T45,$V45,$X45),5)","v":0},{"$f":"LARGE(($H45,$J45,$L45,$N45,$P45,$R45,$T45,$V45,$X45),6)","v":0},{"$f":"LARGE(($H45,$J45,$L45,$N45,$P45,$R45,$T45,$V45,$X45),7)","v":0},{"$f":"LARGE(($H45,$J45,$L45,$N45,$P45,$R45,$T45,$V45,$X45),8)","v":0},{"$f":"LARGE(($H45,$J45,$L45,$N45,$P45,$R45,$T45,$V45,$X45),9)","v":0}]
[42,2002,"EKLUND Mathilda","Täby SLK",38,38,null,{"$f":"LOOKUP(G46,Poängberäkning!$B$6:$B$97,Poängberäkning!$C$6:$C$97)","v":0},null,{"$f":"LOOKUP(I46,Poängberäkning!$B$6:$B$97,Poängberäkning!$C$6:$C$97)","v":0},null,{"$f":"LOOKUP(K46,Poängberäkning!$B$6:$B$97,Poängberäkning!$C$6:$C$97)","v":0},null,{"$f":"LOOKUP(M46,Poängberäkning!$B$6:$B$97,Poängberäkning!$C$6:$C$97)","v":0},13,{"$f":"LOOKUP(O46,Poängberäkning!$B$6:$B$97,Poängberäkning!$C$6:$C$97)","v":38},null,{"$f":"LOOKUP(Q46,[1]Poängberäkning!$B$6:$B$97,[1]Poängberäkning!$C$6:$C$97)","v":0},null,{"$f":"LOOKUP(S46,[1]Poängberäkning!$B$6:$B$97,[1]Poängberäkning!$C$6:$C$97)","v":0},null,{"$f":"LOOKUP(U46,[1]Poängberäkning!$B$6:$B$97,[1]Poängberäkning!$C$6:$C$97)","v":0},null,{"$f":"LOOKUP(W46,[1]Poängberäkning!$B$6:$B$97,[1]Poängberäkning!$C$6:$C$97)","v":0},{"$f":"LARGE(($H46,$J46,$L46,$N46,$P46,$R46,$T46,$V46,$X46),1)","v":38},{"$f":"LARGE(($H46,$J46,$L46,$N46,$P46,$R46,$T46,$V46,$X46),2)","v":0},{"$f":"LARGE(($H46,$J46,$L46,$N46,$P46,$R46,$T46,$V46,$X46),3)","v":0},{"$f":"LARGE(($H46,$J46,$L46,$N46,$P46,$R46,$T46,$V46,$X46),4)","v":0},{"$f":"LARGE(($H46,$J46,$L46,$N46,$P46,$R46,$T46,$V46,$X46),5)","v":0},{"$f":"LARGE(($H46,$J46,$L46,$N46,$P46,$R46,$T46,$V46,$X46),6)","v":0},{"$f":"LARGE(($H46,$J46,$L46,$N46,$P46,$R46,$T46,$V46,$X46),7)","v":0},{"$f":"LARGE(($H46,$J46,$L46,$N46,$P46,$R46,$T46,$V46,$X46),8)","v":0},{"$f":"LARGE(($H46,$J46,$L46,$N46,$P46,$R46,$T46,$V46,$X46),9)","v":0}]
[43,2002,"GRIND My","IFK Borlänge",38,38,null,{"$f":"LOOKUP(G47,Poängberäkning!$B$6:$B$97,Poängberäkning!$C$6:$C$97)","v":0},null,{"$f":"LOOKUP(I47,Poängberäkning!$B$6:$B$97,Poängberäkning!$C$6:$C$97)","v":0},null,{"$f":"LOOKUP(K47,Poängberäkning!$B$6:$B$97,Poängberäkning!$C$6:$C$97)","v":0},13,{"$f":"LOOKUP(M47,Poängberäkning!$B$6:$B$97,Poängberäkning!$C$6:$C$97)","v":38},null,{"$f":"LOOKUP(O47,Poängberäkning!$B$6:$B$97,Poängberäkning!$C$6:$C$97)","v":0},null,{"$f":"LOOKUP(Q47,[1]Poängberäkning!$B$6:$B$97,[1]Poängberäkning!$C$6:$C$97)","v":0},null,{"$f":"LOOKUP(S47,[1]Poängberäkning!$B$6:$B$97,[1]Poängberäkning!$C$6:$C$97)","v":0},null,{"$f":"LOOKUP(U47,[1]Poängberäkning!$B$6:$B$97,[1]Poängberäkning!$C$6:$C$97)","v":0},null,{"$f":"LOOKUP(W47,[1]Poängberäkning!$B$6:$B$97,[1]Poängberäkning!$C$6:$C$97)","v":0},{"$f":"LARGE(($H47,$J47,$L47,$N47,$P47,$R47,$T47,$V47,$X47),1)","v":38},{"$f":"LARGE(($H47,$J47,$L47,$N47,$P47,$R47,$T47,$V47,$X47),2)","v":0},{"$f":"LARGE(($H47,$J47,$L47,$N47,$P47,$R47,$T47,$V47,$X47),3)","v":0},{"$f":"LARGE(($H47,$J47,$L47,$N47,$P47,$R47,$T47,$V47,$X47),4)","v":0},{"$f":"LARGE(($H47,$J47,$L47,$N47,$P47,$R47,$T47,$V47,$X47),5)","v":0},{"$f":"LARGE(($H47,$J47,$L47,$N47,$P47,$R47,$T47,$V47,$X47),6)","v":0},{"$f":"LARGE(($H47,$J47,$L47,$N47,$P47,$R47,$T47,$V47,$X47),7)","v":0},{"$f":"LARGE(($H47,$J47,$L47,$N47,$P47,$R47,$T47,$V47,$X47),8)","v":0},{"$f":"LARGE(($H47,$J47,$L47,$N47,$P47,$R47,$T47,$V47,$X47),9)","v":0}]
[44,2003,"CARIS Ofelia","IFK Falun",37,37,null,{"$f":"LOOKUP(G48,Poängberäkning!$B$6:$B$97,Poängberäkning!$C$6:$C$97)","v":0},14,{"$f":"LOOKUP(I48,Poängberäkning!$B$6:$B$97,Poängberäkning!$C$6:$C$97)","v":37},null,{"$f":"LOOKUP(K48,Poängberäkning!$B$6:$B$97,Poängberäkning!$C$6:$C$97)","v":0},null,{"$f":"LOOKUP(M48,Poängberäkning!$B$6:$B$97,Poängberäkning!$C$6:$C$97)","v":0},null,{"$f":"LOOKUP(O48,Poängberäkning!$B$6:$B$97,Poängberäkning!$C$6:$C$97)","v":0},null,{"$f":"LOOKUP(Q48,[1]Poängberäkning!$B$6:$B$97,[1]Poängberäkning!$C$6:$C$97)","v":0},null,{"$f":"LOOKUP(S48,[1]Poängberäkning!$B$6:$B$97,[1]Poängberäkning!$C$6:$C$97)","v":0},null,{"$f":"LOOKUP(U48,[1]Poängberäkning!$B$6:$B$97,[1]Poängberäkning!$C$6:$C$97)","v":0},null,{"$f":"LOOKUP(W48,[1]Poängberäkning!$B$6:$B$97,[1]Poängberäkning!$C$6:$C$97)","v":0},{"$f":"LARGE(($H48,$J48,$L48,$N48,$P48,$R48,$T48,$V48,$X48),1)","v":37},{"$f":"LARGE(($H48,$J48,$L48,$N48,$P48,$R48,$T48,$V48,$X48),2)","v":0},{"$f":"LARGE(($H48,$J48,$L48,$N48,$P48,$R48,$T48,$V48,$X48),3)","v":0},{"$f":"LARGE(($H48,$J48,$L48,$N48,$P48,$R48,$T48,$V48,$X48),4)","v":0},{"$f":"LARGE(($H48,$J48,$L48,$N48,$P48,$R48,$T48,$V48,$X48),5)","v":0},{"$f":"LARGE(($H48,$J48,$L48,$N48,$P48,$R48,$T48,$V48,$X48),6)","v":0},{"$f":"LARGE(($H48,$J48,$L48,$N48,$P48,$R48,$T48,$V48,$X48),7)","v":0},{"$f":"LARGE(($H48,$J48,$L48,$N48,$P48,$R48,$T48,$V48,$X48),8)","v":0},{"$f":"LARGE(($H48,$J48,$L48,$N48,$P48,$R48,$T48,$V48,$X48),9)","v":0}]
[45,2002,"SELINDER Elinor","Huddinge SK AF",37,37,null,{"$f":"LOOKUP(G49,Poängberäkning!$B$6:$B$97,Poängberäkning!$C$6:$C$97)","v":0},null,{"$f":"LOOKUP(I49,Poängberäkning!$B$6:$B$97,Poängberäkning!$C$6:$C$97)","v":0},null,{"$f":"LOOKUP(K49,Poängberäkning!$B$6:$B$97,Poängberäkning!$C$6:$C$97)","v":0},14,{"$f":"LOOKUP(M49,Poängberäkning!$B$6:$B$97,Poängberäkning!$C$6:$C$97)","v":37},null,{"$f":"LOOKUP(O49,Poängberäkning!$B$6:$B$97,Poängberäkning!$C$6:$C$97)","v":0},null,{"$f":"LOOKUP(Q49,[1]Poängberäkning!$B$6:$B$97,[1]Poängberäkning!$C$6:$C$97)","v":0},null,{"$f":"LOOKUP(S49,[1]Poängberäkning!$B$6:$B$97,[1]Poängberäkning!$C$6:$C$97)","v":0},null,{"$f":"LOOKUP(U49,[1]Poängberäkning!$B$6:$B$97,[1]Poängberäkning!$C$6:$C$97)","v":0},null,{"$f":"LOOKUP(W49,[1]Poängberäkning!$B$6:$B$97,[1]Poängberäkning!$C$6:$C$97)","v":0},{"$f":"LARGE(($H49,$J49,$L49,$N49,$P49,$R49,$T49,$V49,$X49),1)","v":37},{"$f":"LARGE(($H49,$J49,$L49,$N49,$P49,$R49,$T49,$V49,$X49),2)","v":0},{"$f":"LARGE(($H49,$J49,$L49,$N49,$P49,$R49,$T49,$V49,$X49),3)","v":0},{"$f":"LARGE(($H49,$J49,$L49,$N49,$P49,$R49,$T49,$V49,$X49),4)","v":0},{"$f":"LARGE(($H49,$J49,$L49,$N49,$P49,$R49,$T49,$V49,$X49),5)","v":0},{"$f":"LARGE(($H49,$J49,$L49,$N49,$P49,$R49,$T49,$V49,$X49),6)","v":0},{"$f":"LARGE(($H49,$J49,$L49,$N49,$P49,$R49,$T49,$V49,$X49),7)","v":0},{"$f":"LARGE(($H49,$J49,$L49,$N49,$P49,$R49,$T49,$V49,$X49),8)","v":0},{"$f":"LARGE(($H49,$J49,$L49,$N49,$P49,$R49,$T49,$V49,$X49),9)","v":0}]
[46,2003,"WIDESTRAND Anna","Örebro SLF",37,37,14,{"$f":"LOOKUP(G50,Poängberäkning!$B$6:$B$97,Poängberäkning!$C$6:$C$97)","v":37},null,{"$f":"LOOKUP(I50,Poängberäkning!$B$6:$B$97,Poängberäkning!$C$6:$C$97)","v":0},null,{"$f":"LOOKUP(K50,Poängberäkning!$B$6:$B$97,Poängberäkning!$C$6:$C$97)","v":0},null,{"$f":"LOOKUP(M50,Poängberäkning!$B$6:$B$97,Poängberäkning!$C$6:$C$97)","v":0},null,{"$f":"LOOKUP(O50,Poängberäkning!$B$6:$B$97,Poängberäkning!$C$6:$C$97)","v":0},null,{"$f":"LOOKUP(Q50,[1]Poängberäkning!$B$6:$B$97,[1]Poängberäkning!$C$6:$C$97)","v":0},null,{"$f":"LOOKUP(S50,[1]Poängberäkning!$B$6:$B$97,[1]Poängberäkning!$C$6:$C$97)","v":0},null,{"$f":"LOOKUP(U50,[1]Poängberäkning!$B$6:$B$97,[1]Poängberäkning!$C$6:$C$97)","v":0},null,{"$f":"LOOKUP(W50,[1]Poängberäkning!$B$6:$B$97,[1]Poängberäkning!$C$6:$C$97)","v":0},{"$f":"LARGE(($H50,$J50,$L50,$N50,$P50,$R50,$T50,$V50,$X50),1)","v":37},{"$f":"LARGE(($H50,$J50,$L50,$N50,$P50,$R50,$T50,$V50,$X50),2)","v":0},{"$f":"LARGE(($H50,$J50,$L50,$N50,$P50,$R50,$T50,$V50,$X50),3)","v":0},{"$f":"LARGE(($H50,$J50,$L50,$N50,$P50,$R50,$T50,$V50,$X50),4)","v":0},{"$f":"LARGE(($H50,$J50,$L50,$N50,$P50,$R50,$T50,$V50,$X50),5)","v":0},{"$f":"LARGE(($H50,$J50,$L50,$N50,$P50,$R50,$T50,$V50,$X50),6)","v":0},{"$f":"LARGE(($H50,$J50,$L50,$N50,$P50,$R50,$T50,$V50,$X50),7)","v":0},{"$f":"LARGE(($H50,$J50,$L50,$N50,$P50,$R50,$T50,$V50,$X50),8)","v":0},{"$f":"LARGE(($H50,$J50,$L50,$N50,$P50,$R50,$T50,$V50,$X50),9)","v":0}]
[47,2002,"HANSSON Mathilda","SK Vitesse",36,36,null,{"$f":"LOOKUP(G51,Poängberäkning!$B$6:$B$97,Poängberäkning!$C$6:$C$97)","v":0},null,{"$f":"LOOKUP(I51,Poängberäkning!$B$6:$B$97,Poängberäkning!$C$6:$C$97)","v":0},null,{"$f":"LOOKUP(K51,Poängberäkning!$B$6:$B$97,Poängberäkning!$C$6:$C$97)","v":0},null,{"$f":"LOOKUP(M51,Poängberäkning!$B$6:$B$97,Poängberäkning!$C$6:$C$97)","v":0},15,{"$f":"LOOKUP(O51,Poängberäkning!$B$6:$B$97,Poängberäkning!$C$6:$C$97)","v":36},null,{"$f":"LOOKUP(Q51,[1]Poängberäkning!$B$6:$B$97,[1]Poängberäkning!$C$6:$C$97)","v":0},null,{"$f":"LOOKUP(S51,[1]Poängberäkning!$B$6:$B$97,[1]Poängberäkning!$C$6:$C$97)","v":0},null,{"$f":"LOOKUP(U51,[1]Poängberäkning!$B$6:$B$97,[1]Poängberäkning!$C$6:$C$97)","v":0},null,{"$f":"LOOKUP(W51,[1]Poängberäkning!$B$6:$B$97,[1]Poängberäkning!$C$6:$C$97)","v":0},{"$f":"LARGE(($H51,$J51,$L51,$N51,$P51,$R51,$T51,$V51,$X51),1)","v":36},{"$f":"LARGE(($H51,$J51,$L51,$N51,$P51,$R51,$T51,$V51,$X51),2)","v":0},{"$f":"LARGE(($H51,$J51,$L51,$N51,$P51,$R51,$T51,$V51,$X51),3)","v":0},{"$f":"LARGE(($H51,$J51,$L51,$N51,$P51,$R51,$T51,$V51,$X51),4)","v":0},{"$f":"LARGE(($H51,$J51,$L51,$N51,$P51,$R51,$T51,$V51,$X51),5)","v":0},{"$f":"LARGE(($H51,$J51,$L51,$N51,$P51,$R51,$T51,$V51,$X51),6)","v":0},{"$f":"LARGE(($H51,$J51,$L51,$N51,$P51,$R51,$T51,$V51,$X51),7)","v":0},{"$f":"LARGE(($H51,$J51,$L51,$N51,$P51,$R51,$T51,$V51,$X51),8)","v":0},{"$f":"LARGE(($H51,$J51,$L51,$N51,$P51,$R51,$T51,$V51,$X51),9)","v":0}]
[48,2002,"JACOBSEN Louise","Norrbärke SK Alpin",36,36,null,{"$f":"LOOKUP(G52,Poängberäkning!$B$6:$B$97,Poängberäkning!$C$6:$C$97)","v":0},null,{"$f":"LOOKUP(I52,Poängberäkning!$B$6:$B$97,Poängberäkning!$C$6:$C$97)","v":0},15,{"$f":"LOOKUP(K52,Poängberäkning!$B$6:$B$97,Poängberäkning!$C$6:$C$97)","v":36},99,{"$f":"LOOKUP(M52,Poängberäkning!$B$6:$B$97,Poängberäkning!$C$6:$C$97)","v":0},null,{"$f":"LOOKUP(O52,Poängberäkning!$B$6:$B$97,Poängberäkning!$C$6:$C$97)","v":0},null,{"$f":"LOOKUP(Q52,[1]Poängberäkning!$B$6:$B$97,[1]Poängberäkning!$C$6:$C$97)","v":0},null,{"$f":"LOOKUP(S52,[1]Poängberäkning!$B$6:$B$97,[1]Poängberäkning!$C$6:$C$97)","v":0},null,{"$f":"LOOKUP(U52,[1]Poängberäkning!$B$6:$B$97,[1]Poängberäkning!$C$6:$C$97)","v":0},null,{"$f":"LOOKUP(W52,[1]Poängberäkning!$B$6:$B$97,[1]Poängberäkning!$C$6:$C$97)","v":0},{"$f":"LARGE(($H52,$J52,$L52,$N52,$P52,$R52,$T52,$V52,$X52),1)","v":36},{"$f":"LARGE(($H52,$J52,$L52,$N52,$P52,$R52,$T52,$V52,$X52),2)","v":0},{"$f":"LARGE(($H52,$J52,$L52,$N52,$P52,$R52,$T52,$V52,$X52),3)","v":0},{"$f":"LARGE(($H52,$J52,$L52,$N52,$P52,$R52,$T52,$V52,$X52),4)","v":0},{"$f":"LARGE(($H52,$J52,$L52,$N52,$P52,$R52,$T52,$V52,$X52),5)","v":0},{"$f":"LARGE(($H52,$J52,$L52,$N52,$P52,$R52,$T52,$V52,$X52),6)","v":0},{"$f":"LARGE(($H52,$J52,$L52,$N52,$P52,$R52,$T52,$V52,$X52),7)","v":0},{"$f":"LARGE(($H52,$J52,$L52,$N52,$P52,$R52,$T52,$V52,$X52),8)","v":0},{"$f":"LARGE(($H52,$J52,$L52,$N52,$P52,$R52,$T52,$V52,$X52),9)","v":0}]
[49,2002,"LJUNGGREN JONSSON Zara","Huddinge SK AF",36,36,null,{"$f":"LOOKUP(G53,Poängberäkning!$B$6:$B$97,Poängberäkning!$C$6:$C$97)","v":0},null,{"$f":"LOOKUP(I53,Poängberäkning!$B$6:$B$97,Poängberäkning!$C$6:$C$97)","v":0},null,{"$f":"LOOKUP(K53,Poängberäkning!$B$6:$B$97,Poängberäkning!$C$6:$C$97)","v":0},15,{"$f":"LOOKUP(M53,Poängberäkning!$B$6:$B$97,Poängberäkning!$C$6:$C$97)","v":36},null,{"$f":"LOOKUP(O53,Poängberäkning!$B$6:$B$97,Poängberäkning!$C$6:$C$97)","v":0},null,{"$f":"LOOKUP(Q53,[1]Poängberäkning!$B$6:$B$97,[1]Poängberäkning!$C$6:$C$97)","v":0},null,{"$f":"LOOKUP(S53,[1]Poängberäkning!$B$6:$B$97,[1]Poängberäkning!$C$6:$C$97)","v":0},null,{"$f":"LOOKUP(U53,[1]Poängberäkning!$B$6:$B$97,[1]Poängberäkning!$C$6:$C$97)","v":0},null,{"$f":"LOOKUP(W53,[1]Poängberäkning!$B$6:$B$97,[1]Poängberäkning!$C$6:$C$97)","v":0},{"$f":"LARGE(($H53,$J53,$L53,$N53,$P53,$R53,$T53,$V53,$X53),1)","v":36},{"$f":"LARGE(($H53,$J53,$L53,$N53,$P53,$R53,$T53,$V53,$X53),2)","v":0},{"$f":"LARGE(($H53,$J53,$L53,$N53,$P53,$R53,$T53,$V53,$X53),3)","v":0},{"$f":"LARGE(($H53,$J53,$L53,$N53,$P53,$R53,$T53,$V53,$X53),4)","v":0},{"$f":"LARGE(($H53,$J53,$L53,$N53,$P53,$R53,$T53,$V53,$X53),5)","v":0},{"$f":"LARGE(($H53,$J53,$L53,$N53,$P53,$R53,$T53,$V53,$X53),6)","v":0},{"$f":"LARGE(($H53,$J53,$L53,$N53,$P53,$R53,$T53,$V53,$X53),7)","v":0},{"$f":"LARGE(($H53,$J53,$L53,$N53,$P53,$R53,$T53,$V53,$X53),8)","v":0},{"$f":"LARGE(($H53,$J53,$L53,$N53,$P53,$R53,$T53,$V53,$X53),9)","v":0}]
[50,2003,"OLERS Wilma","Sälens IF",35,35,null,{"$f":"LOOKUP(G54,Poängberäkning!$B$6:$B$97,Poängberäkning!$C$6:$C$97)","v":0},null,{"$f":"LOOKUP(I54,Poängberäkning!$B$6:$B$97,Poängberäkning!$C$6:$C$97)","v":0},null,{"$f":"LOOKUP(K54,Poängberäkning!$B$6:$B$97,Poängberäkning!$C$6:$C$97)","v":0},null,{"$f":"LOOKUP(M54,Poängberäkning!$B$6:$B$97,Poängberäkning!$C$6:$C$97)","v":0},16,{"$f":"LOOKUP(O54,Poängberäkning!$B$6:$B$97,Poängberäkning!$C$6:$C$97)","v":35},null,{"$f":"LOOKUP(Q54,[1]Poängberäkning!$B$6:$B$97,[1]Poängberäkning!$C$6:$C$97)","v":0},null,{"$f":"LOOKUP(S54,[1]Poängberäkning!$B$6:$B$97,[1]Poängberäkning!$C$6:$C$97)","v":0},null,{"$f":"LOOKUP(U54,[1]Poängberäkning!$B$6:$B$97,[1]Poängberäkning!$C$6:$C$97)","v":0},null,{"$f":"LOOKUP(W54,[1]Poängberäkning!$B$6:$B$97,[1]Poängberäkning!$C$6:$C$97)","v":0},{"$f":"LARGE(($H54,$J54,$L54,$N54,$P54,$R54,$T54,$V54,$X54),1)","v":35},{"$f":"LARGE(($H54,$J54,$L54,$N54,$P54,$R54,$T54,$V54,$X54),2)","v":0},{"$f":"LARGE(($H54,$J54,$L54,$N54,$P54,$R54,$T54,$V54,$X54),3)","v":0},{"$f":"LARGE(($H54,$J54,$L54,$N54,$P54,$R54,$T54,$V54,$X54),4)","v":0},{"$f":"LARGE(($H54,$J54,$L54,$N54,$P54,$R54,$T54,$V54,$X54),5)","v":0},{"$f":"LARGE(($H54,$J54,$L54,$N54,$P54,$R54,$T54,$V54,$X54),6)","v":0},{"$f":"LARGE(($H54,$J54,$L54,$N54,$P54,$R54,$T54,$V54,$X54),7)","v":0},{"$f":"LARGE(($H54,$J54,$L54,$N54,$P54,$R54,$T54,$V54,$X54),8)","v":0},{"$f":"LARGE(($H54,$J54,$L54,$N54,$P54,$R54,$T54,$V54,$X54),9)","v":0}]
[51,2003,"SELANDER Ella","Örebro SLF",35,35,16,{"$f":"LOOKUP(G55,Poängberäkning!$B$6:$B$97,Poängberäkning!$C$6:$C$97)","v":35},null,{"$f":"LOOKUP(I55,Poängberäkning!$B$6:$B$97,Poängberäkning!$C$6:$C$97)","v":0},null,{"$f":"LOOKUP(K55,Poängberäkning!$B$6:$B$97,Poängberäkning!$C$6:$C$97)","v":0},99,{"$f":"LOOKUP(M55,Poängberäkning!$B$6:$B$97,Poängberäkning!$C$6:$C$97)","v":0},null,{"$f":"LOOKUP(O55,Poängberäkning!$B$6:$B$97,Poängberäkning!$C$6:$C$97)","v":0},null,{"$f":"LOOKUP(Q55,[1]Poängberäkning!$B$6:$B$97,[1]Poängberäkning!$C$6:$C$97)","v":0},null,{"$f":"LOOKUP(S55,[1]Poängberäkning!$B$6:$B$97,[1]Poängberäkning!$C$6:$C$97)","v":0},null,{"$f":"LOOKUP(U55,[1]Poängberäkning!$B$6:$B$97,[1]Poängberäkning!$C$6:$C$97)","v":0},null,{"$f":"LOOKUP(W55,[1]Poängberäkning!$B$6:$B$97,[1]Poängberäkning!$C$6:$C$97)","v":0},{"$f":"LARGE(($H55,$J55,$L55,$N55,$P55,$R55,$T55,$V55,$X55),1)","v":35},{"$f":"LARGE(($H55,$J55,$L55,$N55,$P55,$R55,$T55,$V55,$X55),2)","v":0},{"$f":"LARGE(($H55,$J55,$L55,$N55,$P55,$R55,$T55,$V55,$X55),3)","v":0},{"$f":"LARGE(($H55,$J55,$L55,$N55,$P55,$R55,$T55,$V55,$X55),4)","v":0},{"$f":"LARGE(($H55,$J55,$L55,$N55,$P55,$R55,$T55,$V55,$X55),5)","v":0},{"$f":"LARGE(($H55,$J55,$L55,$N55,$P55,$R55,$T55,$V55,$X55),6)","v":0},{"$f":"LARGE(($H55,$J55,$L55,$N55,$P55,$R55,$T55,$V55,$X55),7)","v":0},{"$f":"LARGE(($H55,$J55,$L55,$N55,$P55,$R55,$T55,$V55,$X55),8)","v":0},{"$f":"LARGE(($H55,$J55,$L55,$N55,$P55,$R55,$T55,$V55,$X55),9)","v":0}]
[52,2003,"STERNFELDT Lova","Boge SLK",34,34,null,{"$f":"LOOKUP(G56,Poängberäkning!$B$6:$B$97,Poängberäkning!$C$6:$C$97)","v":0},null,{"$f":"LOOKUP(I56,Poängberäkning!$B$6:$B$97,Poängberäkning!$C$6:$C$97)","v":0},null,{"$f":"LOOKUP(K56,Poängberäkning!$B$6:$B$97,Poängberäkning!$C$6:$C$97)","v":0},null,{"$f":"LOOKUP(M56,Poängberäkning!$B$6:$B$97,Poängberäkning!$C$6:$C$97)","v":0},17,{"$f":"LOOKUP(O56,Poängberäkning!$B$6:$B$97,Poängberäkning!$C$6:$C$97)","v":34},null,{"$f":"LOOKUP(Q56,[1]Poängberäkning!$B$6:$B$97,[1]Poängberäkning!$C$6:$C$97)","v":0},null,{"$f":"LOOKUP(S56,[1]Poängberäkning!$B$6:$B$97,[1]Poängberäkning!$C$6:$C$97)","v":0},null,{"$f":"LOOKUP(U56,[1]Poängberäkning!$B$6:$B$97,[1]Poängberäkning!$C$6:$C$97)","v":0},null,{"$f":"LOOKUP(W56,[1]Poängberäkning!$B$6:$B$97,[1]Poängberäkning!$C$6:$C$97)","v":0},{"$f":"LARGE(($H56,$J56,$L56,$N56,$P56,$R56,$T56,$V56,$X56),1)","v":34},{"$f":"LARGE(($H56,$J56,$L56,$N56,$P56,$R56,$T56,$V56,$X56),2)","v":0},{"$f":"LARGE(($H56,$J56,$L56,$N56,$P56,$R56,$T56,$V56,$X56),3)","v":0},{"$f":"LARGE(($H56,$J56,$L56,$N56,$P56,$R56,$T56,$V56,$X56),4)","v":0},{"$f":"LARGE(($H56,$J56,$L56,$N56,$P56,$R56,$T56,$V56,$X56),5)","v":0},{"$f":"LARGE(($H56,$J56,$L56,$N56,$P56,$R56,$T56,$V56,$X56),6)","v":0},{"$f":"LARGE(($H56,$J56,$L56,$N56,$P56,$R56,$T56,$V56,$X56),7)","v":0},{"$f":"LARGE(($H56,$J56,$L56,$N56,$P56,$R56,$T56,$V56,$X56),8)","v":0},{"$f":"LARGE(($H56,$J56,$L56,$N56,$P56,$R56,$T56,$V56,$X56),9)","v":0}]
[53,2002,"HEIKKINEN Lovisa","Orsa Alpina Klubb",34,34,99,{"$f":"LOOKUP(G57,Poängberäkning!$B$6:$B$97,Poängberäkning!$C$6:$C$97)","v":0},18,{"$f":"LOOKUP(I57,Poängberäkning!$B$6:$B$97,Poängberäkning!$C$6:$C$97)","v":33},null,{"$f":"LOOKUP(K57,Poängberäkning!$B$6:$B$97,Poängberäkning!$C$6:$C$97)","v":0},null,{"$f":"LOOKUP(M57,Poängberäkning!$B$6:$B$97,Poängberäkning!$C$6:$C$97)","v":0},51,{"$f":"LOOKUP(O57,Poängberäkning!$B$6:$B$97,Poängberäkning!$C$6:$C$97)","v":1},null,{"$f":"LOOKUP(Q57,[1]Poängberäkning!$B$6:$B$97,[1]Poängberäkning!$C$6:$C$97)","v":0},null,{"$f":"LOOKUP(S57,[1]Poängberäkning!$B$6:$B$97,[1]Poängberäkning!$C$6:$C$97)","v":0},null,{"$f":"LOOKUP(U57,[1]Poängberäkning!$B$6:$B$97,[1]Poängberäkning!$C$6:$C$97)","v":0},null,{"$f":"LOOKUP(W57,[1]Poängberäkning!$B$6:$B$97,[1]Poängberäkning!$C$6:$C$97)","v":0},{"$f":"LARGE(($H57,$J57,$L57,$N57,$P57,$R57,$T57,$V57,$X57),1)","v":33},{"$f":"LARGE(($H57,$J57,$L57,$N57,$P57,$R57,$T57,$V57,$X57),2)","v":1},{"$f":"LARGE(($H57,$J57,$L57,$N57,$P57,$R57,$T57,$V57,$X57),3)","v":0},{"$f":"LARGE(($H57,$J57,$L57,$N57,$P57,$R57,$T57,$V57,$X57),4)","v":0},{"$f":"LARGE(($H57,$J57,$L57,$N57,$P57,$R57,$T57,$V57,$X57),5)","v":0},{"$f":"LARGE(($H57,$J57,$L57,$N57,$P57,$R57,$T57,$V57,$X57),6)","v":0},{"$f":"LARGE(($H57,$J57,$L57,$N57,$P57,$R57,$T57,$V57,$X57),7)","v":0},{"$f":"LARGE(($H57,$J57,$L57,$N57,$P57,$R57,$T57,$V57,$X57),8)","v":0},{"$f":"LARGE(($H57,$J57,$L57,$N57,$P57,$R57,$T57,$V57,$X57),9)","v":0}]
[54,2003,"DAHLBORG Stella","IFK Lidingö Slalomklubb",34,34,null,{"$f":"LOOKUP(G58,Poängberäkning!$B$6:$B$97,Poängberäkning!$C$6:$C$97)","v":0},null,{"$f":"LOOKUP(I58,Poängberäkning!$B$6:$B$97,Poängberäkning!$C$6:$C$97)","v":0},null,{"$f":"LOOKUP(K58,Poängberäkning!$B$6:$B$97,Poängberäkning!$C$6:$C$97)","v":0},17,{"$f":"LOOKUP(M58,Poängberäkning!$B$6:$B$97,Poängberäkning!$C$6:$C$97)","v":34},null,{"$f":"LOOKUP(O58,Poängberäkning!$B$6:$B$97,Poängberäkning!$C$6:$C$97)","v":0},null,{"$f":"LOOKUP(Q58,[1]Poängberäkning!$B$6:$B$97,[1]Poängberäkning!$C$6:$C$97)","v":0},null,{"$f":"LOOKUP(S58,[1]Poängberäkning!$B$6:$B$97,[1]Poängberäkning!$C$6:$C$97)","v":0},null,{"$f":"LOOKUP(U58,[1]Poängberäkning!$B$6:$B$97,[1]Poängberäkning!$C$6:$C$97)","v":0},null,{"$f":"LOOKUP(W58,[1]Poängberäkning!$B$6:$B$97,[1]Poängberäkning!$C$6:$C$97)","v":0},{"$f":"LARGE(($H58,$J58,$L58,$N58,$P58,$R58,$T58,$V58,$X58),1)","v":34},{"$f":"LARGE(($H58,$J58,$L58,$N58,$P58,$R58,$T58,$V58,$X58),2)","v":0},{"$f":"LARGE(($H58,$J58,$L58,$N58,$P58,$R58,$T58,$V58,$X58),3)","v":0},{"$f":"LARGE(($H58,$J58,$L58,$N58,$P58,$R58,$T58,$V58,$X58),4)","v":0},{"$f":"LARGE(($H58,$J58,$L58,$N58,$P58,$R58,$T58,$V58,$X58),5)","v":0},{"$f":"LARGE(($H58,$J58,$L58,$N58,$P58,$R58,$T58,$V58,$X58),6)","v":0},{"$f":"LARGE(($H58,$J58,$L58,$N58,$P58,$R58,$T58,$V58,$X58),7)","v":0},{"$f":"LARGE(($H58,$J58,$L58,$N58,$P58,$R58,$T58,$V58,$X58),8)","v":0},{"$f":"LARGE(($H58,$J58,$L58,$N58,$P58,$R58,$T58,$V58,$X58),9)","v":0}]
[55,2002,"TJÄDER Jeanette","Bollnäs AK",33,33,null,{"$f":"LOOKUP(G59,Poängberäkning!$B$6:$B$97,Poängberäkning!$C$6:$C$97)","v":0},null,{"$f":"LOOKUP(I59,Poängberäkning!$B$6:$B$97,Poängberäkning!$C$6:$C$97)","v":0},null,{"$f":"LOOKUP(K59,Poängberäkning!$B$6:$B$97,Poängberäkning!$C$6:$C$97)","v":0},null,{"$f":"LOOKUP(M59,Poängberäkning!$B$6:$B$97,Poängberäkning!$C$6:$C$97)","v":0},18,{"$f":"LOOKUP(O59,Poängberäkning!$B$6:$B$97,Poängberäkning!$C$6:$C$97)","v":33},null,{"$f":"LOOKUP(Q59,[1]Poängberäkning!$B$6:$B$97,[1]Poängberäkning!$C$6:$C$97)","v":0},null,{"$f":"LOOKUP(S59,[1]Poängberäkning!$B$6:$B$97,[1]Poängberäkning!$C$6:$C$97)","v":0},null,{"$f":"LOOKUP(U59,[1]Poängberäkning!$B$6:$B$97,[1]Poängberäkning!$C$6:$C$97)","v":0},null,{"$f":"LOOKUP(W59,[1]Poängberäkning!$B$6:$B$97,[1]Poängberäkning!$C$6:$C$97)","v":0},{"$f":"LARGE(($H59,$J59,$L59,$N59,$P59,$R59,$T59,$V59,$X59),1)","v":33},{"$f":"LARGE(($H59,$J59,$L59,$N59,$P59,$R59,$T59,$V59,$X59),2)","v":0},{"$f":"LARGE(($H59,$J59,$L59,$N59,$P59,$R59,$T59,$V59,$X59),3)","v":0},{"$f":"LARGE(($H59,$J59,$L59,$N59,$P59,$R59,$T59,$V59,$X59),4)","v":0},{"$f":"LARGE(($H59,$J59,$L59,$N59,$P59,$R59,$T59,$V59,$X59),5)","v":0},{"$f":"LARGE(($H59,$J59,$L59,$N59,$P59,$R59,$T59,$V59,$X59),6)","v":0},{"$f":"LARGE(($H59,$J59,$L59,$N59,$P59,$R59,$T59,$V59,$X59),7)","v":0},{"$f":"LARGE(($H59,$J59,$L59,$N59,$P59,$R59,$T59,$V59,$X59),8)","v":0},{"$f":"LARGE(($H59,$J59,$L59,$N59,$P59,$R59,$T59,$V59,$X59),9)","v":0}]
[56,2002,"EKMAN Isabelle","Gävle Alpina SK",32,32,null,{"$f":"LOOKUP(G60,Poängberäkning!$B$6:$B$97,Poängberäkning!$C$6:$C$97)","v":0},null,{"$f":"LOOKUP(I60,Poängberäkning!$B$6:$B$97,Poängberäkning!$C$6:$C$97)","v":0},null,{"$f":"LOOKUP(K60,Poängberäkning!$B$6:$B$97,Poängberäkning!$C$6:$C$97)","v":0},null,{"$f":"LOOKUP(M60,Poängberäkning!$B$6:$B$97,Poängberäkning!$C$6:$C$97)","v":0},19,{"$f":"LOOKUP(O60,Poängberäkning!$B$6:$B$97,Poängberäkning!$C$6:$C$97)","v":32},null,{"$f":"LOOKUP(Q60,[1]Poängberäkning!$B$6:$B$97,[1]Poängberäkning!$C$6:$C$97)","v":0},null,{"$f":"LOOKUP(S60,[1]Poängberäkning!$B$6:$B$97,[1]Poängberäkning!$C$6:$C$97)","v":0},null,{"$f":"LOOKUP(U60,[1]Poängberäkning!$B$6:$B$97,[1]Poängberäkning!$C$6:$C$97)","v":0},null,{"$f":"LOOKUP(W60,[1]Poängberäkning!$B$6:$B$97,[1]Poängberäkning!$C$6:$C$97)","v":0},{"$f":"LARGE(($H60,$J60,$L60,$N60,$P60,$R60,$T60,$V60,$X60),1)","v":32},{"$f":"LARGE(($H60,$J60,$L60,$N60,$P60,$R60,$T60,$V60,$X60),2)","v":0},{"$f":"LARGE(($H60,$J60,$L60,$N60,$P60,$R60,$T60,$V60,$X60),3)","v":0},{"$f":"LARGE(($H60,$J60,$L60,$N60,$P60,$R60,$T60,$V60,$X60),4)","v":0},{"$f":"LARGE(($H60,$J60,$L60,$N60,$P60,$R60,$T60,$V60,$X60),5)","v":0},{"$f":"LARGE(($H60,$J60,$L60,$N60,$P60,$R60,$T60,$V60,$X60),6)","v":0},{"$f":"LARGE(($H60,$J60,$L60,$N60,$P60,$R60,$T60,$V60,$X60),7)","v":0},{"$f":"LARGE(($H60,$J60,$L60,$N60,$P60,$R60,$T60,$V60,$X60),8)","v":0},{"$f":"LARGE(($H60,$J60,$L60,$N60,$P60,$R60,$T60,$V60,$X60),9)","v":0}]
[57,2003,"SANDBERG Thea","IFK Falun",31,31,null,{"$f":"LOOKUP(G61,Poängberäkning!$B$6:$B$97,Poängberäkning!$C$6:$C$97)","v":0},20,{"$f":"LOOKUP(I61,Poängberäkning!$B$6:$B$97,Poängberäkning!$C$6:$C$97)","v":31},null,{"$f":"LOOKUP(K61,Poängberäkning!$B$6:$B$97,Poängberäkning!$C$6:$C$97)","v":0},null,{"$f":"LOOKUP(M61,Poängberäkning!$B$6:$B$97,Poängberäkning!$C$6:$C$97)","v":0},null,{"$f":"LOOKUP(O61,Poängberäkning!$B$6:$B$97,Poängberäkning!$C$6:$C$97)","v":0},null,{"$f":"LOOKUP(Q61,[1]Poängberäkning!$B$6:$B$97,[1]Poängberäkning!$C$6:$C$97)","v":0},null,{"$f":"LOOKUP(S61,[1]Poängberäkning!$B$6:$B$97,[1]Poängberäkning!$C$6:$C$97)","v":0},null,{"$f":"LOOKUP(U61,[1]Poängberäkning!$B$6:$B$97,[1]Poängberäkning!$C$6:$C$97)","v":0},null,{"$f":"LOOKUP(W61,[1]Poängberäkning!$B$6:$B$97,[1]Poängberäkning!$C$6:$C$97)","v":0},{"$f":"LARGE(($H61,$J61,$L61,$N61,$P61,$R61,$T61,$V61,$X61),1)","v":31},{"$f":"LARGE(($H61,$J61,$L61,$N61,$P61,$R61,$T61,$V61,$X61),2)","v":0},{"$f":"LARGE(($H61,$J61,$L61,$N61,$P61,$R61,$T61,$V61,$X61),3)","v":0},{"$f":"LARGE(($H61,$J61,$L61,$N61,$P61,$R61,$T61,$V61,$X61),4)","v":0},{"$f":"LARGE(($H61,$J61,$L61,$N61,$P61,$R61,$T61,$V61,$X61),5)","v":0},{"$f":"LARGE(($H61,$J61,$L61,$N61,$P61,$R61,$T61,$V61,$X61),6)","v":0},{"$f":"LARGE(($H61,$J61,$L61,$N61,$P61,$R61,$T61,$V61,$X61),7)","v":0},{"$f":"LARGE(($H61,$J61,$L61,$N61,$P61,$R61,$T61,$V61,$X61),8)","v":0},{"$f":"LARGE(($H61,$J61,$L61,$N61,$P61,$R61,$T61,$V61,$X61),9)","v":0}]
[58,2003,"JALKESTEN Sophie","Huddinge SK AF",28,28,null,{"$f":"LOOKUP(G62,Poängberäkning!$B$6:$B$97,Poängberäkning!$C$6:$C$97)","v":0},null,{"$f":"LOOKUP(I62,Poängberäkning!$B$6:$B$97,Poängberäkning!$C$6:$C$97)","v":0},null,{"$f":"LOOKUP(K62,Poängberäkning!$B$6:$B$97,Poängberäkning!$C$6:$C$97)","v":0},null,{"$f":"LOOKUP(M62,Poängberäkning!$B$6:$B$97,Poängberäkning!$C$6:$C$97)","v":0},23,{"$f":"LOOKUP(O62,Poängberäkning!$B$6:$B$97,Poängberäkning!$C$6:$C$97)","v":28},null,{"$f":"LOOKUP(Q62,[1]Poängberäkning!$B$6:$B$97,[1]Poängberäkning!$C$6:$C$97)","v":0},null,{"$f":"LOOKUP(S62,[1]Poängberäkning!$B$6:$B$97,[1]Poängberäkning!$C$6:$C$97)","v":0},null,{"$f":"LOOKUP(U62,[1]Poängberäkning!$B$6:$B$97,[1]Poängberäkning!$C$6:$C$97)","v":0},null,{"$f":"LOOKUP(W62,[1]Poängberäkning!$B$6:$B$97,[1]Poängberäkning!$C$6:$C$97)","v":0},{"$f":"LARGE(($H62,$J62,$L62,$N62,$P62,$R62,$T62,$V62,$X62),1)","v":28},{"$f":"LARGE(($H62,$J62,$L62,$N62,$P62,$R62,$T62,$V62,$X62),2)","v":0},{"$f":"LARGE(($H62,$J62,$L62,$N62,$P62,$R62,$T62,$V62,$X62),3)","v":0},{"$f":"LARGE(($H62,$J62,$L62,$N62,$P62,$R62,$T62,$V62,$X62),4)","v":0},{"$f":"LARGE(($H62,$J62,$L62,$N62,$P62,$R62,$T62,$V62,$X62),5)","v":0},{"$f":"LARGE(($H62,$J62,$L62,$N62,$P62,$R62,$T62,$V62,$X62),6)","v":0},{"$f":"LARGE(($H62,$J62,$L62,$N62,$P62,$R62,$T62,$V62,$X62),7)","v":0},{"$f":"LARGE(($H62,$J62,$L62,$N62,$P62,$R62,$T62,$V62,$X62),8)","v":0},{"$f":"LARGE(($H62,$J62,$L62,$N62,$P62,$R62,$T62,$V62,$X62),9)","v":0}]
[59,2002,"MICKELSSON Emelie","IF Hudik Alpin",26,26,null,{"$f":"LOOKUP(G63,Poängberäkning!$B$6:$B$97,Poängberäkning!$C$6:$C$97)","v":0},null,{"$f":"LOOKUP(I63,Poängberäkning!$B$6:$B$97,Poängberäkning!$C$6:$C$97)","v":0},null,{"$f":"LOOKUP(K63,Poängberäkning!$B$6:$B$97,Poängberäkning!$C$6:$C$97)","v":0},null,{"$f":"LOOKUP(M63,Poängberäkning!$B$6:$B$97,Poängberäkning!$C$6:$C$97)","v":0},25,{"$f":"LOOKUP(O63,Poängberäkning!$B$6:$B$97,Poängberäkning!$C$6:$C$97)","v":26},null,{"$f":"LOOKUP(Q63,[1]Poängberäkning!$B$6:$B$97,[1]Poängberäkning!$C$6:$C$97)","v":0},null,{"$f":"LOOKUP(S63,[1]Poängberäkning!$B$6:$B$97,[1]Poängberäkning!$C$6:$C$97)","v":0},null,{"$f":"LOOKUP(U63,[1]Poängberäkning!$B$6:$B$97,[1]Poängberäkning!$C$6:$C$97)","v":0},null,{"$f":"LOOKUP(W63,[1]Poängberäkning!$B$6:$B$97,[1]Poängberäkning!$C$6:$C$97)","v":0},{"$f":"LARGE(($H63,$J63,$L63,$N63,$P63,$R63,$T63,$V63,$X63),1)","v":26},{"$f":"LARGE(($H63,$J63,$L63,$N63,$P63,$R63,$T63,$V63,$X63),2)","v":0},{"$f":"LARGE(($H63,$J63,$L63,$N63,$P63,$R63,$T63,$V63,$X63),3)","v":0},{"$f":"LARGE(($H63,$J63,$L63,$N63,$P63,$R63,$T63,$V63,$X63),4)","v":0},{"$f":"LARGE(($H63,$J63,$L63,$N63,$P63,$R63,$T63,$V63,$X63),5)","v":0},{"$f":"LARGE(($H63,$J63,$L63,$N63,$P63,$R63,$T63,$V63,$X63),6)","v":0},{"$f":"LARGE(($H63,$J63,$L63,$N63,$P63,$R63,$T63,$V63,$X63),7)","v":0},{"$f":"LARGE(($H63,$J63,$L63,$N63,$P63,$R63,$T63,$V63,$X63),8)","v":0},{"$f":"LARGE(($H63,$J63,$L63,$N63,$P63,$R63,$T63,$V63,$X63),9)","v":0}]
[60,2002,"STEINWALL Kajsa","IFK Sävsjö",25,25,null,{"$f":"LOOKUP(G64,Poängberäkning!$B$6:$B$97,Poängberäkning!$C$6:$C$97)","v":0},null,{"$f":"LOOKUP(I64,Poängberäkning!$B$6:$B$97,Poängberäkning!$C$6:$C$97)","v":0},null,{"$f":"LOOKUP(K64,Poängberäkning!$B$6:$B$97,Poängberäkning!$C$6:$C$97)","v":0},null,{"$f":"LOOKUP(M64,Poängberäkning!$B$6:$B$97,Poängberäkning!$C$6:$C$97)","v":0},26,{"$f":"LOOKUP(O64,Poängberäkning!$B$6:$B$97,Poängberäkning!$C$6:$C$97)","v":25},null,{"$f":"LOOKUP(Q64,[1]Poängberäkning!$B$6:$B$97,[1]Poängberäkning!$C$6:$C$97)","v":0},null,{"$f":"LOOKUP(S64,[1]Poängberäkning!$B$6:$B$97,[1]Poängberäkning!$C$6:$C$97)","v":0},null,{"$f":"LOOKUP(U64,[1]Poängberäkning!$B$6:$B$97,[1]Poängberäkning!$C$6:$C$97)","v":0},null,{"$f":"LOOKUP(W64,[1]Poängberäkning!$B$6:$B$97,[1]Poängberäkning!$C$6:$C$97)","v":0},{"$f":"LARGE(($H64,$J64,$L64,$N64,$P64,$R64,$T64,$V64,$X64),1)","v":25},{"$f":"LARGE(($H64,$J64,$L64,$N64,$P64,$R64,$T64,$V64,$X64),2)","v":0},{"$f":"LARGE(($H64,$J64,$L64,$N64,$P64,$R64,$T64,$V64,$X64),3)","v":0},{"$f":"LARGE(($H64,$J64,$L64,$N64,$P64,$R64,$T64,$V64,$X64),4)","v":0},{"$f":"LARGE(($H64,$J64,$L64,$N64,$P64,$R64,$T64,$V64,$X64),5)","v":0},{"$f":"LARGE(($H64,$J64,$L64,$N64,$P64,$R64,$T64,$V64,$X64),6)","v":0},{"$f":"LARGE(($H64,$J64,$L64,$N64,$P64,$R64,$T64,$V64,$X64),7)","v":0},{"$f":"LARGE(($H64,$J64,$L64,$N64,$P64,$R64,$T64,$V64,$X64),8)","v":0},{"$f":"LARGE(($H64,$J64,$L64,$N64,$P64,$R64,$T64,$V64,$X64),9)","v":0}]
[61,2003,"RYDÉN Anné","Östersund-Frösö SLK",22,22,null,{"$f":"LOOKUP(G65,Poängberäkning!$B$6:$B$97,Poängberäkning!$C$6:$C$97)","v":0},null,{"$f":"LOOKUP(I65,Poängberäkning!$B$6:$B$97,Poängberäkning!$C$6:$C$97)","v":0},null,{"$f":"LOOKUP(K65,Poängberäkning!$B$6:$B$97,Poängberäkning!$C$6:$C$97)","v":0},null,{"$f":"LOOKUP(M65,Poängberäkning!$B$6:$B$97,Poängberäkning!$C$6:$C$97)","v":0},29,{"$f":"LOOKUP(O65,Poängberäkning!$B$6:$B$97,Poängberäkning!$C$6:$C$97)","v":22},null,{"$f":"LOOKUP(Q65,[1]Poängberäkning!$B$6:$B$97,[1]Poängberäkning!$C$6:$C$97)","v":0},null,{"$f":"LOOKUP(S65,[1]Poängberäkning!$B$6:$B$97,[1]Poängberäkning!$C$6:$C$97)","v":0},null,{"$f":"LOOKUP(U65,[1]Poängberäkning!$B$6:$B$97,[1]Poängberäkning!$C$6:$C$97)","v":0},null,{"$f":"LOOKUP(W65,[1]Poängberäkning!$B$6:$B$97,[1]Poängberäkning!$C$6:$C$97)","v":0},{"$f":"LARGE(($H65,$J65,$L65,$N65,$P65,$R65,$T65,$V65,$X65),1)","v":22},{"$f":"LARGE(($H65,$J65,$L65,$N65,$P65,$R65,$T65,$V65,$X65),2)","v":0},{"$f":"LARGE(($H65,$J65,$L65,$N65,$P65,$R65,$T65,$V65,$X65),3)","v":0},{"$f":"LARGE(($H65,$J65,$L65,$N65,$P65,$R65,$T65,$V65,$X65),4)","v":0},{"$f":"LARGE(($H65,$J65,$L65,$N65,$P65,$R65,$T65,$V65,$X65),5)","v":0},{"$f":"LARGE(($H65,$J65,$L65,$N65,$P65,$R65,$T65,$V65,$X65),6)","v":0},{"$f":"LARGE(($H65,$J65,$L65,$N65,$P65,$R65,$T65,$V65,$X65),7)","v":0},{"$f":"LARGE(($H65,$J65,$L65,$N65,$P65,$R65,$T65,$V65,$X65),8)","v":0},{"$f":"LARGE(($H65,$J65,$L65,$N65,$P65,$R65,$T65,$V65,$X65),9)","v":0}]
[62,2002,"HOLLWIN ANDERSSON Klara","Norrköpings SK",20,20,null,{"$f":"LOOKUP(G66,Poängberäkning!$B$6:$B$97,Poängberäkning!$C$6:$C$97)","v":0},null,{"$f":"LOOKUP(I66,Poängberäkning!$B$6:$B$97,Poängberäkning!$C$6:$C$97)","v":0},null,{"$f":"LOOKUP(K66,Poängberäkning!$B$6:$B$97,Poängberäkning!$C$6:$C$97)","v":0},null,{"$f":"LOOKUP(M66,Poängberäkning!$B$6:$B$97,Poängberäkning!$C$6:$C$97)","v":0},31,{"$f":"LOOKUP(O66,Poängberäkning!$B$6:$B$97,Poängberäkning!$C$6:$C$97)","v":20},null,{"$f":"LOOKUP(Q66,[1]Poängberäkning!$B$6:$B$97,[1]Poängberäkning!$C$6:$C$97)","v":0},null,{"$f":"LOOKUP(S66,[1]Poängberäkning!$B$6:$B$97,[1]Poängberäkning!$C$6:$C$97)","v":0},null,{"$f":"LOOKUP(U66,[1]Poängberäkning!$B$6:$B$97,[1]Poängberäkning!$C$6:$C$97)","v":0},null,{"$f":"LOOKUP(W66,[1]Poängberäkning!$B$6:$B$97,[1]Poängberäkning!$C$6:$C$97)","v":0},{"$f":"LARGE(($H66,$J66,$L66,$N66,$P66,$R66,$T66,$V66,$X66),1)","v":20},{"$f":"LARGE(($H66,$J66,$L66,$N66,$P66,$R66,$T66,$V66,$X66),2)","v":0},{"$f":"LARGE(($H66,$J66,$L66,$N66,$P66,$R66,$T66,$V66,$X66),3)","v":0},{"$f":"LARGE(($H66,$J66,$L66,$N66,$P66,$R66,$T66,$V66,$X66),4)","v":0},{"$f":"LARGE(($H66,$J66,$L66,$N66,$P66,$R66,$T66,$V66,$X66),5)","v":0},{"$f":"LARGE(($H66,$J66,$L66,$N66,$P66,$R66,$T66,$V66,$X66),6)","v":0},{"$f":"LARGE(($H66,$J66,$L66,$N66,$P66,$R66,$T66,$V66,$X66),7)","v":0},{"$f":"LARGE(($H66,$J66,$L66,$N66,$P66,$R66,$T66,$V66,$X66),8)","v":0},{"$f":"LARGE(($H66,$J66,$L66,$N66,$P66,$R66,$T66,$V66,$X66),9)","v":0}]
[63,2003,"HEDIN Elin","Karlstads SLK",17,17,null,{"$f":"LOOKUP(G67,Poängberäkning!$B$6:$B$97,Poängberäkning!$C$6:$C$97)","v":0},null,{"$f":"LOOKUP(I67,Poängberäkning!$B$6:$B$97,Poängberäkning!$C$6:$C$97)","v":0},null,{"$f":"LOOKUP(K67,Poängberäkning!$B$6:$B$97,Poängberäkning!$C$6:$C$97)","v":0},null,{"$f":"LOOKUP(M67,Poängberäkning!$B$6:$B$97,Poängberäkning!$C$6:$C$97)","v":0},34,{"$f":"LOOKUP(O67,Poängberäkning!$B$6:$B$97,Poängberäkning!$C$6:$C$97)","v":17},null,{"$f":"LOOKUP(Q67,[1]Poängberäkning!$B$6:$B$97,[1]Poängberäkning!$C$6:$C$97)","v":0},null,{"$f":"LOOKUP(S67,[1]Poängberäkning!$B$6:$B$97,[1]Poängberäkning!$C$6:$C$97)","v":0},null,{"$f":"LOOKUP(U67,[1]Poängberäkning!$B$6:$B$97,[1]Poängberäkning!$C$6:$C$97)","v":0},null,{"$f":"LOOKUP(W67,[1]Poängberäkning!$B$6:$B$97,[1]Poängberäkning!$C$6:$C$97)","v":0},{"$f":"LARGE(($H67,$J67,$L67,$N67,$P67,$R67,$T67,$V67,$X67),1)","v":17},{"$f":"LARGE(($H67,$J67,$L67,$N67,$P67,$R67,$T67,$V67,$X67),2)","v":0},{"$f":"LARGE(($H67,$J67,$L67,$N67,$P67,$R67,$T67,$V67,$X67),3)","v":0},{"$f":"LARGE(($H67,$J67,$L67,$N67,$P67,$R67,$T67,$V67,$X67),4)","v":0},{"$f":"LARGE(($H67,$J67,$L67,$N67,$P67,$R67,$T67,$V67,$X67),5)","v":0},{"$f":"LARGE(($H67,$J67,$L67,$N67,$P67,$R67,$T67,$V67,$X67),6)","v":0},{"$f":"LARGE(($H67,$J67,$L67,$N67,$P67,$R67,$T67,$V67,$X67),7)","v":0},{"$f":"LARGE(($H67,$J67,$L67,$N67,$P67,$R67,$T67,$V67,$X67),8)","v":0},{"$f":"LARGE(($H67,$J67,$L67,$N67,$P67,$R67,$T67,$V67,$X67),9)","v":0}]
[64,2002,"AXBERG Wilma","Båsenberga SLK",15,15,null,{"$f":"LOOKUP(G68,Poängberäkning!$B$6:$B$97,Poängberäkning!$C$6:$C$97)","v":0},null,{"$f":"LOOKUP(I68,Poängberäkning!$B$6:$B$97,Poängberäkning!$C$6:$C$97)","v":0},null,{"$f":"LOOKUP(K68,Poängberäkning!$B$6:$B$97,Poängberäkning!$C$6:$C$97)","v":0},null,{"$f":"LOOKUP(M68,Poängberäkning!$B$6:$B$97,Poängberäkning!$C$6:$C$97)","v":0},36,{"$f":"LOOKUP(O68,Poängberäkning!$B$6:$B$97,Poängberäkning!$C$6:$C$97)","v":15},null,{"$f":"LOOKUP(Q68,[1]Poängberäkning!$B$6:$B$97,[1]Poängberäkning!$C$6:$C$97)","v":0},null,{"$f":"LOOKUP(S68,[1]Poängberäkning!$B$6:$B$97,[1]Poängberäkning!$C$6:$C$97)","v":0},null,{"$f":"LOOKUP(U68,[1]Poängberäkning!$B$6:$B$97,[1]Poängberäkning!$C$6:$C$97)","v":0},null,{"$f":"LOOKUP(W68,[1]Poängberäkning!$B$6:$B$97,[1]Poängberäkning!$C$6:$C$97)","v":0},{"$f":"LARGE(($H68,$J68,$L68,$N68,$P68,$R68,$T68,$V68,$X68),1)","v":15},{"$f":"LARGE(($H68,$J68,$L68,$N68,$P68,$R68,$T68,$V68,$X68),2)","v":0},{"$f":"LARGE(($H68,$J68,$L68,$N68,$P68,$R68,$T68,$V68,$X68),3)","v":0},{"$f":"LARGE(($H68,$J68,$L68,$N68,$P68,$R68,$T68,$V68,$X68),4)","v":0},{"$f":"LARGE(($H68,$J68,$L68,$N68,$P68,$R68,$T68,$V68,$X68),5)","v":0},{"$f":"LARGE(($H68,$J68,$L68,$N68,$P68,$R68,$T68,$V68,$X68),6)","v":0},{"$f":"LARGE(($H68,$J68,$L68,$N68,$P68,$R68,$T68,$V68,$X68),7)","v":0},{"$f":"LARGE(($H68,$J68,$L68,$N68,$P68,$R68,$T68,$V68,$X68),8)","v":0},{"$f":"LARGE(($H68,$J68,$L68,$N68,$P68,$R68,$T68,$V68,$X68),9)","v":0}]
[65,2002,"ABENIUS Lovisa","Väst Alpin SK Göteborg",{"$f":"SUM(Y69:AA69)","v":12},{"$f":"H69+J69+L69+N69+P69+R69+T69+V69+X69","v":12},null,{"$f":"LOOKUP(G69,Poängberäkning!$B$6:$B$97,Poängberäkning!$C$6:$C$97)","v":0},null,{"$f":"LOOKUP(I69,Poängberäkning!$B$6:$B$97,Poängberäkning!$C$6:$C$97)","v":0},null,{"$f":"LOOKUP(K69,Poängberäkning!$B$6:$B$97,Poängberäkning!$C$6:$C$97)","v":0},null,{"$f":"LOOKUP(M69,Poängberäkning!$B$6:$B$97,Poängberäkning!$C$6:$C$97)","v":0},39,{"$f":"LOOKUP(O69,Poängberäkning!$B$6:$B$97,Poängberäkning!$C$6:$C$97)","v":12},null,{"$f":"LOOKUP(Q69,[1]Poängberäkning!$B$6:$B$97,[1]Poängberäkning!$C$6:$C$97)","v":0},null,{"$f":"LOOKUP(S69,[1]Poängberäkning!$B$6:$B$97,[1]Poängberäkning!$C$6:$C$97)","v":0},null,{"$f":"LOOKUP(U69,[1]Poängberäkning!$B$6:$B$97,[1]Poängberäkning!$C$6:$C$97)","v":0},null,{"$f":"LOOKUP(W69,[1]Poängberäkning!$B$6:$B$97,[1]Poängberäkning!$C$6:$C$97)","v":0},{"$f":"LARGE(($H69,$J69,$L69,$N69,$P69,$R69,$T69,$V69,$X69),1)","v":12},{"$f":"LARGE(($H69,$J69,$L69,$N69,$P69,$R69,$T69,$V69,$X69),2)","v":0},{"$f":"LARGE(($H69,$J69,$L69,$N69,$P69,$R69,$T69,$V69,$X69),3)","v":0},{"$f":"LARGE(($H69,$J69,$L69,$N69,$P69,$R69,$T69,$V69,$X69),4)","v":0},{"$f":"LARGE(($H69,$J69,$L69,$N69,$P69,$R69,$T69,$V69,$X69),5)","v":0},{"$f":"LARGE(($H69,$J69,$L69,$N69,$P69,$R69,$T69,$V69,$X69),6)","v":0},{"$f":"LARGE(($H69,$J69,$L69,$N69,$P69,$R69,$T69,$V69,$X69),7)","v":0},{"$f":"LARGE(($H69,$J69,$L69,$N69,$P69,$R69,$T69,$V69,$X69),8)","v":0},{"$f":"LARGE(($H69,$J69,$L69,$N69,$P69,$R69,$T69,$V69,$X69),9)","v":0}]
[66,2002,"BRAATZ Linnéa","Huddinge SK AF",11,11,null,{"$f":"LOOKUP(G70,Poängberäkning!$B$6:$B$97,Poängberäkning!$C$6:$C$97)","v":0},null,{"$f":"LOOKUP(I70,Poängberäkning!$B$6:$B$97,Poängberäkning!$C$6:$C$97)","v":0},null,{"$f":"LOOKUP(K70,Poängberäkning!$B$6:$B$97,Poängberäkning!$C$6:$C$97)","v":0},null,{"$f":"LOOKUP(M70,Poängberäkning!$B$6:$B$97,Poängberäkning!$C$6:$C$97)","v":0},40,{"$f":"LOOKUP(O70,Poängberäkning!$B$6:$B$97,Poängberäkning!$C$6:$C$97)","v":11},null,{"$f":"LOOKUP(Q70,[1]Poängberäkning!$B$6:$B$97,[1]Poängberäkning!$C$6:$C$97)","v":0},null,{"$f":"LOOKUP(S70,[1]Poängberäkning!$B$6:$B$97,[1]Poängberäkning!$C$6:$C$97)","v":0},null,{"$f":"LOOKUP(U70,[1]Poängberäkning!$B$6:$B$97,[1]Poängberäkning!$C$6:$C$97)","v":0},null,{"$f":"LOOKUP(W70,[1]Poängberäkning!$B$6:$B$97,[1]Poängberäkning!$C$6:$C$97)","v":0},{"$f":"LARGE(($H70,$J70,$L70,$N70,$P70,$R70,$T70,$V70,$X70),1)","v":11},{"$f":"LARGE(($H70,$J70,$L70,$N70,$P70,$R70,$T70,$V70,$X70),2)","v":0},{"$f":"LARGE(($H70,$J70,$L70,$N70,$P70,$R70,$T70,$V70,$X70),3)","v":0},{"$f":"LARGE(($H70,$J70,$L70,$N70,$P70,$R70,$T70,$V70,$X70),4)","v":0},{"$f":"LARGE(($H70,$J70,$L70,$N70,$P70,$R70,$T70,$V70,$X70),5)","v":0},{"$f":"LARGE(($H70,$J70,$L70,$N70,$P70,$R70,$T70,$V70,$X70),6)","v":0},{"$f":"LARGE(($H70,$J70,$L70,$N70,$P70,$R70,$T70,$V70,$X70),7)","v":0},{"$f":"LARGE(($H70,$J70,$L70,$N70,$P70,$R70,$T70,$V70,$X70),8)","v":0},{"$f":"LARGE(($H70,$J70,$L70,$N70,$P70,$R70,$T70,$V70,$X70),9)","v":0}]
[67,2003,"AHLENIUS Linn","Orsa Alpina Klubb",9,9,null,{"$f":"LOOKUP(G71,Poängberäkning!$B$6:$B$97,Poängberäkning!$C$6:$C$97)","v":0},null,{"$f":"LOOKUP(I71,Poängberäkning!$B$6:$B$97,Poängberäkning!$C$6:$C$97)","v":0},null,{"$f":"LOOKUP(K71,Poängberäkning!$B$6:$B$97,Poängberäkning!$C$6:$C$97)","v":0},null,{"$f":"LOOKUP(M71,Poängberäkning!$B$6:$B$97,Poängberäkning!$C$6:$C$97)","v":0},42,{"$f":"LOOKUP(O71,Poängberäkning!$B$6:$B$97,Poängberäkning!$C$6:$C$97)","v":9},null,{"$f":"LOOKUP(Q71,[1]Poängberäkning!$B$6:$B$97,[1]Poängberäkning!$C$6:$C$97)","v":0},null,{"$f":"LOOKUP(S71,[1]Poängberäkning!$B$6:$B$97,[1]Poängberäkning!$C$6:$C$97)","v":0},null,{"$f":"LOOKUP(U71,[1]Poängberäkning!$B$6:$B$97,[1]Poängberäkning!$C$6:$C$97)","v":0},null,{"$f":"LOOKUP(W71,[1]Poängberäkning!$B$6:$B$97,[1]Poängberäkning!$C$6:$C$97)","v":0},{"$f":"LARGE(($H71,$J71,$L71,$N71,$P71,$R71,$T71,$V71,$X71),1)","v":9},{"$f":"LARGE(($H71,$J71,$L71,$N71,$P71,$R71,$T71,$V71,$X71),2)","v":0},{"$f":"LARGE(($H71,$J71,$L71,$N71,$P71,$R71,$T71,$V71,$X71),3)","v":0},{"$f":"LARGE(($H71,$J71,$L71,$N71,$P71,$R71,$T71,$V71,$X71),4)","v":0},{"$f":"LARGE(($H71,$J71,$L71,$N71,$P71,$R71,$T71,$V71,$X71),5)","v":0},{"$f":"LARGE(($H71,$J71,$L71,$N71,$P71,$R71,$T71,$V71,$X71),6)","v":0},{"$f":"LARGE(($H71,$J71,$L71,$N71,$P71,$R71,$T71,$V71,$X71),7)","v":0},{"$f":"LARGE(($H71,$J71,$L71,$N71,$P71,$R71,$T71,$V71,$X71),8)","v":0},{"$f":"LARGE(($H71,$J71,$L71,$N71,$P71,$R71,$T71,$V71,$X71),9)","v":0}]
[{"$f":"A71+1","v":68},2003,"GRAN Dorotea","SK Vitesse",8,8,null,{"$f":"LOOKUP(G72,Poängberäkning!$B$6:$B$97,Poängberäkning!$C$6:$C$97)","v":0},null,{"$f":"LOOKUP(I72,Poängberäkning!$B$6:$B$97,Poängberäkning!$C$6:$C$97)","v":0},null,{"$f":"LOOKUP(K72,Poängberäkning!$B$6:$B$97,Poängberäkning!$C$6:$C$97)","v":0},null,{"$f":"LOOKUP(M72,Poängberäkning!$B$6:$B$97,Poängberäkning!$C$6:$C$97)","v":0},43,{"$f":"LOOKUP(O72,Poängberäkning!$B$6:$B$97,Poängberäkning!$C$6:$C$97)","v":8},null,{"$f":"LOOKUP(Q72,[1]Poängberäkning!$B$6:$B$97,[1]Poängberäkning!$C$6:$C$97)","v":0},null,{"$f":"LOOKUP(S72,[1]Poängberäkning!$B$6:$B$97,[1]Poängberäkning!$C$6:$C$97)","v":0},null,{"$f":"LOOKUP(U72,[1]Poängberäkning!$B$6:$B$97,[1]Poängberäkning!$C$6:$C$97)","v":0},null,{"$f":"LOOKUP(W72,[1]Poängberäkning!$B$6:$B$97,[1]Poängberäkning!$C$6:$C$97)","v":0},{"$f":"LARGE(($H72,$J72,$L72,$N72,$P72,$R72,$T72,$V72,$X72),1)","v":8},{"$f":"LARGE(($H72,$J72,$L72,$N72,$P72,$R72,$T72,$V72,$X72),2)","v":0},{"$f":"LARGE(($H72,$J72,$L72,$N72,$P72,$R72,$T72,$V72,$X72),3)","v":0},{"$f":"LARGE(($H72,$J72,$L72,$N72,$P72,$R72,$T72,$V72,$X72),4)","v":0},{"$f":"LARGE(($H72,$J72,$L72,$N72,$P72,$R72,$T72,$V72,$X72),5)","v":0},{"$f":"LARGE(($H72,$J72,$L72,$N72,$P72,$R72,$T72,$V72,$X72),6)","v":0},{"$f":"LARGE(($H72,$J72,$L72,$N72,$P72,$R72,$T72,$V72,$X72),7)","v":0},{"$f":"LARGE(($H72,$J72,$L72,$N72,$P72,$R72,$T72,$V72,$X72),8)","v":0},{"$f":"LARGE(($H72,$J72,$L72,$N72,$P72,$R72,$T72,$V72,$X72),9)","v":0}]
[69,2002,"BÄCKMAN Alma","Valfjällets SLK",7,7,null,{"$f":"LOOKUP(G73,Poängberäkning!$B$6:$B$97,Poängberäkning!$C$6:$C$97)","v":0},null,{"$f":"LOOKUP(I73,Poängberäkning!$B$6:$B$97,Poängberäkning!$C$6:$C$97)","v":0},null,{"$f":"LOOKUP(K73,Poängberäkning!$B$6:$B$97,Poängberäkning!$C$6:$C$97)","v":0},null,{"$f":"LOOKUP(M73,Poängberäkning!$B$6:$B$97,Poängberäkning!$C$6:$C$97)","v":0},44,{"$f":"LOOKUP(O73,Poängberäkning!$B$6:$B$97,Poängberäkning!$C$6:$C$97)","v":7},null,{"$f":"LOOKUP(Q73,[1]Poängberäkning!$B$6:$B$97,[1]Poängberäkning!$C$6:$C$97)","v":0},null,{"$f":"LOOKUP(S73,[1]Poängberäkning!$B$6:$B$97,[1]Poängberäkning!$C$6:$C$97)","v":0},null,{"$f":"LOOKUP(U73,[1]Poängberäkning!$B$6:$B$97,[1]Poängberäkning!$C$6:$C$97)","v":0},null,{"$f":"LOOKUP(W73,[1]Poängberäkning!$B$6:$B$97,[1]Poängberäkning!$C$6:$C$97)","v":0},{"$f":"LARGE(($H73,$J73,$L73,$N73,$P73,$R73,$T73,$V73,$X73),1)","v":7},{"$f":"LARGE(($H73,$J73,$L73,$N73,$P73,$R73,$T73,$V73,$X73),2)","v":0},{"$f":"LARGE(($H73,$J73,$L73,$N73,$P73,$R73,$T73,$V73,$X73),3)","v":0},{"$f":"LARGE(($H73,$J73,$L73,$N73,$P73,$R73,$T73,$V73,$X73),4)","v":0},{"$f":"LARGE(($H73,$J73,$L73,$N73,$P73,$R73,$T73,$V73,$X73),5)","v":0},{"$f":"LARGE(($H73,$J73,$L73,$N73,$P73,$R73,$T73,$V73,$X73),6)","v":0},{"$f":"LARGE(($H73,$J73,$L73,$N73,$P73,$R73,$T73,$V73,$X73),7)","v":0},{"$f":"LARGE(($H73,$J73,$L73,$N73,$P73,$R73,$T73,$V73,$X73),8)","v":0},{"$f":"LARGE(($H73,$J73,$L73,$N73,$P73,$R73,$T73,$V73,$X73),9)","v":0}]
[70,2002,"PERSSON Elin","Roslagens AK",5,5,null,{"$f":"LOOKUP(G74,Poängberäkning!$B$6:$B$97,Poängberäkning!$C$6:$C$97)","v":0},null,{"$f":"LOOKUP(I74,Poängberäkning!$B$6:$B$97,Poängberäkning!$C$6:$C$97)","v":0},null,{"$f":"LOOKUP(K74,Poängberäkning!$B$6:$B$97,Poängberäkning!$C$6:$C$97)","v":0},null,{"$f":"LOOKUP(M74,Poängberäkning!$B$6:$B$97,Poängberäkning!$C$6:$C$97)","v":0},46,{"$f":"LOOKUP(O74,Poängberäkning!$B$6:$B$97,Poängberäkning!$C$6:$C$97)","v":5},null,{"$f":"LOOKUP(Q74,[1]Poängberäkning!$B$6:$B$97,[1]Poängberäkning!$C$6:$C$97)","v":0},null,{"$f":"LOOKUP(S74,[1]Poängberäkning!$B$6:$B$97,[1]Poängberäkning!$C$6:$C$97)","v":0},null,{"$f":"LOOKUP(U74,[1]Poängberäkning!$B$6:$B$97,[1]Poängberäkning!$C$6:$C$97)","v":0},null,{"$f":"LOOKUP(W74,[1]Poängberäkning!$B$6:$B$97,[1]Poängberäkning!$C$6:$C$97)","v":0},{"$f":"LARGE(($H74,$J74,$L74,$N74,$P74,$R74,$T74,$V74,$X74),1)","v":5},{"$f":"LARGE(($H74,$J74,$L74,$N74,$P74,$R74,$T74,$V74,$X74),2)","v":0},{"$f":"LARGE(($H74,$J74,$L74,$N74,$P74,$R74,$T74,$V74,$X74),3)","v":0},{"$f":"LARGE(($H74,$J74,$L74,$N74,$P74,$R74,$T74,$V74,$X74),4)","v":0},{"$f":"LARGE(($H74,$J74,$L74,$N74,$P74,$R74,$T74,$V74,$X74),5)","v":0},{"$f":"LARGE(($H74,$J74,$L74,$N74,$P74,$R74,$T74,$V74,$X74),6)","v":0},{"$f":"LARGE(($H74,$J74,$L74,$N74,$P74,$R74,$T74,$V74,$X74),7)","v":0},{"$f":"LARGE(($H74,$J74,$L74,$N74,$P74,$R74,$T74,$V74,$X74),8)","v":0},{"$f":"LARGE(($H74,$J74,$L74,$N74,$P74,$R74,$T74,$V74,$X74),9)","v":0}]
[71,2003,"LUND Julia","Järvsö IF",4,4,null,{"$f":"LOOKUP(G75,Poängberäkning!$B$6:$B$97,Poängberäkning!$C$6:$C$97)","v":0},null,{"$f":"LOOKUP(I75,Poängberäkning!$B$6:$B$97,Poängberäkning!$C$6:$C$97)","v":0},null,{"$f":"LOOKUP(K75,Poängberäkning!$B$6:$B$97,Poängberäkning!$C$6:$C$97)","v":0},null,{"$f":"LOOKUP(M75,Poängberäkning!$B$6:$B$97,Poängberäkning!$C$6:$C$97)","v":0},47,{"$f":"LOOKUP(O75,Poängberäkning!$B$6:$B$97,Poängberäkning!$C$6:$C$97)","v":4},null,{"$f":"LOOKUP(Q75,[1]Poängberäkning!$B$6:$B$97,[1]Poängberäkning!$C$6:$C$97)","v":0},null,{"$f":"LOOKUP(S75,[1]Poängberäkning!$B$6:$B$97,[1]Poängberäkning!$C$6:$C$97)","v":0},null,{"$f":"LOOKUP(U75,[1]Poängberäkning!$B$6:$B$97,[1]Poängberäkning!$C$6:$C$97)","v":0},null,{"$f":"LOOKUP(W75,[1]Poängberäkning!$B$6:$B$97,[1]Poängberäkning!$C$6:$C$97)","v":0},{"$f":"LARGE(($H75,$J75,$L75,$N75,$P75,$R75,$T75,$V75,$X75),1)","v":4},{"$f":"LARGE(($H75,$J75,$L75,$N75,$P75,$R75,$T75,$V75,$X75),2)","v":0},{"$f":"LARGE(($H75,$J75,$L75,$N75,$P75,$R75,$T75,$V75,$X75),3)","v":0},{"$f":"LARGE(($H75,$J75,$L75,$N75,$P75,$R75,$T75,$V75,$X75),4)","v":0},{"$f":"LARGE(($H75,$J75,$L75,$N75,$P75,$R75,$T75,$V75,$X75),5)","v":0},{"$f":"LARGE(($H75,$J75,$L75,$N75,$P75,$R75,$T75,$V75,$X75),6)","v":0},{"$f":"LARGE(($H75,$J75,$L75,$N75,$P75,$R75,$T75,$V75,$X75),7)","v":0},{"$f":"LARGE(($H75,$J75,$L75,$N75,$P75,$R75,$T75,$V75,$X75),8)","v":0},{"$f":"LARGE(($H75,$J75,$L75,$N75,$P75,$R75,$T75,$V75,$X75),9)","v":0}]
[72,2003,"KARLSSON Frida","Västerås Slalomklubb",2,2,null,{"$f":"LOOKUP(G76,Poängberäkning!$B$6:$B$97,Poängberäkning!$C$6:$C$97)","v":0},null,{"$f":"LOOKUP(I76,Poängberäkning!$B$6:$B$97,Poängberäkning!$C$6:$C$97)","v":0},null,{"$f":"LOOKUP(K76,Poängberäkning!$B$6:$B$97,Poängberäkning!$C$6:$C$97)","v":0},null,{"$f":"LOOKUP(M76,Poängberäkning!$B$6:$B$97,Poängberäkning!$C$6:$C$97)","v":0},49,{"$f":"LOOKUP(O76,Poängberäkning!$B$6:$B$97,Poängberäkning!$C$6:$C$97)","v":2},null,{"$f":"LOOKUP(Q76,[1]Poängberäkning!$B$6:$B$97,[1]Poängberäkning!$C$6:$C$97)","v":0},null,{"$f":"LOOKUP(S76,[1]Poängberäkning!$B$6:$B$97,[1]Poängberäkning!$C$6:$C$97)","v":0},null,{"$f":"LOOKUP(U76,[1]Poängberäkning!$B$6:$B$97,[1]Poängberäkning!$C$6:$C$97)","v":0},null,{"$f":"LOOKUP(W76,[1]Poängberäkning!$B$6:$B$97,[1]Poängberäkning!$C$6:$C$97)","v":0},{"$f":"LARGE(($H76,$J76,$L76,$N76,$P76,$R76,$T76,$V76,$X76),1)","v":2},{"$f":"LARGE(($H76,$J76,$L76,$N76,$P76,$R76,$T76,$V76,$X76),2)","v":0},{"$f":"LARGE(($H76,$J76,$L76,$N76,$P76,$R76,$T76,$V76,$X76),3)","v":0},{"$f":"LARGE(($H76,$J76,$L76,$N76,$P76,$R76,$T76,$V76,$X76),4)","v":0},{"$f":"LARGE(($H76,$J76,$L76,$N76,$P76,$R76,$T76,$V76,$X76),5)","v":0},{"$f":"LARGE(($H76,$J76,$L76,$N76,$P76,$R76,$T76,$V76,$X76),6)","v":0},{"$f":"LARGE(($H76,$J76,$L76,$N76,$P76,$R76,$T76,$V76,$X76),7)","v":0},{"$f":"LARGE(($H76,$J76,$L76,$N76,$P76,$R76,$T76,$V76,$X76),8)","v":0},{"$f":"LARGE(($H76,$J76,$L76,$N76,$P76,$R76,$T76,$V76,$X76),9)","v":0}]
[73,2002,"DALSLÅEN Moa","Sunne A K",1,1,null,{"$f":"LOOKUP(G77,Poängberäkning!$B$6:$B$97,Poängberäkning!$C$6:$C$97)","v":0},null,{"$f":"LOOKUP(I77,Poängberäkning!$B$6:$B$97,Poängberäkning!$C$6:$C$97)","v":0},null,{"$f":"LOOKUP(K77,Poängberäkning!$B$6:$B$97,Poängberäkning!$C$6:$C$97)","v":0},null,{"$f":"LOOKUP(M77,Poängberäkning!$B$6:$B$97,Poängberäkning!$C$6:$C$97)","v":0},50,{"$f":"LOOKUP(O77,Poängberäkning!$B$6:$B$97,Poängberäkning!$C$6:$C$97)","v":1},null,{"$f":"LOOKUP(Q77,[1]Poängberäkning!$B$6:$B$97,[1]Poängberäkning!$C$6:$C$97)","v":0},null,{"$f":"LOOKUP(S77,[1]Poängberäkning!$B$6:$B$97,[1]Poängberäkning!$C$6:$C$97)","v":0},null,{"$f":"LOOKUP(U77,[1]Poängberäkning!$B$6:$B$97,[1]Poängberäkning!$C$6:$C$97)","v":0},null,{"$f":"LOOKUP(W77,[1]Poängberäkning!$B$6:$B$97,[1]Poängberäkning!$C$6:$C$97)","v":0},{"$f":"LARGE(($H77,$J77,$L77,$N77,$P77,$R77,$T77,$V77,$X77),1)","v":1},{"$f":"LARGE(($H77,$J77,$L77,$N77,$P77,$R77,$T77,$V77,$X77),2)","v":0},{"$f":"LARGE(($H77,$J77,$L77,$N77,$P77,$R77,$T77,$V77,$X77),3)","v":0},{"$f":"LARGE(($H77,$J77,$L77,$N77,$P77,$R77,$T77,$V77,$X77),4)","v":0},{"$f":"LARGE(($H77,$J77,$L77,$N77,$P77,$R77,$T77,$V77,$X77),5)","v":0},{"$f":"LARGE(($H77,$J77,$L77,$N77,$P77,$R77,$T77,$V77,$X77),6)","v":0},{"$f":"LARGE(($H77,$J77,$L77,$N77,$P77,$R77,$T77,$V77,$X77),7)","v":0},{"$f":"LARGE(($H77,$J77,$L77,$N77,$P77,$R77,$T77,$V77,$X77),8)","v":0},{"$f":"LARGE(($H77,$J77,$L77,$N77,$P77,$R77,$T77,$V77,$X77),9)","v":0}]
[74,2003,"CERWALL Antonia","Karlskoga SLK",1,1,null,{"$f":"LOOKUP(G78,Poängberäkning!$B$6:$B$97,Poängberäkning!$C$6:$C$97)","v":0},null,{"$f":"LOOKUP(I78,Poängberäkning!$B$6:$B$97,Poängberäkning!$C$6:$C$97)","v":0},null,{"$f":"LOOKUP(K78,Poängberäkning!$B$6:$B$97,Poängberäkning!$C$6:$C$97)","v":0},null,{"$f":"LOOKUP(M78,Poängberäkning!$B$6:$B$97,Poängberäkning!$C$6:$C$97)","v":0},52,{"$f":"LOOKUP(O78,Poängberäkning!$B$6:$B$97,Poängberäkning!$C$6:$C$97)","v":1},null,{"$f":"LOOKUP(Q78,[1]Poängberäkning!$B$6:$B$97,[1]Poängberäkning!$C$6:$C$97)","v":0},null,{"$f":"LOOKUP(S78,[1]Poängberäkning!$B$6:$B$97,[1]Poängberäkning!$C$6:$C$97)","v":0},null,{"$f":"LOOKUP(U78,[1]Poängberäkning!$B$6:$B$97,[1]Poängberäkning!$C$6:$C$97)","v":0},null,{"$f":"LOOKUP(W78,[1]Poängberäkning!$B$6:$B$97,[1]Poängberäkning!$C$6:$C$97)","v":0},{"$f":"LARGE(($H78,$J78,$L78,$N78,$P78,$R78,$T78,$V78,$X78),1)","v":1},{"$f":"LARGE(($H78,$J78,$L78,$N78,$P78,$R78,$T78,$V78,$X78),2)","v":0},{"$f":"LARGE(($H78,$J78,$L78,$N78,$P78,$R78,$T78,$V78,$X78),3)","v":0},{"$f":"LARGE(($H78,$J78,$L78,$N78,$P78,$R78,$T78,$V78,$X78),4)","v":0},{"$f":"LARGE(($H78,$J78,$L78,$N78,$P78,$R78,$T78,$V78,$X78),5)","v":0},{"$f":"LARGE(($H78,$J78,$L78,$N78,$P78,$R78,$T78,$V78,$X78),6)","v":0},{"$f":"LARGE(($H78,$J78,$L78,$N78,$P78,$R78,$T78,$V78,$X78),7)","v":0},{"$f":"LARGE(($H78,$J78,$L78,$N78,$P78,$R78,$T78,$V78,$X78),8)","v":0},{"$f":"LARGE(($H78,$J78,$L78,$N78,$P78,$R78,$T78,$V78,$X78),9)","v":0}]
[75,2003,"JOHNSSON Hanna","Västerås Slalomklubb",1,1,null,{"$f":"LOOKUP(G79,Poängberäkning!$B$6:$B$97,Poängberäkning!$C$6:$C$97)","v":0},null,{"$f":"LOOKUP(I79,Poängberäkning!$B$6:$B$97,Poängberäkning!$C$6:$C$97)","v":0},null,{"$f":"LOOKUP(K79,Poängberäkning!$B$6:$B$97,Poängberäkning!$C$6:$C$97)","v":0},null,{"$f":"LOOKUP(M79,Poängberäkning!$B$6:$B$97,Poängberäkning!$C$6:$C$97)","v":0},53,{"$f":"LOOKUP(O79,Poängberäkning!$B$6:$B$97,Poängberäkning!$C$6:$C$97)","v":1},null,{"$f":"LOOKUP(Q79,[1]Poängberäkning!$B$6:$B$97,[1]Poängberäkning!$C$6:$C$97)","v":0},null,{"$f":"LOOKUP(S79,[1]Poängberäkning!$B$6:$B$97,[1]Poängberäkning!$C$6:$C$97)","v":0},null,{"$f":"LOOKUP(U79,[1]Poängberäkning!$B$6:$B$97,[1]Poängberäkning!$C$6:$C$97)","v":0},null,{"$f":"LOOKUP(W79,[1]Poängberäkning!$B$6:$B$97,[1]Poängberäkning!$C$6:$C$97)","v":0},{"$f":"LARGE(($H79,$J79,$L79,$N79,$P79,$R79,$T79,$V79,$X79),1)","v":1},{"$f":"LARGE(($H79,$J79,$L79,$N79,$P79,$R79,$T79,$V79,$X79),2)","v":0},{"$f":"LARGE(($H79,$J79,$L79,$N79,$P79,$R79,$T79,$V79,$X79),3)","v":0},{"$f":"LARGE(($H79,$J79,$L79,$N79,$P79,$R79,$T79,$V79,$X79),4)","v":0},{"$f":"LARGE(($H79,$J79,$L79,$N79,$P79,$R79,$T79,$V79,$X79),5)","v":0},{"$f":"LARGE(($H79,$J79,$L79,$N79,$P79,$R79,$T79,$V79,$X79),6)","v":0},{"$f":"LARGE(($H79,$J79,$L79,$N79,$P79,$R79,$T79,$V79,$X79),7)","v":0},{"$f":"LARGE(($H79,$J79,$L79,$N79,$P79,$R79,$T79,$V79,$X79),8)","v":0},{"$f":"LARGE(($H79,$J79,$L79,$N79,$P79,$R79,$T79,$V79,$X79),9)","v":0}]
[{"$f":"A79+1","v":76},2003,"MATSDOTTER Engla","Orsa Alpina Klubb",1,1,null,{"$f":"LOOKUP(G80,Poängberäkning!$B$6:$B$97,Poängberäkning!$C$6:$C$97)","v":0},null,{"$f":"LOOKUP(I80,Poängberäkning!$B$6:$B$97,Poängberäkning!$C$6:$C$97)","v":0},null,{"$f":"LOOKUP(K80,Poängberäkning!$B$6:$B$97,Poängberäkning!$C$6:$C$97)","v":0},null,{"$f":"LOOKUP(M80,Poängberäkning!$B$6:$B$97,Poängberäkning!$C$6:$C$97)","v":0},55,{"$f":"LOOKUP(O80,Poängberäkning!$B$6:$B$97,Poängberäkning!$C$6:$C$97)","v":1},null,{"$f":"LOOKUP(Q80,[1]Poängberäkning!$B$6:$B$97,[1]Poängberäkning!$C$6:$C$97)","v":0},null,{"$f":"LOOKUP(S80,[1]Poängberäkning!$B$6:$B$97,[1]Poängberäkning!$C$6:$C$97)","v":0},null,{"$f":"LOOKUP(U80,[1]Poängberäkning!$B$6:$B$97,[1]Poängberäkning!$C$6:$C$97)","v":0},null,{"$f":"LOOKUP(W80,[1]Poängberäkning!$B$6:$B$97,[1]Poängberäkning!$C$6:$C$97)","v":0},{"$f":"LARGE(($H80,$J80,$L80,$N80,$P80,$R80,$T80,$V80,$X80),1)","v":1},{"$f":"LARGE(($H80,$J80,$L80,$N80,$P80,$R80,$T80,$V80,$X80),2)","v":0},{"$f":"LARGE(($H80,$J80,$L80,$N80,$P80,$R80,$T80,$V80,$X80),3)","v":0},{"$f":"LARGE(($H80,$J80,$L80,$N80,$P80,$R80,$T80,$V80,$X80),4)","v":0},{"$f":"LARGE(($H80,$J80,$L80,$N80,$P80,$R80,$T80,$V80,$X80),5)","v":0},{"$f":"LARGE(($H80,$J80,$L80,$N80,$P80,$R80,$T80,$V80,$X80),6)","v":0},{"$f":"LARGE(($H80,$J80,$L80,$N80,$P80,$R80,$T80,$V80,$X80),7)","v":0},{"$f":"LARGE(($H80,$J80,$L80,$N80,$P80,$R80,$T80,$V80,$X80),8)","v":0},{"$f":"LARGE(($H80,$J80,$L80,$N80,$P80,$R80,$T80,$V80,$X80),9)","v":0}]
[{"$f":"A80+1","v":77},2002,"ODEHEIM Ida","Västerås Slalomklubb",1,1,null,{"$f":"LOOKUP(G81,Poängberäkning!$B$6:$B$97,Poängberäkning!$C$6:$C$97)","v":0},null,{"$f":"LOOKUP(I81,Poängberäkning!$B$6:$B$97,Poängberäkning!$C$6:$C$97)","v":0},null,{"$f":"LOOKUP(K81,Poängberäkning!$B$6:$B$97,Poängberäkning!$C$6:$C$97)","v":0},null,{"$f":"LOOKUP(M81,Poängberäkning!$B$6:$B$97,Poängberäkning!$C$6:$C$97)","v":0},56,{"$f":"LOOKUP(O81,Poängberäkning!$B$6:$B$97,Poängberäkning!$C$6:$C$97)","v":1},null,{"$f":"LOOKUP(Q81,[1]Poängberäkning!$B$6:$B$97,[1]Poängberäkning!$C$6:$C$97)","v":0},null,{"$f":"LOOKUP(S81,[1]Poängberäkning!$B$6:$B$97,[1]Poängberäkning!$C$6:$C$97)","v":0},null,{"$f":"LOOKUP(U81,[1]Poängberäkning!$B$6:$B$97,[1]Poängberäkning!$C$6:$C$97)","v":0},null,{"$f":"LOOKUP(W81,[1]Poängberäkning!$B$6:$B$97,[1]Poängberäkning!$C$6:$C$97)","v":0},{"$f":"LARGE(($H81,$J81,$L81,$N81,$P81,$R81,$T81,$V81,$X81),1)","v":1},{"$f":"LARGE(($H81,$J81,$L81,$N81,$P81,$R81,$T81,$V81,$X81),2)","v":0},{"$f":"LARGE(($H81,$J81,$L81,$N81,$P81,$R81,$T81,$V81,$X81),3)","v":0},{"$f":"LARGE(($H81,$J81,$L81,$N81,$P81,$R81,$T81,$V81,$X81),4)","v":0},{"$f":"LARGE(($H81,$J81,$L81,$N81,$P81,$R81,$T81,$V81,$X81),5)","v":0},{"$f":"LARGE(($H81,$J81,$L81,$N81,$P81,$R81,$T81,$V81,$X81),6)","v":0},{"$f":"LARGE(($H81,$J81,$L81,$N81,$P81,$R81,$T81,$V81,$X81),7)","v":0},{"$f":"LARGE(($H81,$J81,$L81,$N81,$P81,$R81,$T81,$V81,$X81),8)","v":0},{"$f":"LARGE(($H81,$J81,$L81,$N81,$P81,$R81,$T81,$V81,$X81),9)","v":0}]
[{"$f":"A81+1","v":78},2003,"STRIDH Alice","Örebro SLF",0,0,null,{"$f":"LOOKUP(G82,Poängberäkning!$B$6:$B$97,Poängberäkning!$C$6:$C$97)","v":0},null,{"$f":"LOOKUP(I82,Poängberäkning!$B$6:$B$97,Poängberäkning!$C$6:$C$97)","v":0},null,{"$f":"LOOKUP(K82,Poängberäkning!$B$6:$B$97,Poängberäkning!$C$6:$C$97)","v":0},99,{"$f":"LOOKUP(M82,Poängberäkning!$B$6:$B$97,Poängberäkning!$C$6:$C$97)","v":0},99,{"$f":"LOOKUP(O82,Poängberäkning!$B$6:$B$97,Poängberäkning!$C$6:$C$97)","v":0},null,{"$f":"LOOKUP(Q82,[1]Poängberäkning!$B$6:$B$97,[1]Poängberäkning!$C$6:$C$97)","v":0},null,{"$f":"LOOKUP(S82,[1]Poängberäkning!$B$6:$B$97,[1]Poängberäkning!$C$6:$C$97)","v":0},null,{"$f":"LOOKUP(U82,[1]Poängberäkning!$B$6:$B$97,[1]Poängberäkning!$C$6:$C$97)","v":0},null,{"$f":"LOOKUP(W82,[1]Poängberäkning!$B$6:$B$97,[1]Poängberäkning!$C$6:$C$97)","v":0},{"$f":"LARGE(($H82,$J82,$L82,$N82,$P82,$R82,$T82,$V82,$X82),1)","v":0},{"$f":"LARGE(($H82,$J82,$L82,$N82,$P82,$R82,$T82,$V82,$X82),2)","v":0},{"$f":"LARGE(($H82,$J82,$L82,$N82,$P82,$R82,$T82,$V82,$X82),3)","v":0},{"$f":"LARGE(($H82,$J82,$L82,$N82,$P82,$R82,$T82,$V82,$X82),4)","v":0},{"$f":"LARGE(($H82,$J82,$L82,$N82,$P82,$R82,$T82,$V82,$X82),5)","v":0},{"$f":"LARGE(($H82,$J82,$L82,$N82,$P82,$R82,$T82,$V82,$X82),6)","v":0},{"$f":"LARGE(($H82,$J82,$L82,$N82,$P82,$R82,$T82,$V82,$X82),7)","v":0},{"$f":"LARGE(($H82,$J82,$L82,$N82,$P82,$R82,$T82,$V82,$X82),8)","v":0},{"$f":"LARGE(($H82,$J82,$L82,$N82,$P82,$R82,$T82,$V82,$X82),9)","v":0}]
[79,2003,"FRESK Nike","Arboga Alpina",0,0,null,{"$f":"LOOKUP(G83,Poängberäkning!$B$6:$B$97,Poängberäkning!$C$6:$C$97)","v":0},99,{"$f":"LOOKUP(I83,Poängberäkning!$B$6:$B$97,Poängberäkning!$C$6:$C$97)","v":0},null,{"$f":"LOOKUP(K83,Poängberäkning!$B$6:$B$97,Poängberäkning!$C$6:$C$97)","v":0},null,{"$f":"LOOKUP(M83,Poängberäkning!$B$6:$B$97,Poängberäkning!$C$6:$C$97)","v":0},null,{"$f":"LOOKUP(O83,Poängberäkning!$B$6:$B$97,Poängberäkning!$C$6:$C$97)","v":0},null,{"$f":"LOOKUP(Q83,[1]Poängberäkning!$B$6:$B$97,[1]Poängberäkning!$C$6:$C$97)","v":0},null,{"$f":"LOOKUP(S83,[1]Poängberäkning!$B$6:$B$97,[1]Poängberäkning!$C$6:$C$97)","v":0},null,{"$f":"LOOKUP(U83,[1]Poängberäkning!$B$6:$B$97,[1]Poängberäkning!$C$6:$C$97)","v":0},null,{"$f":"LOOKUP(W83,[1]Poängberäkning!$B$6:$B$97,[1]Poängberäkning!$C$6:$C$97)","v":0},{"$f":"LARGE(($H83,$J83,$L83,$N83,$P83,$R83,$T83,$V83,$X83),1)","v":0},{"$f":"LARGE(($H83,$J83,$L83,$N83,$P83,$R83,$T83,$V83,$X83),2)","v":0},{"$f":"LARGE(($H83,$J83,$L83,$N83,$P83,$R83,$T83,$V83,$X83),3)","v":0},{"$f":"LARGE(($H83,$J83,$L83,$N83,$P83,$R83,$T83,$V83,$X83),4)","v":0},{"$f":"LARGE(($H83,$J83,$L83,$N83,$P83,$R83,$T83,$V83,$X83),5)","v":0},{"$f":"LARGE(($H83,$J83,$L83,$N83,$P83,$R83,$T83,$V83,$X83),6)","v":0},{"$f":"LARGE(($H83,$J83,$L83,$N83,$P83,$R83,$T83,$V83,$X83),7)","v":0},{"$f":"LARGE(($H83,$J83,$L83,$N83,$P83,$R83,$T83,$V83,$X83),8)","v":0},{"$f":"LARGE(($H83,$J83,$L83,$N83,$P83,$R83,$T83,$V83,$X83),9)","v":0}]
[80,2003,"HAGERIUS Alva","Örebro SLF",0,0,null,{"$f":"LOOKUP(G84,Poängberäkning!$B$6:$B$97,Poängberäkning!$C$6:$C$97)","v":0},null,{"$f":"LOOKUP(I84,Poängberäkning!$B$6:$B$97,Poängberäkning!$C$6:$C$97)","v":0},null,{"$f":"LOOKUP(K84,Poängberäkning!$B$6:$B$97,Poängberäkning!$C$6:$C$97)","v":0},99,{"$f":"LOOKUP(M84,Poängberäkning!$B$6:$B$97,Poängberäkning!$C$6:$C$97)","v":0},null,{"$f":"LOOKUP(O84,Poängberäkning!$B$6:$B$97,Poängberäkning!$C$6:$C$97)","v":0},null,{"$f":"LOOKUP(Q84,[1]Poängberäkning!$B$6:$B$97,[1]Poängberäkning!$C$6:$C$97)","v":0},null,{"$f":"LOOKUP(S84,[1]Poängberäkning!$B$6:$B$97,[1]Poängberäkning!$C$6:$C$97)","v":0},null,{"$f":"LOOKUP(U84,[1]Poängberäkning!$B$6:$B$97,[1]Poängberäkning!$C$6:$C$97)","v":0},null,{"$f":"LOOKUP(W84,[1]Poängberäkning!$B$6:$B$97,[1]Poängberäkning!$C$6:$C$97)","v":0},{"$f":"LARGE(($H84,$J84,$L84,$N84,$P84,$R84,$T84,$V84,$X84),1)","v":0},{"$f":"LARGE(($H84,$J84,$L84,$N84,$P84,$R84,$T84,$V84,$X84),2)","v":0},{"$f":"LARGE(($H84,$J84,$L84,$N84,$P84,$R84,$T84,$V84,$X84),3)","v":0},{"$f":"LARGE(($H84,$J84,$L84,$N84,$P84,$R84,$T84,$V84,$X84),4)","v":0},{"$f":"LARGE(($H84,$J84,$L84,$N84,$P84,$R84,$T84,$V84,$X84),5)","v":0},{"$f":"LARGE(($H84,$J84,$L84,$N84,$P84,$R84,$T84,$V84,$X84),6)","v":0},{"$f":"LARGE(($H84,$J84,$L84,$N84,$P84,$R84,$T84,$V84,$X84),7)","v":0},{"$f":"LARGE(($H84,$J84,$L84,$N84,$P84,$R84,$T84,$V84,$X84),8)","v":0},{"$f":"LARGE(($H84,$J84,$L84,$N84,$P84,$R84,$T84,$V84,$X84),9)","v":0}]
[81,2003,"HEDIN Frida","Karlstads SLK",0,0,null,{"$f":"LOOKUP(G85,Poängberäkning!$B$6:$B$97,Poängberäkning!$C$6:$C$97)","v":0},null,{"$f":"LOOKUP(I85,Poängberäkning!$B$6:$B$97,Poängberäkning!$C$6:$C$97)","v":0},null,{"$f":"LOOKUP(K85,Poängberäkning!$B$6:$B$97,Poängberäkning!$C$6:$C$97)","v":0},null,{"$f":"LOOKUP(M85,Poängberäkning!$B$6:$B$97,Poängberäkning!$C$6:$C$97)","v":0},null,{"$f":"LOOKUP(O85,Poängberäkning!$B$6:$B$97,Poängberäkning!$C$6:$C$97)","v":0},null,{"$f":"LOOKUP(Q85,[1]Poängberäkning!$B$6:$B$97,[1]Poängberäkning!$C$6:$C$97)","v":0},null,{"$f":"LOOKUP(S85,[1]Poängberäkning!$B$6:$B$97,[1]Poängberäkning!$C$6:$C$97)","v":0},null,{"$f":"LOOKUP(U85,[1]Poängberäkning!$B$6:$B$97,[1]Poängberäkning!$C$6:$C$97)","v":0},null,{"$f":"LOOKUP(W85,[1]Poängberäkning!$B$6:$B$97,[1]Poängberäkning!$C$6:$C$97)","v":0},{"$f":"LARGE(($H85,$J85,$L85,$N85,$P85,$R85,$T85,$V85,$X85),1)","v":0},{"$f":"LARGE(($H85,$J85,$L85,$N85,$P85,$R85,$T85,$V85,$X85),2)","v":0},{"$f":"LARGE(($H85,$J85,$L85,$N85,$P85,$R85,$T85,$V85,$X85),3)","v":0},{"$f":"LARGE(($H85,$J85,$L85,$N85,$P85,$R85,$T85,$V85,$X85),4)","v":0},{"$f":"LARGE(($H85,$J85,$L85,$N85,$P85,$R85,$T85,$V85,$X85),5)","v":0},{"$f":"LARGE(($H85,$J85,$L85,$N85,$P85,$R85,$T85,$V85,$X85),6)","v":0},{"$f":"LARGE(($H85,$J85,$L85,$N85,$P85,$R85,$T85,$V85,$X85),7)","v":0},{"$f":"LARGE(($H85,$J85,$L85,$N85,$P85,$R85,$T85,$V85,$X85),8)","v":0},{"$f":"LARGE(($H85,$J85,$L85,$N85,$P85,$R85,$T85,$V85,$X85),9)","v":0}]
[82,2003,"HJÄLM Max","IFK Grängesberg AK",0,0,99,{"$f":"LOOKUP(G86,Poängberäkning!$B$6:$B$97,Poängberäkning!$C$6:$C$97)","v":0},null,{"$f":"LOOKUP(I86,Poängberäkning!$B$6:$B$97,Poängberäkning!$C$6:$C$97)","v":0},99,{"$f":"LOOKUP(K86,Poängberäkning!$B$6:$B$97,Poängberäkning!$C$6:$C$97)","v":0},null,{"$f":"LOOKUP(M86,Poängberäkning!$B$6:$B$97,Poängberäkning!$C$6:$C$97)","v":0},null,{"$f":"LOOKUP(O86,Poängberäkning!$B$6:$B$97,Poängberäkning!$C$6:$C$97)","v":0},null,{"$f":"LOOKUP(Q86,[1]Poängberäkning!$B$6:$B$97,[1]Poängberäkning!$C$6:$C$97)","v":0},null,{"$f":"LOOKUP(S86,[1]Poängberäkning!$B$6:$B$97,[1]Poängberäkning!$C$6:$C$97)","v":0},null,{"$f":"LOOKUP(U86,[1]Poängberäkning!$B$6:$B$97,[1]Poängberäkning!$C$6:$C$97)","v":0},null,{"$f":"LOOKUP(W86,[1]Poängberäkning!$B$6:$B$97,[1]Poängberäkning!$C$6:$C$97)","v":0},{"$f":"LARGE(($H86,$J86,$L86,$N86,$P86,$R86,$T86,$V86,$X86),1)","v":0},{"$f":"LARGE(($H86,$J86,$L86,$N86,$P86,$R86,$T86,$V86,$X86),2)","v":0},{"$f":"LARGE(($H86,$J86,$L86,$N86,$P86,$R86,$T86,$V86,$X86),3)","v":0},{"$f":"LARGE(($H86,$J86,$L86,$N86,$P86,$R86,$T86,$V86,$X86),4)","v":0},{"$f":"LARGE(($H86,$J86,$L86,$N86,$P86,$R86,$T86,$V86,$X86),5)","v":0},{"$f":"LARGE(($H86,$J86,$L86,$N86,$P86,$R86,$T86,$V86,$X86),6)","v":0},{"$f":"LARGE(($H86,$J86,$L86,$N86,$P86,$R86,$T86,$V86,$X86),7)","v":0},{"$f":"LARGE(($H86,$J86,$L86,$N86,$P86,$R86,$T86,$V86,$X86),8)","v":0},{"$f":"LARGE(($H86,$J86,$L86,$N86,$P86,$R86,$T86,$V86,$X86),9)","v":0}]
[83,2002,"TJÄRNESTIG Ebba","Valfjällets SLK",0,0,null,{"$f":"LOOKUP(G87,Poängberäkning!$B$6:$B$97,Poängberäkning!$C$6:$C$97)","v":0},null,{"$f":"LOOKUP(I87,Poängberäkning!$B$6:$B$97,Poängberäkning!$C$6:$C$97)","v":0},null,{"$f":"LOOKUP(K87,Poängberäkning!$B$6:$B$97,Poängberäkning!$C$6:$C$97)","v":0},null,{"$f":"LOOKUP(M87,Poängberäkning!$B$6:$B$97,Poängberäkning!$C$6:$C$97)","v":0},null,{"$f":"LOOKUP(O87,Poängberäkning!$B$6:$B$97,Poängberäkning!$C$6:$C$97)","v":0},null,{"$f":"LOOKUP(Q87,[1]Poängberäkning!$B$6:$B$97,[1]Poängberäkning!$C$6:$C$97)","v":0},null,{"$f":"LOOKUP(S87,[1]Poängberäkning!$B$6:$B$97,[1]Poängberäkning!$C$6:$C$97)","v":0},null,{"$f":"LOOKUP(U87,[1]Poängberäkning!$B$6:$B$97,[1]Poängberäkning!$C$6:$C$97)","v":0},null,{"$f":"LOOKUP(W87,[1]Poängberäkning!$B$6:$B$97,[1]Poängberäkning!$C$6:$C$97)","v":0},{"$f":"LARGE(($H87,$J87,$L87,$N87,$P87,$R87,$T87,$V87,$X87),1)","v":0},{"$f":"LARGE(($H87,$J87,$L87,$N87,$P87,$R87,$T87,$V87,$X87),2)","v":0},{"$f":"LARGE(($H87,$J87,$L87,$N87,$P87,$R87,$T87,$V87,$X87),3)","v":0},{"$f":"LARGE(($H87,$J87,$L87,$N87,$P87,$R87,$T87,$V87,$X87),4)","v":0},{"$f":"LARGE(($H87,$J87,$L87,$N87,$P87,$R87,$T87,$V87,$X87),5)","v":0},{"$f":"LARGE(($H87,$J87,$L87,$N87,$P87,$R87,$T87,$V87,$X87),6)","v":0},{"$f":"LARGE(($H87,$J87,$L87,$N87,$P87,$R87,$T87,$V87,$X87),7)","v":0},{"$f":"LARGE(($H87,$J87,$L87,$N87,$P87,$R87,$T87,$V87,$X87),8)","v":0},{"$f":"LARGE(($H87,$J87,$L87,$N87,$P87,$R87,$T87,$V87,$X87),9)","v":0}]
[84,null,null,null,0,0,null,{"$f":"LOOKUP(G88,Poängberäkning!$B$6:$B$97,Poängberäkning!$C$6:$C$97)","v":0},null,{"$f":"LOOKUP(I88,Poängberäkning!$B$6:$B$97,Poängberäkning!$C$6:$C$97)","v":0},null,{"$f":"LOOKUP(K88,Poängberäkning!$B$6:$B$97,Poängberäkning!$C$6:$C$97)","v":0},null,{"$f":"LOOKUP(M88,Poängberäkning!$B$6:$B$97,Poängberäkning!$C$6:$C$97)","v":0},null,{"$f":"LOOKUP(O88,Poängberäkning!$B$6:$B$97,Poängberäkning!$C$6:$C$97)","v":0},null,{"$f":"LOOKUP(Q88,[1]Poängberäkning!$B$6:$B$97,[1]Poängberäkning!$C$6:$C$97)","v":0},null,{"$f":"LOOKUP(S88,[1]Poängberäkning!$B$6:$B$97,[1]Poängberäkning!$C$6:$C$97)","v":0},null,{"$f":"LOOKUP(U88,[1]Poängberäkning!$B$6:$B$97,[1]Poängberäkning!$C$6:$C$97)","v":0},null,{"$f":"LOOKUP(W88,[1]Poängberäkning!$B$6:$B$97,[1]Poängberäkning!$C$6:$C$97)","v":0},{"$f":"LARGE(($H88,$J88,$L88,$N88,$P88,$R88,$T88,$V88,$X88),1)","v":0},{"$f":"LARGE(($H88,$J88,$L88,$N88,$P88,$R88,$T88,$V88,$X88),2)","v":0},{"$f":"LARGE(($H88,$J88,$L88,$N88,$P88,$R88,$T88,$V88,$X88),3)","v":0},{"$f":"LARGE(($H88,$J88,$L88,$N88,$P88,$R88,$T88,$V88,$X88),4)","v":0},{"$f":"LARGE(($H88,$J88,$L88,$N88,$P88,$R88,$T88,$V88,$X88),5)","v":0},{"$f":"LARGE(($H88,$J88,$L88,$N88,$P88,$R88,$T88,$V88,$X88),6)","v":0},{"$f":"LARGE(($H88,$J88,$L88,$N88,$P88,$R88,$T88,$V88,$X88),7)","v":0},{"$f":"LARGE(($H88,$J88,$L88,$N88,$P88,$R88,$T88,$V88,$X88),8)","v":0},{"$f":"LARGE(($H88,$J88,$L88,$N88,$P88,$R88,$T88,$V88,$X88),9)","v":0}]
[85,null,null,null,0,0,null,{"$f":"LOOKUP(G89,Poängberäkning!$B$6:$B$97,Poängberäkning!$C$6:$C$97)","v":0},null,{"$f":"LOOKUP(I89,Poängberäkning!$B$6:$B$97,Poängberäkning!$C$6:$C$97)","v":0},null,{"$f":"LOOKUP(K89,Poängberäkning!$B$6:$B$97,Poängberäkning!$C$6:$C$97)","v":0},null,{"$f":"LOOKUP(M89,Poängberäkning!$B$6:$B$97,Poängberäkning!$C$6:$C$97)","v":0},null,{"$f":"LOOKUP(O89,Poängberäkning!$B$6:$B$97,Poängberäkning!$C$6:$C$97)","v":0},null,{"$f":"LOOKUP(Q89,[1]Poängberäkning!$B$6:$B$97,[1]Poängberäkning!$C$6:$C$97)","v":0},null,{"$f":"LOOKUP(S89,[1]Poängberäkning!$B$6:$B$97,[1]Poängberäkning!$C$6:$C$97)","v":0},null,{"$f":"LOOKUP(U89,[1]Poängberäkning!$B$6:$B$97,[1]Poängberäkning!$C$6:$C$97)","v":0},null,{"$f":"LOOKUP(W89,[1]Poängberäkning!$B$6:$B$97,[1]Poängberäkning!$C$6:$C$97)","v":0},{"$f":"LARGE(($H89,$J89,$L89,$N89,$P89,$R89,$T89,$V89,$X89),1)","v":0},{"$f":"LARGE(($H89,$J89,$L89,$N89,$P89,$R89,$T89,$V89,$X89),2)","v":0},{"$f":"LARGE(($H89,$J89,$L89,$N89,$P89,$R89,$T89,$V89,$X89),3)","v":0},{"$f":"LARGE(($H89,$J89,$L89,$N89,$P89,$R89,$T89,$V89,$X89),4)","v":0},{"$f":"LARGE(($H89,$J89,$L89,$N89,$P89,$R89,$T89,$V89,$X89),5)","v":0},{"$f":"LARGE(($H89,$J89,$L89,$N89,$P89,$R89,$T89,$V89,$X89),6)","v":0},{"$f":"LARGE(($H89,$J89,$L89,$N89,$P89,$R89,$T89,$V89,$X89),7)","v":0},{"$f":"LARGE(($H89,$J89,$L89,$N89,$P89,$R89,$T89,$V89,$X89),8)","v":0},{"$f":"LARGE(($H89,$J89,$L89,$N89,$P89,$R89,$T89,$V89,$X89),9)","v":0}]
[{"$f":"A89+1","v":86},null,null,null,0,0,null,{"$f":"LOOKUP(G90,Poängberäkning!$B$6:$B$97,Poängberäkning!$C$6:$C$97)","v":0},null,{"$f":"LOOKUP(I90,Poängberäkning!$B$6:$B$97,Poängberäkning!$C$6:$C$97)","v":0},null,{"$f":"LOOKUP(K90,Poängberäkning!$B$6:$B$97,Poängberäkning!$C$6:$C$97)","v":0},null,{"$f":"LOOKUP(M90,Poängberäkning!$B$6:$B$97,Poängberäkning!$C$6:$C$97)","v":0},null,{"$f":"LOOKUP(O90,Poängberäkning!$B$6:$B$97,Poängberäkning!$C$6:$C$97)","v":0},null,{"$f":"LOOKUP(Q90,[1]Poängberäkning!$B$6:$B$97,[1]Poängberäkning!$C$6:$C$97)","v":0},null,{"$f":"LOOKUP(S90,[1]Poängberäkning!$B$6:$B$97,[1]Poängberäkning!$C$6:$C$97)","v":0},null,{"$f":"LOOKUP(U90,[1]Poängberäkning!$B$6:$B$97,[1]Poängberäkning!$C$6:$C$97)","v":0},null,{"$f":"LOOKUP(W90,[1]Poängberäkning!$B$6:$B$97,[1]Poängberäkning!$C$6:$C$97)","v":0},{"$f":"LARGE(($H90,$J90,$L90,$N90,$P90,$R90,$T90,$V90,$X90),1)","v":0},{"$f":"LARGE(($H90,$J90,$L90,$N90,$P90,$R90,$T90,$V90,$X90),2)","v":0},{"$f":"LARGE(($H90,$J90,$L90,$N90,$P90,$R90,$T90,$V90,$X90),3)","v":0},{"$f":"LARGE(($H90,$J90,$L90,$N90,$P90,$R90,$T90,$V90,$X90),4)","v":0},{"$f":"LARGE(($H90,$J90,$L90,$N90,$P90,$R90,$T90,$V90,$X90),5)","v":0},{"$f":"LARGE(($H90,$J90,$L90,$N90,$P90,$R90,$T90,$V90,$X90),6)","v":0},{"$f":"LARGE(($H90,$J90,$L90,$N90,$P90,$R90,$T90,$V90,$X90),7)","v":0},{"$f":"LARGE(($H90,$J90,$L90,$N90,$P90,$R90,$T90,$V90,$X90),8)","v":0},{"$f":"LARGE(($H90,$J90,$L90,$N90,$P90,$R90,$T90,$V90,$X90),9)","v":0}]

{"sheet":"H 13-14","index":8,"n_rows":89,"n_cols":33,"rows_kept":89,"cut":false,"hidden":false,"merged":[[2,24,3,32],[3,6,3,7],[3,8,3,9],[3,10,3,11],[3,12,3,13],[3,14,3,15],[3,16,3,17],[3,18,3,19],[3,20,3,21],[3,22,3,23],[1,16,2,17],[1,18,2,19],[1,20,1,21],[1,22,2,23],[2,4,2,5],[2,20,2,21],[0,2,0,15],[1,0,2,1],[1,2,2,3],[1,4,1,5],[1,6,2,7],[1,8,2,9],[1,10,2,11],[1,12,2,13],[1,14,2,15]]}
[]
["H 13-14",null,null,null,null,null,"Sälen GS",null,"Falun GS",null,"Norrbärke SL",null,"Borlänge SL",null,"Orsa GS",null,null,null,null,null,null,null,"Deltävling",null,"1:a","2:a","3:e","4:e","5:e","6:e","7:e","8:e","9:e"]
[null,null,null,null,"Poäng",null,null,null,null,null,null,null,null,null,null,null,null,null,null,null,null,null,null,null,"De 5 bästa åken.                         "]
["Rang","Född","Namn","Klubb","3 Bästa","Totalt","Sö 24/1   Tot",null,"Sö 14/2      Tot",null,"Sö 21/2    Tot",null,"Lö 27/2   Tot",null,"Lö 2/4   Tot"]
[1,2002,"WAHLBERG Erik","IFK Falun",{"$f":"SUM(Y5:AA5)","v":260},{"$f":"H5+J5+L5+N5+P5+R5+T5+V5+X5","v":260},1,{"$f":"LOOKUP(G5,Poängberäkning!$B$6:$B$97,Poängberäkning!$C$6:$C$97)","v":100},2,{"$f":"LOOKUP(I5,Poängberäkning!$B$6:$B$97,Poängberäkning!$C$6:$C$97)","v":80},null,{"$f":"LOOKUP(K5,Poängberäkning!$B$6:$B$97,Poängberäkning!$C$6:$C$97)","v":0},2,{"$f":"LOOKUP(M5,Poängberäkning!$B$6:$B$97,Poängberäkning!$C$6:$C$97)","v":80},null,{"$f":"LOOKUP(O5,Poängberäkning!$B$6:$B$97,Poängberäkning!$C$6:$C$97)","v":0},null,{"$f":"LOOKUP(Q5,[1]Poängberäkning!$B$6:$B$97,[1]Poängberäkning!$C$6:$C$97)","v":0},null,{"$f":"LOOKUP(S5,[1]Poängberäkning!$B$6:$B$97,[1]Poängberäkning!$C$6:$C$97)","v":0},null,{"$f":"LOOKUP(U5,[1]Poängberäkning!$B$6:$B$97,[1]Poängberäkning!$C$6:$C$97)","v":0},null,{"$f":"LOOKUP(W5,[1]Poängberäkning!$B$6:$B$97,[1]Poängberäkning!$C$6:$C$97)","v":0},{"$f":"LARGE(($H5,$J5,$L5,$N5,$P5,$R5,$T5,$V5,$X5),1)","v":100},{"$f":"LARGE(($H5,$J5,$L5,$N5,$P5,$R5,$T5,$V5,$X5),2)","v":80},{"$f":"LARGE(($H5,$J5,$L5,$N5,$P5,$R5,$T5,$V5,$X5),3)","v":80},{"$f":"LARGE(($H5,$J5,$L5,$N5,$P5,$R5,$T5,$V5,$X5),4)","v":0},{"$f":"LARGE(($H5,$J5,$L5,$N5,$P5,$R5,$T5,$V5,$X5),5)","v":0},{"$f":"LARGE(($H5,$J5,$L5,$N5,$P5,$R5,$T5,$V5,$X5),6)","v":0},{"$f":"LARGE(($H5,$J5,$L5,$N5,$P5,$R5,$T5,$V5,$X5),7)","v":0},{"$f":"LARGE(($H5,$J5,$L5,$N5,$P5,$R5,$T5,$V5,$X5),8)","v":0},{"$f":"LARGE(($H5,$J5,$L5,$N5,$P5,$R5,$T5,$V5,$X5),9)","v":0}]
[{"$f":"A5+1","v":2},2002,"SVEDBERG Melvin","IFK Borlänge",250,320,2,{"$f":"LOOKUP(G6,Poängberäkning!$B$6:$B$97,Poängberäkning!$C$6:$C$97)","v":80},3,{"$f":"LOOKUP(I6,Poängberäkning!$B$6:$B$97,Poängberäkning!$C$6:$C$97)","v":70},1,{"$f":"LOOKUP(K6,Poängberäkning!$B$6:$B$97,Poängberäkning!$C$6:$C$97)","v":100},99,{"$f":"LOOKUP(M6,Poängberäkning!$B$6:$B$97,Poängberäkning!$C$6:$C$97)","v":0},3,{"$f":"LOOKUP(O6,Poängberäkning!$B$6:$B$97,Poängberäkning!$C$6:$C$97)","v":70},null,{"$f":"LOOKUP(Q6,[1]Poängberäkning!$B$6:$B$97,[1]Poängberäkning!$C$6:$C$97)","v":0},null,{"$f":"LOOKUP(S6,[1]Poängberäkning!$B$6:$B$97,[1]Poängberäkning!$C$6:$C$97)","v":0},null,{"$f":"LOOKUP(U6,[1]Poängberäkning!$B$6:$B$97,[1]Poängberäkning!$C$6:$C$97)","v":0},null,{"$f":"LOOKUP(W6,[1]Poängberäkning!$B$6:$B$97,[1]Poängberäkning!$C$6:$C$97)","v":0},{"$f":"LARGE(($H6,$J6,$L6,$N6,$P6,$R6,$T6,$V6,$X6),1)","v":100},{"$f":"LARGE(($H6,$J6,$L6,$N6,$P6,$R6,$T6,$V6,$X6),2)","v":80},{"$f":"LARGE(($H6,$J6,$L6,$N6,$P6,$R6,$T6,$V6,$X6),3)","v":70},{"$f":"LARGE(($H6,$J6,$L6,$N6,$P6,$R6,$T6,$V6,$X6),4)","v":70},{"$f":"LARGE(($H6,$J6,$L6,$N6,$P6,$R6,$T6,$V6,$X6),5)","v":0},{"$f":"LARGE(($H6,$J6,$L6,$N6,$P6,$R6,$T6,$V6,$X6),6)","v":0},{"$f":"LARGE(($H6,$J6,$L6,$N6,$P6,$R6,$T6,$V6,$X6),7)","v":0},{"$f":"LARGE(($H6,$J6,$L6,$N6,$P6,$R6,$T6,$V6,$X6),8)","v":0},{"$f":"LARGE(($H6,$J6,$L6,$N6,$P6,$R6,$T6,$V6,$X6),9)","v":0}]
[{"$f":"A6+1","v":3},2002,"PRAGNERT Adam","Örebro SLF",185,240,3,{"$f":"LOOKUP(G7,Poängberäkning!$B$6:$B$97,Poängberäkning!$C$6:$C$97)","v":70},4,{"$f":"LOOKUP(I7,Poängberäkning!$B$6:$B$97,Poängberäkning!$C$6:$C$97)","v":60},5,{"$f":"LOOKUP(K7,Poängberäkning!$B$6:$B$97,Poängberäkning!$C$6:$C$97)","v":55},null,{"$f":"LOOKUP(M7,Poängberäkning!$B$6:$B$97,Poängberäkning!$C$6:$C$97)","v":0},5,{"$f":"LOOKUP(O7,Poängberäkning!$B$6:$B$97,Poängberäkning!$C$6:$C$97)","v":55},null,{"$f":"LOOKUP(Q7,[1]Poängberäkning!$B$6:$B$97,[1]Poängberäkning!$C$6:$C$97)","v":0},null,{"$f":"LOOKUP(S7,[1]Poängberäkning!$B$6:$B$97,[1]Poängberäkning!$C$6:$C$97)","v":0},null,{"$f":"LOOKUP(U7,[1]Poängberäkning!$B$6:$B$97,[1]Poängberäkning!$C$6:$C$97)","v":0},null,{"$f":"LOOKUP(W7,[1]Poängberäkning!$B$6:$B$97,[1]Poängberäkning!$C$6:$C$97)","v":0},{"$f":"LARGE(($H7,$J7,$L7,$N7,$P7,$R7,$T7,$V7,$X7),1)","v":70},{"$f":"LARGE(($H7,$J7,$L7,$N7,$P7,$R7,$T7,$V7,$X7),2)","v":60},{"$f":"LARGE(($H7,$J7,$L7,$N7,$P7,$R7,$T7,$V7,$X7),3)","v":55},{"$f":"LARGE(($H7,$J7,$L7,$N7,$P7,$R7,$T7,$V7,$X7),4)","v":55},{"$f":"LARGE(($H7,$J7,$L7,$N7,$P7,$R7,$T7,$V7,$X7),5)","v":0},{"$f":"LARGE(($H7,$J7,$L7,$N7,$P7,$R7,$T7,$V7,$X7),6)","v":0},{"$f":"LARGE(($H7,$J7,$L7,$N7,$P7,$R7,$T7,$V7,$X7),7)","v":0},{"$f":"LARGE(($H7,$J7,$L7,$N7,$P7,$R7,$T7,$V7,$X7),8)","v":0},{"$f":"LARGE(($H7,$J7,$L7,$N7,$P7,$R7,$T7,$V7,$X7),9)","v":0}]
[{"$f":"A7+1","v":4},2003,"PALMÉR Adam","Örebro SLF",180,180,4,{"$f":"LOOKUP(G8,Poängberäkning!$B$6:$B$97,Poängberäkning!$C$6:$C$97)","v":60},null,{"$f":"LOOKUP(I8,Poängberäkning!$B$6:$B$97,Poängberäkning!$C$6:$C$97)","v":0},4,{"$f":"LOOKUP(K8,Poängberäkning!$B$6:$B$97,Poängberäkning!$C$6:$C$97)","v":60},4,{"$f":"LOOKUP(M8,Poängberäkning!$B$6:$B$97,Poängberäkning!$C$6:$C$97)","v":60},99,{"$f":"LOOKUP(O8,Poängberäkning!$B$6:$B$97,Poängberäkning!$C$6:$C$97)","v":0},null,{"$f":"LOOKUP(Q8,[1]Poängberäkning!$B$6:$B$97,[1]Poängberäkning!$C$6:$C$97)","v":0},null,{"$f":"LOOKUP(S8,[1]Poängberäkning!$B$6:$B$97,[1]Poängberäkning!$C$6:$C$97)","v":0},null,{"$f":"LOOKUP(U8,[1]Poängberäkning!$B$6:$B$97,[1]Poängberäkning!$C$6:$C$97)","v":0},null,{"$f":"LOOKUP(W8,[1]Poängberäkning!$B$6:$B$97,[1]Poängberäkning!$C$6:$C$97)","v":0},{"$f":"LARGE(($H8,$J8,$L8,$N8,$P8,$R8,$T8,$V8,$X8),1)","v":60},{"$f":"LARGE(($H8,$J8,$L8,$N8,$P8,$R8,$T8,$V8,$X8),2)","v":60},{"$f":"LARGE(($H8,$J8,$L8,$N8,$P8,$R8,$T8,$V8,$X8),3)","v":60},{"$f":"LARGE(($H8,$J8,$L8,$N8,$P8,$R8,$T8,$V8,$X8),4)","v":0},{"$f":"LARGE(($H8,$J8,$L8,$N8,$P8,$R8,$T8,$V8,$X8),5)","v":0},{"$f":"LARGE(($H8,$J8,$L8,$N8,$P8,$R8,$T8,$V8,$X8),6)","v":0},{"$f":"LARGE(($H8,$J8,$L8,$N8,$P8,$R8,$T8,$V8,$X8),7)","v":0},{"$f":"LARGE(($H8,$J8,$L8,$N8,$P8,$R8,$T8,$V8,$X8),8)","v":0},{"$f":"LARGE(($H8,$J8,$L8,$N8,$P8,$R8,$T8,$V8,$X8),9)","v":0}]
[5,2002,"GILLBERG Oskar","Täby SLK",160,160,null,{"$f":"LOOKUP(G9,Poängberäkning!$B$6:$B$97,Poängberäkning!$C$6:$C$97)","v":0},null,{"$f":"LOOKUP(I9,Poängberäkning!$B$6:$B$97,Poängberäkning!$C$6:$C$97)","v":0},null,{"$f":"LOOKUP(K9,Poängberäkning!$B$6:$B$97,Poängberäkning!$C$6:$C$97)","v":0},1,{"$f":"LOOKUP(M9,Poängberäkning!$B$6:$B$97,Poängberäkning!$C$6:$C$97)","v":100},4,{"$f":"LOOKUP(O9,Poängberäkning!$B$6:$B$97,Poängberäkning!$C$6:$C$97)","v":60},null,{"$f":"LOOKUP(Q9,[1]Poängberäkning!$B$6:$B$97,[1]Poängberäkning!$C$6:$C$97)","v":0},null,{"$f":"LOOKUP(S9,[1]Poängberäkning!$B$6:$B$97,[1]Poängberäkning!$C$6:$C$97)","v":0},null,{"$f":"LOOKUP(U9,[1]Poängberäkning!$B$6:$B$97,[1]Poängberäkning!$C$6:$C$97)","v":0},null,{"$f":"LOOKUP(W9,[1]Poängberäkning!$B$6:$B$97,[1]Poängberäkning!$C$6:$C$97)","v":0},{"$f":"LARGE(($H9,$J9,$L9,$N9,$P9,$R9,$T9,$V9,$X9),1)","v":100},{"$f":"LARGE(($H9,$J9,$L9,$N9,$P9,$R9,$T9,$V9,$X9),2)","v":60},{"$f":"LARGE(($H9,$J9,$L9,$N9,$P9,$R9,$T9,$V9,$X9),3)","v":0},{"$f":"LARGE(($H9,$J9,$L9,$N9,$P9,$R9,$T9,$V9,$X9),4)","v":0},{"$f":"LARGE(($H9,$J9,$L9,$N9,$P9,$R9,$T9,$V9,$X9),5)","v":0},{"$f":"LARGE(($H9,$J9,$L9,$N9,$P9,$R9,$T9,$V9,$X9),6)","v":0},{"$f":"LARGE(($H9,$J9,$L9,$N9,$P9,$R9,$T9,$V9,$X9),7)","v":0},{"$f":"LARGE(($H9,$J9,$L9,$N9,$P9,$R9,$T9,$V9,$X9),8)","v":0},{"$f":"LARGE(($H9,$J9,$L9,$N9,$P9,$R9,$T9,$V9,$X9),9)","v":0}]
[6,2002,"ANDERSSON Rasmus","Sälens IF",155,155,5,{"$f":"LOOKUP(G10,Poängberäkning!$B$6:$B$97,Poängberäkning!$C$6:$C$97)","v":55},1,{"$f":"LOOKUP(I10,Poängberäkning!$B$6:$B$97,Poängberäkning!$C$6:$C$97)","v":100},null,{"$f":"LOOKUP(K10,Poängberäkning!$B$6:$B$97,Poängberäkning!$C$6:$C$97)","v":0},null,{"$f":"LOOKUP(M10,Poängberäkning!$B$6:$B$97,Poängberäkning!$C$6:$C$97)","v":0},null,{"$f":"LOOKUP(O10,Poängberäkning!$B$6:$B$97,Poängberäkning!$C$6:$C$97)","v":0},null,{"$f":"LOOKUP(Q10,[1]Poängberäkning!$B$6:$B$97,[1]Poängberäkning!$C$6:$C$97)","v":0},null,{"$f":"LOOKUP(S10,[1]Poängberäkning!$B$6:$B$97,[1]Poängberäkning!$C$6:$C$97)","v":0},null,{"$f":"LOOKUP(U10,[1]Poängberäkning!$B$6:$B$97,[1]Poängberäkning!$C$6:$C$97)","v":0},null,{"$f":"LOOKUP(W10,[1]Poängberäkning!$B$6:$B$97,[1]Poängberäkning!$C$6:$C$97)","v":0},{"$f":"LARGE(($H10,$J10,$L10,$N10,$P10,$R10,$T10,$V10,$X10),1)","v":100},{"$f":"LARGE(($H10,$J10,$L10,$N10,$P10,$R10,$T10,$V10,$X10),2)","v":55},{"$f":"LARGE(($H10,$J10,$L10,$N10,$P10,$R10,$T10,$V10,$X10),3)","v":0},{"$f":"LARGE(($H10,$J10,$L10,$N10,$P10,$R10,$T10,$V10,$X10),4)","v":0},{"$f":"LARGE(($H10,$J10,$L10,$N10,$P10,$R10,$T10,$V10,$X10),5)","v":0},{"$f":"LARGE(($H10,$J10,$L10,$N10,$P10,$R10,$T10,$V10,$X10),6)","v":0},{"$f":"LARGE(($H10,$J10,$L10,$N10,$P10,$R10,$T10,$V10,$X10),7)","v":0},{"$f":"LARGE(($H10,$J10,$L10,$N10,$P10,$R10,$T10,$V10,$X10),8)","v":0},{"$f":"LARGE(($H10,$J10,$L10,$N10,$P10,$R10,$T10,$V10,$X10),9)","v":0}]
[7,2002,"STRÖMBERG Samuel","IFK Borlänge",150,150,null,{"$f":"LOOKUP(G11,Poängberäkning!$B$6:$B$97,Poängberäkning!$C$6:$C$97)","v":0},99,{"$f":"LOOKUP(I11,Poängberäkning!$B$6:$B$97,Poängberäkning!$C$6:$C$97)","v":0},1,{"$f":"LOOKUP(K11,Poängberäkning!$B$6:$B$97,Poängberäkning!$C$6:$C$97)","v":100},99,{"$f":"LOOKUP(M11,Poängberäkning!$B$6:$B$97,Poängberäkning!$C$6:$C$97)","v":0},6,{"$f":"LOOKUP(O11,Poängberäkning!$B$6:$B$97,Poängberäkning!$C$6:$C$97)","v":50},null,{"$f":"LOOKUP(Q11,[1]Poängberäkning!$B$6:$B$97,[1]Poängberäkning!$C$6:$C$97)","v":0},null,{"$f":"LOOKUP(S11,[1]Poängberäkning!$B$6:$B$97,[1]Poängberäkning!$C$6:$C$97)","v":0},null,{"$f":"LOOKUP(U11,[1]Poängberäkning!$B$6:$B$97,[1]Poängberäkning!$C$6:$C$97)","v":0},null,{"$f":"LOOKUP(W11,[1]Poängberäkning!$B$6:$B$97,[1]Poängberäkning!$C$6:$C$97)","v":0},{"$f":"LARGE(($H11,$J11,$L11,$N11,$P11,$R11,$T11,$V11,$X11),1)","v":100},{"$f":"LARGE(($H11,$J11,$L11,$N11,$P11,$R11,$T11,$V11,$X11),2)","v":50},{"$f":"LARGE(($H11,$J11,$L11,$N11,$P11,$R11,$T11,$V11,$X11),3)","v":0},{"$f":"LARGE(($H11,$J11,$L11,$N11,$P11,$R11,$T11,$V11,$X11),4)","v":0},{"$f":"LARGE(($H11,$J11,$L11,$N11,$P11,$R11,$T11,$V11,$X11),5)","v":0},{"$f":"LARGE(($H11,$J11,$L11,$N11,$P11,$R11,$T11,$V11,$X11),6)","v":0},{"$f":"LARGE(($H11,$J11,$L11,$N11,$P11,$R11,$T11,$V11,$X11),7)","v":0},{"$f":"LARGE(($H11,$J11,$L11,$N11,$P11,$R11,$T11,$V11,$X11),8)","v":0},{"$f":"LARGE(($H11,$J11,$L11,$N11,$P11,$R11,$T11,$V11,$X11),9)","v":0}]
[8,2002,"MICHELASSI Lapo","Uppsala SLK",136,178,null,{"$f":"LOOKUP(G12,Poängberäkning!$B$6:$B$97,Poängberäkning!$C$6:$C$97)","v":0},7,{"$f":"LOOKUP(I12,Poängberäkning!$B$6:$B$97,Poängberäkning!$C$6:$C$97)","v":48},9,{"$f":"LOOKUP(K12,Poängberäkning!$B$6:$B$97,Poängberäkning!$C$6:$C$97)","v":44},9,{"$f":"LOOKUP(M12,Poängberäkning!$B$6:$B$97,Poängberäkning!$C$6:$C$97)","v":44},10,{"$f":"LOOKUP(O12,Poängberäkning!$B$6:$B$97,Poängberäkning!$C$6:$C$97)","v":42},null,{"$f":"LOOKUP(Q12,[1]Poängberäkning!$B$6:$B$97,[1]Poängberäkning!$C$6:$C$97)","v":0},null,{"$f":"LOOKUP(S12,[1]Poängberäkning!$B$6:$B$97,[1]Poängberäkning!$C$6:$C$97)","v":0},null,{"$f":"LOOKUP(U12,[1]Poängberäkning!$B$6:$B$97,[1]Poängberäkning!$C$6:$C$97)","v":0},null,{"$f":"LOOKUP(W12,[1]Poängberäkning!$B$6:$B$97,[1]Poängberäkning!$C$6:$C$97)","v":0},{"$f":"LARGE(($H12,$J12,$L12,$N12,$P12,$R12,$T12,$V12,$X12),1)","v":48},{"$f":"LARGE(($H12,$J12,$L12,$N12,$P12,$R12,$T12,$V12,$X12),2)","v":44},{"$f":"LARGE(($H12,$J12,$L12,$N12,$P12,$R12,$T12,$V12,$X12),3)","v":44},{"$f":"LARGE(($H12,$J12,$L12,$N12,$P12,$R12,$T12,$V12,$X12),4)","v":42},{"$f":"LARGE(($H12,$J12,$L12,$N12,$P12,$R12,$T12,$V12,$X12),5)","v":0},{"$f":"LARGE(($H12,$J12,$L12,$N12,$P12,$R12,$T12,$V12,$X12),6)","v":0},{"$f":"LARGE(($H12,$J12,$L12,$N12,$P12,$R12,$T12,$V12,$X12),7)","v":0},{"$f":"LARGE(($H12,$J12,$L12,$N12,$P12,$R12,$T12,$V12,$X12),8)","v":0},{"$f":"LARGE(($H12,$J12,$L12,$N12,$P12,$R12,$T12,$V12,$X12),9)","v":0}]
[9,2003,"ÖJERTEG Jesper","IFK Borlänge",134,162,13,{"$f":"LOOKUP(G13,Poängberäkning!$B$6:$B$97,Poängberäkning!$C$6:$C$97)","v":38},8,{"$f":"LOOKUP(I13,Poängberäkning!$B$6:$B$97,Poängberäkning!$C$6:$C$97)","v":46},6,{"$f":"LOOKUP(K13,Poängberäkning!$B$6:$B$97,Poängberäkning!$C$6:$C$97)","v":50},99,{"$f":"LOOKUP(M13,Poängberäkning!$B$6:$B$97,Poängberäkning!$C$6:$C$97)","v":0},23,{"$f":"LOOKUP(O13,Poängberäkning!$B$6:$B$97,Poängberäkning!$C$6:$C$97)","v":28},null,{"$f":"LOOKUP(Q13,[1]Poängberäkning!$B$6:$B$97,[1]Poängberäkning!$C$6:$C$97)","v":0},null,{"$f":"LOOKUP(S13,[1]Poängberäkning!$B$6:$B$97,[1]Poängberäkning!$C$6:$C$97)","v":0},null,{"$f":"LOOKUP(U13,[1]Poängberäkning!$B$6:$B$97,[1]Poängberäkning!$C$6:$C$97)","v":0},null,{"$f":"LOOKUP(W13,[1]Poängberäkning!$B$6:$B$97,[1]Poängberäkning!$C$6:$C$97)","v":0},{"$f":"LARGE(($H13,$J13,$L13,$N13,$P13,$R13,$T13,$V13,$X13),1)","v":50},{"$f":"LARGE(($H13,$J13,$L13,$N13,$P13,$R13,$T13,$V13,$X13),2)","v":46},{"$f":"LARGE(($H13,$J13,$L13,$N13,$P13,$R13,$T13,$V13,$X13),3)","v":38},{"$f":"LARGE(($H13,$J13,$L13,$N13,$P13,$R13,$T13,$V13,$X13),4)","v":28},{"$f":"LARGE(($H13,$J13,$L13,$N13,$P13,$R13,$T13,$V13,$X13),5)","v":0},{"$f":"LARGE(($H13,$J13,$L13,$N13,$P13,$R13,$T13,$V13,$X13),6)","v":0},{"$f":"LARGE(($H13,$J13,$L13,$N13,$P13,$R13,$T13,$V13,$X13),7)","v":0},{"$f":"LARGE(($H13,$J13,$L13,$N13,$P13,$R13,$T13,$V13,$X13),8)","v":0},{"$f":"LARGE(($H13,$J13,$L13,$N13,$P13,$R13,$T13,$V13,$X13),9)","v":0}]
[10,2003,"MIDÉR Erik","Norrbärke SK Alpin",116,163,12,{"$f":"LOOKUP(G14,Poängberäkning!$B$6:$B$97,Poängberäkning!$C$6:$C$97)","v":39},18,{"$f":"LOOKUP(I14,Poängberäkning!$B$6:$B$97,Poängberäkning!$C$6:$C$97)","v":33},14,{"$f":"LOOKUP(K14,Poängberäkning!$B$6:$B$97,Poängberäkning!$C$6:$C$97)","v":37},11,{"$f":"LOOKUP(M14,Poängberäkning!$B$6:$B$97,Poängberäkning!$C$6:$C$97)","v":40},37,{"$f":"LOOKUP(O14,Poängberäkning!$B$6:$B$97,Poängberäkning!$C$6:$C$97)","v":14},null,{"$f":"LOOKUP(Q14,[1]Poängberäkning!$B$6:$B$97,[1]Poängberäkning!$C$6:$C$97)","v":0},null,{"$f":"LOOKUP(S14,[1]Poängberäkning!$B$6:$B$97,[1]Poängberäkning!$C$6:$C$97)","v":0},null,{"$f":"LOOKUP(U14,[1]Poängberäkning!$B$6:$B$97,[1]Poängberäkning!$C$6:$C$97)","v":0},null,{"$f":"LOOKUP(W14,[1]Poängberäkning!$B$6:$B$97,[1]Poängberäkning!$C$6:$C$97)","v":0},{"$f":"LARGE(($H14,$J14,$L14,$N14,$P14,$R14,$T14,$V14,$X14),1)","v":40},{"$f":"LARGE(($H14,$J14,$L14,$N14,$P14,$R14,$T14,$V14,$X14),2)","v":39},{"$f":"LARGE(($H14,$J14,$L14,$N14,$P14,$R14,$T14,$V14,$X14),3)","v":37},{"$f":"LARGE(($H14,$J14,$L14,$N14,$P14,$R14,$T14,$V14,$X14),4)","v":33},{"$f":"LARGE(($H14,$J14,$L14,$N14,$P14,$R14,$T14,$V14,$X14),5)","v":14},{"$f":"LARGE(($H14,$J14,$L14,$N14,$P14,$R14,$T14,$V14,$X14),6)","v":0},{"$f":"LARGE(($H14,$J14,$L14,$N14,$P14,$R14,$T14,$V14,$X14),7)","v":0},{"$f":"LARGE(($H14,$J14,$L14,$N14,$P14,$R14,$T14,$V14,$X14),8)","v":0},{"$f":"LARGE(($H14,$J14,$L14,$N14,$P14,$R14,$T14,$V14,$X14),9)","v":0}]
[11,2002,"GATU Gustaf","Rättviks SLK",105,105,7,{"$f":"LOOKUP(G15,Poängberäkning!$B$6:$B$97,Poängberäkning!$C$6:$C$97)","v":48},9,{"$f":"LOOKUP(I15,Poängberäkning!$B$6:$B$97,Poängberäkning!$C$6:$C$97)","v":44},null,{"$f":"LOOKUP(K15,Poängberäkning!$B$6:$B$97,Poängberäkning!$C$6:$C$97)","v":0},null,{"$f":"LOOKUP(M15,Poängberäkning!$B$6:$B$97,Poängberäkning!$C$6:$C$97)","v":0},38,{"$f":"LOOKUP(O15,Poängberäkning!$B$6:$B$97,Poängberäkning!$C$6:$C$97)","v":13},null,{"$f":"LOOKUP(Q15,[1]Poängberäkning!$B$6:$B$97,[1]Poängberäkning!$C$6:$C$97)","v":0},null,{"$f":"LOOKUP(S15,[1]Poängberäkning!$B$6:$B$97,[1]Poängberäkning!$C$6:$C$97)","v":0},null,{"$f":"LOOKUP(U15,[1]Poängberäkning!$B$6:$B$97,[1]Poängberäkning!$C$6:$C$97)","v":0},null,{"$f":"LOOKUP(W15,[1]Poängberäkning!$B$6:$B$97,[1]Poängberäkning!$C$6:$C$97)","v":0},{"$f":"LARGE(($H15,$J15,$L15,$N15,$P15,$R15,$T15,$V15,$X15),1)","v":48},{"$f":"LARGE(($H15,$J15,$L15,$N15,$P15,$R15,$T15,$V15,$X15),2)","v":44},{"$f":"LARGE(($H15,$J15,$L15,$N15,$P15,$R15,$T15,$V15,$X15),3)","v":13},{"$f":"LARGE(($H15,$J15,$L15,$N15,$P15,$R15,$T15,$V15,$X15),4)","v":0},{"$f":"LARGE(($H15,$J15,$L15,$N15,$P15,$R15,$T15,$V15,$X15),5)","v":0},{"$f":"LARGE(($H15,$J15,$L15,$N15,$P15,$R15,$T15,$V15,$X15),6)","v":0},{"$f":"LARGE(($H15,$J15,$L15,$N15,$P15,$R15,$T15,$V15,$X15),7)","v":0},{"$f":"LARGE(($H15,$J15,$L15,$N15,$P15,$R15,$T15,$V15,$X15),8)","v":0},{"$f":"LARGE(($H15,$J15,$L15,$N15,$P15,$R15,$T15,$V15,$X15),9)","v":0}]
[12,2002,"JOHANSSON Gustav","Högby Alpina SLK",101,101,null,{"$f":"LOOKUP(G16,Poängberäkning!$B$6:$B$97,Poängberäkning!$C$6:$C$97)","v":0},null,{"$f":"LOOKUP(I16,Poängberäkning!$B$6:$B$97,Poängberäkning!$C$6:$C$97)","v":0},null,{"$f":"LOOKUP(K16,Poängberäkning!$B$6:$B$97,Poängberäkning!$C$6:$C$97)","v":0},5,{"$f":"LOOKUP(M16,Poängberäkning!$B$6:$B$97,Poängberäkning!$C$6:$C$97)","v":55},8,{"$f":"LOOKUP(O16,Poängberäkning!$B$6:$B$97,Poängberäkning!$C$6:$C$97)","v":46},null,{"$f":"LOOKUP(Q16,[1]Poängberäkning!$B$6:$B$97,[1]Poängberäkning!$C$6:$C$97)","v":0},null,{"$f":"LOOKUP(S16,[1]Poängberäkning!$B$6:$B$97,[1]Poängberäkning!$C$6:$C$97)","v":0},null,{"$f":"LOOKUP(U16,[1]Poängberäkning!$B$6:$B$97,[1]Poängberäkning!$C$6:$C$97)","v":0},null,{"$f":"LOOKUP(W16,[1]Poängberäkning!$B$6:$B$97,[1]Poängberäkning!$C$6:$C$97)","v":0},{"$f":"LARGE(($H16,$J16,$L16,$N16,$P16,$R16,$T16,$V16,$X16),1)","v":55},{"$f":"LARGE(($H16,$J16,$L16,$N16,$P16,$R16,$T16,$V16,$X16),2)","v":46},{"$f":"LARGE(($H16,$J16,$L16,$N16,$P16,$R16,$T16,$V16,$X16),3)","v":0},{"$f":"LARGE(($H16,$J16,$L16,$N16,$P16,$R16,$T16,$V16,$X16),4)","v":0},{"$f":"LARGE(($H16,$J16,$L16,$N16,$P16,$R16,$T16,$V16,$X16),5)","v":0},{"$f":"LARGE(($H16,$J16,$L16,$N16,$P16,$R16,$T16,$V16,$X16),6)","v":0},{"$f":"LARGE(($H16,$J16,$L16,$N16,$P16,$R16,$T16,$V16,$X16),7)","v":0},{"$f":"LARGE(($H16,$J16,$L16,$N16,$P16,$R16,$T16,$V16,$X16),8)","v":0},{"$f":"LARGE(($H16,$J16,$L16,$N16,$P16,$R16,$T16,$V16,$X16),9)","v":0}]
[13,2002,"HEDMAN Gustav","IFK Borlänge",101,101,null,{"$f":"LOOKUP(G17,Poängberäkning!$B$6:$B$97,Poängberäkning!$C$6:$C$97)","v":0},5,{"$f":"LOOKUP(I17,Poängberäkning!$B$6:$B$97,Poängberäkning!$C$6:$C$97)","v":55},null,{"$f":"LOOKUP(K17,Poängberäkning!$B$6:$B$97,Poängberäkning!$C$6:$C$97)","v":0},8,{"$f":"LOOKUP(M17,Poängberäkning!$B$6:$B$97,Poängberäkning!$C$6:$C$97)","v":46},null,{"$f":"LOOKUP(O17,Poängberäkning!$B$6:$B$97,Poängberäkning!$C$6:$C$97)","v":0},null,{"$f":"LOOKUP(Q17,[1]Poängberäkning!$B$6:$B$97,[1]Poängberäkning!$C$6:$C$97)","v":0},null,{"$f":"LOOKUP(S17,[1]Poängberäkning!$B$6:$B$97,[1]Poängberäkning!$C$6:$C$97)","v":0},null,{"$f":"LOOKUP(U17,[1]Poängberäkning!$B$6:$B$97,[1]Poängberäkning!$C$6:$C$97)","v":0},null,{"$f":"LOOKUP(W17,[1]Poängberäkning!$B$6:$B$97,[1]Poängberäkning!$C$6:$C$97)","v":0},{"$f":"LARGE(($H17,$J17,$L17,$N17,$P17,$R17,$T17,$V17,$X17),1)","v":55},{"$f":"LARGE(($H17,$J17,$L17,$N17,$P17,$R17,$T17,$V17,$X17),2)","v":46},{"$f":"LARGE(($H17,$J17,$L17,$N17,$P17,$R17,$T17,$V17,$X17),3)","v":0},{"$f":"LARGE(($H17,$J17,$L17,$N17,$P17,$R17,$T17,$V17,$X17),4)","v":0},{"$f":"LARGE(($H17,$J17,$L17,$N17,$P17,$R17,$T17,$V17,$X17),5)","v":0},{"$f":"LARGE(($H17,$J17,$L17,$N17,$P17,$R17,$T17,$V17,$X17),6)","v":0},{"$f":"LARGE(($H17,$J17,$L17,$N17,$P17,$R17,$T17,$V17,$X17),7)","v":0},{"$f":"LARGE(($H17,$J17,$L17,$N17,$P17,$R17,$T17,$V17,$X17),8)","v":0},{"$f":"LARGE(($H17,$J17,$L17,$N17,$P17,$R17,$T17,$V17,$X17),9)","v":0}]
[14,2002,"RÖSNÄS Anton","Vemdalens IF",100,100,null,{"$f":"LOOKUP(G18,Poängberäkning!$B$6:$B$97,Poängberäkning!$C$6:$C$97)","v":0},null,{"$f":"LOOKUP(I18,Poängberäkning!$B$6:$B$97,Poängberäkning!$C$6:$C$97)","v":0},null,{"$f":"LOOKUP(K18,Poängberäkning!$B$6:$B$97,Poängberäkning!$C$6:$C$97)","v":0},null,{"$f":"LOOKUP(M18,Poängberäkning!$B$6:$B$97,Poängberäkning!$C$6:$C$97)","v":0},1,{"$f":"LOOKUP(O18,Poängberäkning!$B$6:$B$97,Poängberäkning!$C$6:$C$97)","v":100},null,{"$f":"LOOKUP(Q18,[1]Poängberäkning!$B$6:$B$97,[1]Poängberäkning!$C$6:$C$97)","v":0},null,{"$f":"LOOKUP(S18,[1]Poängberäkning!$B$6:$B$97,[1]Poängberäkning!$C$6:$C$97)","v":0},null,{"$f":"LOOKUP(U18,[1]Poängberäkning!$B$6:$B$97,[1]Poängberäkning!$C$6:$C$97)","v":0},null,{"$f":"LOOKUP(W18,[1]Poängberäkning!$B$6:$B$97,[1]Poängberäkning!$C$6:$C$97)","v":0},{"$f":"LARGE(($H18,$J18,$L18,$N18,$P18,$R18,$T18,$V18,$X18),1)","v":100},{"$f":"LARGE(($H18,$J18,$L18,$N18,$P18,$R18,$T18,$V18,$X18),2)","v":0},{"$f":"LARGE(($H18,$J18,$L18,$N18,$P18,$R18,$T18,$V18,$X18),3)","v":0},{"$f":"LARGE(($H18,$J18,$L18,$N18,$P18,$R18,$T18,$V18,$X18),4)","v":0},{"$f":"LARGE(($H18,$J18,$L18,$N18,$P18,$R18,$T18,$V18,$X18),5)","v":0},{"$f":"LARGE(($H18,$J18,$L18,$N18,$P18,$R18,$T18,$V18,$X18),6)","v":0},{"$f":"LARGE(($H18,$J18,$L18,$N18,$P18,$R18,$T18,$V18,$X18),7)","v":0},{"$f":"LARGE(($H18,$J18,$L18,$N18,$P18,$R18,$T18,$V18,$X18),8)","v":0},{"$f":"LARGE(($H18,$J18,$L18,$N18,$P18,$R18,$T18,$V18,$X18),9)","v":0}]
[15,2003,"VOGT Kalle","Norrbärke SK Alpin",98,98,null,{"$f":"LOOKUP(G19,Poängberäkning!$B$6:$B$97,Poängberäkning!$C$6:$C$97)","v":0},12,{"$f":"LOOKUP(I19,Poängberäkning!$B$6:$B$97,Poängberäkning!$C$6:$C$97)","v":39},11,{"$f":"LOOKUP(K19,Poängberäkning!$B$6:$B$97,Poängberäkning!$C$6:$C$97)","v":40},99,{"$f":"LOOKUP(M19,Poängberäkning!$B$6:$B$97,Poängberäkning!$C$6:$C$97)","v":0},32,{"$f":"LOOKUP(O19,Poängberäkning!$B$6:$B$97,Poängberäkning!$C$6:$C$97)","v":19},null,{"$f":"LOOKUP(Q19,[1]Poängberäkning!$B$6:$B$97,[1]Poängberäkning!$C$6:$C$97)","v":0},null,{"$f":"LOOKUP(S19,[1]Poängberäkning!$B$6:$B$97,[1]Poängberäkning!$C$6:$C$97)","v":0},null,{"$f":"LOOKUP(U19,[1]Poängberäkning!$B$6:$B$97,[1]Poängberäkning!$C$6:$C$97)","v":0},null,{"$f":"LOOKUP(W19,[1]Poängberäkning!$B$6:$B$97,[1]Poängberäkning!$C$6:$C$97)","v":0},{"$f":"LARGE(($H19,$J19,$L19,$N19,$P19,$R19,$T19,$V19,$X19),1)","v":40},{"$f":"LARGE(($H19,$J19,$L19,$N19,$P19,$R19,$T19,$V19,$X19),2)","v":39},{"$f":"LARGE(($H19,$J19,$L19,$N19,$P19,$R19,$T19,$V19,$X19),3)","v":19},{"$f":"LARGE(($H19,$J19,$L19,$N19,$P19,$R19,$T19,$V19,$X19),4)","v":0},{"$f":"LARGE(($H19,$J19,$L19,$N19,$P19,$R19,$T19,$V19,$X19),5)","v":0},{"$f":"LARGE(($H19,$J19,$L19,$N19,$P19,$R19,$T19,$V19,$X19),6)","v":0},{"$f":"LARGE(($H19,$J19,$L19,$N19,$P19,$R19,$T19,$V19,$X19),7)","v":0},{"$f":"LARGE(($H19,$J19,$L19,$N19,$P19,$R19,$T19,$V19,$X19),8)","v":0},{"$f":"LARGE(($H19,$J19,$L19,$N19,$P19,$R19,$T19,$V19,$X19),9)","v":0}]
[16,2002,"LANDER Linus","Sunne A K",80,80,null,{"$f":"LOOKUP(G20,Poängberäkning!$B$6:$B$97,Poängberäkning!$C$6:$C$97)","v":0},null,{"$f":"LOOKUP(I20,Poängberäkning!$B$6:$B$97,Poängberäkning!$C$6:$C$97)","v":0},null,{"$f":"LOOKUP(K20,Poängberäkning!$B$6:$B$97,Poängberäkning!$C$6:$C$97)","v":0},null,{"$f":"LOOKUP(M20,Poängberäkning!$B$6:$B$97,Poängberäkning!$C$6:$C$97)","v":0},2,{"$f":"LOOKUP(O20,Poängberäkning!$B$6:$B$97,Poängberäkning!$C$6:$C$97)","v":80},null,{"$f":"LOOKUP(Q20,[1]Poängberäkning!$B$6:$B$97,[1]Poängberäkning!$C$6:$C$97)","v":0},null,{"$f":"LOOKUP(S20,[1]Poängberäkning!$B$6:$B$97,[1]Poängberäkning!$C$6:$C$97)","v":0},null,{"$f":"LOOKUP(U20,[1]Poängberäkning!$B$6:$B$97,[1]Poängberäkning!$C$6:$C$97)","v":0},null,{"$f":"LOOKUP(W20,[1]Poängberäkning!$B$6:$B$97,[1]Poängberäkning!$C$6:$C$97)","v":0},{"$f":"LARGE(($H20,$J20,$L20,$N20,$P20,$R20,$T20,$V20,$X20),1)","v":80},{"$f":"LARGE(($H20,$J20,$L20,$N20,$P20,$R20,$T20,$V20,$X20),2)","v":0},{"$f":"LARGE(($H20,$J20,$L20,$N20,$P20,$R20,$T20,$V20,$X20),3)","v":0},{"$f":"LARGE(($H20,$J20,$L20,$N20,$P20,$R20,$T20,$V20,$X20),4)","v":0},{"$f":"LARGE(($H20,$J20,$L20,$N20,$P20,$R20,$T20,$V20,$X20),5)","v":0},{"$f":"LARGE(($H20,$J20,$L20,$N20,$P20,$R20,$T20,$V20,$X20),6)","v":0},{"$f":"LARGE(($H20,$J20,$L20,$N20,$P20,$R20,$T20,$V20,$X20),7)","v":0},{"$f":"LARGE(($H20,$J20,$L20,$N20,$P20,$R20,$T20,$V20,$X20),8)","v":0},{"$f":"LARGE(($H20,$J20,$L20,$N20,$P20,$R20,$T20,$V20,$X20),9)","v":0}]
[17,2003,"LANDSTRÖM Simon","Västerås Slalomklubb",80,80,null,{"$f":"LOOKUP(G21,Poängberäkning!$B$6:$B$97,Poängberäkning!$C$6:$C$97)","v":0},99,{"$f":"LOOKUP(I21,Poängberäkning!$B$6:$B$97,Poängberäkning!$C$6:$C$97)","v":0},10,{"$f":"LOOKUP(K21,Poängberäkning!$B$6:$B$97,Poängberäkning!$C$6:$C$97)","v":42},99,{"$f":"LOOKUP(M21,Poängberäkning!$B$6:$B$97,Poängberäkning!$C$6:$C$97)","v":0},13,{"$f":"LOOKUP(O21,Poängberäkning!$B$6:$B$97,Poängberäkning!$C$6:$C$97)","v":38},null,{"$f":"LOOKUP(Q21,[1]Poängberäkning!$B$6:$B$97,[1]Poängberäkning!$C$6:$C$97)","v":0},null,{"$f":"LOOKUP(S21,[1]Poängberäkning!$B$6:$B$97,[1]Poängberäkning!$C$6:$C$97)","v":0},null,{"$f":"LOOKUP(U21,[1]Poängberäkning!$B$6:$B$97,[1]Poängberäkning!$C$6:$C$97)","v":0},null,{"$f":"LOOKUP(W21,[1]Poängberäkning!$B$6:$B$97,[1]Poängberäkning!$C$6:$C$97)","v":0},{"$f":"LARGE(($H21,$J21,$L21,$N21,$P21,$R21,$T21,$V21,$X21),1)","v":42},{"$f":"LARGE(($H21,$J21,$L21,$N21,$P21,$R21,$T21,$V21,$X21),2)","v":38},{"$f":"LARGE(($H21,$J21,$L21,$N21,$P21,$R21,$T21,$V21,$X21),3)","v":0},{"$f":"LARGE(($H21,$J21,$L21,$N21,$P21,$R21,$T21,$V21,$X21),4)","v":0},{"$f":"LARGE(($H21,$J21,$L21,$N21,$P21,$R21,$T21,$V21,$X21),5)","v":0},{"$f":"LARGE(($H21,$J21,$L21,$N21,$P21,$R21,$T21,$V21,$X21),6)","v":0},{"$f":"LARGE(($H21,$J21,$L21,$N21,$P21,$R21,$T21,$V21,$X21),7)","v":0},{"$f":"LARGE(($H21,$J21,$L21,$N21,$P21,$R21,$T21,$V21,$X21),8)","v":0},{"$f":"LARGE(($H21,$J21,$L21,$N21,$P21,$R21,$T21,$V21,$X21),9)","v":0}]
[18,2002,"HOLMLUND Carl-Johan","Västerås Slalomklubb",80,80,null,{"$f":"LOOKUP(G22,Poängberäkning!$B$6:$B$97,Poängberäkning!$C$6:$C$97)","v":0},null,{"$f":"LOOKUP(I22,Poängberäkning!$B$6:$B$97,Poängberäkning!$C$6:$C$97)","v":0},8,{"$f":"LOOKUP(K22,Poängberäkning!$B$6:$B$97,Poängberäkning!$C$6:$C$97)","v":46},99,{"$f":"LOOKUP(M22,Poängberäkning!$B$6:$B$97,Poängberäkning!$C$6:$C$97)","v":0},17,{"$f":"LOOKUP(O22,Poängberäkning!$B$6:$B$97,Poängberäkning!$C$6:$C$97)","v":34},null,{"$f":"LOOKUP(Q22,[1]Poängberäkning!$B$6:$B$97,[1]Poängberäkning!$C$6:$C$97)","v":0},null,{"$f":"LOOKUP(S22,[1]Poängberäkning!$B$6:$B$97,[1]Poängberäkning!$C$6:$C$97)","v":0},null,{"$f":"LOOKUP(U22,[1]Poängberäkning!$B$6:$B$97,[1]Poängberäkning!$C$6:$C$97)","v":0},null,{"$f":"LOOKUP(W22,[1]Poängberäkning!$B$6:$B$97,[1]Poängberäkning!$C$6:$C$97)","v":0},{"$f":"LARGE(($H22,$J22,$L22,$N22,$P22,$R22,$T22,$V22,$X22),1)","v":46},{"$f":"LARGE(($H22,$J22,$L22,$N22,$P22,$R22,$T22,$V22,$X22),2)","v":34},{"$f":"LARGE(($H22,$J22,$L22,$N22,$P22,$R22,$T22,$V22,$X22),3)","v":0},{"$f":"LARGE(($H22,$J22,$L22,$N22,$P22,$R22,$T22,$V22,$X22),4)","v":0},{"$f":"LARGE(($H22,$J22,$L22,$N22,$P22,$R22,$T22,$V22,$X22),5)","v":0},{"$f":"LARGE(($H22,$J22,$L22,$N22,$P22,$R22,$T22,$V22,$X22),6)","v":0},{"$f":"LARGE(($H22,$J22,$L22,$N22,$P22,$R22,$T22,$V22,$X22),7)","v":0},{"$f":"LARGE(($H22,$J22,$L22,$N22,$P22,$R22,$T22,$V22,$X22),8)","v":0},{"$f":"LARGE(($H22,$J22,$L22,$N22,$P22,$R22,$T22,$V22,$X22),9)","v":0}]
[19,2003,"FLODBERG Hugo","IFK Falun",80,80,11,{"$f":"LOOKUP(G23,Poängberäkning!$B$6:$B$97,Poängberäkning!$C$6:$C$97)","v":40},11,{"$f":"LOOKUP(I23,Poängberäkning!$B$6:$B$97,Poängberäkning!$C$6:$C$97)","v":40},null,{"$f":"LOOKUP(K23,Poängberäkning!$B$6:$B$97,Poängberäkning!$C$6:$C$97)","v":0},null,{"$f":"LOOKUP(M23,Poängberäkning!$B$6:$B$97,Poängberäkning!$C$6:$C$97)","v":0},null,{"$f":"LOOKUP(O23,Poängberäkning!$B$6:$B$97,Poängberäkning!$C$6:$C$97)","v":0},null,{"$f":"LOOKUP(Q23,[1]Poängberäkning!$B$6:$B$97,[1]Poängberäkning!$C$6:$C$97)","v":0},null,{"$f":"LOOKUP(S23,[1]Poängberäkning!$B$6:$B$97,[1]Poängberäkning!$C$6:$C$97)","v":0},null,{"$f":"LOOKUP(U23,[1]Poängberäkning!$B$6:$B$97,[1]Poängberäkning!$C$6:$C$97)","v":0},null,{"$f":"LOOKUP(W23,[1]Poängberäkning!$B$6:$B$97,[1]Poängberäkning!$C$6:$C$97)","v":0},{"$f":"LARGE(($H23,$J23,$L23,$N23,$P23,$R23,$T23,$V23,$X23),1)","v":40},{"$f":"LARGE(($H23,$J23,$L23,$N23,$P23,$R23,$T23,$V23,$X23),2)","v":40},{"$f":"LARGE(($H23,$J23,$L23,$N23,$P23,$R23,$T23,$V23,$X23),3)","v":0},{"$f":"LARGE(($H23,$J23,$L23,$N23,$P23,$R23,$T23,$V23,$X23),4)","v":0},{"$f":"LARGE(($H23,$J23,$L23,$N23,$P23,$R23,$T23,$V23,$X23),5)","v":0},{"$f":"LARGE(($H23,$J23,$L23,$N23,$P23,$R23,$T23,$V23,$X23),6)","v":0},{"$f":"LARGE(($H23,$J23,$L23,$N23,$P23,$R23,$T23,$V23,$X23),7)","v":0},{"$f":"LARGE(($H23,$J23,$L23,$N23,$P23,$R23,$T23,$V23,$X23),8)","v":0},{"$f":"LARGE(($H23,$J23,$L23,$N23,$P23,$R23,$T23,$V23,$X23),9)","v":0}]
[20,2003,"PÅLSSON Erik","Norrbärke SK Alpin",74,74,null,{"$f":"LOOKUP(G24,Poängberäkning!$B$6:$B$97,Poängberäkning!$C$6:$C$97)","v":0},16,{"$f":"LOOKUP(I24,Poängberäkning!$B$6:$B$97,Poängberäkning!$C$6:$C$97)","v":35},12,{"$f":"LOOKUP(K24,Poängberäkning!$B$6:$B$97,Poängberäkning!$C$6:$C$97)","v":39},null,{"$f":"LOOKUP(M24,Poängberäkning!$B$6:$B$97,Poängberäkning!$C$6:$C$97)","v":0},null,{"$f":"LOOKUP(O24,Poängberäkning!$B$6:$B$97,Poängberäkning!$C$6:$C$97)","v":0},null,{"$f":"LOOKUP(Q24,[1]Poängberäkning!$B$6:$B$97,[1]Poängberäkning!$C$6:$C$97)","v":0},null,{"$f":"LOOKUP(S24,[1]Poängberäkning!$B$6:$B$97,[1]Poängberäkning!$C$6:$C$97)","v":0},null,{"$f":"LOOKUP(U24,[1]Poängberäkning!$B$6:$B$97,[1]Poängberäkning!$C$6:$C$97)","v":0},null,{"$f":"LOOKUP(W24,[1]Poängberäkning!$B$6:$B$97,[1]Poängberäkning!$C$6:$C$97)","v":0},{"$f":"LARGE(($H24,$J24,$L24,$N24,$P24,$R24,$T24,$V24,$X24),1)","v":39},{"$f":"LARGE(($H24,$J24,$L24,$N24,$P24,$R24,$T24,$V24,$X24),2)","v":35},{"$f":"LARGE(($H24,$J24,$L24,$N24,$P24,$R24,$T24,$V24,$X24),3)","v":0},{"$f":"LARGE(($H24,$J24,$L24,$N24,$P24,$R24,$T24,$V24,$X24),4)","v":0},{"$f":"LARGE(($H24,$J24,$L24,$N24,$P24,$R24,$T24,$V24,$X24),5)","v":0},{"$f":"LARGE(($H24,$J24,$L24,$N24,$P24,$R24,$T24,$V24,$X24),6)","v":0},{"$f":"LARGE(($H24,$J24,$L24,$N24,$P24,$R24,$T24,$V24,$X24),7)","v":0},{"$f":"LARGE(($H24,$J24,$L24,$N24,$P24,$R24,$T24,$V24,$X24),8)","v":0},{"$f":"LARGE(($H24,$J24,$L24,$N24,$P24,$R24,$T24,$V24,$X24),9)","v":0}]
[21,2003,"FREDRIKSSON Isak","Norrbärke SK Alpin",72,72,null,{"$f":"LOOKUP(G25,Poängberäkning!$B$6:$B$97,Poängberäkning!$C$6:$C$97)","v":0},17,{"$f":"LOOKUP(I25,Poängberäkning!$B$6:$B$97,Poängberäkning!$C$6:$C$97)","v":34},13,{"$f":"LOOKUP(K25,Poängberäkning!$B$6:$B$97,Poängberäkning!$C$6:$C$97)","v":38},null,{"$f":"LOOKUP(M25,Poängberäkning!$B$6:$B$97,Poängberäkning!$C$6:$C$97)","v":0},null,{"$f":"LOOKUP(O25,Poängberäkning!$B$6:$B$97,Poängberäkning!$C$6:$C$97)","v":0},null,{"$f":"LOOKUP(Q25,[1]Poängberäkning!$B$6:$B$97,[1]Poängberäkning!$C$6:$C$97)","v":0},null,{"$f":"LOOKUP(S25,[1]Poängberäkning!$B$6:$B$97,[1]Poängberäkning!$C$6:$C$97)","v":0},null,{"$f":"LOOKUP(U25,[1]Poängberäkning!$B$6:$B$97,[1]Poängberäkning!$C$6:$C$97)","v":0},null,{"$f":"LOOKUP(W25,[1]Poängberäkning!$B$6:$B$97,[1]Poängberäkning!$C$6:$C$97)","v":0},{"$f":"LARGE(($H25,$J25,$L25,$N25,$P25,$R25,$T25,$V25,$X25),1)","v":38},{"$f":"LARGE(($H25,$J25,$L25,$N25,$P25,$R25,$T25,$V25,$X25),2)","v":34},{"$f":"LARGE(($H25,$J25,$L25,$N25,$P25,$R25,$T25,$V25,$X25),3)","v":0},{"$f":"LARGE(($H25,$J25,$L25,$N25,$P25,$R25,$T25,$V25,$X25),4)","v":0},{"$f":"LARGE(($H25,$J25,$L25,$N25,$P25,$R25,$T25,$V25,$X25),5)","v":0},{"$f":"LARGE(($H25,$J25,$L25,$N25,$P25,$R25,$T25,$V25,$X25),6)","v":0},{"$f":"LARGE(($H25,$J25,$L25,$N25,$P25,$R25,$T25,$V25,$X25),7)","v":0},{"$f":"LARGE(($H25,$J25,$L25,$N25,$P25,$R25,$T25,$V25,$X25),8)","v":0},{"$f":"LARGE(($H25,$J25,$L25,$N25,$P25,$R25,$T25,$V25,$X25),9)","v":0}]
[22,2002,"GRANATH Gabriel","IFK Falun",70,70,99,{"$f":"LOOKUP(G26,Poängberäkning!$B$6:$B$97,Poängberäkning!$C$6:$C$97)","v":0},99,{"$f":"LOOKUP(I26,Poängberäkning!$B$6:$B$97,Poängberäkning!$C$6:$C$97)","v":0},3,{"$f":"LOOKUP(K26,Poängberäkning!$B$6:$B$97,Poängberäkning!$C$6:$C$97)","v":70},null,{"$f":"LOOKUP(M26,Poängberäkning!$B$6:$B$97,Poängberäkning!$C$6:$C$97)","v":0},99,{"$f":"LOOKUP(O26,Poängberäkning!$B$6:$B$97,Poängberäkning!$C$6:$C$97)","v":0},null,{"$f":"LOOKUP(Q26,[1]Poängberäkning!$B$6:$B$97,[1]Poängberäkning!$C$6:$C$97)","v":0},null,{"$f":"LOOKUP(S26,[1]Poängberäkning!$B$6:$B$97,[1]Poängberäkning!$C$6:$C$97)","v":0},null,{"$f":"LOOKUP(U26,[1]Poängberäkning!$B$6:$B$97,[1]Poängberäkning!$C$6:$C$97)","v":0},null,{"$f":"LOOKUP(W26,[1]Poängberäkning!$B$6:$B$97,[1]Poängberäkning!$C$6:$C$97)","v":0},{"$f":"LARGE(($H26,$J26,$L26,$N26,$P26,$R26,$T26,$V26,$X26),1)","v":70},{"$f":"LARGE(($H26,$J26,$L26,$N26,$P26,$R26,$T26,$V26,$X26),2)","v":0},{"$f":"LARGE(($H26,$J26,$L26,$N26,$P26,$R26,$T26,$V26,$X26),3)","v":0},{"$f":"LARGE(($H26,$J26,$L26,$N26,$P26,$R26,$T26,$V26,$X26),4)","v":0},{"$f":"LARGE(($H26,$J26,$L26,$N26,$P26,$R26,$T26,$V26,$X26),5)","v":0},{"$f":"LARGE(($H26,$J26,$L26,$N26,$P26,$R26,$T26,$V26,$X26),6)","v":0},{"$f":"LARGE(($H26,$J26,$L26,$N26,$P26,$R26,$T26,$V26,$X26),7)","v":0},{"$f":"LARGE(($H26,$J26,$L26,$N26,$P26,$R26,$T26,$V26,$X26),8)","v":0},{"$f":"LARGE(($H26,$J26,$L26,$N26,$P26,$R26,$T26,$V26,$X26),9)","v":0}]
[23,2002,"HOLMQVIST Oscar","Järfälla AK",70,70,null,{"$f":"LOOKUP(G27,Poängberäkning!$B$6:$B$97,Poängberäkning!$C$6:$C$97)","v":0},null,{"$f":"LOOKUP(I27,Poängberäkning!$B$6:$B$97,Poängberäkning!$C$6:$C$97)","v":0},null,{"$f":"LOOKUP(K27,Poängberäkning!$B$6:$B$97,Poängberäkning!$C$6:$C$97)","v":0},3,{"$f":"LOOKUP(M27,Poängberäkning!$B$6:$B$97,Poängberäkning!$C$6:$C$97)","v":70},null,{"$f":"LOOKUP(O27,Poängberäkning!$B$6:$B$97,Poängberäkning!$C$6:$C$97)","v":0},null,{"$f":"LOOKUP(Q27,[1]Poängberäkning!$B$6:$B$97,[1]Poängberäkning!$C$6:$C$97)","v":0},null,{"$f":"LOOKUP(S27,[1]Poängberäkning!$B$6:$B$97,[1]Poängberäkning!$C$6:$C$97)","v":0},null,{"$f":"LOOKUP(U27,[1]Poängberäkning!$B$6:$B$97,[1]Poängberäkning!$C$6:$C$97)","v":0},null,{"$f":"LOOKUP(W27,[1]Poängberäkning!$B$6:$B$97,[1]Poängberäkning!$C$6:$C$97)","v":0},{"$f":"LARGE(($H27,$J27,$L27,$N27,$P27,$R27,$T27,$V27,$X27),1)","v":70},{"$f":"LARGE(($H27,$J27,$L27,$N27,$P27,$R27,$T27,$V27,$X27),2)","v":0},{"$f":"LARGE(($H27,$J27,$L27,$N27,$P27,$R27,$T27,$V27,$X27),3)","v":0},{"$f":"LARGE(($H27,$J27,$L27,$N27,$P27,$R27,$T27,$V27,$X27),4)","v":0},{"$f":"LARGE(($H27,$J27,$L27,$N27,$P27,$R27,$T27,$V27,$X27),5)","v":0},{"$f":"LARGE(($H27,$J27,$L27,$N27,$P27,$R27,$T27,$V27,$X27),6)","v":0},{"$f":"LARGE(($H27,$J27,$L27,$N27,$P27,$R27,$T27,$V27,$X27),7)","v":0},{"$f":"LARGE(($H27,$J27,$L27,$N27,$P27,$R27,$T27,$V27,$X27),8)","v":0},{"$f":"LARGE(($H27,$J27,$L27,$N27,$P27,$R27,$T27,$V27,$X27),9)","v":0}]
[24,2003,"ANDERSSON Felix","Järfälla AK",50,50,null,{"$f":"LOOKUP(G28,Poängberäkning!$B$6:$B$97,Poängberäkning!$C$6:$C$97)","v":0},null,{"$f":"LOOKUP(I28,Poängberäkning!$B$6:$B$97,Poängberäkning!$C$6:$C$97)","v":0},null,{"$f":"LOOKUP(K28,Poängberäkning!$B$6:$B$97,Poängberäkning!$C$6:$C$97)","v":0},6,{"$f":"LOOKUP(M28,Poängberäkning!$B$6:$B$97,Poängberäkning!$C$6:$C$97)","v":50},null,{"$f":"LOOKUP(O28,Poängberäkning!$B$6:$B$97,Poängberäkning!$C$6:$C$97)","v":0},null,{"$f":"LOOKUP(Q28,[1]Poängberäkning!$B$6:$B$97,[1]Poängberäkning!$C$6:$C$97)","v":0},null,{"$f":"LOOKUP(S28,[1]Poängberäkning!$B$6:$B$97,[1]Poängberäkning!$C$6:$C$97)","v":0},null,{"$f":"LOOKUP(U28,[1]Poängberäkning!$B$6:$B$97,[1]Poängberäkning!$C$6:$C$97)","v":0},null,{"$f":"LOOKUP(W28,[1]Poängberäkning!$B$6:$B$97,[1]Poängberäkning!$C$6:$C$97)","v":0},{"$f":"LARGE(($H28,$J28,$L28,$N28,$P28,$R28,$T28,$V28,$X28),1)","v":50},{"$f":"LARGE(($H28,$J28,$L28,$N28,$P28,$R28,$T28,$V28,$X28),2)","v":0},{"$f":"LARGE(($H28,$J28,$L28,$N28,$P28,$R28,$T28,$V28,$X28),3)","v":0},{"$f":"LARGE(($H28,$J28,$L28,$N28,$P28,$R28,$T28,$V28,$X28),4)","v":0},{"$f":"LARGE(($H28,$J28,$L28,$N28,$P28,$R28,$T28,$V28,$X28),5)","v":0},{"$f":"LARGE(($H28,$J28,$L28,$N28,$P28,$R28,$T28,$V28,$X28),6)","v":0},{"$f":"LARGE(($H28,$J28,$L28,$N28,$P28,$R28,$T28,$V28,$X28),7)","v":0},{"$f":"LARGE(($H28,$J28,$L28,$N28,$P28,$R28,$T28,$V28,$X28),8)","v":0},{"$f":"LARGE(($H28,$J28,$L28,$N28,$P28,$R28,$T28,$V28,$X28),9)","v":0}]
[25,2003,"LARSSON Kasper","Sälens IF",50,50,99,{"$f":"LOOKUP(G29,Poängberäkning!$B$6:$B$97,Poängberäkning!$C$6:$C$97)","v":0},6,{"$f":"LOOKUP(I29,Poängberäkning!$B$6:$B$97,Poängberäkning!$C$6:$C$97)","v":50},null,{"$f":"LOOKUP(K29,Poängberäkning!$B$6:$B$97,Poängberäkning!$C$6:$C$97)","v":0},null,{"$f":"LOOKUP(M29,Poängberäkning!$B$6:$B$97,Poängberäkning!$C$6:$C$97)","v":0},null,{"$f":"LOOKUP(O29,Poängberäkning!$B$6:$B$97,Poängberäkning!$C$6:$C$97)","v":0},null,{"$f":"LOOKUP(Q29,[1]Poängberäkning!$B$6:$B$97,[1]Poängberäkning!$C$6:$C$97)","v":0},null,{"$f":"LOOKUP(S29,[1]Poängberäkning!$B$6:$B$97,[1]Poängberäkning!$C$6:$C$97)","v":0},null,{"$f":"LOOKUP(U29,[1]Poängberäkning!$B$6:$B$97,[1]Poängberäkning!$C$6:$C$97)","v":0},null,{"$f":"LOOKUP(W29,[1]Poängberäkning!$B$6:$B$97,[1]Poängberäkning!$C$6:$C$97)","v":0},{"$f":"LARGE(($H29,$J29,$L29,$N29,$P29,$R29,$T29,$V29,$X29),1)","v":50},{"$f":"LARGE(($H29,$J29,$L29,$N29,$P29,$R29,$T29,$V29,$X29),2)","v":0},{"$f":"LARGE(($H29,$J29,$L29,$N29,$P29,$R29,$T29,$V29,$X29),3)","v":0},{"$f":"LARGE(($H29,$J29,$L29,$N29,$P29,$R29,$T29,$V29,$X29),4)","v":0},{"$f":"LARGE(($H29,$J29,$L29,$N29,$P29,$R29,$T29,$V29,$X29),5)","v":0},{"$f":"LARGE(($H29,$J29,$L29,$N29,$P29,$R29,$T29,$V29,$X29),6)","v":0},{"$f":"LARGE(($H29,$J29,$L29,$N29,$P29,$R29,$T29,$V29,$X29),7)","v":0},{"$f":"LARGE(($H29,$J29,$L29,$N29,$P29,$R29,$T29,$V29,$X29),8)","v":0},{"$f":"LARGE(($H29,$J29,$L29,$N29,$P29,$R29,$T29,$V29,$X29),9)","v":0}]
[26,2003,"PETTERSON Simon","Örebro SLF",50,50,6,{"$f":"LOOKUP(G30,Poängberäkning!$B$6:$B$97,Poängberäkning!$C$6:$C$97)","v":50},null,{"$f":"LOOKUP(I30,Poängberäkning!$B$6:$B$97,Poängberäkning!$C$6:$C$97)","v":0},null,{"$f":"LOOKUP(K30,Poängberäkning!$B$6:$B$97,Poängberäkning!$C$6:$C$97)","v":0},null,{"$f":"LOOKUP(M30,Poängberäkning!$B$6:$B$97,Poängberäkning!$C$6:$C$97)","v":0},null,{"$f":"LOOKUP(O30,Poängberäkning!$B$6:$B$97,Poängberäkning!$C$6:$C$97)","v":0},null,{"$f":"LOOKUP(Q30,[1]Poängberäkning!$B$6:$B$97,[1]Poängberäkning!$C$6:$C$97)","v":0},null,{"$f":"LOOKUP(S30,[1]Poängberäkning!$B$6:$B$97,[1]Poängberäkning!$C$6:$C$97)","v":0},null,{"$f":"LOOKUP(U30,[1]Poängberäkning!$B$6:$B$97,[1]Poängberäkning!$C$6:$C$97)","v":0},null,{"$f":"LOOKUP(W30,[1]Poängberäkning!$B$6:$B$97,[1]Poängberäkning!$C$6:$C$97)","v":0},{"$f":"LARGE(($H30,$J30,$L30,$N30,$P30,$R30,$T30,$V30,$X30),1)","v":50},{"$f":"LARGE(($H30,$J30,$L30,$N30,$P30,$R30,$T30,$V30,$X30),2)","v":0},{"$f":"LARGE(($H30,$J30,$L30,$N30,$P30,$R30,$T30,$V30,$X30),3)","v":0},{"$f":"LARGE(($H30,$J30,$L30,$N30,$P30,$R30,$T30,$V30,$X30),4)","v":0},{"$f":"LARGE(($H30,$J30,$L30,$N30,$P30,$R30,$T30,$V30,$X30),5)","v":0},{"$f":"LARGE(($H30,$J30,$L30,$N30,$P30,$R30,$T30,$V30,$X30),6)","v":0},{"$f":"LARGE(($H30,$J30,$L30,$N30,$P30,$R30,$T30,$V30,$X30),7)","v":0},{"$f":"LARGE(($H30,$J30,$L30,$N30,$P30,$R30,$T30,$V30,$X30),8)","v":0},{"$f":"LARGE(($H30,$J30,$L30,$N30,$P30,$R30,$T30,$V30,$X30),9)","v":0}]
[27,2003,"HOLMGREN Henrik","Djurgårdens IF AF",48,48,null,{"$f":"LOOKUP(G31,Poängberäkning!$B$6:$B$97,Poängberäkning!$C$6:$C$97)","v":0},null,{"$f":"LOOKUP(I31,Poängberäkning!$B$6:$B$97,Poängberäkning!$C$6:$C$97)","v":0},null,{"$f":"LOOKUP(K31,Poängberäkning!$B$6:$B$97,Poängberäkning!$C$6:$C$97)","v":0},null,{"$f":"LOOKUP(M31,Poängberäkning!$B$6:$B$97,Poängberäkning!$C$6:$C$97)","v":0},7,{"$f":"LOOKUP(O31,Poängberäkning!$B$6:$B$97,Poängberäkning!$C$6:$C$97)","v":48},null,{"$f":"LOOKUP(Q31,[1]Poängberäkning!$B$6:$B$97,[1]Poängberäkning!$C$6:$C$97)","v":0},null,{"$f":"LOOKUP(S31,[1]Poängberäkning!$B$6:$B$97,[1]Poängberäkning!$C$6:$C$97)","v":0},null,{"$f":"LOOKUP(U31,[1]Poängberäkning!$B$6:$B$97,[1]Poängberäkning!$C$6:$C$97)","v":0},null,{"$f":"LOOKUP(W31,[1]Poängberäkning!$B$6:$B$97,[1]Poängberäkning!$C$6:$C$97)","v":0},{"$f":"LARGE(($H31,$J31,$L31,$N31,$P31,$R31,$T31,$V31,$X31),1)","v":48},{"$f":"LARGE(($H31,$J31,$L31,$N31,$P31,$R31,$T31,$V31,$X31),2)","v":0},{"$f":"LARGE(($H31,$J31,$L31,$N31,$P31,$R31,$T31,$V31,$X31),3)","v":0},{"$f":"LARGE(($H31,$J31,$L31,$N31,$P31,$R31,$T31,$V31,$X31),4)","v":0},{"$f":"LARGE(($H31,$J31,$L31,$N31,$P31,$R31,$T31,$V31,$X31),5)","v":0},{"$f":"LARGE(($H31,$J31,$L31,$N31,$P31,$R31,$T31,$V31,$X31),6)","v":0},{"$f":"LARGE(($H31,$J31,$L31,$N31,$P31,$R31,$T31,$V31,$X31),7)","v":0},{"$f":"LARGE(($H31,$J31,$L31,$N31,$P31,$R31,$T31,$V31,$X31),8)","v":0},{"$f":"LARGE(($H31,$J31,$L31,$N31,$P31,$R31,$T31,$V31,$X31),9)","v":0}]
[28,2002,"ANDREASSON Olle","Väst Alpin SK Göteborg",48,48,null,{"$f":"LOOKUP(G32,Poängberäkning!$B$6:$B$97,Poängberäkning!$C$6:$C$97)","v":0},99,{"$f":"LOOKUP(I32,Poängberäkning!$B$6:$B$97,Poängberäkning!$C$6:$C$97)","v":0},7,{"$f":"LOOKUP(K32,Poängberäkning!$B$6:$B$97,Poängberäkning!$C$6:$C$97)","v":48},null,{"$f":"LOOKUP(M32,Poängberäkning!$B$6:$B$97,Poängberäkning!$C$6:$C$97)","v":0},null,{"$f":"LOOKUP(O32,Poängberäkning!$B$6:$B$97,Poängberäkning!$C$6:$C$97)","v":0},null,{"$f":"LOOKUP(Q32,[1]Poängberäkning!$B$6:$B$97,[1]Poängberäkning!$C$6:$C$97)","v":0},null,{"$f":"LOOKUP(S32,[1]Poängberäkning!$B$6:$B$97,[1]Poängberäkning!$C$6:$C$97)","v":0},null,{"$f":"LOOKUP(U32,[1]Poängberäkning!$B$6:$B$97,[1]Poängberäkning!$C$6:$C$97)","v":0},null,{"$f":"LOOKUP(W32,[1]Poängberäkning!$B$6:$B$97,[1]Poängberäkning!$C$6:$C$97)","v":0},{"$f":"LARGE(($H32,$J32,$L32,$N32,$P32,$R32,$T32,$V32,$X32),1)","v":48},{"$f":"LARGE(($H32,$J32,$L32,$N32,$P32,$R32,$T32,$V32,$X32),2)","v":0},{"$f":"LARGE(($H32,$J32,$L32,$N32,$P32,$R32,$T32,$V32,$X32),3)","v":0},{"$f":"LARGE(($H32,$J32,$L32,$N32,$P32,$R32,$T32,$V32,$X32),4)","v":0},{"$f":"LARGE(($H32,$J32,$L32,$N32,$P32,$R32,$T32,$V32,$X32),5)","v":0},{"$f":"LARGE(($H32,$J32,$L32,$N32,$P32,$R32,$T32,$V32,$X32),6)","v":0},{"$f":"LARGE(($H32,$J32,$L32,$N32,$P32,$R32,$T32,$V32,$X32),7)","v":0},{"$f":"LARGE(($H32,$J32,$L32,$N32,$P32,$R32,$T32,$V32,$X32),8)","v":0},{"$f":"LARGE(($H32,$J32,$L32,$N32,$P32,$R32,$T32,$V32,$X32),9)","v":0}]
[29,2003,"WESTLUND Charlie","Kungsbergets AK",48,48,null,{"$f":"LOOKUP(G33,Poängberäkning!$B$6:$B$97,Poängberäkning!$C$6:$C$97)","v":0},null,{"$f":"LOOKUP(I33,Poängberäkning!$B$6:$B$97,Poängberäkning!$C$6:$C$97)","v":0},null,{"$f":"LOOKUP(K33,Poängberäkning!$B$6:$B$97,Poängberäkning!$C$6:$C$97)","v":0},7,{"$f":"LOOKUP(M33,Poängberäkning!$B$6:$B$97,Poängberäkning!$C$6:$C$97)","v":48},null,{"$f":"LOOKUP(O33,Poängberäkning!$B$6:$B$97,Poängberäkning!$C$6:$C$97)","v":0},null,{"$f":"LOOKUP(Q33,[1]Poängberäkning!$B$6:$B$97,[1]Poängberäkning!$C$6:$C$97)","v":0},null,{"$f":"LOOKUP(S33,[1]Poängberäkning!$B$6:$B$97,[1]Poängberäkning!$C$6:$C$97)","v":0},null,{"$f":"LOOKUP(U33,[1]Poängberäkning!$B$6:$B$97,[1]Poängberäkning!$C$6:$C$97)","v":0},null,{"$f":"LOOKUP(W33,[1]Poängberäkning!$B$6:$B$97,[1]Poängberäkning!$C$6:$C$97)","v":0},{"$f":"LARGE(($H33,$J33,$L33,$N33,$P33,$R33,$T33,$V33,$X33),1)","v":48},{"$f":"LARGE(($H33,$J33,$L33,$N33,$P33,$R33,$T33,$V33,$X33),2)","v":0},{"$f":"LARGE(($H33,$J33,$L33,$N33,$P33,$R33,$T33,$V33,$X33),3)","v":0},{"$f":"LARGE(($H33,$J33,$L33,$N33,$P33,$R33,$T33,$V33,$X33),4)","v":0},{"$f":"LARGE(($H33,$J33,$L33,$N33,$P33,$R33,$T33,$V33,$X33),5)","v":0},{"$f":"LARGE(($H33,$J33,$L33,$N33,$P33,$R33,$T33,$V33,$X33),6)","v":0},{"$f":"LARGE(($H33,$J33,$L33,$N33,$P33,$R33,$T33,$V33,$X33),7)","v":0},{"$f":"LARGE(($H33,$J33,$L33,$N33,$P33,$R33,$T33,$V33,$X33),8)","v":0},{"$f":"LARGE(($H33,$J33,$L33,$N33,$P33,$R33,$T33,$V33,$X33),9)","v":0}]
[30,2003,"BJÖRKMAN Filip","IFK Mora AK",46,46,8,{"$f":"LOOKUP(G34,Poängberäkning!$B$6:$B$97,Poängberäkning!$C$6:$C$97)","v":46},null,{"$f":"LOOKUP(I34,Poängberäkning!$B$6:$B$97,Poängberäkning!$C$6:$C$97)","v":0},null,{"$f":"LOOKUP(K34,Poängberäkning!$B$6:$B$97,Poängberäkning!$C$6:$C$97)","v":0},null,{"$f":"LOOKUP(M34,Poängberäkning!$B$6:$B$97,Poängberäkning!$C$6:$C$97)","v":0},99,{"$f":"LOOKUP(O34,Poängberäkning!$B$6:$B$97,Poängberäkning!$C$6:$C$97)","v":0},null,{"$f":"LOOKUP(Q34,[1]Poängberäkning!$B$6:$B$97,[1]Poängberäkning!$C$6:$C$97)","v":0},null,{"$f":"LOOKUP(S34,[1]Poängberäkning!$B$6:$B$97,[1]Poängberäkning!$C$6:$C$97)","v":0},null,{"$f":"LOOKUP(U34,[1]Poängberäkning!$B$6:$B$97,[1]Poängberäkning!$C$6:$C$97)","v":0},null,{"$f":"LOOKUP(W34,[1]Poängberäkning!$B$6:$B$97,[1]Poängberäkning!$C$6:$C$97)","v":0},{"$f":"LARGE(($H34,$J34,$L34,$N34,$P34,$R34,$T34,$V34,$X34),1)","v":46},{"$f":"LARGE(($H34,$J34,$L34,$N34,$P34,$R34,$T34,$V34,$X34),2)","v":0},{"$f":"LARGE(($H34,$J34,$L34,$N34,$P34,$R34,$T34,$V34,$X34),3)","v":0},{"$f":"LARGE(($H34,$J34,$L34,$N34,$P34,$R34,$T34,$V34,$X34),4)","v":0},{"$f":"LARGE(($H34,$J34,$L34,$N34,$P34,$R34,$T34,$V34,$X34),5)","v":0},{"$f":"LARGE(($H34,$J34,$L34,$N34,$P34,$R34,$T34,$V34,$X34),6)","v":0},{"$f":"LARGE(($H34,$J34,$L34,$N34,$P34,$R34,$T34,$V34,$X34),7)","v":0},{"$f":"LARGE(($H34,$J34,$L34,$N34,$P34,$R34,$T34,$V34,$X34),8)","v":0},{"$f":"LARGE(($H34,$J34,$L34,$N34,$P34,$R34,$T34,$V34,$X34),9)","v":0}]
[31,2002,"FLODMARK Jonas","Uppsala SLK",44,44,null,{"$f":"LOOKUP(G35,Poängberäkning!$B$6:$B$97,Poängberäkning!$C$6:$C$97)","v":0},null,{"$f":"LOOKUP(I35,Poängberäkning!$B$6:$B$97,Poängberäkning!$C$6:$C$97)","v":0},null,{"$f":"LOOKUP(K35,Poängberäkning!$B$6:$B$97,Poängberäkning!$C$6:$C$97)","v":0},null,{"$f":"LOOKUP(M35,Poängberäkning!$B$6:$B$97,Poängberäkning!$C$6:$C$97)","v":0},9,{"$f":"LOOKUP(O35,Poängberäkning!$B$6:$B$97,Poängberäkning!$C$6:$C$97)","v":44},null,{"$f":"LOOKUP(Q35,[1]Poängberäkning!$B$6:$B$97,[1]Poängberäkning!$C$6:$C$97)","v":0},null,{"$f":"LOOKUP(S35,[1]Poängberäkning!$B$6:$B$97,[1]Poängberäkning!$C$6:$C$97)","v":0},null,{"$f":"LOOKUP(U35,[1]Poängberäkning!$B$6:$B$97,[1]Poängberäkning!$C$6:$C$97)","v":0},null,{"$f":"LOOKUP(W35,[1]Poängberäkning!$B$6:$B$97,[1]Poängberäkning!$C$6:$C$97)","v":0},{"$f":"LARGE(($H35,$J35,$L35,$N35,$P35,$R35,$T35,$V35,$X35),1)","v":44},{"$f":"LARGE(($H35,$J35,$L35,$N35,$P35,$R35,$T35,$V35,$X35),2)","v":0},{"$f":"LARGE(($H35,$J35,$L35,$N35,$P35,$R35,$T35,$V35,$X35),3)","v":0},{"$f":"LARGE(($H35,$J35,$L35,$N35,$P35,$R35,$T35,$V35,$X35),4)","v":0},{"$f":"LARGE(($H35,$J35,$L35,$N35,$P35,$R35,$T35,$V35,$X35),5)","v":0},{"$f":"LARGE(($H35,$J35,$L35,$N35,$P35,$R35,$T35,$V35,$X35),6)","v":0},{"$f":"LARGE(($H35,$J35,$L35,$N35,$P35,$R35,$T35,$V35,$X35),7)","v":0},{"$f":"LARGE(($H35,$J35,$L35,$N35,$P35,$R35,$T35,$V35,$X35),8)","v":0},{"$f":"LARGE(($H35,$J35,$L35,$N35,$P35,$R35,$T35,$V35,$X35),9)","v":0}]
[32,2003,"PALMÉR Pontus","Kumla SF",44,44,9,{"$f":"LOOKUP(G36,Poängberäkning!$B$6:$B$97,Poängberäkning!$C$6:$C$97)","v":44},null,{"$f":"LOOKUP(I36,Poängberäkning!$B$6:$B$97,Poängberäkning!$C$6:$C$97)","v":0},null,{"$f":"LOOKUP(K36,Poängberäkning!$B$6:$B$97,Poängberäkning!$C$6:$C$97)","v":0},null,{"$f":"LOOKUP(M36,Poängberäkning!$B$6:$B$97,Poängberäkning!$C$6:$C$97)","v":0},null,{"$f":"LOOKUP(O36,Poängberäkning!$B$6:$B$97,Poängberäkning!$C$6:$C$97)","v":0},null,{"$f":"LOOKUP(Q36,[1]Poängberäkning!$B$6:$B$97,[1]Poängberäkning!$C$6:$C$97)","v":0},null,{"$f":"LOOKUP(S36,[1]Poängberäkning!$B$6:$B$97,[1]Poängberäkning!$C$6:$C$97)","v":0},null,{"$f":"LOOKUP(U36,[1]Poängberäkning!$B$6:$B$97,[1]Poängberäkning!$C$6:$C$97)","v":0},null,{"$f":"LOOKUP(W36,[1]Poängberäkning!$B$6:$B$97,[1]Poängberäkning!$C$6:$C$97)","v":0},{"$f":"LARGE(($H36,$J36,$L36,$N36,$P36,$R36,$T36,$V36,$X36),1)","v":44},{"$f":"LARGE(($H36,$J36,$L36,$N36,$P36,$R36,$T36,$V36,$X36),2)","v":0},{"$f":"LARGE(($H36,$J36,$L36,$N36,$P36,$R36,$T36,$V36,$X36),3)","v":0},{"$f":"LARGE(($H36,$J36,$L36,$N36,$P36,$R36,$T36,$V36,$X36),4)","v":0},{"$f":"LARGE(($H36,$J36,$L36,$N36,$P36,$R36,$T36,$V36,$X36),5)","v":0},{"$f":"LARGE(($H36,$J36,$L36,$N36,$P36,$R36,$T36,$V36,$X36),6)","v":0},{"$f":"LARGE(($H36,$J36,$L36,$N36,$P36,$R36,$T36,$V36,$X36),7)","v":0},{"$f":"LARGE(($H36,$J36,$L36,$N36,$P36,$R36,$T36,$V36,$X36),8)","v":0},{"$f":"LARGE(($H36,$J36,$L36,$N36,$P36,$R36,$T36,$V36,$X36),9)","v":0}]
[33,2002,"BARCK Manfred","IFK Falun",{"$f":"SUM(Y37:AA37)","v":42},{"$f":"H37+J37+L37+N37+P37+R37+T37+V37+X37","v":42},null,{"$f":"LOOKUP(G37,Poängberäkning!$B$6:$B$97,Poängberäkning!$C$6:$C$97)","v":0},10,{"$f":"LOOKUP(I37,Poängberäkning!$B$6:$B$97,Poängberäkning!$C$6:$C$97)","v":42},null,{"$f":"LOOKUP(K37,Poängberäkning!$B$6:$B$97,Poängberäkning!$C$6:$C$97)","v":0},null,{"$f":"LOOKUP(M37,Poängberäkning!$B$6:$B$97,Poängberäkning!$C$6:$C$97)","v":0},null,{"$f":"LOOKUP(O37,Poängberäkning!$B$6:$B$97,Poängberäkning!$C$6:$C$97)","v":0},null,{"$f":"LOOKUP(Q37,[1]Poängberäkning!$B$6:$B$97,[1]Poängberäkning!$C$6:$C$97)","v":0},null,{"$f":"LOOKUP(S37,[1]Poängberäkning!$B$6:$B$97,[1]Poängberäkning!$C$6:$C$97)","v":0},null,{"$f":"LOOKUP(U37,[1]Poängberäkning!$B$6:$B$97,[1]Poängberäkning!$C$6:$C$97)","v":0},null,{"$f":"LOOKUP(W37,[1]Poängberäkning!$B$6:$B$97,[1]Poängberäkning!$C$6:$C$97)","v":0},{"$f":"LARGE(($H37,$J37,$L37,$N37,$P37,$R37,$T37,$V37,$X37),1)","v":42},{"$f":"LARGE(($H37,$J37,$L37,$N37,$P37,$R37,$T37,$V37,$X37),2)","v":0},{"$f":"LARGE(($H37,$J37,$L37,$N37,$P37,$R37,$T37,$V37,$X37),3)","v":0},{"$f":"LARGE(($H37,$J37,$L37,$N37,$P37,$R37,$T37,$V37,$X37),4)","v":0},{"$f":"LARGE(($H37,$J37,$L37,$N37,$P37,$R37,$T37,$V37,$X37),5)","v":0},{"$f":"LARGE(($H37,$J37,$L37,$N37,$P37,$R37,$T37,$V37,$X37),6)","v":0},{"$f":"LARGE(($H37,$J37,$L37,$N37,$P37,$R37,$T37,$V37,$X37),7)","v":0},{"$f":"LARGE(($H37,$J37,$L37,$N37,$P37,$R37,$T37,$V37,$X37),8)","v":0},{"$f":"LARGE(($H37,$J37,$L37,$N37,$P37,$R37,$T37,$V37,$X37),9)","v":0}]
[34,2003,"SCHULTZ Anton","IFK Falun",42,42,10,{"$f":"LOOKUP(G38,Poängberäkning!$B$6:$B$97,Poängberäkning!$C$6:$C$97)","v":42},null,{"$f":"LOOKUP(I38,Poängberäkning!$B$6:$B$97,Poängberäkning!$C$6:$C$97)","v":0},null,{"$f":"LOOKUP(K38,Poängberäkning!$B$6:$B$97,Poängberäkning!$C$6:$C$97)","v":0},null,{"$f":"LOOKUP(M38,Poängberäkning!$B$6:$B$97,Poängberäkning!$C$6:$C$97)","v":0},null,{"$f":"LOOKUP(O38,Poängberäkning!$B$6:$B$97,Poängberäkning!$C$6:$C$97)","v":0},null,{"$f":"LOOKUP(Q38,[1]Poängberäkning!$B$6:$B$97,[1]Poängberäkning!$C$6:$C$97)","v":0},null,{"$f":"LOOKUP(S38,[1]Poängberäkning!$B$6:$B$97,[1]Poängberäkning!$C$6:$C$97)","v":0},null,{"$f":"LOOKUP(U38,[1]Poängberäkning!$B$6:$B$97,[1]Poängberäkning!$C$6:$C$97)","v":0},null,{"$f":"LOOKUP(W38,[1]Poängberäkning!$B$6:$B$97,[1]Poängberäkning!$C$6:$C$97)","v":0},{"$f":"LARGE(($H38,$J38,$L38,$N38,$P38,$R38,$T38,$V38,$X38),1)","v":42},{"$f":"LARGE(($H38,$J38,$L38,$N38,$P38,$R38,$T38,$V38,$X38),2)","v":0},{"$f":"LARGE(($H38,$J38,$L38,$N38,$P38,$R38,$T38,$V38,$X38),3)","v":0},{"$f":"LARGE(($H38,$J38,$L38,$N38,$P38,$R38,$T38,$V38,$X38),4)","v":0},{"$f":"LARGE(($H38,$J38,$L38,$N38,$P38,$R38,$T38,$V38,$X38),5)","v":0},{"$f":"LARGE(($H38,$J38,$L38,$N38,$P38,$R38,$T38,$V38,$X38),6)","v":0},{"$f":"LARGE(($H38,$J38,$L38,$N38,$P38,$R38,$T38,$V38,$X38),7)","v":0},{"$f":"LARGE(($H38,$J38,$L38,$N38,$P38,$R38,$T38,$V38,$X38),8)","v":0},{"$f":"LARGE(($H38,$J38,$L38,$N38,$P38,$R38,$T38,$V38,$X38),9)","v":0}]
[35,2003,"WENGELIN Joel","Kungsbergets AK",42,42,null,{"$f":"LOOKUP(G39,Poängberäkning!$B$6:$B$97,Poängberäkning!$C$6:$C$97)","v":0},null,{"$f":"LOOKUP(I39,Poängberäkning!$B$6:$B$97,Poängberäkning!$C$6:$C$97)","v":0},null,{"$f":"LOOKUP(K39,Poängberäkning!$B$6:$B$97,Poängberäkning!$C$6:$C$97)","v":0},10,{"$f":"LOOKUP(M39,Poängberäkning!$B$6:$B$97,Poängberäkning!$C$6:$C$97)","v":42},null,{"$f":"LOOKUP(O39,Poängberäkning!$B$6:$B$97,Poängberäkning!$C$6:$C$97)","v":0},null,{"$f":"LOOKUP(Q39,[1]Poängberäkning!$B$6:$B$97,[1]Poängberäkning!$C$6:$C$97)","v":0},null,{"$f":"LOOKUP(S39,[1]Poängberäkning!$B$6:$B$97,[1]Poängberäkning!$C$6:$C$97)","v":0},null,{"$f":"LOOKUP(U39,[1]Poängberäkning!$B$6:$B$97,[1]Poängberäkning!$C$6:$C$97)","v":0},null,{"$f":"LOOKUP(W39,[1]Poängberäkning!$B$6:$B$97,[1]Poängberäkning!$C$6:$C$97)","v":0},{"$f":"LARGE(($H39,$J39,$L39,$N39,$P39,$R39,$T39,$V39,$X39),1)","v":42},{"$f":"LARGE(($H39,$J39,$L39,$N39,$P39,$R39,$T39,$V39,$X39),2)","v":0},{"$f":"LARGE(($H39,$J39,$L39,$N39,$P39,$R39,$T39,$V39,$X39),3)","v":0},{"$f":"LARGE(($H39,$J39,$L39,$N39,$P39,$R39,$T39,$V39,$X39),4)","v":0},{"$f":"LARGE(($H39,$J39,$L39,$N39,$P39,$R39,$T39,$V39,$X39),5)","v":0},{"$f":"LARGE(($H39,$J39,$L39,$N39,$P39,$R39,$T39,$V39,$X39),6)","v":0},{"$f":"LARGE(($H39,$J39,$L39,$N39,$P39,$R39,$T39,$V39,$X39),7)","v":0},{"$f":"LARGE(($H39,$J39,$L39,$N39,$P39,$R39,$T39,$V39,$X39),8)","v":0},{"$f":"LARGE(($H39,$J39,$L39,$N39,$P39,$R39,$T39,$V39,$X39),9)","v":0}]
[36,2003,"ENEQVIST Hugo","Djurgårdens IF AF",40,40,null,{"$f":"LOOKUP(G40,Poängberäkning!$B$6:$B$97,Poängberäkning!$C$6:$C$97)","v":0},null,{"$f":"LOOKUP(I40,Poängberäkning!$B$6:$B$97,Poängberäkning!$C$6:$C$97)","v":0},null,{"$f":"LOOKUP(K40,Poängberäkning!$B$6:$B$97,Poängberäkning!$C$6:$C$97)","v":0},null,{"$f":"LOOKUP(M40,Poängberäkning!$B$6:$B$97,Poängberäkning!$C$6:$C$97)","v":0},11,{"$f":"LOOKUP(O40,Poängberäkning!$B$6:$B$97,Poängberäkning!$C$6:$C$97)","v":40},null,{"$f":"LOOKUP(Q40,[1]Poängberäkning!$B$6:$B$97,[1]Poängberäkning!$C$6:$C$97)","v":0},null,{"$f":"LOOKUP(S40,[1]Poängberäkning!$B$6:$B$97,[1]Poängberäkning!$C$6:$C$97)","v":0},null,{"$f":"LOOKUP(U40,[1]Poängberäkning!$B$6:$B$97,[1]Poängberäkning!$C$6:$C$97)","v":0},null,{"$f":"LOOKUP(W40,[1]Poängberäkning!$B$6:$B$97,[1]Poängberäkning!$C$6:$C$97)","v":0},{"$f":"LARGE(($H40,$J40,$L40,$N40,$P40,$R40,$T40,$V40,$X40),1)","v":40},{"$f":"LARGE(($H40,$J40,$L40,$N40,$P40,$R40,$T40,$V40,$X40),2)","v":0},{"$f":"LARGE(($H40,$J40,$L40,$N40,$P40,$R40,$T40,$V40,$X40),3)","v":0},{"$f":"LARGE(($H40,$J40,$L40,$N40,$P40,$R40,$T40,$V40,$X40),4)","v":0},{"$f":"LARGE(($H40,$J40,$L40,$N40,$P40,$R40,$T40,$V40,$X40),5)","v":0},{"$f":"LARGE(($H40,$J40,$L40,$N40,$P40,$R40,$T40,$V40,$X40),6)","v":0},{"$f":"LARGE(($H40,$J40,$L40,$N40,$P40,$R40,$T40,$V40,$X40),7)","v":0},{"$f":"LARGE(($H40,$J40,$L40,$N40,$P40,$R40,$T40,$V40,$X40),8)","v":0},{"$f":"LARGE(($H40,$J40,$L40,$N40,$P40,$R40,$T40,$V40,$X40),9)","v":0}]
[37,2003,"BÅNG-ØYGARD Edwin","Kungsbergets AK",39,39,null,{"$f":"LOOKUP(G41,Poängberäkning!$B$6:$B$97,Poängberäkning!$C$6:$C$97)","v":0},null,{"$f":"LOOKUP(I41,Poängberäkning!$B$6:$B$97,Poängberäkning!$C$6:$C$97)","v":0},null,{"$f":"LOOKUP(K41,Poängberäkning!$B$6:$B$97,Poängberäkning!$C$6:$C$97)","v":0},null,{"$f":"LOOKUP(M41,Poängberäkning!$B$6:$B$97,Poängberäkning!$C$6:$C$97)","v":0},12,{"$f":"LOOKUP(O41,Poängberäkning!$B$6:$B$97,Poängberäkning!$C$6:$C$97)","v":39},null,{"$f":"LOOKUP(Q41,[1]Poängberäkning!$B$6:$B$97,[1]Poängberäkning!$C$6:$C$97)","v":0},null,{"$f":"LOOKUP(S41,[1]Poängberäkning!$B$6:$B$97,[1]Poängberäkning!$C$6:$C$97)","v":0},null,{"$f":"LOOKUP(U41,[1]Poängberäkning!$B$6:$B$97,[1]Poängberäkning!$C$6:$C$97)","v":0},null,{"$f":"LOOKUP(W41,[1]Poängberäkning!$B$6:$B$97,[1]Poängberäkning!$C$6:$C$97)","v":0},{"$f":"LARGE(($H41,$J41,$L41,$N41,$P41,$R41,$T41,$V41,$X41),1)","v":39},{"$f":"LARGE(($H41,$J41,$L41,$N41,$P41,$R41,$T41,$V41,$X41),2)","v":0},{"$f":"LARGE(($H41,$J41,$L41,$N41,$P41,$R41,$T41,$V41,$X41),3)","v":0},{"$f":"LARGE(($H41,$J41,$L41,$N41,$P41,$R41,$T41,$V41,$X41),4)","v":0},{"$f":"LARGE(($H41,$J41,$L41,$N41,$P41,$R41,$T41,$V41,$X41),5)","v":0},{"$f":"LARGE(($H41,$J41,$L41,$N41,$P41,$R41,$T41,$V41,$X41),6)","v":0},{"$f":"LARGE(($H41,$J41,$L41,$N41,$P41,$R41,$T41,$V41,$X41),7)","v":0},{"$f":"LARGE(($H41,$J41,$L41,$N41,$P41,$R41,$T41,$V41,$X41),8)","v":0},{"$f":"LARGE(($H41,$J41,$L41,$N41,$P41,$R41,$T41,$V41,$X41),9)","v":0}]
[38,2002,"WERKMÄSTAR Johan","Rättviks SLK",38,38,99,{"$f":"LOOKUP(G42,Poängberäkning!$B$6:$B$97,Poängberäkning!$C$6:$C$97)","v":0},13,{"$f":"LOOKUP(I42,Poängberäkning!$B$6:$B$97,Poängberäkning!$C$6:$C$97)","v":38},null,{"$f":"LOOKUP(K42,Poängberäkning!$B$6:$B$97,Poängberäkning!$C$6:$C$97)","v":0},null,{"$f":"LOOKUP(M42,Poängberäkning!$B$6:$B$97,Poängberäkning!$C$6:$C$97)","v":0},null,{"$f":"LOOKUP(O42,Poängberäkning!$B$6:$B$97,Poängberäkning!$C$6:$C$97)","v":0},null,{"$f":"LOOKUP(Q42,[1]Poängberäkning!$B$6:$B$97,[1]Poängberäkning!$C$6:$C$97)","v":0},null,{"$f":"LOOKUP(S42,[1]Poängberäkning!$B$6:$B$97,[1]Poängberäkning!$C$6:$C$97)","v":0},null,{"$f":"LOOKUP(U42,[1]Poängberäkning!$B$6:$B$97,[1]Poängberäkning!$C$6:$C$97)","v":0},null,{"$f":"LOOKUP(W42,[1]Poängberäkning!$B$6:$B$97,[1]Poängberäkning!$C$6:$C$97)","v":0},{"$f":"LARGE(($H42,$J42,$L42,$N42,$P42,$R42,$T42,$V42,$X42),1)","v":38},{"$f":"LARGE(($H42,$J42,$L42,$N42,$P42,$R42,$T42,$V42,$X42),2)","v":0},{"$f":"LARGE(($H42,$J42,$L42,$N42,$P42,$R42,$T42,$V42,$X42),3)","v":0},{"$f":"LARGE(($H42,$J42,$L42,$N42,$P42,$R42,$T42,$V42,$X42),4)","v":0},{"$f":"LARGE(($H42,$J42,$L42,$N42,$P42,$R42,$T42,$V42,$X42),5)","v":0},{"$f":"LARGE(($H42,$J42,$L42,$N42,$P42,$R42,$T42,$V42,$X42),6)","v":0},{"$f":"LARGE(($H42,$J42,$L42,$N42,$P42,$R42,$T42,$V42,$X42),7)","v":0},{"$f":"LARGE(($H42,$J42,$L42,$N42,$P42,$R42,$T42,$V42,$X42),8)","v":0},{"$f":"LARGE(($H42,$J42,$L42,$N42,$P42,$R42,$T42,$V42,$X42),9)","v":0}]
[39,2002,"TÄRNSBY Emil","Huddinge SK AF",37,37,null,{"$f":"LOOKUP(G43,Poängberäkning!$B$6:$B$97,Poängberäkning!$C$6:$C$97)","v":0},null,{"$f":"LOOKUP(I43,Poängberäkning!$B$6:$B$97,Poängberäkning!$C$6:$C$97)","v":0},null,{"$f":"LOOKUP(K43,Poängberäkning!$B$6:$B$97,Poängberäkning!$C$6:$C$97)","v":0},null,{"$f":"LOOKUP(M43,Poängberäkning!$B$6:$B$97,Poängberäkning!$C$6:$C$97)","v":0},14,{"$f":"LOOKUP(O43,Poängberäkning!$B$6:$B$97,Poängberäkning!$C$6:$C$97)","v":37},null,{"$f":"LOOKUP(Q43,[1]Poängberäkning!$B$6:$B$97,[1]Poängberäkning!$C$6:$C$97)","v":0},null,{"$f":"LOOKUP(S43,[1]Poängberäkning!$B$6:$B$97,[1]Poängberäkning!$C$6:$C$97)","v":0},null,{"$f":"LOOKUP(U43,[1]Poängberäkning!$B$6:$B$97,[1]Poängberäkning!$C$6:$C$97)","v":0},null,{"$f":"LOOKUP(W43,[1]Poängberäkning!$B$6:$B$97,[1]Poängberäkning!$C$6:$C$97)","v":0},{"$f":"LARGE(($H43,$J43,$L43,$N43,$P43,$R43,$T43,$V43,$X43),1)","v":37},{"$f":"LARGE(($H43,$J43,$L43,$N43,$P43,$R43,$T43,$V43,$X43),2)","v":0},{"$f":"LARGE(($H43,$J43,$L43,$N43,$P43,$R43,$T43,$V43,$X43),3)","v":0},{"$f":"LARGE(($H43,$J43,$L43,$N43,$P43,$R43,$T43,$V43,$X43),4)","v":0},{"$f":"LARGE(($H43,$J43,$L43,$N43,$P43,$R43,$T43,$V43,$X43),5)","v":0},{"$f":"LARGE(($H43,$J43,$L43,$N43,$P43,$R43,$T43,$V43,$X43),6)","v":0},{"$f":"LARGE(($H43,$J43,$L43,$N43,$P43,$R43,$T43,$V43,$X43),7)","v":0},{"$f":"LARGE(($H43,$J43,$L43,$N43,$P43,$R43,$T43,$V43,$X43),8)","v":0},{"$f":"LARGE(($H43,$J43,$L43,$N43,$P43,$R43,$T43,$V43,$X43),9)","v":0}]
[40,2002,"LINDHOLM Adam","IFK Grängesberg AK",37,37,null,{"$f":"LOOKUP(G44,Poängberäkning!$B$6:$B$97,Poängberäkning!$C$6:$C$97)","v":0},14,{"$f":"LOOKUP(I44,Poängberäkning!$B$6:$B$97,Poängberäkning!$C$6:$C$97)","v":37},null,{"$f":"LOOKUP(K44,Poängberäkning!$B$6:$B$97,Poängberäkning!$C$6:$C$97)","v":0},null,{"$f":"LOOKUP(M44,Poängberäkning!$B$6:$B$97,Poängberäkning!$C$6:$C$97)","v":0},null,{"$f":"LOOKUP(O44,Poängberäkning!$B$6:$B$97,Poängberäkning!$C$6:$C$97)","v":0},null,{"$f":"LOOKUP(Q44,[1]Poängberäkning!$B$6:$B$97,[1]Poängberäkning!$C$6:$C$97)","v":0},null,{"$f":"LOOKUP(S44,[1]Poängberäkning!$B$6:$B$97,[1]Poängberäkning!$C$6:$C$97)","v":0},null,{"$f":"LOOKUP(U44,[1]Poängberäkning!$B$6:$B$97,[1]Poängberäkning!$C$6:$C$97)","v":0},null,{"$f":"LOOKUP(W44,[1]Poängberäkning!$B$6:$B$97,[1]Poängberäkning!$C$6:$C$97)","v":0},{"$f":"LARGE(($H44,$J44,$L44,$N44,$P44,$R44,$T44,$V44,$X44),1)","v":37},{"$f":"LARGE(($H44,$J44,$L44,$N44,$P44,$R44,$T44,$V44,$X44),2)","v":0},{"$f":"LARGE(($H44,$J44,$L44,$N44,$P44,$R44,$T44,$V44,$X44),3)","v":0},{"$f":"LARGE(($H44,$J44,$L44,$N44,$P44,$R44,$T44,$V44,$X44),4)","v":0},{"$f":"LARGE(($H44,$J44,$L44,$N44,$P44,$R44,$T44,$V44,$X44),5)","v":0},{"$f":"LARGE(($H44,$J44,$L44,$N44,$P44,$R44,$T44,$V44,$X44),6)","v":0},{"$f":"LARGE(($H44,$J44,$L44,$N44,$P44,$R44,$T44,$V44,$X44),7)","v":0},{"$f":"LARGE(($H44,$J44,$L44,$N44,$P44,$R44,$T44,$V44,$X44),8)","v":0},{"$f":"LARGE(($H44,$J44,$L44,$N44,$P44,$R44,$T44,$V44,$X44),9)","v":0}]
[41,2003,"ÅNGSTRÖM Gustaf","Uppsala SLK",36,36,null,{"$f":"LOOKUP(G45,Poängberäkning!$B$6:$B$97,Poängberäkning!$C$6:$C$97)","v":0},null,{"$f":"LOOKUP(I45,Poängberäkning!$B$6:$B$97,Poängberäkning!$C$6:$C$97)","v":0},null,{"$f":"LOOKUP(K45,Poängberäkning!$B$6:$B$97,Poängberäkning!$C$6:$C$97)","v":0},null,{"$f":"LOOKUP(M45,Poängberäkning!$B$6:$B$97,Poängberäkning!$C$6:$C$97)","v":0},15,{"$f":"LOOKUP(O45,Poängberäkning!$B$6:$B$97,Poängberäkning!$C$6:$C$97)","v":36},null,{"$f":"LOOKUP(Q45,[1]Poängberäkning!$B$6:$B$97,[1]Poängberäkning!$C$6:$C$97)","v":0},null,{"$f":"LOOKUP(S45,[1]Poängberäkning!$B$6:$B$97,[1]Poängberäkning!$C$6:$C$97)","v":0},null,{"$f":"LOOKUP(U45,[1]Poängberäkning!$B$6:$B$97,[1]Poängberäkning!$C$6:$C$97)","v":0},null,{"$f":"LOOKUP(W45,[1]Poängberäkning!$B$6:$B$97,[1]Poängberäkning!$C$6:$C$97)","v":0},{"$f":"LARGE(($H45,$J45,$L45,$N45,$P45,$R45,$T45,$V45,$X45),1)","v":36},{"$f":"LARGE(($H45,$J45,$L45,$N45,$P45,$R45,$T45,$V45,$X45),2)","v":0},{"$f":"LARGE(($H45,$J45,$L45,$N45,$P45,$R45,$T45,$V45,$X45),3)","v":0},{"$f":"LARGE(($H45,$J45,$L45,$N45,$P45,$R45,$T45,$V45,$X45),4)","v":0},{"$f":"LARGE(($H45,$J45,$L45,$N45,$P45,$R45,$T45,$V45,$X45),5)","v":0},{"$f":"LARGE(($H45,$J45,$L45,$N45,$P45,$R45,$T45,$V45,$X45),6)","v":0},{"$f":"LARGE(($H45,$J45,$L45,$N45,$P45,$R45,$T45,$V45,$X45),7)","v":0},{"$f":"LARGE(($H45,$J45,$L45,$N45,$P45,$R45,$T45,$V45,$X45),8)","v":0},{"$f":"LARGE(($H45,$J45,$L45,$N45,$P45,$R45,$T45,$V45,$X45),9)","v":0}]
[42,1900,"HJÄLM Max","IFK Grängesberg",36,36,null,{"$f":"LOOKUP(G46,Poängberäkning!$B$6:$B$97,Poängberäkning!$C$6:$C$97)","v":0},null,{"$f":"LOOKUP(I46,Poängberäkning!$B$6:$B$97,Poängberäkning!$C$6:$C$97)","v":0},15,{"$f":"LOOKUP(K46,Poängberäkning!$B$6:$B$97,Poängberäkning!$C$6:$C$97)","v":36},null,{"$f":"LOOKUP(M46,Poängberäkning!$B$6:$B$97,Poängberäkning!$C$6:$C$97)","v":0},null,{"$f":"LOOKUP(O46,Poängberäkning!$B$6:$B$97,Poängberäkning!$C$6:$C$97)","v":0},null,{"$f":"LOOKUP(Q46,[1]Poängberäkning!$B$6:$B$97,[1]Poängberäkning!$C$6:$C$97)","v":0},null,{"$f":"LOOKUP(S46,[1]Poängberäkning!$B$6:$B$97,[1]Poängberäkning!$C$6:$C$97)","v":0},null,{"$f":"LOOKUP(U46,[1]Poängberäkning!$B$6:$B$97,[1]Poängberäkning!$C$6:$C$97)","v":0},null,{"$f":"LOOKUP(W46,[1]Poängberäkning!$B$6:$B$97,[1]Poängberäkning!$C$6:$C$97)","v":0},{"$f":"LARGE(($H46,$J46,$L46,$N46,$P46,$R46,$T46,$V46,$X46),1)","v":36},{"$f":"LARGE(($H46,$J46,$L46,$N46,$P46,$R46,$T46,$V46,$X46),2)","v":0},{"$f":"LARGE(($H46,$J46,$L46,$N46,$P46,$R46,$T46,$V46,$X46),3)","v":0},{"$f":"LARGE(($H46,$J46,$L46,$N46,$P46,$R46,$T46,$V46,$X46),4)","v":0},{"$f":"LARGE(($H46,$J46,$L46,$N46,$P46,$R46,$T46,$V46,$X46),5)","v":0},{"$f":"LARGE(($H46,$J46,$L46,$N46,$P46,$R46,$T46,$V46,$X46),6)","v":0},{"$f":"LARGE(($H46,$J46,$L46,$N46,$P46,$R46,$T46,$V46,$X46),7)","v":0},{"$f":"LARGE(($H46,$J46,$L46,$N46,$P46,$R46,$T46,$V46,$X46),8)","v":0},{"$f":"LARGE(($H46,$J46,$L46,$N46,$P46,$R46,$T46,$V46,$X46),9)","v":0}]
[43,2003,"PERSSON Victor","IFK Grängesberg AK",36,36,null,{"$f":"LOOKUP(G47,Poängberäkning!$B$6:$B$97,Poängberäkning!$C$6:$C$97)","v":0},15,{"$f":"LOOKUP(I47,Poängberäkning!$B$6:$B$97,Poängberäkning!$C$6:$C$97)","v":36},99,{"$f":"LOOKUP(K47,Poängberäkning!$B$6:$B$97,Poängberäkning!$C$6:$C$97)","v":0},null,{"$f":"LOOKUP(M47,Poängberäkning!$B$6:$B$97,Poängberäkning!$C$6:$C$97)","v":0},null,{"$f":"LOOKUP(O47,Poängberäkning!$B$6:$B$97,Poängberäkning!$C$6:$C$97)","v":0},null,{"$f":"LOOKUP(Q47,[1]Poängberäkning!$B$6:$B$97,[1]Poängberäkning!$C$6:$C$97)","v":0},null,{"$f":"LOOKUP(S47,[1]Poängberäkning!$B$6:$B$97,[1]Poängberäkning!$C$6:$C$97)","v":0},null,{"$f":"LOOKUP(U47,[1]Poängberäkning!$B$6:$B$97,[1]Poängberäkning!$C$6:$C$97)","v":0},null,{"$f":"LOOKUP(W47,[1]Poängberäkning!$B$6:$B$97,[1]Poängberäkning!$C$6:$C$97)","v":0},{"$f":"LARGE(($H47,$J47,$L47,$N47,$P47,$R47,$T47,$V47,$X47),1)","v":36},{"$f":"LARGE(($H47,$J47,$L47,$N47,$P47,$R47,$T47,$V47,$X47),2)","v":0},{"$f":"LARGE(($H47,$J47,$L47,$N47,$P47,$R47,$T47,$V47,$X47),3)","v":0},{"$f":"LARGE(($H47,$J47,$L47,$N47,$P47,$R47,$T47,$V47,$X47),4)","v":0},{"$f":"LARGE(($H47,$J47,$L47,$N47,$P47,$R47,$T47,$V47,$X47),5)","v":0},{"$f":"LARGE(($H47,$J47,$L47,$N47,$P47,$R47,$T47,$V47,$X47),6)","v":0},{"$f":"LARGE(($H47,$J47,$L47,$N47,$P47,$R47,$T47,$V47,$X47),7)","v":0},{"$f":"LARGE(($H47,$J47,$L47,$N47,$P47,$R47,$T47,$V47,$X47),8)","v":0},{"$f":"LARGE(($H47,$J47,$L47,$N47,$P47,$R47,$T47,$V47,$X47),9)","v":0}]
[44,2003,"WELANDER Elis","Kungsbergets AK",35,35,null,{"$f":"LOOKUP(G48,Poängberäkning!$B$6:$B$97,Poängberäkning!$C$6:$C$97)","v":0},null,{"$f":"LOOKUP(I48,Poängberäkning!$B$6:$B$97,Poängberäkning!$C$6:$C$97)","v":0},null,{"$f":"LOOKUP(K48,Poängberäkning!$B$6:$B$97,Poängberäkning!$C$6:$C$97)","v":0},99,{"$f":"LOOKUP(M48,Poängberäkning!$B$6:$B$97,Poängberäkning!$C$6:$C$97)","v":0},16,{"$f":"LOOKUP(O48,Poängberäkning!$B$6:$B$97,Poängberäkning!$C$6:$C$97)","v":35},null,{"$f":"LOOKUP(Q48,[1]Poängberäkning!$B$6:$B$97,[1]Poängberäkning!$C$6:$C$97)","v":0},null,{"$f":"LOOKUP(S48,[1]Poängberäkning!$B$6:$B$97,[1]Poängberäkning!$C$6:$C$97)","v":0},null,{"$f":"LOOKUP(U48,[1]Poängberäkning!$B$6:$B$97,[1]Poängberäkning!$C$6:$C$97)","v":0},null,{"$f":"LOOKUP(W48,[1]Poängberäkning!$B$6:$B$97,[1]Poängberäkning!$C$6:$C$97)","v":0},{"$f":"LARGE(($H48,$J48,$L48,$N48,$P48,$R48,$T48,$V48,$X48),1)","v":35},{"$f":"LARGE(($H48,$J48,$L48,$N48,$P48,$R48,$T48,$V48,$X48),2)","v":0},{"$f":"LARGE(($H48,$J48,$L48,$N48,$P48,$R48,$T48,$V48,$X48),3)","v":0},{"$f":"LARGE(($H48,$J48,$L48,$N48,$P48,$R48,$T48,$V48,$X48),4)","v":0},{"$f":"LARGE(($H48,$J48,$L48,$N48,$P48,$R48,$T48,$V48,$X48),5)","v":0},{"$f":"LARGE(($H48,$J48,$L48,$N48,$P48,$R48,$T48,$V48,$X48),6)","v":0},{"$f":"LARGE(($H48,$J48,$L48,$N48,$P48,$R48,$T48,$V48,$X48),7)","v":0},{"$f":"LARGE(($H48,$J48,$L48,$N48,$P48,$R48,$T48,$V48,$X48),8)","v":0},{"$f":"LARGE(($H48,$J48,$L48,$N48,$P48,$R48,$T48,$V48,$X48),9)","v":0}]
[45,2003,"HOLTH LYSTAD Oliver","Valfjällets SLK",33,33,null,{"$f":"LOOKUP(G49,Poängberäkning!$B$6:$B$97,Poängberäkning!$C$6:$C$97)","v":0},null,{"$f":"LOOKUP(I49,Poängberäkning!$B$6:$B$97,Poängberäkning!$C$6:$C$97)","v":0},null,{"$f":"LOOKUP(K49,Poängberäkning!$B$6:$B$97,Poängberäkning!$C$6:$C$97)","v":0},null,{"$f":"LOOKUP(M49,Poängberäkning!$B$6:$B$97,Poängberäkning!$C$6:$C$97)","v":0},18,{"$f":"LOOKUP(O49,Poängberäkning!$B$6:$B$97,Poängberäkning!$C$6:$C$97)","v":33},null,{"$f":"LOOKUP(Q49,[1]Poängberäkning!$B$6:$B$97,[1]Poängberäkning!$C$6:$C$97)","v":0},null,{"$f":"LOOKUP(S49,[1]Poängberäkning!$B$6:$B$97,[1]Poängberäkning!$C$6:$C$97)","v":0},null,{"$f":"LOOKUP(U49,[1]Poängberäkning!$B$6:$B$97,[1]Poängberäkning!$C$6:$C$97)","v":0},null,{"$f":"LOOKUP(W49,[1]Poängberäkning!$B$6:$B$97,[1]Poängberäkning!$C$6:$C$97)","v":0},{"$f":"LARGE(($H49,$J49,$L49,$N49,$P49,$R49,$T49,$V49,$X49),1)","v":33},{"$f":"LARGE(($H49,$J49,$L49,$N49,$P49,$R49,$T49,$V49,$X49),2)","v":0},{"$f":"LARGE(($H49,$J49,$L49,$N49,$P49,$R49,$T49,$V49,$X49),3)","v":0},{"$f":"LARGE(($H49,$J49,$L49,$N49,$P49,$R49,$T49,$V49,$X49),4)","v":0},{"$f":"LARGE(($H49,$J49,$L49,$N49,$P49,$R49,$T49,$V49,$X49),5)","v":0},{"$f":"LARGE(($H49,$J49,$L49,$N49,$P49,$R49,$T49,$V49,$X49),6)","v":0},{"$f":"LARGE(($H49,$J49,$L49,$N49,$P49,$R49,$T49,$V49,$X49),7)","v":0},{"$f":"LARGE(($H49,$J49,$L49,$N49,$P49,$R49,$T49,$V49,$X49),8)","v":0},{"$f":"LARGE(($H49,$J49,$L49,$N49,$P49,$R49,$T49,$V49,$X49),9)","v":0}]
[46,2003,"LINDKVIST Alexander","Djurgårdens IF AF",32,32,null,{"$f":"LOOKUP(G50,Poängberäkning!$B$6:$B$97,Poängberäkning!$C$6:$C$97)","v":0},null,{"$f":"LOOKUP(I50,Poängberäkning!$B$6:$B$97,Poängberäkning!$C$6:$C$97)","v":0},null,{"$f":"LOOKUP(K50,Poängberäkning!$B$6:$B$97,Poängberäkning!$C$6:$C$97)","v":0},null,{"$f":"LOOKUP(M50,Poängberäkning!$B$6:$B$97,Poängberäkning!$C$6:$C$97)","v":0},19,{"$f":"LOOKUP(O50,Poängberäkning!$B$6:$B$97,Poängberäkning!$C$6:$C$97)","v":32},null,{"$f":"LOOKUP(Q50,[1]Poängberäkning!$B$6:$B$97,[1]Poängberäkning!$C$6:$C$97)","v":0},null,{"$f":"LOOKUP(S50,[1]Poängberäkning!$B$6:$B$97,[1]Poängberäkning!$C$6:$C$97)","v":0},null,{"$f":"LOOKUP(U50,[1]Poängberäkning!$B$6:$B$97,[1]Poängberäkning!$C$6:$C$97)","v":0},null,{"$f":"LOOKUP(W50,[1]Poängberäkning!$B$6:$B$97,[1]Poängberäkning!$C$6:$C$97)","v":0},{"$f":"LARGE(($H50,$J50,$L50,$N50,$P50,$R50,$T50,$V50,$X50),1)","v":32},{"$f":"LARGE(($H50,$J50,$L50,$N50,$P50,$R50,$T50,$V50,$X50),2)","v":0},{"$f":"LARGE(($H50,$J50,$L50,$N50,$P50,$R50,$T50,$V50,$X50),3)","v":0},{"$f":"LARGE(($H50,$J50,$L50,$N50,$P50,$R50,$T50,$V50,$X50),4)","v":0},{"$f":"LARGE(($H50,$J50,$L50,$N50,$P50,$R50,$T50,$V50,$X50),5)","v":0},{"$f":"LARGE(($H50,$J50,$L50,$N50,$P50,$R50,$T50,$V50,$X50),6)","v":0},{"$f":"LARGE(($H50,$J50,$L50,$N50,$P50,$R50,$T50,$V50,$X50),7)","v":0},{"$f":"LARGE(($H50,$J50,$L50,$N50,$P50,$R50,$T50,$V50,$X50),8)","v":0},{"$f":"LARGE(($H50,$J50,$L50,$N50,$P50,$R50,$T50,$V50,$X50),9)","v":0}]
[47,2003,"FJÄLLRYD Axel","Örebro SLF",31,31,null,{"$f":"LOOKUP(G51,Poängberäkning!$B$6:$B$97,Poängberäkning!$C$6:$C$97)","v":0},null,{"$f":"LOOKUP(I51,Poängberäkning!$B$6:$B$97,Poängberäkning!$C$6:$C$97)","v":0},null,{"$f":"LOOKUP(K51,Poängberäkning!$B$6:$B$97,Poängberäkning!$C$6:$C$97)","v":0},null,{"$f":"LOOKUP(M51,Poängberäkning!$B$6:$B$97,Poängberäkning!$C$6:$C$97)","v":0},20,{"$f":"LOOKUP(O51,Poängberäkning!$B$6:$B$97,Poängberäkning!$C$6:$C$97)","v":31},null,{"$f":"LOOKUP(Q51,[1]Poängberäkning!$B$6:$B$97,[1]Poängberäkning!$C$6:$C$97)","v":0},null,{"$f":"LOOKUP(S51,[1]Poängberäkning!$B$6:$B$97,[1]Poängberäkning!$C$6:$C$97)","v":0},null,{"$f":"LOOKUP(U51,[1]Poängberäkning!$B$6:$B$97,[1]Poängberäkning!$C$6:$C$97)","v":0},null,{"$f":"LOOKUP(W51,[1]Poängberäkning!$B$6:$B$97,[1]Poängberäkning!$C$6:$C$97)","v":0},{"$f":"LARGE(($H51,$J51,$L51,$N51,$P51,$R51,$T51,$V51,$X51),1)","v":31},{"$f":"LARGE(($H51,$J51,$L51,$N51,$P51,$R51,$T51,$V51,$X51),2)","v":0},{"$f":"LARGE(($H51,$J51,$L51,$N51,$P51,$R51,$T51,$V51,$X51),3)","v":0},{"$f":"LARGE(($H51,$J51,$L51,$N51,$P51,$R51,$T51,$V51,$X51),4)","v":0},{"$f":"LARGE(($H51,$J51,$L51,$N51,$P51,$R51,$T51,$V51,$X51),5)","v":0},{"$f":"LARGE(($H51,$J51,$L51,$N51,$P51,$R51,$T51,$V51,$X51),6)","v":0},{"$f":"LARGE(($H51,$J51,$L51,$N51,$P51,$R51,$T51,$V51,$X51),7)","v":0},{"$f":"LARGE(($H51,$J51,$L51,$N51,$P51,$R51,$T51,$V51,$X51),8)","v":0},{"$f":"LARGE(($H51,$J51,$L51,$N51,$P51,$R51,$T51,$V51,$X51),9)","v":0}]
[48,2003,"JALKESTEN Marcus","Huddinge SK AF",30,30,null,{"$f":"LOOKUP(G52,Poängberäkning!$B$6:$B$97,Poängberäkning!$C$6:$C$97)","v":0},null,{"$f":"LOOKUP(I52,Poängberäkning!$B$6:$B$97,Poängberäkning!$C$6:$C$97)","v":0},null,{"$f":"LOOKUP(K52,Poängberäkning!$B$6:$B$97,Poängberäkning!$C$6:$C$97)","v":0},null,{"$f":"LOOKUP(M52,Poängberäkning!$B$6:$B$97,Poängberäkning!$C$6:$C$97)","v":0},21,{"$f":"LOOKUP(O52,Poängberäkning!$B$6:$B$97,Poängberäkning!$C$6:$C$97)","v":30},null,{"$f":"LOOKUP(Q52,[1]Poängberäkning!$B$6:$B$97,[1]Poängberäkning!$C$6:$C$97)","v":0},null,{"$f":"LOOKUP(S52,[1]Poängberäkning!$B$6:$B$97,[1]Poängberäkning!$C$6:$C$97)","v":0},null,{"$f":"LOOKUP(U52,[1]Poängberäkning!$B$6:$B$97,[1]Poängberäkning!$C$6:$C$97)","v":0},null,{"$f":"LOOKUP(W52,[1]Poängberäkning!$B$6:$B$97,[1]Poängberäkning!$C$6:$C$97)","v":0},{"$f":"LARGE(($H52,$J52,$L52,$N52,$P52,$R52,$T52,$V52,$X52),1)","v":30},{"$f":"LARGE(($H52,$J52,$L52,$N52,$P52,$R52,$T52,$V52,$X52),2)","v":0},{"$f":"LARGE(($H52,$J52,$L52,$N52,$P52,$R52,$T52,$V52,$X52),3)","v":0},{"$f":"LARGE(($H52,$J52,$L52,$N52,$P52,$R52,$T52,$V52,$X52),4)","v":0},{"$f":"LARGE(($H52,$J52,$L52,$N52,$P52,$R52,$T52,$V52,$X52),5)","v":0},{"$f":"LARGE(($H52,$J52,$L52,$N52,$P52,$R52,$T52,$V52,$X52),6)","v":0},{"$f":"LARGE(($H52,$J52,$L52,$N52,$P52,$R52,$T52,$V52,$X52),7)","v":0},{"$f":"LARGE(($H52,$J52,$L52,$N52,$P52,$R52,$T52,$V52,$X52),8)","v":0},{"$f":"LARGE(($H52,$J52,$L52,$N52,$P52,$R52,$T52,$V52,$X52),9)","v":0}]
[49,2003,"ENGSTRÖM Anton","Täby SLK",29,29,null,{"$f":"LOOKUP(G53,Poängberäkning!$B$6:$B$97,Poängberäkning!$C$6:$C$97)","v":0},null,{"$f":"LOOKUP(I53,Poängberäkning!$B$6:$B$97,Poängberäkning!$C$6:$C$97)","v":0},null,{"$f":"LOOKUP(K53,Poängberäkning!$B$6:$B$97,Poängberäkning!$C$6:$C$97)","v":0},null,{"$f":"LOOKUP(M53,Poängberäkning!$B$6:$B$97,Poängberäkning!$C$6:$C$97)","v":0},22,{"$f":"LOOKUP(O53,Poängberäkning!$B$6:$B$97,Poängberäkning!$C$6:$C$97)","v":29},null,{"$f":"LOOKUP(Q53,[1]Poängberäkning!$B$6:$B$97,[1]Poängberäkning!$C$6:$C$97)","v":0},null,{"$f":"LOOKUP(S53,[1]Poängberäkning!$B$6:$B$97,[1]Poängberäkning!$C$6:$C$97)","v":0},null,{"$f":"LOOKUP(U53,[1]Poängberäkning!$B$6:$B$97,[1]Poängberäkning!$C$6:$C$97)","v":0},null,{"$f":"LOOKUP(W53,[1]Poängberäkning!$B$6:$B$97,[1]Poängberäkning!$C$6:$C$97)","v":0},{"$f":"LARGE(($H53,$J53,$L53,$N53,$P53,$R53,$T53,$V53,$X53),1)","v":29},{"$f":"LARGE(($H53,$J53,$L53,$N53,$P53,$R53,$T53,$V53,$X53),2)","v":0},{"$f":"LARGE(($H53,$J53,$L53,$N53,$P53,$R53,$T53,$V53,$X53),3)","v":0},{"$f":"LARGE(($H53,$J53,$L53,$N53,$P53,$R53,$T53,$V53,$X53),4)","v":0},{"$f":"LARGE(($H53,$J53,$L53,$N53,$P53,$R53,$T53,$V53,$X53),5)","v":0},{"$f":"LARGE(($H53,$J53,$L53,$N53,$P53,$R53,$T53,$V53,$X53),6)","v":0},{"$f":"LARGE(($H53,$J53,$L53,$N53,$P53,$R53,$T53,$V53,$X53),7)","v":0},{"$f":"LARGE(($H53,$J53,$L53,$N53,$P53,$R53,$T53,$V53,$X53),8)","v":0},{"$f":"LARGE(($H53,$J53,$L53,$N53,$P53,$R53,$T53,$V53,$X53),9)","v":0}]
[50,2003,"BJÖRKMAN Gustav","Uppsala SLK",27,27,null,{"$f":"LOOKUP(G54,Poängberäkning!$B$6:$B$97,Poängberäkning!$C$6:$C$97)","v":0},null,{"$f":"LOOKUP(I54,Poängberäkning!$B$6:$B$97,Poängberäkning!$C$6:$C$97)","v":0},null,{"$f":"LOOKUP(K54,Poängberäkning!$B$6:$B$97,Poängberäkning!$C$6:$C$97)","v":0},null,{"$f":"LOOKUP(M54,Poängberäkning!$B$6:$B$97,Poängberäkning!$C$6:$C$97)","v":0},24,{"$f":"LOOKUP(O54,Poängberäkning!$B$6:$B$97,Poängberäkning!$C$6:$C$97)","v":27},null,{"$f":"LOOKUP(Q54,[1]Poängberäkning!$B$6:$B$97,[1]Poängberäkning!$C$6:$C$97)","v":0},null,{"$f":"LOOKUP(S54,[1]Poängberäkning!$B$6:$B$97,[1]Poängberäkning!$C$6:$C$97)","v":0},null,{"$f":"LOOKUP(U54,[1]Poängberäkning!$B$6:$B$97,[1]Poängberäkning!$C$6:$C$97)","v":0},null,{"$f":"LOOKUP(W54,[1]Poängberäkning!$B$6:$B$97,[1]Poängberäkning!$C$6:$C$97)","v":0},{"$f":"LARGE(($H54,$J54,$L54,$N54,$P54,$R54,$T54,$V54,$X54),1)","v":27},{"$f":"LARGE(($H54,$J54,$L54,$N54,$P54,$R54,$T54,$V54,$X54),2)","v":0},{"$f":"LARGE(($H54,$J54,$L54,$N54,$P54,$R54,$T54,$V54,$X54),3)","v":0},{"$f":"LARGE(($H54,$J54,$L54,$N54,$P54,$R54,$T54,$V54,$X54),4)","v":0},{"$f":"LARGE(($H54,$J54,$L54,$N54,$P54,$R54,$T54,$V54,$X54),5)","v":0},{"$f":"LARGE(($H54,$J54,$L54,$N54,$P54,$R54,$T54,$V54,$X54),6)","v":0},{"$f":"LARGE(($H54,$J54,$L54,$N54,$P54,$R54,$T54,$V54,$X54),7)","v":0},{"$f":"LARGE(($H54,$J54,$L54,$N54,$P54,$R54,$T54,$V54,$X54),8)","v":0},{"$f":"LARGE(($H54,$J54,$L54,$N54,$P54,$R54,$T54,$V54,$X54),9)","v":0}]
[51,2003,"MÖRTBERG David","Uppsala SLK",26,26,null,{"$f":"LOOKUP(G55,Poängberäkning!$B$6:$B$97,Poängberäkning!$C$6:$C$97)","v":0},null,{"$f":"LOOKUP(I55,Poängberäkning!$B$6:$B$97,Poängberäkning!$C$6:$C$97)","v":0},null,{"$f":"LOOKUP(K55,Poängberäkning!$B$6:$B$97,Poängberäkning!$C$6:$C$97)","v":0},null,{"$f":"LOOKUP(M55,Poängberäkning!$B$6:$B$97,Poängberäkning!$C$6:$C$97)","v":0},25,{"$f":"LOOKUP(O55,Poängberäkning!$B$6:$B$97,Poängberäkning!$C$6:$C$97)","v":26},null,{"$f":"LOOKUP(Q55,[1]Poängberäkning!$B$6:$B$97,[1]Poängberäkning!$C$6:$C$97)","v":0},null,{"$f":"LOOKUP(S55,[1]Poängberäkning!$B$6:$B$97,[1]Poängberäkning!$C$6:$C$97)","v":0},null,{"$f":"LOOKUP(U55,[1]Poängberäkning!$B$6:$B$97,[1]Poängberäkning!$C$6:$C$97)","v":0},null,{"$f":"LOOKUP(W55,[1]Poängberäkning!$B$6:$B$97,[1]Poängberäkning!$C$6:$C$97)","v":0},{"$f":"LARGE(($H55,$J55,$L55,$N55,$P55,$R55,$T55,$V55,$X55),1)","v":26},{"$f":"LARGE(($H55,$J55,$L55,$N55,$P55,$R55,$T55,$V55,$X55),2)","v":0},{"$f":"LARGE(($H55,$J55,$L55,$N55,$P55,$R55,$T55,$V55,$X55),3)","v":0},{"$f":"LARGE(($H55,$J55,$L55,$N55,$P55,$R55,$T55,$V55,$X55),4)","v":0},{"$f":"LARGE(($H55,$J55,$L55,$N55,$P55,$R55,$T55,$V55,$X55),5)","v":0},{"$f":"LARGE(($H55,$J55,$L55,$N55,$P55,$R55,$T55,$V55,$X55),6)","v":0},{"$f":"LARGE(($H55,$J55,$L55,$N55,$P55,$R55,$T55,$V55,$X55),7)","v":0},{"$f":"LARGE(($H55,$J55,$L55,$N55,$P55,$R55,$T55,$V55,$X55),8)","v":0},{"$f":"LARGE(($H55,$J55,$L55,$N55,$P55,$R55,$T55,$V55,$X55),9)","v":0}]
[52,2003,"RYLANDER Jakob","Västerås Slalomklubb",25,25,null,{"$f":"LOOKUP(G56,Poängberäkning!$B$6:$B$97,Poängberäkning!$C$6:$C$97)","v":0},null,{"$f":"LOOKUP(I56,Poängberäkning!$B$6:$B$97,Poängberäkning!$C$6:$C$97)","v":0},null,{"$f":"LOOKUP(K56,Poängberäkning!$B$6:$B$97,Poängberäkning!$C$6:$C$97)","v":0},null,{"$f":"LOOKUP(M56,Poängberäkning!$B$6:$B$97,Poängberäkning!$C$6:$C$97)","v":0},26,{"$f":"LOOKUP(O56,Poängberäkning!$B$6:$B$97,Poängberäkning!$C$6:$C$97)","v":25},null,{"$f":"LOOKUP(Q56,[1]Poängberäkning!$B$6:$B$97,[1]Poängberäkning!$C$6:$C$97)","v":0},null,{"$f":"LOOKUP(S56,[1]Poängberäkning!$B$6:$B$97,[1]Poängberäkning!$C$6:$C$97)","v":0},null,{"$f":"LOOKUP(U56,[1]Poängberäkning!$B$6:$B$97,[1]Poängberäkning!$C$6:$C$97)","v":0},null,{"$f":"LOOKUP(W56,[1]Poängberäkning!$B$6:$B$97,[1]Poängberäkning!$C$6:$C$97)","v":0},{"$f":"LARGE(($H56,$J56,$L56,$N56,$P56,$R56,$T56,$V56,$X56),1)","v":25},{"$f":"LARGE(($H56,$J56,$L56,$N56,$P56,$R56,$T56,$V56,$X56),2)","v":0},{"$f":"LARGE(($H56,$J56,$L56,$N56,$P56,$R56,$T56,$V56,$X56),3)","v":0},{"$f":"LARGE(($H56,$J56,$L56,$N56,$P56,$R56,$T56,$V56,$X56),4)","v":0},{"$f":"LARGE(($H56,$J56,$L56,$N56,$P56,$R56,$T56,$V56,$X56),5)","v":0},{"$f":"LARGE(($H56,$J56,$L56,$N56,$P56,$R56,$T56,$V56,$X56),6)","v":0},{"$f":"LARGE(($H56,$J56,$L56,$N56,$P56,$R56,$T56,$V56,$X56),7)","v":0},{"$f":"LARGE(($H56,$J56,$L56,$N56,$P56,$R56,$T56,$V56,$X56),8)","v":0},{"$f":"LARGE(($H56,$J56,$L56,$N56,$P56,$R56,$T56,$V56,$X56),9)","v":0}]
[53,2003,"MÖLLER Petter","Sollentuna SLK",24,24,null,{"$f":"LOOKUP(G57,Poängberäkning!$B$6:$B$97,Poängberäkning!$C$6:$C$97)","v":0},null,{"$f":"LOOKUP(I57,Poängberäkning!$B$6:$B$97,Poängberäkning!$C$6:$C$97)","v":0},null,{"$f":"LOOKUP(K57,Poängberäkning!$B$6:$B$97,Poängberäkning!$C$6:$C$97)","v":0},null,{"$f":"LOOKUP(M57,Poängberäkning!$B$6:$B$97,Poängberäkning!$C$6:$C$97)","v":0},27,{"$f":"LOOKUP(O57,Poängberäkning!$B$6:$B$97,Poängberäkning!$C$6:$C$97)","v":24},null,{"$f":"LOOKUP(Q57,[1]Poängberäkning!$B$6:$B$97,[1]Poängberäkning!$C$6:$C$97)","v":0},null,{"$f":"LOOKUP(S57,[1]Poängberäkning!$B$6:$B$97,[1]Poängberäkning!$C$6:$C$97)","v":0},null,{"$f":"LOOKUP(U57,[1]Poängberäkning!$B$6:$B$97,[1]Poängberäkning!$C$6:$C$97)","v":0},null,{"$f":"LOOKUP(W57,[1]Poängberäkning!$B$6:$B$97,[1]Poängberäkning!$C$6:$C$97)","v":0},{"$f":"LARGE(($H57,$J57,$L57,$N57,$P57,$R57,$T57,$V57,$X57),1)","v":24},{"$f":"LARGE(($H57,$J57,$L57,$N57,$P57,$R57,$T57,$V57,$X57),2)","v":0},{"$f":"LARGE(($H57,$J57,$L57,$N57,$P57,$R57,$T57,$V57,$X57),3)","v":0},{"$f":"LARGE(($H57,$J57,$L57,$N57,$P57,$R57,$T57,$V57,$X57),4)","v":0},{"$f":"LARGE(($H57,$J57,$L57,$N57,$P57,$R57,$T57,$V57,$X57),5)","v":0},{"$f":"LARGE(($H57,$J57,$L57,$N57,$P57,$R57,$T57,$V57,$X57),6)","v":0},{"$f":"LARGE(($H57,$J57,$L57,$N57,$P57,$R57,$T57,$V57,$X57),7)","v":0},{"$f":"LARGE(($H57,$J57,$L57,$N57,$P57,$R57,$T57,$V57,$X57),8)","v":0},{"$f":"LARGE(($H57,$J57,$L57,$N57,$P57,$R57,$T57,$V57,$X57),9)","v":0}]
[54,2002,"SWANBERG Henrik","Västerås Slalomklubb",23,23,null,{"$f":"LOOKUP(G58,Poängberäkning!$B$6:$B$97,Poängberäkning!$C$6:$C$97)","v":0},99,{"$f":"LOOKUP(I58,Poängberäkning!$B$6:$B$97,Poängberäkning!$C$6:$C$97)","v":0},99,{"$f":"LOOKUP(K58,Poängberäkning!$B$6:$B$97,Poängberäkning!$C$6:$C$97)","v":0},99,{"$f":"LOOKUP(M58,Poängberäkning!$B$6:$B$97,Poängberäkning!$C$6:$C$97)","v":0},28,{"$f":"LOOKUP(O58,Poängberäkning!$B$6:$B$97,Poängberäkning!$C$6:$C$97)","v":23},null,{"$f":"LOOKUP(Q58,[1]Poängberäkning!$B$6:$B$97,[1]Poängberäkning!$C$6:$C$97)","v":0},null,{"$f":"LOOKUP(S58,[1]Poängberäkning!$B$6:$B$97,[1]Poängberäkning!$C$6:$C$97)","v":0},null,{"$f":"LOOKUP(U58,[1]Poängberäkning!$B$6:$B$97,[1]Poängberäkning!$C$6:$C$97)","v":0},null,{"$f":"LOOKUP(W58,[1]Poängberäkning!$B$6:$B$97,[1]Poängberäkning!$C$6:$C$97)","v":0},{"$f":"LARGE(($H58,$J58,$L58,$N58,$P58,$R58,$T58,$V58,$X58),1)","v":23},{"$f":"LARGE(($H58,$J58,$L58,$N58,$P58,$R58,$T58,$V58,$X58),2)","v":0},{"$f":"LARGE(($H58,$J58,$L58,$N58,$P58,$R58,$T58,$V58,$X58),3)","v":0},{"$f":"LARGE(($H58,$J58,$L58,$N58,$P58,$R58,$T58,$V58,$X58),4)","v":0},{"$f":"LARGE(($H58,$J58,$L58,$N58,$P58,$R58,$T58,$V58,$X58),5)","v":0},{"$f":"LARGE(($H58,$J58,$L58,$N58,$P58,$R58,$T58,$V58,$X58),6)","v":0},{"$f":"LARGE(($H58,$J58,$L58,$N58,$P58,$R58,$T58,$V58,$X58),7)","v":0},{"$f":"LARGE(($H58,$J58,$L58,$N58,$P58,$R58,$T58,$V58,$X58),8)","v":0},{"$f":"LARGE(($H58,$J58,$L58,$N58,$P58,$R58,$T58,$V58,$X58),9)","v":0}]
[55,2003,"LUNDEBERG Viktor","Västerås Slalomklubb",22,22,null,{"$f":"LOOKUP(G59,Poängberäkning!$B$6:$B$97,Poängberäkning!$C$6:$C$97)","v":0},null,{"$f":"LOOKUP(I59,Poängberäkning!$B$6:$B$97,Poängberäkning!$C$6:$C$97)","v":0},null,{"$f":"LOOKUP(K59,Poängberäkning!$B$6:$B$97,Poängberäkning!$C$6:$C$97)","v":0},null,{"$f":"LOOKUP(M59,Poängberäkning!$B$6:$B$97,Poängberäkning!$C$6:$C$97)","v":0},29,{"$f":"LOOKUP(O59,Poängberäkning!$B$6:$B$97,Poängberäkning!$C$6:$C$97)","v":22},null,{"$f":"LOOKUP(Q59,[1]Poängberäkning!$B$6:$B$97,[1]Poängberäkning!$C$6:$C$97)","v":0},null,{"$f":"LOOKUP(S59,[1]Poängberäkning!$B$6:$B$97,[1]Poängberäkning!$C$6:$C$97)","v":0},null,{"$f":"LOOKUP(U59,[1]Poängberäkning!$B$6:$B$97,[1]Poängberäkning!$C$6:$C$97)","v":0},null,{"$f":"LOOKUP(W59,[1]Poängberäkning!$B$6:$B$97,[1]Poängberäkning!$C$6:$C$97)","v":0},{"$f":"LARGE(($H59,$J59,$L59,$N59,$P59,$R59,$T59,$V59,$X59),1)","v":22},{"$f":"LARGE(($H59,$J59,$L59,$N59,$P59,$R59,$T59,$V59,$X59),2)","v":0},{"$f":"LARGE(($H59,$J59,$L59,$N59,$P59,$R59,$T59,$V59,$X59),3)","v":0},{"$f":"LARGE(($H59,$J59,$L59,$N59,$P59,$R59,$T59,$V59,$X59),4)","v":0},{"$f":"LARGE(($H59,$J59,$L59,$N59,$P59,$R59,$T59,$V59,$X59),5)","v":0},{"$f":"LARGE(($H59,$J59,$L59,$N59,$P59,$R59,$T59,$V59,$X59),6)","v":0},{"$f":"LARGE(($H59,$J59,$L59,$N59,$P59,$R59,$T59,$V59,$X59),7)","v":0},{"$f":"LARGE(($H59,$J59,$L59,$N59,$P59,$R59,$T59,$V59,$X59),8)","v":0},{"$f":"LARGE(($H59,$J59,$L59,$N59,$P59,$R59,$T59,$V59,$X59),9)","v":0}]
[56,2003,"BERLIN Rasmus","Båsenberga SLK",21,21,null,{"$f":"LOOKUP(G60,Poängberäkning!$B$6:$B$97,Poängberäkning!$C$6:$C$97)","v":0},null,{"$f":"LOOKUP(I60,Poängberäkning!$B$6:$B$97,Poängberäkning!$C$6:$C$97)","v":0},null,{"$f":"LOOKUP(K60,Poängberäkning!$B$6:$B$97,Poängberäkning!$C$6:$C$97)","v":0},null,{"$f":"LOOKUP(M60,Poängberäkning!$B$6:$B$97,Poängberäkning!$C$6:$C$97)","v":0},30,{"$f":"LOOKUP(O60,Poängberäkning!$B$6:$B$97,Poängberäkning!$C$6:$C$97)","v":21},null,{"$f":"LOOKUP(Q60,[1]Poängberäkning!$B$6:$B$97,[1]Poängberäkning!$C$6:$C$97)","v":0},null,{"$f":"LOOKUP(S60,[1]Poängberäkning!$B$6:$B$97,[1]Poängberäkning!$C$6:$C$97)","v":0},null,{"$f":"LOOKUP(U60,[1]Poängberäkning!$B$6:$B$97,[1]Poängberäkning!$C$6:$C$97)","v":0},null,{"$f":"LOOKUP(W60,[1]Poängberäkning!$B$6:$B$97,[1]Poängberäkning!$C$6:$C$97)","v":0},{"$f":"LARGE(($H60,$J60,$L60,$N60,$P60,$R60,$T60,$V60,$X60),1)","v":21},{"$f":"LARGE(($H60,$J60,$L60,$N60,$P60,$R60,$T60,$V60,$X60),2)","v":0},{"$f":"LARGE(($H60,$J60,$L60,$N60,$P60,$R60,$T60,$V60,$X60),3)","v":0},{"$f":"LARGE(($H60,$J60,$L60,$N60,$P60,$R60,$T60,$V60,$X60),4)","v":0},{"$f":"LARGE(($H60,$J60,$L60,$N60,$P60,$R60,$T60,$V60,$X60),5)","v":0},{"$f":"LARGE(($H60,$J60,$L60,$N60,$P60,$R60,$T60,$V60,$X60),6)","v":0},{"$f":"LARGE(($H60,$J60,$L60,$N60,$P60,$R60,$T60,$V60,$X60),7)","v":0},{"$f":"LARGE(($H60,$J60,$L60,$N60,$P60,$R60,$T60,$V60,$X60),8)","v":0},{"$f":"LARGE(($H60,$J60,$L60,$N60,$P60,$R60,$T60,$V60,$X60),9)","v":0}]
[57,2003,"ULVENVALL Joel","Sollentuna SLK",20,20,null,{"$f":"LOOKUP(G61,Poängberäkning!$B$6:$B$97,Poängberäkning!$C$6:$C$97)","v":0},null,{"$f":"LOOKUP(I61,Poängberäkning!$B$6:$B$97,Poängberäkning!$C$6:$C$97)","v":0},null,{"$f":"LOOKUP(K61,Poängberäkning!$B$6:$B$97,Poängberäkning!$C$6:$C$97)","v":0},null,{"$f":"LOOKUP(M61,Poängberäkning!$B$6:$B$97,Poängberäkning!$C$6:$C$97)","v":0},31,{"$f":"LOOKUP(O61,Poängberäkning!$B$6:$B$97,Poängberäkning!$C$6:$C$97)","v":20},null,{"$f":"LOOKUP(Q61,[1]Poängberäkning!$B$6:$B$97,[1]Poängberäkning!$C$6:$C$97)","v":0},null,{"$f":"LOOKUP(S61,[1]Poängberäkning!$B$6:$B$97,[1]Poängberäkning!$C$6:$C$97)","v":0},null,{"$f":"LOOKUP(U61,[1]Poängberäkning!$B$6:$B$97,[1]Poängberäkning!$C$6:$C$97)","v":0},null,{"$f":"LOOKUP(W61,[1]Poängberäkning!$B$6:$B$97,[1]Poängberäkning!$C$6:$C$97)","v":0},{"$f":"LARGE(($H61,$J61,$L61,$N61,$P61,$R61,$T61,$V61,$X61),1)","v":20},{"$f":"LARGE(($H61,$J61,$L61,$N61,$P61,$R61,$T61,$V61,$X61),2)","v":0},{"$f":"LARGE(($H61,$J61,$L61,$N61,$P61,$R61,$T61,$V61,$X61),3)","v":0},{"$f":"LARGE(($H61,$J61,$L61,$N61,$P61,$R61,$T61,$V61,$X61),4)","v":0},{"$f":"LARGE(($H61,$J61,$L61,$N61,$P61,$R61,$T61,$V61,$X61),5)","v":0},{"$f":"LARGE(($H61,$J61,$L61,$N61,$P61,$R61,$T61,$V61,$X61),6)","v":0},{"$f":"LARGE(($H61,$J61,$L61,$N61,$P61,$R61,$T61,$V61,$X61),7)","v":0},{"$f":"LARGE(($H61,$J61,$L61,$N61,$P61,$R61,$T61,$V61,$X61),8)","v":0},{"$f":"LARGE(($H61,$J61,$L61,$N61,$P61,$R61,$T61,$V61,$X61),9)","v":0}]
[58,2003,"TOLLAN Markus","Tunafors SK",19,19,null,{"$f":"LOOKUP(G62,Poängberäkning!$B$6:$B$97,Poängberäkning!$C$6:$C$97)","v":0},null,{"$f":"LOOKUP(I62,Poängberäkning!$B$6:$B$97,Poängberäkning!$C$6:$C$97)","v":0},null,{"$f":"LOOKUP(K62,Poängberäkning!$B$6:$B$97,Poängberäkning!$C$6:$C$97)","v":0},null,{"$f":"LOOKUP(M62,Poängberäkning!$B$6:$B$97,Poängberäkning!$C$6:$C$97)","v":0},32,{"$f":"LOOKUP(O62,Poängberäkning!$B$6:$B$97,Poängberäkning!$C$6:$C$97)","v":19},null,{"$f":"LOOKUP(Q62,[1]Poängberäkning!$B$6:$B$97,[1]Poängberäkning!$C$6:$C$97)","v":0},null,{"$f":"LOOKUP(S62,[1]Poängberäkning!$B$6:$B$97,[1]Poängberäkning!$C$6:$C$97)","v":0},null,{"$f":"LOOKUP(U62,[1]Poängberäkning!$B$6:$B$97,[1]Poängberäkning!$C$6:$C$97)","v":0},null,{"$f":"LOOKUP(W62,[1]Poängberäkning!$B$6:$B$97,[1]Poängberäkning!$C$6:$C$97)","v":0},{"$f":"LARGE(($H62,$J62,$L62,$N62,$P62,$R62,$T62,$V62,$X62),1)","v":19},{"$f":"LARGE(($H62,$J62,$L62,$N62,$P62,$R62,$T62,$V62,$X62),2)","v":0},{"$f":"LARGE(($H62,$J62,$L62,$N62,$P62,$R62,$T62,$V62,$X62),3)","v":0},{"$f":"LARGE(($H62,$J62,$L62,$N62,$P62,$R62,$T62,$V62,$X62),4)","v":0},{"$f":"LARGE(($H62,$J62,$L62,$N62,$P62,$R62,$T62,$V62,$X62),5)","v":0},{"$f":"LARGE(($H62,$J62,$L62,$N62,$P62,$R62,$T62,$V62,$X62),6)","v":0},{"$f":"LARGE(($H62,$J62,$L62,$N62,$P62,$R62,$T62,$V62,$X62),7)","v":0},{"$f":"LARGE(($H62,$J62,$L62,$N62,$P62,$R62,$T62,$V62,$X62),8)","v":0},{"$f":"LARGE(($H62,$J62,$L62,$N62,$P62,$R62,$T62,$V62,$X62),9)","v":0}]
[59,2002,"VRETBLOM Martin","Kungsbergets AK",17,17,null,{"$f":"LOOKUP(G63,Poängberäkning!$B$6:$B$97,Poängberäkning!$C$6:$C$97)","v":0},null,{"$f":"LOOKUP(I63,Poängberäkning!$B$6:$B$97,Poängberäkning!$C$6:$C$97)","v":0},null,{"$f":"LOOKUP(K63,Poängberäkning!$B$6:$B$97,Poängberäkning!$C$6:$C$97)","v":0},null,{"$f":"LOOKUP(M63,Poängberäkning!$B$6:$B$97,Poängberäkning!$C$6:$C$97)","v":0},34,{"$f":"LOOKUP(O63,Poängberäkning!$B$6:$B$97,Poängberäkning!$C$6:$C$97)","v":17},null,{"$f":"LOOKUP(Q63,[1]Poängberäkning!$B$6:$B$97,[1]Poängberäkning!$C$6:$C$97)","v":0},null,{"$f":"LOOKUP(S63,[1]Poängberäkning!$B$6:$B$97,[1]Poängberäkning!$C$6:$C$97)","v":0},null,{"$f":"LOOKUP(U63,[1]Poängberäkning!$B$6:$B$97,[1]Poängberäkning!$C$6:$C$97)","v":0},null,{"$f":"LOOKUP(W63,[1]Poängberäkning!$B$6:$B$97,[1]Poängberäkning!$C$6:$C$97)","v":0},{"$f":"LARGE(($H63,$J63,$L63,$N63,$P63,$R63,$T63,$V63,$X63),1)","v":17},{"$f":"LARGE(($H63,$J63,$L63,$N63,$P63,$R63,$T63,$V63,$X63),2)","v":0},{"$f":"LARGE(($H63,$J63,$L63,$N63,$P63,$R63,$T63,$V63,$X63),3)","v":0},{"$f":"LARGE(($H63,$J63,$L63,$N63,$P63,$R63,$T63,$V63,$X63),4)","v":0},{"$f":"LARGE(($H63,$J63,$L63,$N63,$P63,$R63,$T63,$V63,$X63),5)","v":0},{"$f":"LARGE(($H63,$J63,$L63,$N63,$P63,$R63,$T63,$V63,$X63),6)","v":0},{"$f":"LARGE(($H63,$J63,$L63,$N63,$P63,$R63,$T63,$V63,$X63),7)","v":0},{"$f":"LARGE(($H63,$J63,$L63,$N63,$P63,$R63,$T63,$V63,$X63),8)","v":0},{"$f":"LARGE(($H63,$J63,$L63,$N63,$P63,$R63,$T63,$V63,$X63),9)","v":0}]
[60,2002,"NILSSON Emil","Huddinge SK AF",16,16,null,{"$f":"LOOKUP(G64,Poängberäkning!$B$6:$B$97,Poängberäkning!$C$6:$C$97)","v":0},null,{"$f":"LOOKUP(I64,Poängberäkning!$B$6:$B$97,Poängberäkning!$C$6:$C$97)","v":0},null,{"$f":"LOOKUP(K64,Poängberäkning!$B$6:$B$97,Poängberäkning!$C$6:$C$97)","v":0},null,{"$f":"LOOKUP(M64,Poängberäkning!$B$6:$B$97,Poängberäkning!$C$6:$C$97)","v":0},35,{"$f":"LOOKUP(O64,Poängberäkning!$B$6:$B$97,Poängberäkning!$C$6:$C$97)","v":16},null,{"$f":"LOOKUP(Q64,[1]Poängberäkning!$B$6:$B$97,[1]Poängberäkning!$C$6:$C$97)","v":0},null,{"$f":"LOOKUP(S64,[1]Poängberäkning!$B$6:$B$97,[1]Poängberäkning!$C$6:$C$97)","v":0},null,{"$f":"LOOKUP(U64,[1]Poängberäkning!$B$6:$B$97,[1]Poängberäkning!$C$6:$C$97)","v":0},null,{"$f":"LOOKUP(W64,[1]Poängberäkning!$B$6:$B$97,[1]Poängberäkning!$C$6:$C$97)","v":0},{"$f":"LARGE(($H64,$J64,$L64,$N64,$P64,$R64,$T64,$V64,$X64),1)","v":16},{"$f":"LARGE(($H64,$J64,$L64,$N64,$P64,$R64,$T64,$V64,$X64),2)","v":0},{"$f":"LARGE(($H64,$J64,$L64,$N64,$P64,$R64,$T64,$V64,$X64),3)","v":0},{"$f":"LARGE(($H64,$J64,$L64,$N64,$P64,$R64,$T64,$V64,$X64),4)","v":0},{"$f":"LARGE(($H64,$J64,$L64,$N64,$P64,$R64,$T64,$V64,$X64),5)","v":0},{"$f":"LARGE(($H64,$J64,$L64,$N64,$P64,$R64,$T64,$V64,$X64),6)","v":0},{"$f":"LARGE(($H64,$J64,$L64,$N64,$P64,$R64,$T64,$V64,$X64),7)","v":0},{"$f":"LARGE(($H64,$J64,$L64,$N64,$P64,$R64,$T64,$V64,$X64),8)","v":0},{"$f":"LARGE(($H64,$J64,$L64,$N64,$P64,$R64,$T64,$V64,$X64),9)","v":0}]
[61,2003,"BERGSTRÖM Oskar","Uppsala SLK",15,15,null,{"$f":"LOOKUP(G65,Poängberäkning!$B$6:$B$97,Poängberäkning!$C$6:$C$97)","v":0},null,{"$f":"LOOKUP(I65,Poängberäkning!$B$6:$B$97,Poängberäkning!$C$6:$C$97)","v":0},null,{"$f":"LOOKUP(K65,Poängberäkning!$B$6:$B$97,Poängberäkning!$C$6:$C$97)","v":0},null,{"$f":"LOOKUP(M65,Poängberäkning!$B$6:$B$97,Poängberäkning!$C$6:$C$97)","v":0},36,{"$f":"LOOKUP(O65,Poängberäkning!$B$6:$B$97,Poängberäkning!$C$6:$C$97)","v":15},null,{"$f":"LOOKUP(Q65,[1]Poängberäkning!$B$6:$B$97,[1]Poängberäkning!$C$6:$C$97)","v":0},null,{"$f":"LOOKUP(S65,[1]Poängberäkning!$B$6:$B$97,[1]Poängberäkning!$C$6:$C$97)","v":0},null,{"$f":"LOOKUP(U65,[1]Poängberäkning!$B$6:$B$97,[1]Poängberäkning!$C$6:$C$97)","v":0},null,{"$f":"LOOKUP(W65,[1]Poängberäkning!$B$6:$B$97,[1]Poängberäkning!$C$6:$C$97)","v":0},{"$f":"LARGE(($H65,$J65,$L65,$N65,$P65,$R65,$T65,$V65,$X65),1)","v":15},{"$f":"LARGE(($H65,$J65,$L65,$N65,$P65,$R65,$T65,$V65,$X65),2)","v":0},{"$f":"LARGE(($H65,$J65,$L65,$N65,$P65,$R65,$T65,$V65,$X65),3)","v":0},{"$f":"LARGE(($H65,$J65,$L65,$N65,$P65,$R65,$T65,$V65,$X65),4)","v":0},{"$f":"LARGE(($H65,$J65,$L65,$N65,$P65,$R65,$T65,$V65,$X65),5)","v":0},{"$f":"LARGE(($H65,$J65,$L65,$N65,$P65,$R65,$T65,$V65,$X65),6)","v":0},{"$f":"LARGE(($H65,$J65,$L65,$N65,$P65,$R65,$T65,$V65,$X65),7)","v":0},{"$f":"LARGE(($H65,$J65,$L65,$N65,$P65,$R65,$T65,$V65,$X65),8)","v":0},{"$f":"LARGE(($H65,$J65,$L65,$N65,$P65,$R65,$T65,$V65,$X65),9)","v":0}]
[62,2002,"LÖFGREEN Didrik","Saltsjöbadens SLK",0,0,null,{"$f":"LOOKUP(G66,Poängberäkning!$B$6:$B$97,Poängberäkning!$C$6:$C$97)","v":0},null,{"$f":"LOOKUP(I66,Poängberäkning!$B$6:$B$97,Poängberäkning!$C$6:$C$97)","v":0},null,{"$f":"LOOKUP(K66,Poängberäkning!$B$6:$B$97,Poängberäkning!$C$6:$C$97)","v":0},null,{"$f":"LOOKUP(M66,Poängberäkning!$B$6:$B$97,Poängberäkning!$C$6:$C$97)","v":0},99,{"$f":"LOOKUP(O66,Poängberäkning!$B$6:$B$97,Poängberäkning!$C$6:$C$97)","v":0},null,{"$f":"LOOKUP(Q66,[1]Poängberäkning!$B$6:$B$97,[1]Poängberäkning!$C$6:$C$97)","v":0},null,{"$f":"LOOKUP(S66,[1]Poängberäkning!$B$6:$B$97,[1]Poängberäkning!$C$6:$C$97)","v":0},null,{"$f":"LOOKUP(U66,[1]Poängberäkning!$B$6:$B$97,[1]Poängberäkning!$C$6:$C$97)","v":0},null,{"$f":"LOOKUP(W66,[1]Poängberäkning!$B$6:$B$97,[1]Poängberäkning!$C$6:$C$97)","v":0},{"$f":"LARGE(($H66,$J66,$L66,$N66,$P66,$R66,$T66,$V66,$X66),1)","v":0},{"$f":"LARGE(($H66,$J66,$L66,$N66,$P66,$R66,$T66,$V66,$X66),2)","v":0},{"$f":"LARGE(($H66,$J66,$L66,$N66,$P66,$R66,$T66,$V66,$X66),3)","v":0},{"$f":"LARGE(($H66,$J66,$L66,$N66,$P66,$R66,$T66,$V66,$X66),4)","v":0},{"$f":"LARGE(($H66,$J66,$L66,$N66,$P66,$R66,$T66,$V66,$X66),5)","v":0},{"$f":"LARGE(($H66,$J66,$L66,$N66,$P66,$R66,$T66,$V66,$X66),6)","v":0},{"$f":"LARGE(($H66,$J66,$L66,$N66,$P66,$R66,$T66,$V66,$X66),7)","v":0},{"$f":"LARGE(($H66,$J66,$L66,$N66,$P66,$R66,$T66,$V66,$X66),8)","v":0},{"$f":"LARGE(($H66,$J66,$L66,$N66,$P66,$R66,$T66,$V66,$X66),9)","v":0}]
[63,2003,"FLAM Gustav","Västerås Slalomklubb",0,0,null,{"$f":"LOOKUP(G67,Poängberäkning!$B$6:$B$97,Poängberäkning!$C$6:$C$97)","v":0},null,{"$f":"LOOKUP(I67,Poängberäkning!$B$6:$B$97,Poängberäkning!$C$6:$C$97)","v":0},null,{"$f":"LOOKUP(K67,Poängberäkning!$B$6:$B$97,Poängberäkning!$C$6:$C$97)","v":0},null,{"$f":"LOOKUP(M67,Poängberäkning!$B$6:$B$97,Poängberäkning!$C$6:$C$97)","v":0},null,{"$f":"LOOKUP(O67,Poängberäkning!$B$6:$B$97,Poängberäkning!$C$6:$C$97)","v":0},null,{"$f":"LOOKUP(Q67,[1]Poängberäkning!$B$6:$B$97,[1]Poängberäkning!$C$6:$C$97)","v":0},null,{"$f":"LOOKUP(S67,[1]Poängberäkning!$B$6:$B$97,[1]Poängberäkning!$C$6:$C$97)","v":0},null,{"$f":"LOOKUP(U67,[1]Poängberäkning!$B$6:$B$97,[1]Poängberäkning!$C$6:$C$97)","v":0},null,{"$f":"LOOKUP(W67,[1]Poängberäkning!$B$6:$B$97,[1]Poängberäkning!$C$6:$C$97)","v":0},{"$f":"LARGE(($H67,$J67,$L67,$N67,$P67,$R67,$T67,$V67,$X67),1)","v":0},{"$f":"LARGE(($H67,$J67,$L67,$N67,$P67,$R67,$T67,$V67,$X67),2)","v":0},{"$f":"LARGE(($H67,$J67,$L67,$N67,$P67,$R67,$T67,$V67,$X67),3)","v":0},{"$f":"LARGE(($H67,$J67,$L67,$N67,$P67,$R67,$T67,$V67,$X67),4)","v":0},{"$f":"LARGE(($H67,$J67,$L67,$N67,$P67,$R67,$T67,$V67,$X67),5)","v":0},{"$f":"LARGE(($H67,$J67,$L67,$N67,$P67,$R67,$T67,$V67,$X67),6)","v":0},{"$f":"LARGE(($H67,$J67,$L67,$N67,$P67,$R67,$T67,$V67,$X67),7)","v":0},{"$f":"LARGE(($H67,$J67,$L67,$N67,$P67,$R67,$T67,$V67,$X67),8)","v":0},{"$f":"LARGE(($H67,$J67,$L67,$N67,$P67,$R67,$T67,$V67,$X67),9)","v":0}]
[64,2002,"FORSMAN Carl Johan","Malungs SLK",0,0,null,{"$f":"LOOKUP(G68,Poängberäkning!$B$6:$B$97,Poängberäkning!$C$6:$C$97)","v":0},null,{"$f":"LOOKUP(I68,Poängberäkning!$B$6:$B$97,Poängberäkning!$C$6:$C$97)","v":0},null,{"$f":"LOOKUP(K68,Poängberäkning!$B$6:$B$97,Poängberäkning!$C$6:$C$97)","v":0},99,{"$f":"LOOKUP(M68,Poängberäkning!$B$6:$B$97,Poängberäkning!$C$6:$C$97)","v":0},null,{"$f":"LOOKUP(O68,Poängberäkning!$B$6:$B$97,Poängberäkning!$C$6:$C$97)","v":0},null,{"$f":"LOOKUP(Q68,[1]Poängberäkning!$B$6:$B$97,[1]Poängberäkning!$C$6:$C$97)","v":0},null,{"$f":"LOOKUP(S68,[1]Poängberäkning!$B$6:$B$97,[1]Poängberäkning!$C$6:$C$97)","v":0},null,{"$f":"LOOKUP(U68,[1]Poängberäkning!$B$6:$B$97,[1]Poängberäkning!$C$6:$C$97)","v":0},null,{"$f":"LOOKUP(W68,[1]Poängberäkning!$B$6:$B$97,[1]Poängberäkning!$C$6:$C$97)","v":0},{"$f":"LARGE(($H68,$J68,$L68,$N68,$P68,$R68,$T68,$V68,$X68),1)","v":0},{"$f":"LARGE(($H68,$J68,$L68,$N68,$P68,$R68,$T68,$V68,$X68),2)","v":0},{"$f":"LARGE(($H68,$J68,$L68,$N68,$P68,$R68,$T68,$V68,$X68),3)","v":0},{"$f":"LARGE(($H68,$J68,$L68,$N68,$P68,$R68,$T68,$V68,$X68),4)","v":0},{"$f":"LARGE(($H68,$J68,$L68,$N68,$P68,$R68,$T68,$V68,$X68),5)","v":0},{"$f":"LARGE(($H68,$J68,$L68,$N68,$P68,$R68,$T68,$V68,$X68),6)","v":0},{"$f":"LARGE(($H68,$J68,$L68,$N68,$P68,$R68,$T68,$V68,$X68),7)","v":0},{"$f":"LARGE(($H68,$J68,$L68,$N68,$P68,$R68,$T68,$V68,$X68),8)","v":0},{"$f":"LARGE(($H68,$J68,$L68,$N68,$P68,$R68,$T68,$V68,$X68),9)","v":0}]
[65,2002,"GRANQVIST Jesper","Edsbyns IF Alpina Förening",{"$f":"SUM(Y69:AA69)","v":0},{"$f":"H69+J69+L69+N69+P69+R69+T69+V69+X69","v":0},null,{"$f":"LOOKUP(G69,Poängberäkning!$B$6:$B$97,Poängberäkning!$C$6:$C$97)","v":0},null,{"$f":"LOOKUP(I69,Poängberäkning!$B$6:$B$97,Poängberäkning!$C$6:$C$97)","v":0},null,{"$f":"LOOKUP(K69,Poängberäkning!$B$6:$B$97,Poängberäkning!$C$6:$C$97)","v":0},null,{"$f":"LOOKUP(M69,Poängberäkning!$B$6:$B$97,Poängberäkning!$C$6:$C$97)","v":0},null,{"$f":"LOOKUP(O69,Poängberäkning!$B$6:$B$97,Poängberäkning!$C$6:$C$97)","v":0},null,{"$f":"LOOKUP(Q69,[1]Poängberäkning!$B$6:$B$97,[1]Poängberäkning!$C$6:$C$97)","v":0},null,{"$f":"LOOKUP(S69,[1]Poängberäkning!$B$6:$B$97,[1]Poängberäkning!$C$6:$C$97)","v":0},null,{"$f":"LOOKUP(U69,[1]Poängberäkning!$B$6:$B$97,[1]Poängberäkning!$C$6:$C$97)","v":0},null,{"$f":"LOOKUP(W69,[1]Poängberäkning!$B$6:$B$97,[1]Poängberäkning!$C$6:$C$97)","v":0},{"$f":"LARGE(($H69,$J69,$L69,$N69,$P69,$R69,$T69,$V69,$X69),1)","v":0},{"$f":"LARGE(($H69,$J69,$L69,$N69,$P69,$R69,$T69,$V69,$X69),2)","v":0},{"$f":"LARGE(($H69,$J69,$L69,$N69,$P69,$R69,$T69,$V69,$X69),3)","v":0},{"$f":"LARGE(($H69,$J69,$L69,$N69,$P69,$R69,$T69,$V69,$X69),4)","v":0},{"$f":"LARGE(($H69,$J69,$L69,$N69,$P69,$R69,$T69,$V69,$X69),5)","v":0},{"$f":"LARGE(($H69,$J69,$L69,$N69,$P69,$R69,$T69,$V69,$X69),6)","v":0},{"$f":"LARGE(($H69,$J69,$L69,$N69,$P69,$R69,$T69,$V69,$X69),7)","v":0},{"$f":"LARGE(($H69,$J69,$L69,$N69,$P69,$R69,$T69,$V69,$X69),8)","v":0},{"$f":"LARGE(($H69,$J69,$L69,$N69,$P69,$R69,$T69,$V69,$X69),9)","v":0}]
[66,2003,"KLYS Arvid","Leksands SLK",0,0,null,{"$f":"LOOKUP(G70,Poängberäkning!$B$6:$B$97,Poängberäkning!$C$6:$C$97)","v":0},null,{"$f":"LOOKUP(I70,Poängberäkning!$B$6:$B$97,Poängberäkning!$C$6:$C$97)","v":0},null,{"$f":"LOOKUP(K70,Poängberäkning!$B$6:$B$97,Poängberäkning!$C$6:$C$97)","v":0},null,{"$f":"LOOKUP(M70,Poängberäkning!$B$6:$B$97,Poängberäkning!$C$6:$C$97)","v":0},null,{"$f":"LOOKUP(O70,Poängberäkning!$B$6:$B$97,Poängberäkning!$C$6:$C$97)","v":0},null,{"$f":"LOOKUP(Q70,[1]Poängberäkning!$B$6:$B$97,[1]Poängberäkning!$C$6:$C$97)","v":0},null,{"$f":"LOOKUP(S70,[1]Poängberäkning!$B$6:$B$97,[1]Poängberäkning!$C$6:$C$97)","v":0},null,{"$f":"LOOKUP(U70,[1]Poängberäkning!$B$6:$B$97,[1]Poängberäkning!$C$6:$C$97)","v":0},null,{"$f":"LOOKUP(W70,[1]Poängberäkning!$B$6:$B$97,[1]Poängberäkning!$C$6:$C$97)","v":0},{"$f":"LARGE(($H70,$J70,$L70,$N70,$P70,$R70,$T70,$V70,$X70),1)","v":0},{"$f":"LARGE(($H70,$J70,$L70,$N70,$P70,$R70,$T70,$V70,$X70),2)","v":0},{"$f":"LARGE(($H70,$J70,$L70,$N70,$P70,$R70,$T70,$V70,$X70),3)","v":0},{"$f":"LARGE(($H70,$J70,$L70,$N70,$P70,$R70,$T70,$V70,$X70),4)","v":0},{"$f":"LARGE(($H70,$J70,$L70,$N70,$P70,$R70,$T70,$V70,$X70),5)","v":0},{"$f":"LARGE(($H70,$J70,$L70,$N70,$P70,$R70,$T70,$V70,$X70),6)","v":0},{"$f":"LARGE(($H70,$J70,$L70,$N70,$P70,$R70,$T70,$V70,$X70),7)","v":0},{"$f":"LARGE(($H70,$J70,$L70,$N70,$P70,$R70,$T70,$V70,$X70),8)","v":0},{"$f":"LARGE(($H70,$J70,$L70,$N70,$P70,$R70,$T70,$V70,$X70),9)","v":0}]
[{"$f":"A70+1","v":67},2002,"NILSSON Frode","Västerås Slalomklubb",0,0,null,{"$f":"LOOKUP(G71,Poängberäkning!$B$6:$B$97,Poängberäkning!$C$6:$C$97)","v":0},null,{"$f":"LOOKUP(I71,Poängberäkning!$B$6:$B$97,Poängberäkning!$C$6:$C$97)","v":0},null,{"$f":"LOOKUP(K71,Poängberäkning!$B$6:$B$97,Poängberäkning!$C$6:$C$97)","v":0},null,{"$f":"LOOKUP(M71,Poängberäkning!$B$6:$B$97,Poängberäkning!$C$6:$C$97)","v":0},null,{"$f":"LOOKUP(O71,Poängberäkning!$B$6:$B$97,Poängberäkning!$C$6:$C$97)","v":0},null,{"$f":"LOOKUP(Q71,[1]Poängberäkning!$B$6:$B$97,[1]Poängberäkning!$C$6:$C$97)","v":0},null,{"$f":"LOOKUP(S71,[1]Poängberäkning!$B$6:$B$97,[1]Poängberäkning!$C$6:$C$97)","v":0},null,{"$f":"LOOKUP(U71,[1]Poängberäkning!$B$6:$B$97,[1]Poängberäkning!$C$6:$C$97)","v":0},null,{"$f":"LOOKUP(W71,[1]Poängberäkning!$B$6:$B$97,[1]Poängberäkning!$C$6:$C$97)","v":0},{"$f":"LARGE(($H71,$J71,$L71,$N71,$P71,$R71,$T71,$V71,$X71),1)","v":0},{"$f":"LARGE(($H71,$J71,$L71,$N71,$P71,$R71,$T71,$V71,$X71),2)","v":0},{"$f":"LARGE(($H71,$J71,$L71,$N71,$P71,$R71,$T71,$V71,$X71),3)","v":0},{"$f":"LARGE(($H71,$J71,$L71,$N71,$P71,$R71,$T71,$V71,$X71),4)","v":0},{"$f":"LARGE(($H71,$J71,$L71,$N71,$P71,$R71,$T71,$V71,$X71),5)","v":0},{"$f":"LARGE(($H71,$J71,$L71,$N71,$P71,$R71,$T71,$V71,$X71),6)","v":0},{"$f":"LARGE(($H71,$J71,$L71,$N71,$P71,$R71,$T71,$V71,$X71),7)","v":0},{"$f":"LARGE(($H71,$J71,$L71,$N71,$P71,$R71,$T71,$V71,$X71),8)","v":0},{"$f":"LARGE(($H71,$J71,$L71,$N71,$P71,$R71,$T71,$V71,$X71),9)","v":0}]
[68,2003,"STRAUSS Ian","IFK Lidingö Slalomklubb",0,0,null,{"$f":"LOOKUP(G72,Poängberäkning!$B$6:$B$97,Poängberäkning!$C$6:$C$97)","v":0},null,{"$f":"LOOKUP(I72,Poängberäkning!$B$6:$B$97,Poängberäkning!$C$6:$C$97)","v":0},null,{"$f":"LOOKUP(K72,Poängberäkning!$B$6:$B$97,Poängberäkning!$C$6:$C$97)","v":0},null,{"$f":"LOOKUP(M72,Poängberäkning!$B$6:$B$97,Poängberäkning!$C$6:$C$97)","v":0},null,{"$f":"LOOKUP(O72,Poängberäkning!$B$6:$B$97,Poängberäkning!$C$6:$C$97)","v":0},null,{"$f":"LOOKUP(Q72,[1]Poängberäkning!$B$6:$B$97,[1]Poängberäkning!$C$6:$C$97)","v":0},null,{"$f":"LOOKUP(S72,[1]Poängberäkning!$B$6:$B$97,[1]Poängberäkning!$C$6:$C$97)","v":0},null,{"$f":"LOOKUP(U72,[1]Poängberäkning!$B$6:$B$97,[1]Poängberäkning!$C$6:$C$97)","v":0},null,{"$f":"LOOKUP(W72,[1]Poängberäkning!$B$6:$B$97,[1]Poängberäkning!$C$6:$C$97)","v":0},{"$f":"LARGE(($H72,$J72,$L72,$N72,$P72,$R72,$T72,$V72,$X72),1)","v":0},{"$f":"LARGE(($H72,$J72,$L72,$N72,$P72,$R72,$T72,$V72,$X72),2)","v":0},{"$f":"LARGE(($H72,$J72,$L72,$N72,$P72,$R72,$T72,$V72,$X72),3)","v":0},{"$f":"LARGE(($H72,$J72,$L72,$N72,$P72,$R72,$T72,$V72,$X72),4)","v":0},{"$f":"LARGE(($H72,$J72,$L72,$N72,$P72,$R72,$T72,$V72,$X72),5)","v":0},{"$f":"LARGE(($H72,$J72,$L72,$N72,$P72,$R72,$T72,$V72,$X72),6)","v":0},{"$f":"LARGE(($H72,$J72,$L72,$N72,$P72,$R72,$T72,$V72,$X72),7)","v":0},{"$f":"LARGE(($H72,$J72,$L72,$N72,$P72,$R72,$T72,$V72,$X72),8)","v":0},{"$f":"LARGE(($H72,$J72,$L72,$N72,$P72,$R72,$T72,$V72,$X72),9)","v":0}]
[69,2003,"SZEGNER Sebastian","Täby SLK",0,0,null,{"$f":"LOOKUP(G73,Poängberäkning!$B$6:$B$97,Poängberäkning!$C$6:$C$97)","v":0},null,{"$f":"LOOKUP(I73,Poängberäkning!$B$6:$B$97,Poängberäkning!$C$6:$C$97)","v":0},null,{"$f":"LOOKUP(K73,Poängberäkning!$B$6:$B$97,Poängberäkning!$C$6:$C$97)","v":0},null,{"$f":"LOOKUP(M73,Poängberäkning!$B$6:$B$97,Poängberäkning!$C$6:$C$97)","v":0},null,{"$f":"LOOKUP(O73,Poängberäkning!$B$6:$B$97,Poängberäkning!$C$6:$C$97)","v":0},null,{"$f":"LOOKUP(Q73,[1]Poängberäkning!$B$6:$B$97,[1]Poängberäkning!$C$6:$C$97)","v":0},null,{"$f":"LOOKUP(S73,[1]Poängberäkning!$B$6:$B$97,[1]Poängberäkning!$C$6:$C$97)","v":0},null,{"$f":"LOOKUP(U73,[1]Poängberäkning!$B$6:$B$97,[1]Poängberäkning!$C$6:$C$97)","v":0},null,{"$f":"LOOKUP(W73,[1]Poängberäkning!$B$6:$B$97,[1]Poängberäkning!$C$6:$C$97)","v":0},{"$f":"LARGE(($H73,$J73,$L73,$N73,$P73,$R73,$T73,$V73,$X73),1)","v":0},{"$f":"LARGE(($H73,$J73,$L73,$N73,$P73,$R73,$T73,$V73,$X73),2)","v":0},{"$f":"LARGE(($H73,$J73,$L73,$N73,$P73,$R73,$T73,$V73,$X73),3)","v":0},{"$f":"LARGE(($H73,$J73,$L73,$N73,$P73,$R73,$T73,$V73,$X73),4)","v":0},{"$f":"LARGE(($H73,$J73,$L73,$N73,$P73,$R73,$T73,$V73,$X73),5)","v":0},{"$f":"LARGE(($H73,$J73,$L73,$N73,$P73,$R73,$T73,$V73,$X73),6)","v":0},{"$f":"LARGE(($H73,$J73,$L73,$N73,$P73,$R73,$T73,$V73,$X73),7)","v":0},{"$f":"LARGE(($H73,$J73,$L73,$N73,$P73,$R73,$T73,$V73,$X73),8)","v":0},{"$f":"LARGE(($H73,$J73,$L73,$N73,$P73,$R73,$T73,$V73,$X73),9)","v":0}]
[70,2003,"WESSLÉN Noah Bucht","Djurgårdens IF AF",0,0,null,{"$f":"LOOKUP(G74,Poängberäkning!$B$6:$B$97,Poängberäkning!$C$6:$C$97)","v":0},null,{"$f":"LOOKUP(I74,Poängberäkning!$B$6:$B$97,Poängberäkning!$C$6:$C$97)","v":0},null,{"$f":"LOOKUP(K74,Poängberäkning!$B$6:$B$97,Poängberäkning!$C$6:$C$97)","v":0},null,{"$f":"LOOKUP(M74,Poängberäkning!$B$6:$B$97,Poängberäkning!$C$6:$C$97)","v":0},null,{"$f":"LOOKUP(O74,Poängberäkning!$B$6:$B$97,Poängberäkning!$C$6:$C$97)","v":0},null,{"$f":"LOOKUP(Q74,[1]Poängberäkning!$B$6:$B$97,[1]Poängberäkning!$C$6:$C$97)","v":0},null,{"$f":"LOOKUP(S74,[1]Poängberäkning!$B$6:$B$97,[1]Poängberäkning!$C$6:$C$97)","v":0},null,{"$f":"LOOKUP(U74,[1]Poängberäkning!$B$6:$B$97,[1]Poängberäkning!$C$6:$C$97)","v":0},null,{"$f":"LOOKUP(W74,[1]Poängberäkning!$B$6:$B$97,[1]Poängberäkning!$C$6:$C$97)","v":0},{"$f":"LARGE(($H74,$J74,$L74,$N74,$P74,$R74,$T74,$V74,$X74),1)","v":0},{"$f":"LARGE(($H74,$J74,$L74,$N74,$P74,$R74,$T74,$V74,$X74),2)","v":0},{"$f":"LARGE(($H74,$J74,$L74,$N74,$P74,$R74,$T74,$V74,$X74),3)","v":0},{"$f":"LARGE(($H74,$J74,$L74,$N74,$P74,$R74,$T74,$V74,$X74),4)","v":0},{"$f":"LARGE(($H74,$J74,$L74,$N74,$P74,$R74,$T74,$V74,$X74),5)","v":0},{"$f":"LARGE(($H74,$J74,$L74,$N74,$P74,$R74,$T74,$V74,$X74),6)","v":0},{"$f":"LARGE(($H74,$J74,$L74,$N74,$P74,$R74,$T74,$V74,$X74),7)","v":0},{"$f":"LARGE(($H74,$J74,$L74,$N74,$P74,$R74,$T74,$V74,$X74),8)","v":0},{"$f":"LARGE(($H74,$J74,$L74,$N74,$P74,$R74,$T74,$V74,$X74),9)","v":0}]
[71,2003,"WREDMARK Fabian","IFK Lidingö Slalomklubb",0,0,null,{"$f":"LOOKUP(G75,Poängberäkning!$B$6:$B$97,Poängberäkning!$C$6:$C$97)","v":0},null,{"$f":"LOOKUP(I75,Poängberäkning!$B$6:$B$97,Poängberäkning!$C$6:$C$97)","v":0},null,{"$f":"LOOKUP(K75,Poängberäkning!$B$6:$B$97,Poängberäkning!$C$6:$C$97)","v":0},null,{"$f":"LOOKUP(M75,Poängberäkning!$B$6:$B$97,Poängberäkning!$C$6:$C$97)","v":0},null,{"$f":"LOOKUP(O75,Poängberäkning!$B$6:$B$97,Poängberäkning!$C$6:$C$97)","v":0},null,{"$f":"LOOKUP(Q75,[1]Poängberäkning!$B$6:$B$97,[1]Poängberäkning!$C$6:$C$97)","v":0},null,{"$f":"LOOKUP(S75,[1]Poängberäkning!$B$6:$B$97,[1]Poängberäkning!$C$6:$C$97)","v":0},null,{"$f":"LOOKUP(U75,[1]Poängberäkning!$B$6:$B$97,[1]Poängberäkning!$C$6:$C$97)","v":0},null,{"$f":"LOOKUP(W75,[1]Poängberäkning!$B$6:$B$97,[1]Poängberäkning!$C$6:$C$97)","v":0},{"$f":"LARGE(($H75,$J75,$L75,$N75,$P75,$R75,$T75,$V75,$X75),1)","v":0},{"$f":"LARGE(($H75,$J75,$L75,$N75,$P75,$R75,$T75,$V75,$X75),2)","v":0},{"$f":"LARGE(($H75,$J75,$L75,$N75,$P75,$R75,$T75,$V75,$X75),3)","v":0},{"$f":"LARGE(($H75,$J75,$L75,$N75,$P75,$R75,$T75,$V75,$X75),4)","v":0},{"$f":"LARGE(($H75,$J75,$L75,$N75,$P75,$R75,$T75,$V75,$X75),5)","v":0},{"$f":"LARGE(($H75,$J75,$L75,$N75,$P75,$R75,$T75,$V75,$X75),6)","v":0},{"$f":"LARGE(($H75,$J75,$L75,$N75,$P75,$R75,$T75,$V75,$X75),7)","v":0},{"$f":"LARGE(($H75,$J75,$L75,$N75,$P75,$R75,$T75,$V75,$X75),8)","v":0},{"$f":"LARGE(($H75,$J75,$L75,$N75,$P75,$R75,$T75,$V75,$X75),9)","v":0}]
[72,null,null,null,0,0,null,{"$f":"LOOKUP(G76,Poängberäkning!$B$6:$B$97,Poängberäkning!$C$6:$C$97)","v":0},null,{"$f":"LOOKUP(I76,Poängberäkning!$B$6:$B$97,Poängberäkning!$C$6:$C$97)","v":0},null,{"$f":"LOOKUP(K76,Poängberäkning!$B$6:$B$97,Poängberäkning!$C$6:$C$97)","v":0},null,{"$f":"LOOKUP(M76,Poängberäkning!$B$6:$B$97,Poängberäkning!$C$6:$C$97)","v":0},null,{"$f":"LOOKUP(O76,Poängberäkning!$B$6:$B$97,Poängberäkning!$C$6:$C$97)","v":0},null,{"$f":"LOOKUP(Q76,[1]Poängberäkning!$B$6:$B$97,[1]Poängberäkning!$C$6:$C$97)","v":0},null,{"$f":"LOOKUP(S76,[1]Poängberäkning!$B$6:$B$97,[1]Poängberäkning!$C$6:$C$97)","v":0},null,{"$f":"LOOKUP(U76,[1]Poängberäkning!$B$6:$B$97,[1]Poängberäkning!$C$6:$C$97)","v":0},null,{"$f":"LOOKUP(W76,[1]Poängberäkning!$B$6:$B$97,[1]Poängberäkning!$C$6:$C$97)","v":0},{"$f":"LARGE(($H76,$J76,$L76,$N76,$P76,$R76,$T76,$V76,$X76),1)","v":0},{"$f":"LARGE(($H76,$J76,$L76,$N76,$P76,$R76,$T76,$V76,$X76),2)","v":0},{"$f":"LARGE(($H76,$J76,$L76,$N76,$P76,$R76,$T76,$V76,$X76),3)","v":0},{"$f":"LARGE(($H76,$J76,$L76,$N76,$P76,$R76,$T76,$V76,$X76),4)","v":0},{"$f":"LARGE(($H76,$J76,$L76,$N76,$P76,$R76,$T76,$V76,$X76),5)","v":0},{"$f":"LARGE(($H76,$J76,$L76,$N76,$P76,$R76,$T76,$V76,$X76),6)","v":0},{"$f":"LARGE(($H76,$J76,$L76,$N76,$P76,$R76,$T76,$V76,$X76),7)","v":0},{"$f":"LARGE(($H76,$J76,$L76,$N76,$P76,$R76,$T76,$V76,$X76),8)","v":0},{"$f":"LARGE(($H76,$J76,$L76,$N76,$P76,$R76,$T76,$V76,$X76),9)","v":0}]
[73,null,null,null,0,0,null,{"$f":"LOOKUP(G77,Poängberäkning!$B$6:$B$97,Poängberäkning!$C$6:$C$97)","v":0},null,{"$f":"LOOKUP(I77,Poängberäkning!$B$6:$B$97,Poängberäkning!$C$6:$C$97)","v":0},null,{"$f":"LOOKUP(K77,Poängberäkning!$B$6:$B$97,Poängberäkning!$C$6:$C$97)","v":0},null,{"$f":"LOOKUP(M77,Poängberäkning!$B$6:$B$97,Poängberäkning!$C$6:$C$97)","v":0},null,{"$f":"LOOKUP(O77,Poängberäkning!$B$6:$B$97,Poängberäkning!$C$6:$C$97)","v":0},null,{"$f":"LOOKUP(Q77,[1]Poängberäkning!$B$6:$B$97,[1]Poängberäkning!$C$6:$C$97)","v":0},null,{"$f":"LOOKUP(S77,[1]Poängberäkning!$B$6:$B$97,[1]Poängberäkning!$C$6:$C$97)","v":0},null,{"$f":"LOOKUP(U77,[1]Poängberäkning!$B$6:$B$97,[1]Poängberäkning!$C$6:$C$97)","v":0},null,{"$f":"LOOKUP(W77,[1]Poängberäkning!$B$6:$B$97,[1]Poängberäkning!$C$6:$C$97)","v":0},{"$f":"LARGE(($H77,$J77,$L77,$N77,$P77,$R77,$T77,$V77,$X77),1)","v":0},{"$f":"LARGE(($H77,$J77,$L77,$N77,$P77,$R77,$T77,$V77,$X77),2)","v":0},{"$f":"LARGE(($H77,$J77,$L77,$N77,$P77,$R77,$T77,$V77,$X77),3)","v":0},{"$f":"LARGE(($H77,$J77,$L77,$N77,$P77,$R77,$T77,$V77,$X77),4)","v":0},{"$f":"LARGE(($H77,$J77,$L77,$N77,$P77,$R77,$T77,$V77,$X77),5)","v":0},{"$f":"LARGE(($H77,$J77,$L77,$N77,$P77,$R77,$T77,$V77,$X77),6)","v":0},{"$f":"LARGE(($H77,$J77,$L77,$N77,$P77,$R77,$T77,$V77,$X77),7)","v":0},{"$f":"LARGE(($H77,$J77,$L77,$N77,$P77,$R77,$T77,$V77,$X77),8)","v":0},{"$f":"LARGE(($H77,$J77,$L77,$N77,$P77,$R77,$T77,$V77,$X77),9)","v":0}]
[74,null,null,null,0,0,null,{"$f":"LOOKUP(G78,Poängberäkning!$B$6:$B$97,Poängberäkning!$C$6:$C$97)","v":0},null,{"$f":"LOOKUP(I78,Poängberäkning!$B$6:$B$97,Poängberäkning!$C$6:$C$97)","v":0},null,{"$f":"LOOKUP(K78,Poängberäkning!$B$6:$B$97,Poängberäkning!$C$6:$C$97)","v":0},null,{"$f":"LOOKUP(M78,Poängberäkning!$B$6:$B$97,Poängberäkning!$C$6:$C$97)","v":0},null,{"$f":"LOOKUP(O78,Poängberäkning!$B$6:$B$97,Poängberäkning!$C$6:$C$97)","v":0},null,{"$f":"LOOKUP(Q78,[1]Poängberäkning!$B$6:$B$97,[1]Poängberäkning!$C$6:$C$97)","v":0},null,{"$f":"LOOKUP(S78,[1]Poängberäkning!$B$6:$B$97,[1]Poängberäkning!$C$6:$C$97)","v":0},null,{"$f":"LOOKUP(U78,[1]Poängberäkning!$B$6:$B$97,[1]Poängberäkning!$C$6:$C$97)","v":0},null,{"$f":"LOOKUP(W78,[1]Poängberäkning!$B$6:$B$97,[1]Poängberäkning!$C$6:$C$97)","v":0},{"$f":"LARGE(($H78,$J78,$L78,$N78,$P78,$R78,$T78,$V78,$X78),1)","v":0},{"$f":"LARGE(($H78,$J78,$L78,$N78,$P78,$R78,$T78,$V78,$X78),2)","v":0},{"$f":"LARGE(($H78,$J78,$L78,$N78,$P78,$R78,$T78,$V78,$X78),3)","v":0},{"$f":"LARGE(($H78,$J78,$L78,$N78,$P78,$R78,$T78,$V78,$X78),4)","v":0},{"$f":"LARGE(($H78,$J78,$L78,$N78,$P78,$R78,$T78,$V78,$X78),5)","v":0},{"$f":"LARGE(($H78,$J78,$L78,$N78,$P78,$R78,$T78,$V78,$X78),6)","v":0},{"$f":"LARGE(($H78,$J78,$L78,$N78,$P78,$R78,$T78,$V78,$X78),7)","v":0},{"$f":"LARGE(($H78,$J78,$L78,$N78,$P78,$R78,$T78,$V78,$X78),8)","v":0},{"$f":"LARGE(($H78,$J78,$L78,$N78,$P78,$R78,$T78,$V78,$X78),9)","v":0}]
[{"$f":"A78+1","v":75},null,null,null,0,0,null,{"$f":"LOOKUP(G79,Poängberäkning!$B$6:$B$97,Poängberäkning!$C$6:$C$97)","v":0},null,{"$f":"LOOKUP(I79,Poängberäkning!$B$6:$B$97,Poängberäkning!$C$6:$C$97)","v":0},null,{"$f":"LOOKUP(K79,Poängberäkning!$B$6:$B$97,Poängberäkning!$C$6:$C$97)","v":0},null,{"$f":"LOOKUP(M79,Poängberäkning!$B$6:$B$97,Poängberäkning!$C$6:$C$97)","v":0},null,{"$f":"LOOKUP(O79,Poängberäkning!$B$6:$B$97,Poängberäkning!$C$6:$C$97)","v":0},null,{"$f":"LOOKUP(Q79,[1]Poängberäkning!$B$6:$B$97,[1]Poängberäkning!$C$6:$C$97)","v":0},null,{"$f":"LOOKUP(S79,[1]Poängberäkning!$B$6:$B$97,[1]Poängberäkning!$C$6:$C$97)","v":0},null,{"$f":"LOOKUP(U79,[1]Poängberäkning!$B$6:$B$97,[1]Poängberäkning!$C$6:$C$97)","v":0},null,{"$f":"LOOKUP(W79,[1]Poängberäkning!$B$6:$B$97,[1]Poängberäkning!$C$6:$C$97)","v":0},{"$f":"LARGE(($H79,$J79,$L79,$N79,$P79,$R79,$T79,$V79,$X79),1)","v":0},{"$f":"LARGE(($H79,$J79,$L79,$N79,$P79,$R79,$T79,$V79,$X79),2)","v":0},{"$f":"LARGE(($H79,$J79,$L79,$N79,$P79,$R79,$T79,$V79,$X79),3)","v":0},{"$f":"LARGE(($H79,$J79,$L79,$N79,$P79,$R79,$T79,$V79,$X79),4)","v":0},{"$f":"LARGE(($H79,$J79,$L79,$N79,$P79,$R79,$T79,$V79,$X79),5)","v":0},{"$f":"LARGE(($H79,$J79,$L79,$N79,$P79,$R79,$T79,$V79,$X79),6)","v":0},{"$f":"LARGE(($H79,$J79,$L79,$N79,$P79,$R79,$T79,$V79,$X79),7)","v":0},{"$f":"LARGE(($H79,$J79,$L79,$N79,$P79,$R79,$T79,$V79,$X79),8)","v":0},{"$f":"LARGE(($H79,$J79,$L79,$N79,$P79,$R79,$T79,$V79,$X79),9)","v":0}]
[{"$f":"A79+1","v":76},null,null,null,0,0,null,{"$f":"LOOKUP(G80,Poängberäkning!$B$6:$B$97,Poängberäkning!$C$6:$C$97)","v":0},null,{"$f":"LOOKUP(I80,Poängberäkning!$B$6:$B$97,Poängberäkning!$C$6:$C$97)","v":0},null,{"$f":"LOOKUP(K80,Poängberäkning!$B$6:$B$97,Poängberäkning!$C$6:$C$97)","v":0},null,{"$f":"LOOKUP(M80,Poängberäkning!$B$6:$B$97,Poängberäkning!$C$6:$C$97)","v":0},null,{"$f":"LOOKUP(O80,Poängberäkning!$B$6:$B$97,Poängberäkning!$C$6:$C$97)","v":0},null,{"$f":"LOOKUP(Q80,[1]Poängberäkning!$B$6:$B$97,[1]Poängberäkning!$C$6:$C$97)","v":0},null,{"$f":"LOOKUP(S80,[1]Poängberäkning!$B$6:$B$97,[1]Poängberäkning!$C$6:$C$97)","v":0},null,{"$f":"LOOKUP(U80,[1]Poängberäkning!$B$6:$B$97,[1]Poängberäkning!$C$6:$C$97)","v":0},null,{"$f":"LOOKUP(W80,[1]Poängberäkning!$B$6:$B$97,[1]Poängberäkning!$C$6:$C$97)","v":0},{"$f":"LARGE(($H80,$J80,$L80,$N80,$P80,$R80,$T80,$V80,$X80),1)","v":0},{"$f":"LARGE(($H80,$J80,$L80,$N80,$P80,$R80,$T80,$V80,$X80),2)","v":0},{"$f":"LARGE(($H80,$J80,$L80,$N80,$P80,$R80,$T80,$V80,$X80),3)","v":0},{"$f":"LARGE(($H80,$J80,$L80,$N80,$P80,$R80,$T80,$V80,$X80),4)","v":0},{"$f":"LARGE(($H80,$J80,$L80,$N80,$P80,$R80,$T80,$V80,$X80),5)","v":0},{"$f":"LARGE(($H80,$J80,$L80,$N80,$P80,$R80,$T80,$V80,$X80),6)","v":0},{"$f":"LARGE(($H80,$J80,$L80,$N80,$P80,$R80,$T80,$V80,$X80),7)","v":0},{"$f":"LARGE(($H80,$J80,$L80,$N80,$P80,$R80,$T80,$V80,$X80),8)","v":0},{"$f":"LARGE(($H80,$J80,$L80,$N80,$P80,$R80,$T80,$V80,$X80),9)","v":0}]
[{"$f":"A80+1","v":77},null,null,null,0,0,null,{"$f":"LOOKUP(G81,Poängberäkning!$B$6:$B$97,Poängberäkning!$C$6:$C$97)","v":0},null,{"$f":"LOOKUP(I81,Poängberäkning!$B$6:$B$97,Poängberäkning!$C$6:$C$97)","v":0},null,{"$f":"LOOKUP(K81,Poängberäkning!$B$6:$B$97,Poängberäkning!$C$6:$C$97)","v":0},null,{"$f":"LOOKUP(M81,Poängberäkning!$B$6:$B$97,Poängberäkning!$C$6:$C$97)","v":0},null,{"$f":"LOOKUP(O81,Poängberäkning!$B$6:$B$97,Poängberäkning!$C$6:$C$97)","v":0},null,{"$f":"LOOKUP(Q81,[1]Poängberäkning!$B$6:$B$97,[1]Poängberäkning!$C$6:$C$97)","v":0},null,{"$f":"LOOKUP(S81,[1]Poängberäkning!$B$6:$B$97,[1]Poängberäkning!$C$6:$C$97)","v":0},null,{"$f":"LOOKUP(U81,[1]Poängberäkning!$B$6:$B$97,[1]Poängberäkning!$C$6:$C$97)","v":0},null,{"$f":"LOOKUP(W81,[1]Poängberäkning!$B$6:$B$97,[1]Poängberäkning!$C$6:$C$97)","v":0},{"$f":"LARGE(($H81,$J81,$L81,$N81,$P81,$R81,$T81,$V81,$X81),1)","v":0},{"$f":"LARGE(($H81,$J81,$L81,$N81,$P81,$R81,$T81,$V81,$X81),2)","v":0},{"$f":"LARGE(($H81,$J81,$L81,$N81,$P81,$R81,$T81,$V81,$X81),3)","v":0},{"$f":"LARGE(($H81,$J81,$L81,$N81,$P81,$R81,$T81,$V81,$X81),4)","v":0},{"$f":"LARGE(($H81,$J81,$L81,$N81,$P81,$R81,$T81,$V81,$X81),5)","v":0},{"$f":"LARGE(($H81,$J81,$L81,$N81,$P81,$R81,$T81,$V81,$X81),6)","v":0},{"$f":"LARGE(($H81,$J81,$L81,$N81,$P81,$R81,$T81,$V81,$X81),7)","v":0},{"$f":"LARGE(($H81,$J81,$L81,$N81,$P81,$R81,$T81,$V81,$X81),8)","v":0},{"$f":"LARGE(($H81,$J81,$L81,$N81,$P81,$R81,$T81,$V81,$X81),9)","v":0}]
[78,null,null,null,0,0,null,{"$f":"LOOKUP(G82,Poängberäkning!$B$6:$B$97,Poängberäkning!$C$6:$C$97)","v":0},null,{"$f":"LOOKUP(I82,Poängberäkning!$B$6:$B$97,Poängberäkning!$C$6:$C$97)","v":0},null,{"$f":"LOOKUP(K82,Poängberäkning!$B$6:$B$97,Poängberäkning!$C$6:$C$97)","v":0},null,{"$f":"LOOKUP(M82,Poängberäkning!$B$6:$B$97,Poängberäkning!$C$6:$C$97)","v":0},null,{"$f":"LOOKUP(O82,Poängberäkning!$B$6:$B$97,Poängberäkning!$C$6:$C$97)","v":0},null,{"$f":"LOOKUP(Q82,[1]Poängberäkning!$B$6:$B$97,[1]Poängberäkning!$C$6:$C$97)","v":0},null,{"$f":"LOOKUP(S82,[1]Poängberäkning!$B$6:$B$97,[1]Poängberäkning!$C$6:$C$97)","v":0},null,{"$f":"LOOKUP(U82,[1]Poängberäkning!$B$6:$B$97,[1]Poängberäkning!$C$6:$C$97)","v":0},null,{"$f":"LOOKUP(W82,[1]Poängberäkning!$B$6:$B$97,[1]Poängberäkning!$C$6:$C$97)","v":0},{"$f":"LARGE(($H82,$J82,$L82,$N82,$P82,$R82,$T82,$V82,$X82),1)","v":0},{"$f":"LARGE(($H82,$J82,$L82,$N82,$P82,$R82,$T82,$V82,$X82),2)","v":0},{"$f":"LARGE(($H82,$J82,$L82,$N82,$P82,$R82,$T82,$V82,$X82),3)","v":0},{"$f":"LARGE(($H82,$J82,$L82,$N82,$P82,$R82,$T82,$V82,$X82),4)","v":0},{"$f":"LARGE(($H82,$J82,$L82,$N82,$P82,$R82,$T82,$V82,$X82),5)","v":0},{"$f":"LARGE(($H82,$J82,$L82,$N82,$P82,$R82,$T82,$V82,$X82),6)","v":0},{"$f":"LARGE(($H82,$J82,$L82,$N82,$P82,$R82,$T82,$V82,$X82),7)","v":0},{"$f":"LARGE(($H82,$J82,$L82,$N82,$P82,$R82,$T82,$V82,$X82),8)","v":0},{"$f":"LARGE(($H82,$J82,$L82,$N82,$P82,$R82,$T82,$V82,$X82),9)","v":0}]
[79,null,null,null,0,0,null,{"$f":"LOOKUP(G83,Poängberäkning!$B$6:$B$97,Poängberäkning!$C$6:$C$97)","v":0},null,{"$f":"LOOKUP(I83,Poängberäkning!$B$6:$B$97,Poängberäkning!$C$6:$C$97)","v":0},null,{"$f":"LOOKUP(K83,Poängberäkning!$B$6:$B$97,Poängberäkning!$C$6:$C$97)","v":0},null,{"$f":"LOOKUP(M83,Poängberäkning!$B$6:$B$97,Poängberäkning!$C$6:$C$97)","v":0},null,{"$f":"LOOKUP(O83,Poängberäkning!$B$6:$B$97,Poängberäkning!$C$6:$C$97)","v":0},null,{"$f":"LOOKUP(Q83,[1]Poängberäkning!$B$6:$B$97,[1]Poängberäkning!$C$6:$C$97)","v":0},null,{"$f":"LOOKUP(S83,[1]Poängberäkning!$B$6:$B$97,[1]Poängberäkning!$C$6:$C$97)","v":0},null,{"$f":"LOOKUP(U83,[1]Poängberäkning!$B$6:$B$97,[1]Poängberäkning!$C$6:$C$97)","v":0},null,{"$f":"LOOKUP(W83,[1]Poängberäkning!$B$6:$B$97,[1]Poängberäkning!$C$6:$C$97)","v":0},{"$f":"LARGE(($H83,$J83,$L83,$N83,$P83,$R83,$T83,$V83,$X83),1)","v":0},{"$f":"LARGE(($H83,$J83,$L83,$N83,$P83,$R83,$T83,$V83,$X83),2)","v":0},{"$f":"LARGE(($H83,$J83,$L83,$N83,$P83,$R83,$T83,$V83,$X83),3)","v":0},{"$f":"LARGE(($H83,$J83,$L83,$N83,$P83,$R83,$T83,$V83,$X83),4)","v":0},{"$f":"LARGE(($H83,$J83,$L83,$N83,$P83,$R83,$T83,$V83,$X83),5)","v":0},{"$f":"LARGE(($H83,$J83,$L83,$N83,$P83,$R83,$T83,$V83,$X83),6)","v":0},{"$f":"LARGE(($H83,$J83,$L83,$N83,$P83,$R83,$T83,$V83,$X83),7)","v":0},{"$f":"LARGE(($H83,$J83,$L83,$N83,$P83,$R83,$T83,$V83,$X83),8)","v":0},{"$f":"LARGE(($H83,$J83,$L83,$N83,$P83,$R83,$T83,$V83,$X83),9)","v":0}]
[80,null,null,null,0,0,null,{"$f":"LOOKUP(G84,Poängberäkning!$B$6:$B$97,Poängberäkning!$C$6:$C$97)","v":0},null,{"$f":"LOOKUP(I84,Poängberäkning!$B$6:$B$97,Poängberäkning!$C$6:$C$97)","v":0},null,{"$f":"LOOKUP(K84,Poängberäkning!$B$6:$B$97,Poängberäkning!$C$6:$C$97)","v":0},null,{"$f":"LOOKUP(M84,Poängberäkning!$B$6:$B$97,Poängberäkning!$C$6:$C$97)","v":0},null,{"$f":"LOOKUP(O84,Poängberäkning!$B$6:$B$97,Poängberäkning!$C$6:$C$97)","v":0},null,{"$f":"LOOKUP(Q84,[1]Poängberäkning!$B$6:$B$97,[1]Poängberäkning!$C$6:$C$97)","v":0},null,{"$f":"LOOKUP(S84,[1]Poängberäkning!$B$6:$B$97,[1]Poängberäkning!$C$6:$C$97)","v":0},null,{"$f":"LOOKUP(U84,[1]Poängberäkning!$B$6:$B$97,[1]Poängberäkning!$C$6:$C$97)","v":0},null,{"$f":"LOOKUP(W84,[1]Poängberäkning!$B$6:$B$97,[1]Poängberäkning!$C$6:$C$97)","v":0},{"$f":"LARGE(($H84,$J84,$L84,$N84,$P84,$R84,$T84,$V84,$X84),1)","v":0},{"$f":"LARGE(($H84,$J84,$L84,$N84,$P84,$R84,$T84,$V84,$X84),2)","v":0},{"$f":"LARGE(($H84,$J84,$L84,$N84,$P84,$R84,$T84,$V84,$X84),3)","v":0},{"$f":"LARGE(($H84,$J84,$L84,$N84,$P84,$R84,$T84,$V84,$X84),4)","v":0},{"$f":"LARGE(($H84,$J84,$L84,$N84,$P84,$R84,$T84,$V84,$X84),5)","v":0},{"$f":"LARGE(($H84,$J84,$L84,$N84,$P84,$R84,$T84,$V84,$X84),6)","v":0},{"$f":"LARGE(($H84,$J84,$L84,$N84,$P84,$R84,$T84,$V84,$X84),7)","v":0},{"$f":"LARGE(($H84,$J84,$L84,$N84,$P84,$R84,$T84,$V84,$X84),8)","v":0},{"$f":"LARGE(($H84,$J84,$L84,$N84,$P84,$R84,$T84,$V84,$X84),9)","v":0}]
[81,null,null,null,0,0,null,{"$f":"LOOKUP(G85,Poängberäkning!$B$6:$B$97,Poängberäkning!$C$6:$C$97)","v":0},null,{"$f":"LOOKUP(I85,Poängberäkning!$B$6:$B$97,Poängberäkning!$C$6:$C$97)","v":0},null,{"$f":"LOOKUP(K85,Poängberäkning!$B$6:$B$97,Poängberäkning!$C$6:$C$97)","v":0},null,{"$f":"LOOKUP(M85,Poängberäkning!$B$6:$B$97,Poängberäkning!$C$6:$C$97)","v":0},null,{"$f":"LOOKUP(O85,Poängberäkning!$B$6:$B$97,Poängberäkning!$C$6:$C$97)","v":0},null,{"$f":"LOOKUP(Q85,[1]Poängberäkning!$B$6:$B$97,[1]Poängberäkning!$C$6:$C$97)","v":0},null,{"$f":"LOOKUP(S85,[1]Poängberäkning!$B$6:$B$97,[1]Poängberäkning!$C$6:$C$97)","v":0},null,{"$f":"LOOKUP(U85,[1]Poängberäkning!$B$6:$B$97,[1]Poängberäkning!$C$6:$C$97)","v":0},null,{"$f":"LOOKUP(W85,[1]Poängberäkning!$B$6:$B$97,[1]Poängberäkning!$C$6:$C$97)","v":0},{"$f":"LARGE(($H85,$J85,$L85,$N85,$P85,$R85,$T85,$V85,$X85),1)","v":0},{"$f":"LARGE(($H85,$J85,$L85,$N85,$P85,$R85,$T85,$V85,$X85),2)","v":0},{"$f":"LARGE(($H85,$J85,$L85,$N85,$P85,$R85,$T85,$V85,$X85),3)","v":0},{"$f":"LARGE(($H85,$J85,$L85,$N85,$P85,$R85,$T85,$V85,$X85),4)","v":0},{"$f":"LARGE(($H85,$J85,$L85,$N85,$P85,$R85,$T85,$V85,$X85),5)","v":0},{"$f":"LARGE(($H85,$J85,$L85,$N85,$P85,$R85,$T85,$V85,$X85),6)","v":0},{"$f":"LARGE(($H85,$J85,$L85,$N85,$P85,$R85,$T85,$V85,$X85),7)","v":0},{"$f":"LARGE(($H85,$J85,$L85,$N85,$P85,$R85,$T85,$V85,$X85),8)","v":0},{"$f":"LARGE(($H85,$J85,$L85,$N85,$P85,$R85,$T85,$V85,$X85),9)","v":0}]
[82,null,null,null,0,0,null,{"$f":"LOOKUP(G86,Poängberäkning!$B$6:$B$97,Poängberäkning!$C$6:$C$97)","v":0},null,{"$f":"LOOKUP(I86,Poängberäkning!$B$6:$B$97,Poängberäkning!$C$6:$C$97)","v":0},null,{"$f":"LOOKUP(K86,Poängberäkning!$B$6:$B$97,Poängberäkning!$C$6:$C$97)","v":0},null,{"$f":"LOOKUP(M86,Poängberäkning!$B$6:$B$97,Poängberäkning!$C$6:$C$97)","v":0},null,{"$f":"LOOKUP(O86,Poängberäkning!$B$6:$B$97,Poängberäkning!$C$6:$C$97)","v":0},null,{"$f":"LOOKUP(Q86,[1]Poängberäkning!$B$6:$B$97,[1]Poängberäkning!$C$6:$C$97)","v":0},null,{"$f":"LOOKUP(S86,[1]Poängberäkning!$B$6:$B$97,[1]Poängberäkning!$C$6:$C$97)","v":0},null,{"$f":"LOOKUP(U86,[1]Poängberäkning!$B$6:$B$97,[1]Poängberäkning!$C$6:$C$97)","v":0},null,{"$f":"LOOKUP(W86,[1]Poängberäkning!$B$6:$B$97,[1]Poängberäkning!$C$6:$C$97)","v":0},{"$f":"LARGE(($H86,$J86,$L86,$N86,$P86,$R86,$T86,$V86,$X86),1)","v":0},{"$f":"LARGE(($H86,$J86,$L86,$N86,$P86,$R86,$T86,$V86,$X86),2)","v":0},{"$f":"LARGE(($H86,$J86,$L86,$N86,$P86,$R86,$T86,$V86,$X86),3)","v":0},{"$f":"LARGE(($H86,$J86,$L86,$N86,$P86,$R86,$T86,$V86,$X86),4)","v":0},{"$f":"LARGE(($H86,$J86,$L86,$N86,$P86,$R86,$T86,$V86,$X86),5)","v":0},{"$f":"LARGE(($H86,$J86,$L86,$N86,$P86,$R86,$T86,$V86,$X86),6)","v":0},{"$f":"LARGE(($H86,$J86,$L86,$N86,$P86,$R86,$T86,$V86,$X86),7)","v":0},{"$f":"LARGE(($H86,$J86,$L86,$N86,$P86,$R86,$T86,$V86,$X86),8)","v":0},{"$f":"LARGE(($H86,$J86,$L86,$N86,$P86,$R86,$T86,$V86,$X86),9)","v":0}]
[83,null,null,null,0,0,null,{"$f":"LOOKUP(G87,Poängberäkning!$B$6:$B$97,Poängberäkning!$C$6:$C$97)","v":0},null,{"$f":"LOOKUP(I87,Poängberäkning!$B$6:$B$97,Poängberäkning!$C$6:$C$97)","v":0},null,{"$f":"LOOKUP(K87,Poängberäkning!$B$6:$B$97,Poängberäkning!$C$6:$C$97)","v":0},null,{"$f":"LOOKUP(M87,Poängberäkning!$B$6:$B$97,Poängberäkning!$C$6:$C$97)","v":0},null,{"$f":"LOOKUP(O87,Poängberäkning!$B$6:$B$97,Poängberäkning!$C$6:$C$97)","v":0},null,{"$f":"LOOKUP(Q87,[1]Poängberäkning!$B$6:$B$97,[1]Poängberäkning!$C$6:$C$97)","v":0},null,{"$f":"LOOKUP(S87,[1]Poängberäkning!$B$6:$B$97,[1]Poängberäkning!$C$6:$C$97)","v":0},null,{"$f":"LOOKUP(U87,[1]Poängberäkning!$B$6:$B$97,[1]Poängberäkning!$C$6:$C$97)","v":0},null,{"$f":"LOOKUP(W87,[1]Poängberäkning!$B$6:$B$97,[1]Poängberäkning!$C$6:$C$97)","v":0},{"$f":"LARGE(($H87,$J87,$L87,$N87,$P87,$R87,$T87,$V87,$X87),1)","v":0},{"$f":"LARGE(($H87,$J87,$L87,$N87,$P87,$R87,$T87,$V87,$X87),2)","v":0},{"$f":"LARGE(($H87,$J87,$L87,$N87,$P87,$R87,$T87,$V87,$X87),3)","v":0},{"$f":"LARGE(($H87,$J87,$L87,$N87,$P87,$R87,$T87,$V87,$X87),4)","v":0},{"$f":"LARGE(($H87,$J87,$L87,$N87,$P87,$R87,$T87,$V87,$X87),5)","v":0},{"$f":"LARGE(($H87,$J87,$L87,$N87,$P87,$R87,$T87,$V87,$X87),6)","v":0},{"$f":"LARGE(($H87,$J87,$L87,$N87,$P87,$R87,$T87,$V87,$X87),7)","v":0},{"$f":"LARGE(($H87,$J87,$L87,$N87,$P87,$R87,$T87,$V87,$X87),8)","v":0},{"$f":"LARGE(($H87,$J87,$L87,$N87,$P87,$R87,$T87,$V87,$X87),9)","v":0}]
[84,null,null,null,0,0,null,{"$f":"LOOKUP(G88,Poängberäkning!$B$6:$B$97,Poängberäkning!$C$6:$C$97)","v":0},null,{"$f":"LOOKUP(I88,Poängberäkning!$B$6:$B$97,Poängberäkning!$C$6:$C$97)","v":0},null,{"$f":"LOOKUP(K88,Poängberäkning!$B$6:$B$97,Poängberäkning!$C$6:$C$97)","v":0},null,{"$f":"LOOKUP(M88,Poängberäkning!$B$6:$B$97,Poängberäkning!$C$6:$C$97)","v":0},null,{"$f":"LOOKUP(O88,Poängberäkning!$B$6:$B$97,Poängberäkning!$C$6:$C$97)","v":0},null,{"$f":"LOOKUP(Q88,[1]Poängberäkning!$B$6:$B$97,[1]Poängberäkning!$C$6:$C$97)","v":0},null,{"$f":"LOOKUP(S88,[1]Poängberäkning!$B$6:$B$97,[1]Poängberäkning!$C$6:$C$97)","v":0},null,{"$f":"LOOKUP(U88,[1]Poängberäkning!$B$6:$B$97,[1]Poängberäkning!$C$6:$C$97)","v":0},null,{"$f":"LOOKUP(W88,[1]Poängberäkning!$B$6:$B$97,[1]Poängberäkning!$C$6:$C$97)","v":0},{"$f":"LARGE(($H88,$J88,$L88,$N88,$P88,$R88,$T88,$V88,$X88),1)","v":0},{"$f":"LARGE(($H88,$J88,$L88,$N88,$P88,$R88,$T88,$V88,$X88),2)","v":0},{"$f":"LARGE(($H88,$J88,$L88,$N88,$P88,$R88,$T88,$V88,$X88),3)","v":0},{"$f":"LARGE(($H88,$J88,$L88,$N88,$P88,$R88,$T88,$V88,$X88),4)","v":0},{"$f":"LARGE(($H88,$J88,$L88,$N88,$P88,$R88,$T88,$V88,$X88),5)","v":0},{"$f":"LARGE(($H88,$J88,$L88,$N88,$P88,$R88,$T88,$V88,$X88),6)","v":0},{"$f":"LARGE(($H88,$J88,$L88,$N88,$P88,$R88,$T88,$V88,$X88),7)","v":0},{"$f":"LARGE(($H88,$J88,$L88,$N88,$P88,$R88,$T88,$V88,$X88),8)","v":0},{"$f":"LARGE(($H88,$J88,$L88,$N88,$P88,$R88,$T88,$V88,$X88),9)","v":0}]
[{"$f":"A88+1","v":85},null,null,null,0,0,null,{"$f":"LOOKUP(G89,Poängberäkning!$B$6:$B$97,Poängberäkning!$C$6:$C$97)","v":0},null,{"$f":"LOOKUP(I89,Poängberäkning!$B$6:$B$97,Poängberäkning!$C$6:$C$97)","v":0},null,{"$f":"LOOKUP(K89,Poängberäkning!$B$6:$B$97,Poängberäkning!$C$6:$C$97)","v":0},null,{"$f":"LOOKUP(M89,Poängberäkning!$B$6:$B$97,Poängberäkning!$C$6:$C$97)","v":0},null,{"$f":"LOOKUP(O89,Poängberäkning!$B$6:$B$97,Poängberäkning!$C$6:$C$97)","v":0},null,{"$f":"LOOKUP(Q89,[1]Poängberäkning!$B$6:$B$97,[1]Poängberäkning!$C$6:$C$97)","v":0},null,{"$f":"LOOKUP(S89,[1]Poängberäkning!$B$6:$B$97,[1]Poängberäkning!$C$6:$C$97)","v":0},null,{"$f":"LOOKUP(U89,[1]Poängberäkning!$B$6:$B$97,[1]Poängberäkning!$C$6:$C$97)","v":0},null,{"$f":"LOOKUP(W89,[1]Poängberäkning!$B$6:$B$97,[1]Poängberäkning!$C$6:$C$97)","v":0},{"$f":"LARGE(($H89,$J89,$L89,$N89,$P89,$R89,$T89,$V89,$X89),1)","v":0},{"$f":"LARGE(($H89,$J89,$L89,$N89,$P89,$R89,$T89,$V89,$X89),2)","v":0},{"$f":"LARGE(($H89,$J89,$L89,$N89,$P89,$R89,$T89,$V89,$X89),3)","v":0},{"$f":"LARGE(($H89,$J89,$L89,$N89,$P89,$R89,$T89,$V89,$X89),4)","v":0},{"$f":"LARGE(($H89,$J89,$L89,$N89,$P89,$R89,$T89,$V89,$X89),5)","v":0},{"$f":"LARGE(($H89,$J89,$L89,$N89,$P89,$R89,$T89,$V89,$X89),6)","v":0},{"$f":"LARGE(($H89,$J89,$L89,$N89,$P89,$R89,$T89,$V89,$X89),7)","v":0},{"$f":"LARGE(($H89,$J89,$L89,$N89,$P89,$R89,$T89,$V89,$X89),8)","v":0},{"$f":"LARGE(($H89,$J89,$L89,$N89,$P89,$R89,$T89,$V89,$X89),9)","v":0}]

{"sheet":"D 15-16","index":9,"n_rows":90,"n_cols":33,"rows_kept":90,"cut":false,"hidden":false,"merged":[[2,24,3,32],[3,6,3,7],[3,8,3,9],[3,10,3,11],[3,12,3,13],[3,14,3,15],[3,16,3,17],[3,18,3,19],[3,20,3,21],[3,22,3,23],[1,16,2,17],[1,18,2,19],[1,20,1,21],[1,22,2,23],[2,4,2,5],[2,20,2,21],[0,2,0,15],[1,0,2,1],[1,2,2,3],[1,4,1,5],[1,6,2,7],[1,8,2,9],[1,10,2,11],[1,12,2,13],[1,14,2,15]]}
[]
["D 15-16",null,null,null,null,null,"Sälen GS",null,"Falun GS",null,"Norrbärke SL",null,"Borlänge SL",null,"Orsa GS",null,null,null,null,null,null,null,"Deltävling",null,"1:a","2:a","3:e","4:e","5:e","6:e","7:e","8:e","9:e"]
[null,null,null,null,"Poäng",null,null,null,null,null,null,null,null,null,null,null,null,null,null,null,null,null,null,null,"De 5 bästa åken.                         "]
["Rang","Född","Namn","Klubb","3 Bästa","Totalt","Sö 24/1   Tot",null,"Sö 14/2      Tot",null,"Sö 21/2    Tot",null,"Lö 27/2   Tot",null,"Lö 2/4   Tot"]
[1,2000,"KLING ANDERSSON Ebba","IFK Borlänge",{"$f":"SUM(Y5:AA5)","v":280},{"$f":"H5+J5+L5+N5+P5+R5+T5+V5+X5","v":330},6,{"$f":"LOOKUP(G5,Poängberäkning!$B$6:$B$97,Poängberäkning!$C$6:$C$97)","v":50},null,{"$f":"LOOKUP(I5,Poängberäkning!$B$6:$B$97,Poängberäkning!$C$6:$C$97)","v":0},1,{"$f":"LOOKUP(K5,Poängberäkning!$B$6:$B$97,Poängberäkning!$C$6:$C$97)","v":100},1,{"$f":"LOOKUP(M5,Poängberäkning!$B$6:$B$97,Poängberäkning!$C$6:$C$97)","v":100},2,{"$f":"LOOKUP(O5,Poängberäkning!$B$6:$B$97,Poängberäkning!$C$6:$C$97)","v":80},null,{"$f":"LOOKUP(Q5,[1]Poängberäkning!$B$6:$B$97,[1]Poängberäkning!$C$6:$C$97)","v":0},null,{"$f":"LOOKUP(S5,[1]Poängberäkning!$B$6:$B$97,[1]Poängberäkning!$C$6:$C$97)","v":0},null,{"$f":"LOOKUP(U5,[1]Poängberäkning!$B$6:$B$97,[1]Poängberäkning!$C$6:$C$97)","v":0},null,{"$f":"LOOKUP(W5,[1]Poängberäkning!$B$6:$B$97,[1]Poängberäkning!$C$6:$C$97)","v":0},{"$f":"LARGE(($H5,$J5,$L5,$N5,$P5,$R5,$T5,$V5,$X5),1)","v":100},{"$f":"LARGE(($H5,$J5,$L5,$N5,$P5,$R5,$T5,$V5,$X5),2)","v":100},{"$f":"LARGE(($H5,$J5,$L5,$N5,$P5,$R5,$T5,$V5,$X5),3)","v":80},{"$f":"LARGE(($H5,$J5,$L5,$N5,$P5,$R5,$T5,$V5,$X5),4)","v":50},{"$f":"LARGE(($H5,$J5,$L5,$N5,$P5,$R5,$T5,$V5,$X5),5)","v":0},{"$f":"LARGE(($H5,$J5,$L5,$N5,$P5,$R5,$T5,$V5,$X5),6)","v":0},{"$f":"LARGE(($H5,$J5,$L5,$N5,$P5,$R5,$T5,$V5,$X5),7)","v":0},{"$f":"LARGE(($H5,$J5,$L5,$N5,$P5,$R5,$T5,$V5,$X5),8)","v":0},{"$f":"LARGE(($H5,$J5,$L5,$N5,$P5,$R5,$T5,$V5,$X5),9)","v":0}]
[{"$f":"A5+1","v":2},2001,"KARLSSON Kathrine","Arboga Alpina",154,154,null,{"$f":"LOOKUP(G6,Poängberäkning!$B$6:$B$97,Poängberäkning!$C$6:$C$97)","v":0},null,{"$f":"LOOKUP(I6,Poängberäkning!$B$6:$B$97,Poängberäkning!$C$6:$C$97)","v":0},4,{"$f":"LOOKUP(K6,Poängberäkning!$B$6:$B$97,Poängberäkning!$C$6:$C$97)","v":60},7,{"$f":"LOOKUP(M6,Poängberäkning!$B$6:$B$97,Poängberäkning!$C$6:$C$97)","v":48},8,{"$f":"LOOKUP(O6,Poängberäkning!$B$6:$B$97,Poängberäkning!$C$6:$C$97)","v":46},null,{"$f":"LOOKUP(Q6,[1]Poängberäkning!$B$6:$B$97,[1]Poängberäkning!$C$6:$C$97)","v":0},null,{"$f":"LOOKUP(S6,[1]Poängberäkning!$B$6:$B$97,[1]Poängberäkning!$C$6:$C$97)","v":0},null,{"$f":"LOOKUP(U6,[1]Poängberäkning!$B$6:$B$97,[1]Poängberäkning!$C$6:$C$97)","v":0},null,{"$f":"LOOKUP(W6,[1]Poängberäkning!$B$6:$B$97,[1]Poängberäkning!$C$6:$C$97)","v":0},{"$f":"LARGE(($H6,$J6,$L6,$N6,$P6,$R6,$T6,$V6,$X6),1)","v":60},{"$f":"LARGE(($H6,$J6,$L6,$N6,$P6,$R6,$T6,$V6,$X6),2)","v":48},{"$f":"LARGE(($H6,$J6,$L6,$N6,$P6,$R6,$T6,$V6,$X6),3)","v":46},{"$f":"LARGE(($H6,$J6,$L6,$N6,$P6,$R6,$T6,$V6,$X6),4)","v":0},{"$f":"LARGE(($H6,$J6,$L6,$N6,$P6,$R6,$T6,$V6,$X6),5)","v":0},{"$f":"LARGE(($H6,$J6,$L6,$N6,$P6,$R6,$T6,$V6,$X6),6)","v":0},{"$f":"LARGE(($H6,$J6,$L6,$N6,$P6,$R6,$T6,$V6,$X6),7)","v":0},{"$f":"LARGE(($H6,$J6,$L6,$N6,$P6,$R6,$T6,$V6,$X6),8)","v":0},{"$f":"LARGE(($H6,$J6,$L6,$N6,$P6,$R6,$T6,$V6,$X6),9)","v":0}]
[{"$f":"A6+1","v":3},2001,"GRANBOM Rebecca","Karlstads SLK",126,126,2,{"$f":"LOOKUP(G7,Poängberäkning!$B$6:$B$97,Poängberäkning!$C$6:$C$97)","v":80},null,{"$f":"LOOKUP(I7,Poängberäkning!$B$6:$B$97,Poängberäkning!$C$6:$C$97)","v":0},null,{"$f":"LOOKUP(K7,Poängberäkning!$B$6:$B$97,Poängberäkning!$C$6:$C$97)","v":0},8,{"$f":"LOOKUP(M7,Poängberäkning!$B$6:$B$97,Poängberäkning!$C$6:$C$97)","v":46},null,{"$f":"LOOKUP(O7,Poängberäkning!$B$6:$B$97,Poängberäkning!$C$6:$C$97)","v":0},null,{"$f":"LOOKUP(Q7,[1]Poängberäkning!$B$6:$B$97,[1]Poängberäkning!$C$6:$C$97)","v":0},null,{"$f":"LOOKUP(S7,[1]Poängberäkning!$B$6:$B$97,[1]Poängberäkning!$C$6:$C$97)","v":0},null,{"$f":"LOOKUP(U7,[1]Poängberäkning!$B$6:$B$97,[1]Poängberäkning!$C$6:$C$97)","v":0},null,{"$f":"LOOKUP(W7,[1]Poängberäkning!$B$6:$B$97,[1]Poängberäkning!$C$6:$C$97)","v":0},{"$f":"LARGE(($H7,$J7,$L7,$N7,$P7,$R7,$T7,$V7,$X7),1)","v":80},{"$f":"LARGE(($H7,$J7,$L7,$N7,$P7,$R7,$T7,$V7,$X7),2)","v":46},{"$f":"LARGE(($H7,$J7,$L7,$N7,$P7,$R7,$T7,$V7,$X7),3)","v":0},{"$f":"LARGE(($H7,$J7,$L7,$N7,$P7,$R7,$T7,$V7,$X7),4)","v":0},{"$f":"LARGE(($H7,$J7,$L7,$N7,$P7,$R7,$T7,$V7,$X7),5)","v":0},{"$f":"LARGE(($H7,$J7,$L7,$N7,$P7,$R7,$T7,$V7,$X7),6)","v":0},{"$f":"LARGE(($H7,$J7,$L7,$N7,$P7,$R7,$T7,$V7,$X7),7)","v":0},{"$f":"LARGE(($H7,$J7,$L7,$N7,$P7,$R7,$T7,$V7,$X7),8)","v":0},{"$f":"LARGE(($H7,$J7,$L7,$N7,$P7,$R7,$T7,$V7,$X7),9)","v":0}]
[{"$f":"A7+1","v":4},2000,"ANTFOLK Wilma","IFK Borlänge",109,109,12,{"$f":"LOOKUP(G8,Poängberäkning!$B$6:$B$97,Poängberäkning!$C$6:$C$97)","v":39},null,{"$f":"LOOKUP(I8,Poängberäkning!$B$6:$B$97,Poängberäkning!$C$6:$C$97)","v":0},null,{"$f":"LOOKUP(K8,Poängberäkning!$B$6:$B$97,Poängberäkning!$C$6:$C$97)","v":0},3,{"$f":"LOOKUP(M8,Poängberäkning!$B$6:$B$97,Poängberäkning!$C$6:$C$97)","v":70},null,{"$f":"LOOKUP(O8,Poängberäkning!$B$6:$B$97,Poängberäkning!$C$6:$C$97)","v":0},null,{"$f":"LOOKUP(Q8,[1]Poängberäkning!$B$6:$B$97,[1]Poängberäkning!$C$6:$C$97)","v":0},null,{"$f":"LOOKUP(S8,[1]Poängberäkning!$B$6:$B$97,[1]Poängberäkning!$C$6:$C$97)","v":0},null,{"$f":"LOOKUP(U8,[1]Poängberäkning!$B$6:$B$97,[1]Poängberäkning!$C$6:$C$97)","v":0},null,{"$f":"LOOKUP(W8,[1]Poängberäkning!$B$6:$B$97,[1]Poängberäkning!$C$6:$C$97)","v":0},{"$f":"LARGE(($H8,$J8,$L8,$N8,$P8,$R8,$T8,$V8,$X8),1)","v":70},{"$f":"LARGE(($H8,$J8,$L8,$N8,$P8,$R8,$T8,$V8,$X8),2)","v":39},{"$f":"LARGE(($H8,$J8,$L8,$N8,$P8,$R8,$T8,$V8,$X8),3)","v":0},{"$f":"LARGE(($H8,$J8,$L8,$N8,$P8,$R8,$T8,$V8,$X8),4)","v":0},{"$f":"LARGE(($H8,$J8,$L8,$N8,$P8,$R8,$T8,$V8,$X8),5)","v":0},{"$f":"LARGE(($H8,$J8,$L8,$N8,$P8,$R8,$T8,$V8,$X8),6)","v":0},{"$f":"LARGE(($H8,$J8,$L8,$N8,$P8,$R8,$T8,$V8,$X8),7)","v":0},{"$f":"LARGE(($H8,$J8,$L8,$N8,$P8,$R8,$T8,$V8,$X8),8)","v":0},{"$f":"LARGE(($H8,$J8,$L8,$N8,$P8,$R8,$T8,$V8,$X8),9)","v":0}]
[5,2001,"ROBÈRT Ellen","Bollnäs AK",100,100,null,{"$f":"LOOKUP(G9,Poängberäkning!$B$6:$B$97,Poängberäkning!$C$6:$C$97)","v":0},null,{"$f":"LOOKUP(I9,Poängberäkning!$B$6:$B$97,Poängberäkning!$C$6:$C$97)","v":0},null,{"$f":"LOOKUP(K9,Poängberäkning!$B$6:$B$97,Poängberäkning!$C$6:$C$97)","v":0},null,{"$f":"LOOKUP(M9,Poängberäkning!$B$6:$B$97,Poängberäkning!$C$6:$C$97)","v":0},1,{"$f":"LOOKUP(O9,Poängberäkning!$B$6:$B$97,Poängberäkning!$C$6:$C$97)","v":100},null,{"$f":"LOOKUP(Q9,[1]Poängberäkning!$B$6:$B$97,[1]Poängberäkning!$C$6:$C$97)","v":0},null,{"$f":"LOOKUP(S9,[1]Poängberäkning!$B$6:$B$97,[1]Poängberäkning!$C$6:$C$97)","v":0},null,{"$f":"LOOKUP(U9,[1]Poängberäkning!$B$6:$B$97,[1]Poängberäkning!$C$6:$C$97)","v":0},null,{"$f":"LOOKUP(W9,[1]Poängberäkning!$B$6:$B$97,[1]Poängberäkning!$C$6:$C$97)","v":0},{"$f":"LARGE(($H9,$J9,$L9,$N9,$P9,$R9,$T9,$V9,$X9),1)","v":100},{"$f":"LARGE(($H9,$J9,$L9,$N9,$P9,$R9,$T9,$V9,$X9),2)","v":0},{"$f":"LARGE(($H9,$J9,$L9,$N9,$P9,$R9,$T9,$V9,$X9),3)","v":0},{"$f":"LARGE(($H9,$J9,$L9,$N9,$P9,$R9,$T9,$V9,$X9),4)","v":0},{"$f":"LARGE(($H9,$J9,$L9,$N9,$P9,$R9,$T9,$V9,$X9),5)","v":0},{"$f":"LARGE(($H9,$J9,$L9,$N9,$P9,$R9,$T9,$V9,$X9),6)","v":0},{"$f":"LARGE(($H9,$J9,$L9,$N9,$P9,$R9,$T9,$V9,$X9),7)","v":0},{"$f":"LARGE(($H9,$J9,$L9,$N9,$P9,$R9,$T9,$V9,$X9),8)","v":0},{"$f":"LARGE(($H9,$J9,$L9,$N9,$P9,$R9,$T9,$V9,$X9),9)","v":0}]
[6,2000,"FLODBERG Hanna","IFK Falun",100,100,null,{"$f":"LOOKUP(G10,Poängberäkning!$B$6:$B$97,Poängberäkning!$C$6:$C$97)","v":0},1,{"$f":"LOOKUP(I10,Poängberäkning!$B$6:$B$97,Poängberäkning!$C$6:$C$97)","v":100},null,{"$f":"LOOKUP(K10,Poängberäkning!$B$6:$B$97,Poängberäkning!$C$6:$C$97)","v":0},null,{"$f":"LOOKUP(M10,Poängberäkning!$B$6:$B$97,Poängberäkning!$C$6:$C$97)","v":0},null,{"$f":"LOOKUP(O10,Poängberäkning!$B$6:$B$97,Poängberäkning!$C$6:$C$97)","v":0},null,{"$f":"LOOKUP(Q10,[1]Poängberäkning!$B$6:$B$97,[1]Poängberäkning!$C$6:$C$97)","v":0},null,{"$f":"LOOKUP(S10,[1]Poängberäkning!$B$6:$B$97,[1]Poängberäkning!$C$6:$C$97)","v":0},null,{"$f":"LOOKUP(U10,[1]Poängberäkning!$B$6:$B$97,[1]Poängberäkning!$C$6:$C$97)","v":0},null,{"$f":"LOOKUP(W10,[1]Poängberäkning!$B$6:$B$97,[1]Poängberäkning!$C$6:$C$97)","v":0},{"$f":"LARGE(($H10,$J10,$L10,$N10,$P10,$R10,$T10,$V10,$X10),1)","v":100},{"$f":"LARGE(($H10,$J10,$L10,$N10,$P10,$R10,$T10,$V10,$X10),2)","v":0},{"$f":"LARGE(($H10,$J10,$L10,$N10,$P10,$R10,$T10,$V10,$X10),3)","v":0},{"$f":"LARGE(($H10,$J10,$L10,$N10,$P10,$R10,$T10,$V10,$X10),4)","v":0},{"$f":"LARGE(($H10,$J10,$L10,$N10,$P10,$R10,$T10,$V10,$X10),5)","v":0},{"$f":"LARGE(($H10,$J10,$L10,$N10,$P10,$R10,$T10,$V10,$X10),6)","v":0},{"$f":"LARGE(($H10,$J10,$L10,$N10,$P10,$R10,$T10,$V10,$X10),7)","v":0},{"$f":"LARGE(($H10,$J10,$L10,$N10,$P10,$R10,$T10,$V10,$X10),8)","v":0},{"$f":"LARGE(($H10,$J10,$L10,$N10,$P10,$R10,$T10,$V10,$X10),9)","v":0}]
[7,2000,"LARSSON Alice","Sälens IF",100,100,1,{"$f":"LOOKUP(G11,Poängberäkning!$B$6:$B$97,Poängberäkning!$C$6:$C$97)","v":100},null,{"$f":"LOOKUP(I11,Poängberäkning!$B$6:$B$97,Poängberäkning!$C$6:$C$97)","v":0},null,{"$f":"LOOKUP(K11,Poängberäkning!$B$6:$B$97,Poängberäkning!$C$6:$C$97)","v":0},null,{"$f":"LOOKUP(M11,Poängberäkning!$B$6:$B$97,Poängberäkning!$C$6:$C$97)","v":0},null,{"$f":"LOOKUP(O11,Poängberäkning!$B$6:$B$97,Poängberäkning!$C$6:$C$97)","v":0},null,{"$f":"LOOKUP(Q11,[1]Poängberäkning!$B$6:$B$97,[1]Poängberäkning!$C$6:$C$97)","v":0},null,{"$f":"LOOKUP(S11,[1]Poängberäkning!$B$6:$B$97,[1]Poängberäkning!$C$6:$C$97)","v":0},null,{"$f":"LOOKUP(U11,[1]Poängberäkning!$B$6:$B$97,[1]Poängberäkning!$C$6:$C$97)","v":0},null,{"$f":"LOOKUP(W11,[1]Poängberäkning!$B$6:$B$97,[1]Poängberäkning!$C$6:$C$97)","v":0},{"$f":"LARGE(($H11,$J11,$L11,$N11,$P11,$R11,$T11,$V11,$X11),1)","v":100},{"$f":"LARGE(($H11,$J11,$L11,$N11,$P11,$R11,$T11,$V11,$X11),2)","v":0},{"$f":"LARGE(($H11,$J11,$L11,$N11,$P11,$R11,$T11,$V11,$X11),3)","v":0},{"$f":"LARGE(($H11,$J11,$L11,$N11,$P11,$R11,$T11,$V11,$X11),4)","v":0},{"$f":"LARGE(($H11,$J11,$L11,$N11,$P11,$R11,$T11,$V11,$X11),5)","v":0},{"$f":"LARGE(($H11,$J11,$L11,$N11,$P11,$R11,$T11,$V11,$X11),6)","v":0},{"$f":"LARGE(($H11,$J11,$L11,$N11,$P11,$R11,$T11,$V11,$X11),7)","v":0},{"$f":"LARGE(($H11,$J11,$L11,$N11,$P11,$R11,$T11,$V11,$X11),8)","v":0},{"$f":"LARGE(($H11,$J11,$L11,$N11,$P11,$R11,$T11,$V11,$X11),9)","v":0}]
[8,2001,"ZETTERLUND Alma","Norrbärke SK Alpin",100,100,21,{"$f":"LOOKUP(G12,Poängberäkning!$B$6:$B$97,Poängberäkning!$C$6:$C$97)","v":30},null,{"$f":"LOOKUP(I12,Poängberäkning!$B$6:$B$97,Poängberäkning!$C$6:$C$97)","v":0},3,{"$f":"LOOKUP(K12,Poängberäkning!$B$6:$B$97,Poängberäkning!$C$6:$C$97)","v":70},null,{"$f":"LOOKUP(M12,Poängberäkning!$B$6:$B$97,Poängberäkning!$C$6:$C$97)","v":0},null,{"$f":"LOOKUP(O12,Poängberäkning!$B$6:$B$97,Poängberäkning!$C$6:$C$97)","v":0},null,{"$f":"LOOKUP(Q12,[1]Poängberäkning!$B$6:$B$97,[1]Poängberäkning!$C$6:$C$97)","v":0},null,{"$f":"LOOKUP(S12,[1]Poängberäkning!$B$6:$B$97,[1]Poängberäkning!$C$6:$C$97)","v":0},null,{"$f":"LOOKUP(U12,[1]Poängberäkning!$B$6:$B$97,[1]Poängberäkning!$C$6:$C$97)","v":0},null,{"$f":"LOOKUP(W12,[1]Poängberäkning!$B$6:$B$97,[1]Poängberäkning!$C$6:$C$97)","v":0},{"$f":"LARGE(($H12,$J12,$L12,$N12,$P12,$R12,$T12,$V12,$X12),1)","v":70},{"$f":"LARGE(($H12,$J12,$L12,$N12,$P12,$R12,$T12,$V12,$X12),2)","v":30},{"$f":"LARGE(($H12,$J12,$L12,$N12,$P12,$R12,$T12,$V12,$X12),3)","v":0},{"$f":"LARGE(($H12,$J12,$L12,$N12,$P12,$R12,$T12,$V12,$X12),4)","v":0},{"$f":"LARGE(($H12,$J12,$L12,$N12,$P12,$R12,$T12,$V12,$X12),5)","v":0},{"$f":"LARGE(($H12,$J12,$L12,$N12,$P12,$R12,$T12,$V12,$X12),6)","v":0},{"$f":"LARGE(($H12,$J12,$L12,$N12,$P12,$R12,$T12,$V12,$X12),7)","v":0},{"$f":"LARGE(($H12,$J12,$L12,$N12,$P12,$R12,$T12,$V12,$X12),8)","v":0},{"$f":"LARGE(($H12,$J12,$L12,$N12,$P12,$R12,$T12,$V12,$X12),9)","v":0}]
[9,2001,"HERTZBERG Anna","Karlstads SLK",98,98,7,{"$f":"LOOKUP(G13,Poängberäkning!$B$6:$B$97,Poängberäkning!$C$6:$C$97)","v":48},null,{"$f":"LOOKUP(I13,Poängberäkning!$B$6:$B$97,Poängberäkning!$C$6:$C$97)","v":0},null,{"$f":"LOOKUP(K13,Poängberäkning!$B$6:$B$97,Poängberäkning!$C$6:$C$97)","v":0},6,{"$f":"LOOKUP(M13,Poängberäkning!$B$6:$B$97,Poängberäkning!$C$6:$C$97)","v":50},null,{"$f":"LOOKUP(O13,Poängberäkning!$B$6:$B$97,Poängberäkning!$C$6:$C$97)","v":0},null,{"$f":"LOOKUP(Q13,[1]Poängberäkning!$B$6:$B$97,[1]Poängberäkning!$C$6:$C$97)","v":0},null,{"$f":"LOOKUP(S13,[1]Poängberäkning!$B$6:$B$97,[1]Poängberäkning!$C$6:$C$97)","v":0},null,{"$f":"LOOKUP(U13,[1]Poängberäkning!$B$6:$B$97,[1]Poängberäkning!$C$6:$C$97)","v":0},null,{"$f":"LOOKUP(W13,[1]Poängberäkning!$B$6:$B$97,[1]Poängberäkning!$C$6:$C$97)","v":0},{"$f":"LARGE(($H13,$J13,$L13,$N13,$P13,$R13,$T13,$V13,$X13),1)","v":50},{"$f":"LARGE(($H13,$J13,$L13,$N13,$P13,$R13,$T13,$V13,$X13),2)","v":48},{"$f":"LARGE(($H13,$J13,$L13,$N13,$P13,$R13,$T13,$V13,$X13),3)","v":0},{"$f":"LARGE(($H13,$J13,$L13,$N13,$P13,$R13,$T13,$V13,$X13),4)","v":0},{"$f":"LARGE(($H13,$J13,$L13,$N13,$P13,$R13,$T13,$V13,$X13),5)","v":0},{"$f":"LARGE(($H13,$J13,$L13,$N13,$P13,$R13,$T13,$V13,$X13),6)","v":0},{"$f":"LARGE(($H13,$J13,$L13,$N13,$P13,$R13,$T13,$V13,$X13),7)","v":0},{"$f":"LARGE(($H13,$J13,$L13,$N13,$P13,$R13,$T13,$V13,$X13),8)","v":0},{"$f":"LARGE(($H13,$J13,$L13,$N13,$P13,$R13,$T13,$V13,$X13),9)","v":0}]
[10,2001,"ARNESSON Moa","Karlstads SLK",97,97,10,{"$f":"LOOKUP(G14,Poängberäkning!$B$6:$B$97,Poängberäkning!$C$6:$C$97)","v":42},null,{"$f":"LOOKUP(I14,Poängberäkning!$B$6:$B$97,Poängberäkning!$C$6:$C$97)","v":0},null,{"$f":"LOOKUP(K14,Poängberäkning!$B$6:$B$97,Poängberäkning!$C$6:$C$97)","v":0},5,{"$f":"LOOKUP(M14,Poängberäkning!$B$6:$B$97,Poängberäkning!$C$6:$C$97)","v":55},null,{"$f":"LOOKUP(O14,Poängberäkning!$B$6:$B$97,Poängberäkning!$C$6:$C$97)","v":0},null,{"$f":"LOOKUP(Q14,[1]Poängberäkning!$B$6:$B$97,[1]Poängberäkning!$C$6:$C$97)","v":0},null,{"$f":"LOOKUP(S14,[1]Poängberäkning!$B$6:$B$97,[1]Poängberäkning!$C$6:$C$97)","v":0},null,{"$f":"LOOKUP(U14,[1]Poängberäkning!$B$6:$B$97,[1]Poängberäkning!$C$6:$C$97)","v":0},null,{"$f":"LOOKUP(W14,[1]Poängberäkning!$B$6:$B$97,[1]Poängberäkning!$C$6:$C$97)","v":0},{"$f":"LARGE(($H14,$J14,$L14,$N14,$P14,$R14,$T14,$V14,$X14),1)","v":55},{"$f":"LARGE(($H14,$J14,$L14,$N14,$P14,$R14,$T14,$V14,$X14),2)","v":42},{"$f":"LARGE(($H14,$J14,$L14,$N14,$P14,$R14,$T14,$V14,$X14),3)","v":0},{"$f":"LARGE(($H14,$J14,$L14,$N14,$P14,$R14,$T14,$V14,$X14),4)","v":0},{"$f":"LARGE(($H14,$J14,$L14,$N14,$P14,$R14,$T14,$V14,$X14),5)","v":0},{"$f":"LARGE(($H14,$J14,$L14,$N14,$P14,$R14,$T14,$V14,$X14),6)","v":0},{"$f":"LARGE(($H14,$J14,$L14,$N14,$P14,$R14,$T14,$V14,$X14),7)","v":0},{"$f":"LARGE(($H14,$J14,$L14,$N14,$P14,$R14,$T14,$V14,$X14),8)","v":0},{"$f":"LARGE(($H14,$J14,$L14,$N14,$P14,$R14,$T14,$V14,$X14),9)","v":0}]
[11,2001,"MAGNERYD Hanna","Norrbärke SK Alpin",80,80,null,{"$f":"LOOKUP(G15,Poängberäkning!$B$6:$B$97,Poängberäkning!$C$6:$C$97)","v":0},null,{"$f":"LOOKUP(I15,Poängberäkning!$B$6:$B$97,Poängberäkning!$C$6:$C$97)","v":0},2,{"$f":"LOOKUP(K15,Poängberäkning!$B$6:$B$97,Poängberäkning!$C$6:$C$97)","v":80},99,{"$f":"LOOKUP(M15,Poängberäkning!$B$6:$B$97,Poängberäkning!$C$6:$C$97)","v":0},null,{"$f":"LOOKUP(O15,Poängberäkning!$B$6:$B$97,Poängberäkning!$C$6:$C$97)","v":0},null,{"$f":"LOOKUP(Q15,[1]Poängberäkning!$B$6:$B$97,[1]Poängberäkning!$C$6:$C$97)","v":0},null,{"$f":"LOOKUP(S15,[1]Poängberäkning!$B$6:$B$97,[1]Poängberäkning!$C$6:$C$97)","v":0},null,{"$f":"LOOKUP(U15,[1]Poängberäkning!$B$6:$B$97,[1]Poängberäkning!$C$6:$C$97)","v":0},null,{"$f":"LOOKUP(W15,[1]Poängberäkning!$B$6:$B$97,[1]Poängberäkning!$C$6:$C$97)","v":0},{"$f":"LARGE(($H15,$J15,$L15,$N15,$P15,$R15,$T15,$V15,$X15),1)","v":80},{"$f":"LARGE(($H15,$J15,$L15,$N15,$P15,$R15,$T15,$V15,$X15),2)","v":0},{"$f":"LARGE(($H15,$J15,$L15,$N15,$P15,$R15,$T15,$V15,$X15),3)","v":0},{"$f":"LARGE(($H15,$J15,$L15,$N15,$P15,$R15,$T15,$V15,$X15),4)","v":0},{"$f":"LARGE(($H15,$J15,$L15,$N15,$P15,$R15,$T15,$V15,$X15),5)","v":0},{"$f":"LARGE(($H15,$J15,$L15,$N15,$P15,$R15,$T15,$V15,$X15),6)","v":0},{"$f":"LARGE(($H15,$J15,$L15,$N15,$P15,$R15,$T15,$V15,$X15),7)","v":0},{"$f":"LARGE(($H15,$J15,$L15,$N15,$P15,$R15,$T15,$V15,$X15),8)","v":0},{"$f":"LARGE(($H15,$J15,$L15,$N15,$P15,$R15,$T15,$V15,$X15),9)","v":0}]
[12,2001,"RAZPOTNIK Lovisa","Västerås Slalomklubb",80,80,null,{"$f":"LOOKUP(G16,Poängberäkning!$B$6:$B$97,Poängberäkning!$C$6:$C$97)","v":0},null,{"$f":"LOOKUP(I16,Poängberäkning!$B$6:$B$97,Poängberäkning!$C$6:$C$97)","v":0},null,{"$f":"LOOKUP(K16,Poängberäkning!$B$6:$B$97,Poängberäkning!$C$6:$C$97)","v":0},2,{"$f":"LOOKUP(M16,Poängberäkning!$B$6:$B$97,Poängberäkning!$C$6:$C$97)","v":80},null,{"$f":"LOOKUP(O16,Poängberäkning!$B$6:$B$97,Poängberäkning!$C$6:$C$97)","v":0},null,{"$f":"LOOKUP(Q16,[1]Poängberäkning!$B$6:$B$97,[1]Poängberäkning!$C$6:$C$97)","v":0},null,{"$f":"LOOKUP(S16,[1]Poängberäkning!$B$6:$B$97,[1]Poängberäkning!$C$6:$C$97)","v":0},null,{"$f":"LOOKUP(U16,[1]Poängberäkning!$B$6:$B$97,[1]Poängberäkning!$C$6:$C$97)","v":0},null,{"$f":"LOOKUP(W16,[1]Poängberäkning!$B$6:$B$97,[1]Poängberäkning!$C$6:$C$97)","v":0},{"$f":"LARGE(($H16,$J16,$L16,$N16,$P16,$R16,$T16,$V16,$X16),1)","v":80},{"$f":"LARGE(($H16,$J16,$L16,$N16,$P16,$R16,$T16,$V16,$X16),2)","v":0},{"$f":"LARGE(($H16,$J16,$L16,$N16,$P16,$R16,$T16,$V16,$X16),3)","v":0},{"$f":"LARGE(($H16,$J16,$L16,$N16,$P16,$R16,$T16,$V16,$X16),4)","v":0},{"$f":"LARGE(($H16,$J16,$L16,$N16,$P16,$R16,$T16,$V16,$X16),5)","v":0},{"$f":"LARGE(($H16,$J16,$L16,$N16,$P16,$R16,$T16,$V16,$X16),6)","v":0},{"$f":"LARGE(($H16,$J16,$L16,$N16,$P16,$R16,$T16,$V16,$X16),7)","v":0},{"$f":"LARGE(($H16,$J16,$L16,$N16,$P16,$R16,$T16,$V16,$X16),8)","v":0},{"$f":"LARGE(($H16,$J16,$L16,$N16,$P16,$R16,$T16,$V16,$X16),9)","v":0}]
[13,2000,"VESTMAN Andréa","Östersund-Frösö SLK",70,70,null,{"$f":"LOOKUP(G17,Poängberäkning!$B$6:$B$97,Poängberäkning!$C$6:$C$97)","v":0},null,{"$f":"LOOKUP(I17,Poängberäkning!$B$6:$B$97,Poängberäkning!$C$6:$C$97)","v":0},null,{"$f":"LOOKUP(K17,Poängberäkning!$B$6:$B$97,Poängberäkning!$C$6:$C$97)","v":0},null,{"$f":"LOOKUP(M17,Poängberäkning!$B$6:$B$97,Poängberäkning!$C$6:$C$97)","v":0},3,{"$f":"LOOKUP(O17,Poängberäkning!$B$6:$B$97,Poängberäkning!$C$6:$C$97)","v":70},null,{"$f":"LOOKUP(Q17,[1]Poängberäkning!$B$6:$B$97,[1]Poängberäkning!$C$6:$C$97)","v":0},null,{"$f":"LOOKUP(S17,[1]Poängberäkning!$B$6:$B$97,[1]Poängberäkning!$C$6:$C$97)","v":0},null,{"$f":"LOOKUP(U17,[1]Poängberäkning!$B$6:$B$97,[1]Poängberäkning!$C$6:$C$97)","v":0},null,{"$f":"LOOKUP(W17,[1]Poängberäkning!$B$6:$B$97,[1]Poängberäkning!$C$6:$C$97)","v":0},{"$f":"LARGE(($H17,$J17,$L17,$N17,$P17,$R17,$T17,$V17,$X17),1)","v":70},{"$f":"LARGE(($H17,$J17,$L17,$N17,$P17,$R17,$T17,$V17,$X17),2)","v":0},{"$f":"LARGE(($H17,$J17,$L17,$N17,$P17,$R17,$T17,$V17,$X17),3)","v":0},{"$f":"LARGE(($H17,$J17,$L17,$N17,$P17,$R17,$T17,$V17,$X17),4)","v":0},{"$f":"LARGE(($H17,$J17,$L17,$N17,$P17,$R17,$T17,$V17,$X17),5)","v":0},{"$f":"LARGE(($H17,$J17,$L17,$N17,$P17,$R17,$T17,$V17,$X17),6)","v":0},{"$f":"LARGE(($H17,$J17,$L17,$N17,$P17,$R17,$T17,$V17,$X17),7)","v":0},{"$f":"LARGE(($H17,$J17,$L17,$N17,$P17,$R17,$T17,$V17,$X17),8)","v":0},{"$f":"LARGE(($H17,$J17,$L17,$N17,$P17,$R17,$T17,$V17,$X17),9)","v":0}]
[14,2000,"PETTERSON Elin","Örebro SLF",70,70,3,{"$f":"LOOKUP(G18,Poängberäkning!$B$6:$B$97,Poängberäkning!$C$6:$C$97)","v":70},null,{"$f":"LOOKUP(I18,Poängberäkning!$B$6:$B$97,Poängberäkning!$C$6:$C$97)","v":0},null,{"$f":"LOOKUP(K18,Poängberäkning!$B$6:$B$97,Poängberäkning!$C$6:$C$97)","v":0},null,{"$f":"LOOKUP(M18,Poängberäkning!$B$6:$B$97,Poängberäkning!$C$6:$C$97)","v":0},null,{"$f":"LOOKUP(O18,Poängberäkning!$B$6:$B$97,Poängberäkning!$C$6:$C$97)","v":0},null,{"$f":"LOOKUP(Q18,[1]Poängberäkning!$B$6:$B$97,[1]Poängberäkning!$C$6:$C$97)","v":0},null,{"$f":"LOOKUP(S18,[1]Poängberäkning!$B$6:$B$97,[1]Poängberäkning!$C$6:$C$97)","v":0},null,{"$f":"LOOKUP(U18,[1]Poängberäkning!$B$6:$B$97,[1]Poängberäkning!$C$6:$C$97)","v":0},null,{"$f":"LOOKUP(W18,[1]Poängberäkning!$B$6:$B$97,[1]Poängberäkning!$C$6:$C$97)","v":0},{"$f":"LARGE(($H18,$J18,$L18,$N18,$P18,$R18,$T18,$V18,$X18),1)","v":70},{"$f":"LARGE(($H18,$J18,$L18,$N18,$P18,$R18,$T18,$V18,$X18),2)","v":0},{"$f":"LARGE(($H18,$J18,$L18,$N18,$P18,$R18,$T18,$V18,$X18),3)","v":0},{"$f":"LARGE(($H18,$J18,$L18,$N18,$P18,$R18,$T18,$V18,$X18),4)","v":0},{"$f":"LARGE(($H18,$J18,$L18,$N18,$P18,$R18,$T18,$V18,$X18),5)","v":0},{"$f":"LARGE(($H18,$J18,$L18,$N18,$P18,$R18,$T18,$V18,$X18),6)","v":0},{"$f":"LARGE(($H18,$J18,$L18,$N18,$P18,$R18,$T18,$V18,$X18),7)","v":0},{"$f":"LARGE(($H18,$J18,$L18,$N18,$P18,$R18,$T18,$V18,$X18),8)","v":0},{"$f":"LARGE(($H18,$J18,$L18,$N18,$P18,$R18,$T18,$V18,$X18),9)","v":0}]
[15,2000,"ENEQVIST Ebba","Saltsjöbadens SLK",60,60,null,{"$f":"LOOKUP(G19,Poängberäkning!$B$6:$B$97,Poängberäkning!$C$6:$C$97)","v":0},null,{"$f":"LOOKUP(I19,Poängberäkning!$B$6:$B$97,Poängberäkning!$C$6:$C$97)","v":0},null,{"$f":"LOOKUP(K19,Poängberäkning!$B$6:$B$97,Poängberäkning!$C$6:$C$97)","v":0},null,{"$f":"LOOKUP(M19,Poängberäkning!$B$6:$B$97,Poängberäkning!$C$6:$C$97)","v":0},4,{"$f":"LOOKUP(O19,Poängberäkning!$B$6:$B$97,Poängberäkning!$C$6:$C$97)","v":60},null,{"$f":"LOOKUP(Q19,[1]Poängberäkning!$B$6:$B$97,[1]Poängberäkning!$C$6:$C$97)","v":0},null,{"$f":"LOOKUP(S19,[1]Poängberäkning!$B$6:$B$97,[1]Poängberäkning!$C$6:$C$97)","v":0},null,{"$f":"LOOKUP(U19,[1]Poängberäkning!$B$6:$B$97,[1]Poängberäkning!$C$6:$C$97)","v":0},null,{"$f":"LOOKUP(W19,[1]Poängberäkning!$B$6:$B$97,[1]Poängberäkning!$C$6:$C$97)","v":0},{"$f":"LARGE(($H19,$J19,$L19,$N19,$P19,$R19,$T19,$V19,$X19),1)","v":60},{"$f":"LARGE(($H19,$J19,$L19,$N19,$P19,$R19,$T19,$V19,$X19),2)","v":0},{"$f":"LARGE(($H19,$J19,$L19,$N19,$P19,$R19,$T19,$V19,$X19),3)","v":0},{"$f":"LARGE(($H19,$J19,$L19,$N19,$P19,$R19,$T19,$V19,$X19),4)","v":0},{"$f":"LARGE(($H19,$J19,$L19,$N19,$P19,$R19,$T19,$V19,$X19),5)","v":0},{"$f":"LARGE(($H19,$J19,$L19,$N19,$P19,$R19,$T19,$V19,$X19),6)","v":0},{"$f":"LARGE(($H19,$J19,$L19,$N19,$P19,$R19,$T19,$V19,$X19),7)","v":0},{"$f":"LARGE(($H19,$J19,$L19,$N19,$P19,$R19,$T19,$V19,$X19),8)","v":0},{"$f":"LARGE(($H19,$J19,$L19,$N19,$P19,$R19,$T19,$V19,$X19),9)","v":0}]
[16,2001,"KONDRADSSON Wilma","Sälens IF",60,60,4,{"$f":"LOOKUP(G20,Poängberäkning!$B$6:$B$97,Poängberäkning!$C$6:$C$97)","v":60},null,{"$f":"LOOKUP(I20,Poängberäkning!$B$6:$B$97,Poängberäkning!$C$6:$C$97)","v":0},null,{"$f":"LOOKUP(K20,Poängberäkning!$B$6:$B$97,Poängberäkning!$C$6:$C$97)","v":0},null,{"$f":"LOOKUP(M20,Poängberäkning!$B$6:$B$97,Poängberäkning!$C$6:$C$97)","v":0},null,{"$f":"LOOKUP(O20,Poängberäkning!$B$6:$B$97,Poängberäkning!$C$6:$C$97)","v":0},null,{"$f":"LOOKUP(Q20,[1]Poängberäkning!$B$6:$B$97,[1]Poängberäkning!$C$6:$C$97)","v":0},null,{"$f":"LOOKUP(S20,[1]Poängberäkning!$B$6:$B$97,[1]Poängberäkning!$C$6:$C$97)","v":0},null,{"$f":"LOOKUP(U20,[1]Poängberäkning!$B$6:$B$97,[1]Poängberäkning!$C$6:$C$97)","v":0},null,{"$f":"LOOKUP(W20,[1]Poängberäkning!$B$6:$B$97,[1]Poängberäkning!$C$6:$C$97)","v":0},{"$f":"LARGE(($H20,$J20,$L20,$N20,$P20,$R20,$T20,$V20,$X20),1)","v":60},{"$f":"LARGE(($H20,$J20,$L20,$N20,$P20,$R20,$T20,$V20,$X20),2)","v":0},{"$f":"LARGE(($H20,$J20,$L20,$N20,$P20,$R20,$T20,$V20,$X20),3)","v":0},{"$f":"LARGE(($H20,$J20,$L20,$N20,$P20,$R20,$T20,$V20,$X20),4)","v":0},{"$f":"LARGE(($H20,$J20,$L20,$N20,$P20,$R20,$T20,$V20,$X20),5)","v":0},{"$f":"LARGE(($H20,$J20,$L20,$N20,$P20,$R20,$T20,$V20,$X20),6)","v":0},{"$f":"LARGE(($H20,$J20,$L20,$N20,$P20,$R20,$T20,$V20,$X20),7)","v":0},{"$f":"LARGE(($H20,$J20,$L20,$N20,$P20,$R20,$T20,$V20,$X20),8)","v":0},{"$f":"LARGE(($H20,$J20,$L20,$N20,$P20,$R20,$T20,$V20,$X20),9)","v":0}]
[17,2001,"SAKS Clara","Sollentuna SLK",60,60,null,{"$f":"LOOKUP(G21,Poängberäkning!$B$6:$B$97,Poängberäkning!$C$6:$C$97)","v":0},null,{"$f":"LOOKUP(I21,Poängberäkning!$B$6:$B$97,Poängberäkning!$C$6:$C$97)","v":0},null,{"$f":"LOOKUP(K21,Poängberäkning!$B$6:$B$97,Poängberäkning!$C$6:$C$97)","v":0},4,{"$f":"LOOKUP(M21,Poängberäkning!$B$6:$B$97,Poängberäkning!$C$6:$C$97)","v":60},null,{"$f":"LOOKUP(O21,Poängberäkning!$B$6:$B$97,Poängberäkning!$C$6:$C$97)","v":0},null,{"$f":"LOOKUP(Q21,[1]Poängberäkning!$B$6:$B$97,[1]Poängberäkning!$C$6:$C$97)","v":0},null,{"$f":"LOOKUP(S21,[1]Poängberäkning!$B$6:$B$97,[1]Poängberäkning!$C$6:$C$97)","v":0},null,{"$f":"LOOKUP(U21,[1]Poängberäkning!$B$6:$B$97,[1]Poängberäkning!$C$6:$C$97)","v":0},null,{"$f":"LOOKUP(W21,[1]Poängberäkning!$B$6:$B$97,[1]Poängberäkning!$C$6:$C$97)","v":0},{"$f":"LARGE(($H21,$J21,$L21,$N21,$P21,$R21,$T21,$V21,$X21),1)","v":60},{"$f":"LARGE(($H21,$J21,$L21,$N21,$P21,$R21,$T21,$V21,$X21),2)","v":0},{"$f":"LARGE(($H21,$J21,$L21,$N21,$P21,$R21,$T21,$V21,$X21),3)","v":0},{"$f":"LARGE(($H21,$J21,$L21,$N21,$P21,$R21,$T21,$V21,$X21),4)","v":0},{"$f":"LARGE(($H21,$J21,$L21,$N21,$P21,$R21,$T21,$V21,$X21),5)","v":0},{"$f":"LARGE(($H21,$J21,$L21,$N21,$P21,$R21,$T21,$V21,$X21),6)","v":0},{"$f":"LARGE(($H21,$J21,$L21,$N21,$P21,$R21,$T21,$V21,$X21),7)","v":0},{"$f":"LARGE(($H21,$J21,$L21,$N21,$P21,$R21,$T21,$V21,$X21),8)","v":0},{"$f":"LARGE(($H21,$J21,$L21,$N21,$P21,$R21,$T21,$V21,$X21),9)","v":0}]
[18,2001,"ULLE Fia","Uppsala SLK",55,55,null,{"$f":"LOOKUP(G22,Poängberäkning!$B$6:$B$97,Poängberäkning!$C$6:$C$97)","v":0},null,{"$f":"LOOKUP(I22,Poängberäkning!$B$6:$B$97,Poängberäkning!$C$6:$C$97)","v":0},null,{"$f":"LOOKUP(K22,Poängberäkning!$B$6:$B$97,Poängberäkning!$C$6:$C$97)","v":0},null,{"$f":"LOOKUP(M22,Poängberäkning!$B$6:$B$97,Poängberäkning!$C$6:$C$97)","v":0},5,{"$f":"LOOKUP(O22,Poängberäkning!$B$6:$B$97,Poängberäkning!$C$6:$C$97)","v":55},null,{"$f":"LOOKUP(Q22,[1]Poängberäkning!$B$6:$B$97,[1]Poängberäkning!$C$6:$C$97)","v":0},null,{"$f":"LOOKUP(S22,[1]Poängberäkning!$B$6:$B$97,[1]Poängberäkning!$C$6:$C$97)","v":0},null,{"$f":"LOOKUP(U22,[1]Poängberäkning!$B$6:$B$97,[1]Poängberäkning!$C$6:$C$97)","v":0},null,{"$f":"LOOKUP(W22,[1]Poängberäkning!$B$6:$B$97,[1]Poängberäkning!$C$6:$C$97)","v":0},{"$f":"LARGE(($H22,$J22,$L22,$N22,$P22,$R22,$T22,$V22,$X22),1)","v":55},{"$f":"LARGE(($H22,$J22,$L22,$N22,$P22,$R22,$T22,$V22,$X22),2)","v":0},{"$f":"LARGE(($H22,$J22,$L22,$N22,$P22,$R22,$T22,$V22,$X22),3)","v":0},{"$f":"LARGE(($H22,$J22,$L22,$N22,$P22,$R22,$T22,$V22,$X22),4)","v":0},{"$f":"LARGE(($H22,$J22,$L22,$N22,$P22,$R22,$T22,$V22,$X22),5)","v":0},{"$f":"LARGE(($H22,$J22,$L22,$N22,$P22,$R22,$T22,$V22,$X22),6)","v":0},{"$f":"LARGE(($H22,$J22,$L22,$N22,$P22,$R22,$T22,$V22,$X22),7)","v":0},{"$f":"LARGE(($H22,$J22,$L22,$N22,$P22,$R22,$T22,$V22,$X22),8)","v":0},{"$f":"LARGE(($H22,$J22,$L22,$N22,$P22,$R22,$T22,$V22,$X22),9)","v":0}]
[19,2001,"BÄCCMAN Elin","Karlstads SLK",55,55,5,{"$f":"LOOKUP(G23,Poängberäkning!$B$6:$B$97,Poängberäkning!$C$6:$C$97)","v":55},null,{"$f":"LOOKUP(I23,Poängberäkning!$B$6:$B$97,Poängberäkning!$C$6:$C$97)","v":0},null,{"$f":"LOOKUP(K23,Poängberäkning!$B$6:$B$97,Poängberäkning!$C$6:$C$97)","v":0},null,{"$f":"LOOKUP(M23,Poängberäkning!$B$6:$B$97,Poängberäkning!$C$6:$C$97)","v":0},null,{"$f":"LOOKUP(O23,Poängberäkning!$B$6:$B$97,Poängberäkning!$C$6:$C$97)","v":0},null,{"$f":"LOOKUP(Q23,[1]Poängberäkning!$B$6:$B$97,[1]Poängberäkning!$C$6:$C$97)","v":0},null,{"$f":"LOOKUP(S23,[1]Poängberäkning!$B$6:$B$97,[1]Poängberäkning!$C$6:$C$97)","v":0},null,{"$f":"LOOKUP(U23,[1]Poängberäkning!$B$6:$B$97,[1]Poängberäkning!$C$6:$C$97)","v":0},null,{"$f":"LOOKUP(W23,[1]Poängberäkning!$B$6:$B$97,[1]Poängberäkning!$C$6:$C$97)","v":0},{"$f":"LARGE(($H23,$J23,$L23,$N23,$P23,$R23,$T23,$V23,$X23),1)","v":55},{"$f":"LARGE(($H23,$J23,$L23,$N23,$P23,$R23,$T23,$V23,$X23),2)","v":0},{"$f":"LARGE(($H23,$J23,$L23,$N23,$P23,$R23,$T23,$V23,$X23),3)","v":0},{"$f":"LARGE(($H23,$J23,$L23,$N23,$P23,$R23,$T23,$V23,$X23),4)","v":0},{"$f":"LARGE(($H23,$J23,$L23,$N23,$P23,$R23,$T23,$V23,$X23),5)","v":0},{"$f":"LARGE(($H23,$J23,$L23,$N23,$P23,$R23,$T23,$V23,$X23),6)","v":0},{"$f":"LARGE(($H23,$J23,$L23,$N23,$P23,$R23,$T23,$V23,$X23),7)","v":0},{"$f":"LARGE(($H23,$J23,$L23,$N23,$P23,$R23,$T23,$V23,$X23),8)","v":0},{"$f":"LARGE(($H23,$J23,$L23,$N23,$P23,$R23,$T23,$V23,$X23),9)","v":0}]
[20,2001,"HJÄLM Molly","IFK Grängesberg AK",55,55,null,{"$f":"LOOKUP(G24,Poängberäkning!$B$6:$B$97,Poängberäkning!$C$6:$C$97)","v":0},null,{"$f":"LOOKUP(I24,Poängberäkning!$B$6:$B$97,Poängberäkning!$C$6:$C$97)","v":0},5,{"$f":"LOOKUP(K24,Poängberäkning!$B$6:$B$97,Poängberäkning!$C$6:$C$97)","v":55},null,{"$f":"LOOKUP(M24,Poängberäkning!$B$6:$B$97,Poängberäkning!$C$6:$C$97)","v":0},null,{"$f":"LOOKUP(O24,Poängberäkning!$B$6:$B$97,Poängberäkning!$C$6:$C$97)","v":0},null,{"$f":"LOOKUP(Q24,[1]Poängberäkning!$B$6:$B$97,[1]Poängberäkning!$C$6:$C$97)","v":0},null,{"$f":"LOOKUP(S24,[1]Poängberäkning!$B$6:$B$97,[1]Poängberäkning!$C$6:$C$97)","v":0},null,{"$f":"LOOKUP(U24,[1]Poängberäkning!$B$6:$B$97,[1]Poängberäkning!$C$6:$C$97)","v":0},null,{"$f":"LOOKUP(W24,[1]Poängberäkning!$B$6:$B$97,[1]Poängberäkning!$C$6:$C$97)","v":0},{"$f":"LARGE(($H24,$J24,$L24,$N24,$P24,$R24,$T24,$V24,$X24),1)","v":55},{"$f":"LARGE(($H24,$J24,$L24,$N24,$P24,$R24,$T24,$V24,$X24),2)","v":0},{"$f":"LARGE(($H24,$J24,$L24,$N24,$P24,$R24,$T24,$V24,$X24),3)","v":0},{"$f":"LARGE(($H24,$J24,$L24,$N24,$P24,$R24,$T24,$V24,$X24),4)","v":0},{"$f":"LARGE(($H24,$J24,$L24,$N24,$P24,$R24,$T24,$V24,$X24),5)","v":0},{"$f":"LARGE(($H24,$J24,$L24,$N24,$P24,$R24,$T24,$V24,$X24),6)","v":0},{"$f":"LARGE(($H24,$J24,$L24,$N24,$P24,$R24,$T24,$V24,$X24),7)","v":0},{"$f":"LARGE(($H24,$J24,$L24,$N24,$P24,$R24,$T24,$V24,$X24),8)","v":0},{"$f":"LARGE(($H24,$J24,$L24,$N24,$P24,$R24,$T24,$V24,$X24),9)","v":0}]
[21,2000,"SJÖSTEN Nellie","Hjortens SK",50,50,null,{"$f":"LOOKUP(G25,Poängberäkning!$B$6:$B$97,Poängberäkning!$C$6:$C$97)","v":0},null,{"$f":"LOOKUP(I25,Poängberäkning!$B$6:$B$97,Poängberäkning!$C$6:$C$97)","v":0},null,{"$f":"LOOKUP(K25,Poängberäkning!$B$6:$B$97,Poängberäkning!$C$6:$C$97)","v":0},null,{"$f":"LOOKUP(M25,Poängberäkning!$B$6:$B$97,Poängberäkning!$C$6:$C$97)","v":0},6,{"$f":"LOOKUP(O25,Poängberäkning!$B$6:$B$97,Poängberäkning!$C$6:$C$97)","v":50},null,{"$f":"LOOKUP(Q25,[1]Poängberäkning!$B$6:$B$97,[1]Poängberäkning!$C$6:$C$97)","v":0},null,{"$f":"LOOKUP(S25,[1]Poängberäkning!$B$6:$B$97,[1]Poängberäkning!$C$6:$C$97)","v":0},null,{"$f":"LOOKUP(U25,[1]Poängberäkning!$B$6:$B$97,[1]Poängberäkning!$C$6:$C$97)","v":0},null,{"$f":"LOOKUP(W25,[1]Poängberäkning!$B$6:$B$97,[1]Poängberäkning!$C$6:$C$97)","v":0},{"$f":"LARGE(($H25,$J25,$L25,$N25,$P25,$R25,$T25,$V25,$X25),1)","v":50},{"$f":"LARGE(($H25,$J25,$L25,$N25,$P25,$R25,$T25,$V25,$X25),2)","v":0},{"$f":"LARGE(($H25,$J25,$L25,$N25,$P25,$R25,$T25,$V25,$X25),3)","v":0},{"$f":"LARGE(($H25,$J25,$L25,$N25,$P25,$R25,$T25,$V25,$X25),4)","v":0},{"$f":"LARGE(($H25,$J25,$L25,$N25,$P25,$R25,$T25,$V25,$X25),5)","v":0},{"$f":"LARGE(($H25,$J25,$L25,$N25,$P25,$R25,$T25,$V25,$X25),6)","v":0},{"$f":"LARGE(($H25,$J25,$L25,$N25,$P25,$R25,$T25,$V25,$X25),7)","v":0},{"$f":"LARGE(($H25,$J25,$L25,$N25,$P25,$R25,$T25,$V25,$X25),8)","v":0},{"$f":"LARGE(($H25,$J25,$L25,$N25,$P25,$R25,$T25,$V25,$X25),9)","v":0}]
[22,2001,"EKMYR Saga","Uppsala SLK",48,48,null,{"$f":"LOOKUP(G26,Poängberäkning!$B$6:$B$97,Poängberäkning!$C$6:$C$97)","v":0},null,{"$f":"LOOKUP(I26,Poängberäkning!$B$6:$B$97,Poängberäkning!$C$6:$C$97)","v":0},null,{"$f":"LOOKUP(K26,Poängberäkning!$B$6:$B$97,Poängberäkning!$C$6:$C$97)","v":0},null,{"$f":"LOOKUP(M26,Poängberäkning!$B$6:$B$97,Poängberäkning!$C$6:$C$97)","v":0},7,{"$f":"LOOKUP(O26,Poängberäkning!$B$6:$B$97,Poängberäkning!$C$6:$C$97)","v":48},null,{"$f":"LOOKUP(Q26,[1]Poängberäkning!$B$6:$B$97,[1]Poängberäkning!$C$6:$C$97)","v":0},null,{"$f":"LOOKUP(S26,[1]Poängberäkning!$B$6:$B$97,[1]Poängberäkning!$C$6:$C$97)","v":0},null,{"$f":"LOOKUP(U26,[1]Poängberäkning!$B$6:$B$97,[1]Poängberäkning!$C$6:$C$97)","v":0},null,{"$f":"LOOKUP(W26,[1]Poängberäkning!$B$6:$B$97,[1]Poängberäkning!$C$6:$C$97)","v":0},{"$f":"LARGE(($H26,$J26,$L26,$N26,$P26,$R26,$T26,$V26,$X26),1)","v":48},{"$f":"LARGE(($H26,$J26,$L26,$N26,$P26,$R26,$T26,$V26,$X26),2)","v":0},{"$f":"LARGE(($H26,$J26,$L26,$N26,$P26,$R26,$T26,$V26,$X26),3)","v":0},{"$f":"LARGE(($H26,$J26,$L26,$N26,$P26,$R26,$T26,$V26,$X26),4)","v":0},{"$f":"LARGE(($H26,$J26,$L26,$N26,$P26,$R26,$T26,$V26,$X26),5)","v":0},{"$f":"LARGE(($H26,$J26,$L26,$N26,$P26,$R26,$T26,$V26,$X26),6)","v":0},{"$f":"LARGE(($H26,$J26,$L26,$N26,$P26,$R26,$T26,$V26,$X26),7)","v":0},{"$f":"LARGE(($H26,$J26,$L26,$N26,$P26,$R26,$T26,$V26,$X26),8)","v":0},{"$f":"LARGE(($H26,$J26,$L26,$N26,$P26,$R26,$T26,$V26,$X26),9)","v":0}]
[23,2001,"KANDELL Tilde","Leksands SLK",46,46,8,{"$f":"LOOKUP(G27,Poängberäkning!$B$6:$B$97,Poängberäkning!$C$6:$C$97)","v":46},null,{"$f":"LOOKUP(I27,Poängberäkning!$B$6:$B$97,Poängberäkning!$C$6:$C$97)","v":0},null,{"$f":"LOOKUP(K27,Poängberäkning!$B$6:$B$97,Poängberäkning!$C$6:$C$97)","v":0},null,{"$f":"LOOKUP(M27,Poängberäkning!$B$6:$B$97,Poängberäkning!$C$6:$C$97)","v":0},null,{"$f":"LOOKUP(O27,Poängberäkning!$B$6:$B$97,Poängberäkning!$C$6:$C$97)","v":0},null,{"$f":"LOOKUP(Q27,[1]Poängberäkning!$B$6:$B$97,[1]Poängberäkning!$C$6:$C$97)","v":0},null,{"$f":"LOOKUP(S27,[1]Poängberäkning!$B$6:$B$97,[1]Poängberäkning!$C$6:$C$97)","v":0},null,{"$f":"LOOKUP(U27,[1]Poängberäkning!$B$6:$B$97,[1]Poängberäkning!$C$6:$C$97)","v":0},null,{"$f":"LOOKUP(W27,[1]Poängberäkning!$B$6:$B$97,[1]Poängberäkning!$C$6:$C$97)","v":0},{"$f":"LARGE(($H27,$J27,$L27,$N27,$P27,$R27,$T27,$V27,$X27),1)","v":46},{"$f":"LARGE(($H27,$J27,$L27,$N27,$P27,$R27,$T27,$V27,$X27),2)","v":0},{"$f":"LARGE(($H27,$J27,$L27,$N27,$P27,$R27,$T27,$V27,$X27),3)","v":0},{"$f":"LARGE(($H27,$J27,$L27,$N27,$P27,$R27,$T27,$V27,$X27),4)","v":0},{"$f":"LARGE(($H27,$J27,$L27,$N27,$P27,$R27,$T27,$V27,$X27),5)","v":0},{"$f":"LARGE(($H27,$J27,$L27,$N27,$P27,$R27,$T27,$V27,$X27),6)","v":0},{"$f":"LARGE(($H27,$J27,$L27,$N27,$P27,$R27,$T27,$V27,$X27),7)","v":0},{"$f":"LARGE(($H27,$J27,$L27,$N27,$P27,$R27,$T27,$V27,$X27),8)","v":0},{"$f":"LARGE(($H27,$J27,$L27,$N27,$P27,$R27,$T27,$V27,$X27),9)","v":0}]
[24,2001,"NORDSTRÖM Julia","Boge SLK",44,44,null,{"$f":"LOOKUP(G28,Poängberäkning!$B$6:$B$97,Poängberäkning!$C$6:$C$97)","v":0},null,{"$f":"LOOKUP(I28,Poängberäkning!$B$6:$B$97,Poängberäkning!$C$6:$C$97)","v":0},null,{"$f":"LOOKUP(K28,Poängberäkning!$B$6:$B$97,Poängberäkning!$C$6:$C$97)","v":0},null,{"$f":"LOOKUP(M28,Poängberäkning!$B$6:$B$97,Poängberäkning!$C$6:$C$97)","v":0},9,{"$f":"LOOKUP(O28,Poängberäkning!$B$6:$B$97,Poängberäkning!$C$6:$C$97)","v":44},null,{"$f":"LOOKUP(Q28,[1]Poängberäkning!$B$6:$B$97,[1]Poängberäkning!$C$6:$C$97)","v":0},null,{"$f":"LOOKUP(S28,[1]Poängberäkning!$B$6:$B$97,[1]Poängberäkning!$C$6:$C$97)","v":0},null,{"$f":"LOOKUP(U28,[1]Poängberäkning!$B$6:$B$97,[1]Poängberäkning!$C$6:$C$97)","v":0},null,{"$f":"LOOKUP(W28,[1]Poängberäkning!$B$6:$B$97,[1]Poängberäkning!$C$6:$C$97)","v":0},{"$f":"LARGE(($H28,$J28,$L28,$N28,$P28,$R28,$T28,$V28,$X28),1)","v":44},{"$f":"LARGE(($H28,$J28,$L28,$N28,$P28,$R28,$T28,$V28,$X28),2)","v":0},{"$f":"LARGE(($H28,$J28,$L28,$N28,$P28,$R28,$T28,$V28,$X28),3)","v":0},{"$f":"LARGE(($H28,$J28,$L28,$N28,$P28,$R28,$T28,$V28,$X28),4)","v":0},{"$f":"LARGE(($H28,$J28,$L28,$N28,$P28,$R28,$T28,$V28,$X28),5)","v":0},{"$f":"LARGE(($H28,$J28,$L28,$N28,$P28,$R28,$T28,$V28,$X28),6)","v":0},{"$f":"LARGE(($H28,$J28,$L28,$N28,$P28,$R28,$T28,$V28,$X28),7)","v":0},{"$f":"LARGE(($H28,$J28,$L28,$N28,$P28,$R28,$T28,$V28,$X28),8)","v":0},{"$f":"LARGE(($H28,$J28,$L28,$N28,$P28,$R28,$T28,$V28,$X28),9)","v":0}]
[25,2001,"KARLSSON Alva","Avesta AK",44,44,9,{"$f":"LOOKUP(G29,Poängberäkning!$B$6:$B$97,Poängberäkning!$C$6:$C$97)","v":44},null,{"$f":"LOOKUP(I29,Poängberäkning!$B$6:$B$97,Poängberäkning!$C$6:$C$97)","v":0},null,{"$f":"LOOKUP(K29,Poängberäkning!$B$6:$B$97,Poängberäkning!$C$6:$C$97)","v":0},null,{"$f":"LOOKUP(M29,Poängberäkning!$B$6:$B$97,Poängberäkning!$C$6:$C$97)","v":0},null,{"$f":"LOOKUP(O29,Poängberäkning!$B$6:$B$97,Poängberäkning!$C$6:$C$97)","v":0},null,{"$f":"LOOKUP(Q29,[1]Poängberäkning!$B$6:$B$97,[1]Poängberäkning!$C$6:$C$97)","v":0},null,{"$f":"LOOKUP(S29,[1]Poängberäkning!$B$6:$B$97,[1]Poängberäkning!$C$6:$C$97)","v":0},null,{"$f":"LOOKUP(U29,[1]Poängberäkning!$B$6:$B$97,[1]Poängberäkning!$C$6:$C$97)","v":0},null,{"$f":"LOOKUP(W29,[1]Poängberäkning!$B$6:$B$97,[1]Poängberäkning!$C$6:$C$97)","v":0},{"$f":"LARGE(($H29,$J29,$L29,$N29,$P29,$R29,$T29,$V29,$X29),1)","v":44},{"$f":"LARGE(($H29,$J29,$L29,$N29,$P29,$R29,$T29,$V29,$X29),2)","v":0},{"$f":"LARGE(($H29,$J29,$L29,$N29,$P29,$R29,$T29,$V29,$X29),3)","v":0},{"$f":"LARGE(($H29,$J29,$L29,$N29,$P29,$R29,$T29,$V29,$X29),4)","v":0},{"$f":"LARGE(($H29,$J29,$L29,$N29,$P29,$R29,$T29,$V29,$X29),5)","v":0},{"$f":"LARGE(($H29,$J29,$L29,$N29,$P29,$R29,$T29,$V29,$X29),6)","v":0},{"$f":"LARGE(($H29,$J29,$L29,$N29,$P29,$R29,$T29,$V29,$X29),7)","v":0},{"$f":"LARGE(($H29,$J29,$L29,$N29,$P29,$R29,$T29,$V29,$X29),8)","v":0},{"$f":"LARGE(($H29,$J29,$L29,$N29,$P29,$R29,$T29,$V29,$X29),9)","v":0}]
[26,2001,"VOGT Lisa","Norrbärke SK Alpin",44,44,null,{"$f":"LOOKUP(G30,Poängberäkning!$B$6:$B$97,Poängberäkning!$C$6:$C$97)","v":0},99,{"$f":"LOOKUP(I30,Poängberäkning!$B$6:$B$97,Poängberäkning!$C$6:$C$97)","v":0},99,{"$f":"LOOKUP(K30,Poängberäkning!$B$6:$B$97,Poängberäkning!$C$6:$C$97)","v":0},9,{"$f":"LOOKUP(M30,Poängberäkning!$B$6:$B$97,Poängberäkning!$C$6:$C$97)","v":44},null,{"$f":"LOOKUP(O30,Poängberäkning!$B$6:$B$97,Poängberäkning!$C$6:$C$97)","v":0},null,{"$f":"LOOKUP(Q30,[1]Poängberäkning!$B$6:$B$97,[1]Poängberäkning!$C$6:$C$97)","v":0},null,{"$f":"LOOKUP(S30,[1]Poängberäkning!$B$6:$B$97,[1]Poängberäkning!$C$6:$C$97)","v":0},null,{"$f":"LOOKUP(U30,[1]Poängberäkning!$B$6:$B$97,[1]Poängberäkning!$C$6:$C$97)","v":0},null,{"$f":"LOOKUP(W30,[1]Poängberäkning!$B$6:$B$97,[1]Poängberäkning!$C$6:$C$97)","v":0},{"$f":"LARGE(($H30,$J30,$L30,$N30,$P30,$R30,$T30,$V30,$X30),1)","v":44},{"$f":"LARGE(($H30,$J30,$L30,$N30,$P30,$R30,$T30,$V30,$X30),2)","v":0},{"$f":"LARGE(($H30,$J30,$L30,$N30,$P30,$R30,$T30,$V30,$X30),3)","v":0},{"$f":"LARGE(($H30,$J30,$L30,$N30,$P30,$R30,$T30,$V30,$X30),4)","v":0},{"$f":"LARGE(($H30,$J30,$L30,$N30,$P30,$R30,$T30,$V30,$X30),5)","v":0},{"$f":"LARGE(($H30,$J30,$L30,$N30,$P30,$R30,$T30,$V30,$X30),6)","v":0},{"$f":"LARGE(($H30,$J30,$L30,$N30,$P30,$R30,$T30,$V30,$X30),7)","v":0},{"$f":"LARGE(($H30,$J30,$L30,$N30,$P30,$R30,$T30,$V30,$X30),8)","v":0},{"$f":"LARGE(($H30,$J30,$L30,$N30,$P30,$R30,$T30,$V30,$X30),9)","v":0}]
[27,2001,"VIKSTRÖM Tuva","Rättviks SLK",42,42,null,{"$f":"LOOKUP(G31,Poängberäkning!$B$6:$B$97,Poängberäkning!$C$6:$C$97)","v":0},null,{"$f":"LOOKUP(I31,Poängberäkning!$B$6:$B$97,Poängberäkning!$C$6:$C$97)","v":0},null,{"$f":"LOOKUP(K31,Poängberäkning!$B$6:$B$97,Poängberäkning!$C$6:$C$97)","v":0},null,{"$f":"LOOKUP(M31,Poängberäkning!$B$6:$B$97,Poängberäkning!$C$6:$C$97)","v":0},10,{"$f":"LOOKUP(O31,Poängberäkning!$B$6:$B$97,Poängberäkning!$C$6:$C$97)","v":42},null,{"$f":"LOOKUP(Q31,[1]Poängberäkning!$B$6:$B$97,[1]Poängberäkning!$C$6:$C$97)","v":0},null,{"$f":"LOOKUP(S31,[1]Poängberäkning!$B$6:$B$97,[1]Poängberäkning!$C$6:$C$97)","v":0},null,{"$f":"LOOKUP(U31,[1]Poängberäkning!$B$6:$B$97,[1]Poängberäkning!$C$6:$C$97)","v":0},null,{"$f":"LOOKUP(W31,[1]Poängberäkning!$B$6:$B$97,[1]Poängberäkning!$C$6:$C$97)","v":0},{"$f":"LARGE(($H31,$J31,$L31,$N31,$P31,$R31,$T31,$V31,$X31),1)","v":42},{"$f":"LARGE(($H31,$J31,$L31,$N31,$P31,$R31,$T31,$V31,$X31),2)","v":0},{"$f":"LARGE(($H31,$J31,$L31,$N31,$P31,$R31,$T31,$V31,$X31),3)","v":0},{"$f":"LARGE(($H31,$J31,$L31,$N31,$P31,$R31,$T31,$V31,$X31),4)","v":0},{"$f":"LARGE(($H31,$J31,$L31,$N31,$P31,$R31,$T31,$V31,$X31),5)","v":0},{"$f":"LARGE(($H31,$J31,$L31,$N31,$P31,$R31,$T31,$V31,$X31),6)","v":0},{"$f":"LARGE(($H31,$J31,$L31,$N31,$P31,$R31,$T31,$V31,$X31),7)","v":0},{"$f":"LARGE(($H31,$J31,$L31,$N31,$P31,$R31,$T31,$V31,$X31),8)","v":0},{"$f":"LARGE(($H31,$J31,$L31,$N31,$P31,$R31,$T31,$V31,$X31),9)","v":0}]
[28,2001,"JALKESTEN Rebecka","Huddinge SK AF",40,40,null,{"$f":"LOOKUP(G32,Poängberäkning!$B$6:$B$97,Poängberäkning!$C$6:$C$97)","v":0},null,{"$f":"LOOKUP(I32,Poängberäkning!$B$6:$B$97,Poängberäkning!$C$6:$C$97)","v":0},null,{"$f":"LOOKUP(K32,Poängberäkning!$B$6:$B$97,Poängberäkning!$C$6:$C$97)","v":0},null,{"$f":"LOOKUP(M32,Poängberäkning!$B$6:$B$97,Poängberäkning!$C$6:$C$97)","v":0},11,{"$f":"LOOKUP(O32,Poängberäkning!$B$6:$B$97,Poängberäkning!$C$6:$C$97)","v":40},null,{"$f":"LOOKUP(Q32,[1]Poängberäkning!$B$6:$B$97,[1]Poängberäkning!$C$6:$C$97)","v":0},null,{"$f":"LOOKUP(S32,[1]Poängberäkning!$B$6:$B$97,[1]Poängberäkning!$C$6:$C$97)","v":0},null,{"$f":"LOOKUP(U32,[1]Poängberäkning!$B$6:$B$97,[1]Poängberäkning!$C$6:$C$97)","v":0},null,{"$f":"LOOKUP(W32,[1]Poängberäkning!$B$6:$B$97,[1]Poängberäkning!$C$6:$C$97)","v":0},{"$f":"LARGE(($H32,$J32,$L32,$N32,$P32,$R32,$T32,$V32,$X32),1)","v":40},{"$f":"LARGE(($H32,$J32,$L32,$N32,$P32,$R32,$T32,$V32,$X32),2)","v":0},{"$f":"LARGE(($H32,$J32,$L32,$N32,$P32,$R32,$T32,$V32,$X32),3)","v":0},{"$f":"LARGE(($H32,$J32,$L32,$N32,$P32,$R32,$T32,$V32,$X32),4)","v":0},{"$f":"LARGE(($H32,$J32,$L32,$N32,$P32,$R32,$T32,$V32,$X32),5)","v":0},{"$f":"LARGE(($H32,$J32,$L32,$N32,$P32,$R32,$T32,$V32,$X32),6)","v":0},{"$f":"LARGE(($H32,$J32,$L32,$N32,$P32,$R32,$T32,$V32,$X32),7)","v":0},{"$f":"LARGE(($H32,$J32,$L32,$N32,$P32,$R32,$T32,$V32,$X32),8)","v":0},{"$f":"LARGE(($H32,$J32,$L32,$N32,$P32,$R32,$T32,$V32,$X32),9)","v":0}]
[29,2000,"ASKMAN Linn","Valfjällets SLK",40,40,11,{"$f":"LOOKUP(G33,Poängberäkning!$B$6:$B$97,Poängberäkning!$C$6:$C$97)","v":40},null,{"$f":"LOOKUP(I33,Poängberäkning!$B$6:$B$97,Poängberäkning!$C$6:$C$97)","v":0},null,{"$f":"LOOKUP(K33,Poängberäkning!$B$6:$B$97,Poängberäkning!$C$6:$C$97)","v":0},null,{"$f":"LOOKUP(M33,Poängberäkning!$B$6:$B$97,Poängberäkning!$C$6:$C$97)","v":0},null,{"$f":"LOOKUP(O33,Poängberäkning!$B$6:$B$97,Poängberäkning!$C$6:$C$97)","v":0},null,{"$f":"LOOKUP(Q33,[1]Poängberäkning!$B$6:$B$97,[1]Poängberäkning!$C$6:$C$97)","v":0},null,{"$f":"LOOKUP(S33,[1]Poängberäkning!$B$6:$B$97,[1]Poängberäkning!$C$6:$C$97)","v":0},null,{"$f":"LOOKUP(U33,[1]Poängberäkning!$B$6:$B$97,[1]Poängberäkning!$C$6:$C$97)","v":0},null,{"$f":"LOOKUP(W33,[1]Poängberäkning!$B$6:$B$97,[1]Poängberäkning!$C$6:$C$97)","v":0},{"$f":"LARGE(($H33,$J33,$L33,$N33,$P33,$R33,$T33,$V33,$X33),1)","v":40},{"$f":"LARGE(($H33,$J33,$L33,$N33,$P33,$R33,$T33,$V33,$X33),2)","v":0},{"$f":"LARGE(($H33,$J33,$L33,$N33,$P33,$R33,$T33,$V33,$X33),3)","v":0},{"$f":"LARGE(($H33,$J33,$L33,$N33,$P33,$R33,$T33,$V33,$X33),4)","v":0},{"$f":"LARGE(($H33,$J33,$L33,$N33,$P33,$R33,$T33,$V33,$X33),5)","v":0},{"$f":"LARGE(($H33,$J33,$L33,$N33,$P33,$R33,$T33,$V33,$X33),6)","v":0},{"$f":"LARGE(($H33,$J33,$L33,$N33,$P33,$R33,$T33,$V33,$X33),7)","v":0},{"$f":"LARGE(($H33,$J33,$L33,$N33,$P33,$R33,$T33,$V33,$X33),8)","v":0},{"$f":"LARGE(($H33,$J33,$L33,$N33,$P33,$R33,$T33,$V33,$X33),9)","v":0}]
[30,2001,"MIDÉR Maja","Norrbärke SK Alpin",39,39,null,{"$f":"LOOKUP(G34,Poängberäkning!$B$6:$B$97,Poängberäkning!$C$6:$C$97)","v":0},null,{"$f":"LOOKUP(I34,Poängberäkning!$B$6:$B$97,Poängberäkning!$C$6:$C$97)","v":0},99,{"$f":"LOOKUP(K34,Poängberäkning!$B$6:$B$97,Poängberäkning!$C$6:$C$97)","v":0},99,{"$f":"LOOKUP(M34,Poängberäkning!$B$6:$B$97,Poängberäkning!$C$6:$C$97)","v":0},12,{"$f":"LOOKUP(O34,Poängberäkning!$B$6:$B$97,Poängberäkning!$C$6:$C$97)","v":39},null,{"$f":"LOOKUP(Q34,[1]Poängberäkning!$B$6:$B$97,[1]Poängberäkning!$C$6:$C$97)","v":0},null,{"$f":"LOOKUP(S34,[1]Poängberäkning!$B$6:$B$97,[1]Poängberäkning!$C$6:$C$97)","v":0},null,{"$f":"LOOKUP(U34,[1]Poängberäkning!$B$6:$B$97,[1]Poängberäkning!$C$6:$C$97)","v":0},null,{"$f":"LOOKUP(W34,[1]Poängberäkning!$B$6:$B$97,[1]Poängberäkning!$C$6:$C$97)","v":0},{"$f":"LARGE(($H34,$J34,$L34,$N34,$P34,$R34,$T34,$V34,$X34),1)","v":39},{"$f":"LARGE(($H34,$J34,$L34,$N34,$P34,$R34,$T34,$V34,$X34),2)","v":0},{"$f":"LARGE(($H34,$J34,$L34,$N34,$P34,$R34,$T34,$V34,$X34),3)","v":0},{"$f":"LARGE(($H34,$J34,$L34,$N34,$P34,$R34,$T34,$V34,$X34),4)","v":0},{"$f":"LARGE(($H34,$J34,$L34,$N34,$P34,$R34,$T34,$V34,$X34),5)","v":0},{"$f":"LARGE(($H34,$J34,$L34,$N34,$P34,$R34,$T34,$V34,$X34),6)","v":0},{"$f":"LARGE(($H34,$J34,$L34,$N34,$P34,$R34,$T34,$V34,$X34),7)","v":0},{"$f":"LARGE(($H34,$J34,$L34,$N34,$P34,$R34,$T34,$V34,$X34),8)","v":0},{"$f":"LARGE(($H34,$J34,$L34,$N34,$P34,$R34,$T34,$V34,$X34),9)","v":0}]
[31,2001,"BJÖRKMAN Wilma","IFK Mora AK",38,38,13,{"$f":"LOOKUP(G35,Poängberäkning!$B$6:$B$97,Poängberäkning!$C$6:$C$97)","v":38},null,{"$f":"LOOKUP(I35,Poängberäkning!$B$6:$B$97,Poängberäkning!$C$6:$C$97)","v":0},null,{"$f":"LOOKUP(K35,Poängberäkning!$B$6:$B$97,Poängberäkning!$C$6:$C$97)","v":0},null,{"$f":"LOOKUP(M35,Poängberäkning!$B$6:$B$97,Poängberäkning!$C$6:$C$97)","v":0},null,{"$f":"LOOKUP(O35,Poängberäkning!$B$6:$B$97,Poängberäkning!$C$6:$C$97)","v":0},null,{"$f":"LOOKUP(Q35,[1]Poängberäkning!$B$6:$B$97,[1]Poängberäkning!$C$6:$C$97)","v":0},null,{"$f":"LOOKUP(S35,[1]Poängberäkning!$B$6:$B$97,[1]Poängberäkning!$C$6:$C$97)","v":0},null,{"$f":"LOOKUP(U35,[1]Poängberäkning!$B$6:$B$97,[1]Poängberäkning!$C$6:$C$97)","v":0},null,{"$f":"LOOKUP(W35,[1]Poängberäkning!$B$6:$B$97,[1]Poängberäkning!$C$6:$C$97)","v":0},{"$f":"LARGE(($H35,$J35,$L35,$N35,$P35,$R35,$T35,$V35,$X35),1)","v":38},{"$f":"LARGE(($H35,$J35,$L35,$N35,$P35,$R35,$T35,$V35,$X35),2)","v":0},{"$f":"LARGE(($H35,$J35,$L35,$N35,$P35,$R35,$T35,$V35,$X35),3)","v":0},{"$f":"LARGE(($H35,$J35,$L35,$N35,$P35,$R35,$T35,$V35,$X35),4)","v":0},{"$f":"LARGE(($H35,$J35,$L35,$N35,$P35,$R35,$T35,$V35,$X35),5)","v":0},{"$f":"LARGE(($H35,$J35,$L35,$N35,$P35,$R35,$T35,$V35,$X35),6)","v":0},{"$f":"LARGE(($H35,$J35,$L35,$N35,$P35,$R35,$T35,$V35,$X35),7)","v":0},{"$f":"LARGE(($H35,$J35,$L35,$N35,$P35,$R35,$T35,$V35,$X35),8)","v":0},{"$f":"LARGE(($H35,$J35,$L35,$N35,$P35,$R35,$T35,$V35,$X35),9)","v":0}]
[32,2001,"STAM Nora","Kils SLK",37,37,14,{"$f":"LOOKUP(G36,Poängberäkning!$B$6:$B$97,Poängberäkning!$C$6:$C$97)","v":37},null,{"$f":"LOOKUP(I36,Poängberäkning!$B$6:$B$97,Poängberäkning!$C$6:$C$97)","v":0},null,{"$f":"LOOKUP(K36,Poängberäkning!$B$6:$B$97,Poängberäkning!$C$6:$C$97)","v":0},null,{"$f":"LOOKUP(M36,Poängberäkning!$B$6:$B$97,Poängberäkning!$C$6:$C$97)","v":0},null,{"$f":"LOOKUP(O36,Poängberäkning!$B$6:$B$97,Poängberäkning!$C$6:$C$97)","v":0},null,{"$f":"LOOKUP(Q36,[1]Poängberäkning!$B$6:$B$97,[1]Poängberäkning!$C$6:$C$97)","v":0},null,{"$f":"LOOKUP(S36,[1]Poängberäkning!$B$6:$B$97,[1]Poängberäkning!$C$6:$C$97)","v":0},null,{"$f":"LOOKUP(U36,[1]Poängberäkning!$B$6:$B$97,[1]Poängberäkning!$C$6:$C$97)","v":0},null,{"$f":"LOOKUP(W36,[1]Poängberäkning!$B$6:$B$97,[1]Poängberäkning!$C$6:$C$97)","v":0},{"$f":"LARGE(($H36,$J36,$L36,$N36,$P36,$R36,$T36,$V36,$X36),1)","v":37},{"$f":"LARGE(($H36,$J36,$L36,$N36,$P36,$R36,$T36,$V36,$X36),2)","v":0},{"$f":"LARGE(($H36,$J36,$L36,$N36,$P36,$R36,$T36,$V36,$X36),3)","v":0},{"$f":"LARGE(($H36,$J36,$L36,$N36,$P36,$R36,$T36,$V36,$X36),4)","v":0},{"$f":"LARGE(($H36,$J36,$L36,$N36,$P36,$R36,$T36,$V36,$X36),5)","v":0},{"$f":"LARGE(($H36,$J36,$L36,$N36,$P36,$R36,$T36,$V36,$X36),6)","v":0},{"$f":"LARGE(($H36,$J36,$L36,$N36,$P36,$R36,$T36,$V36,$X36),7)","v":0},{"$f":"LARGE(($H36,$J36,$L36,$N36,$P36,$R36,$T36,$V36,$X36),8)","v":0},{"$f":"LARGE(($H36,$J36,$L36,$N36,$P36,$R36,$T36,$V36,$X36),9)","v":0}]
[33,2001,"ANDERSSON Madeleine","Örebro SLF",{"$f":"SUM(Y37:AA37)","v":36},{"$f":"H37+J37+L37+N37+P37+R37+T37+V37+X37","v":36},15,{"$f":"LOOKUP(G37,Poängberäkning!$B$6:$B$97,Poängberäkning!$C$6:$C$97)","v":36},null,{"$f":"LOOKUP(I37,Poängberäkning!$B$6:$B$97,Poängberäkning!$C$6:$C$97)","v":0},null,{"$f":"LOOKUP(K37,Poängberäkning!$B$6:$B$97,Poängberäkning!$C$6:$C$97)","v":0},null,{"$f":"LOOKUP(M37,Poängberäkning!$B$6:$B$97,Poängberäkning!$C$6:$C$97)","v":0},null,{"$f":"LOOKUP(O37,Poängberäkning!$B$6:$B$97,Poängberäkning!$C$6:$C$97)","v":0},null,{"$f":"LOOKUP(Q37,[1]Poängberäkning!$B$6:$B$97,[1]Poängberäkning!$C$6:$C$97)","v":0},null,{"$f":"LOOKUP(S37,[1]Poängberäkning!$B$6:$B$97,[1]Poängberäkning!$C$6:$C$97)","v":0},null,{"$f":"LOOKUP(U37,[1]Poängberäkning!$B$6:$B$97,[1]Poängberäkning!$C$6:$C$97)","v":0},null,{"$f":"LOOKUP(W37,[1]Poängberäkning!$B$6:$B$97,[1]Poängberäkning!$C$6:$C$97)","v":0},{"$f":"LARGE(($H37,$J37,$L37,$N37,$P37,$R37,$T37,$V37,$X37),1)","v":36},{"$f":"LARGE(($H37,$J37,$L37,$N37,$P37,$R37,$T37,$V37,$X37),2)","v":0},{"$f":"LARGE(($H37,$J37,$L37,$N37,$P37,$R37,$T37,$V37,$X37),3)","v":0},{"$f":"LARGE(($H37,$J37,$L37,$N37,$P37,$R37,$T37,$V37,$X37),4)","v":0},{"$f":"LARGE(($H37,$J37,$L37,$N37,$P37,$R37,$T37,$V37,$X37),5)","v":0},{"$f":"LARGE(($H37,$J37,$L37,$N37,$P37,$R37,$T37,$V37,$X37),6)","v":0},{"$f":"LARGE(($H37,$J37,$L37,$N37,$P37,$R37,$T37,$V37,$X37),7)","v":0},{"$f":"LARGE(($H37,$J37,$L37,$N37,$P37,$R37,$T37,$V37,$X37),8)","v":0},{"$f":"LARGE(($H37,$J37,$L37,$N37,$P37,$R37,$T37,$V37,$X37),9)","v":0}]
[34,2001,"KYRK Clara","Grums SLK",35,35,16,{"$f":"LOOKUP(G38,Poängberäkning!$B$6:$B$97,Poängberäkning!$C$6:$C$97)","v":35},null,{"$f":"LOOKUP(I38,Poängberäkning!$B$6:$B$97,Poängberäkning!$C$6:$C$97)","v":0},null,{"$f":"LOOKUP(K38,Poängberäkning!$B$6:$B$97,Poängberäkning!$C$6:$C$97)","v":0},null,{"$f":"LOOKUP(M38,Poängberäkning!$B$6:$B$97,Poängberäkning!$C$6:$C$97)","v":0},null,{"$f":"LOOKUP(O38,Poängberäkning!$B$6:$B$97,Poängberäkning!$C$6:$C$97)","v":0},null,{"$f":"LOOKUP(Q38,[1]Poängberäkning!$B$6:$B$97,[1]Poängberäkning!$C$6:$C$97)","v":0},null,{"$f":"LOOKUP(S38,[1]Poängberäkning!$B$6:$B$97,[1]Poängberäkning!$C$6:$C$97)","v":0},null,{"$f":"LOOKUP(U38,[1]Poängberäkning!$B$6:$B$97,[1]Poängberäkning!$C$6:$C$97)","v":0},null,{"$f":"LOOKUP(W38,[1]Poängberäkning!$B$6:$B$97,[1]Poängberäkning!$C$6:$C$97)","v":0},{"$f":"LARGE(($H38,$J38,$L38,$N38,$P38,$R38,$T38,$V38,$X38),1)","v":35},{"$f":"LARGE(($H38,$J38,$L38,$N38,$P38,$R38,$T38,$V38,$X38),2)","v":0},{"$f":"LARGE(($H38,$J38,$L38,$N38,$P38,$R38,$T38,$V38,$X38),3)","v":0},{"$f":"LARGE(($H38,$J38,$L38,$N38,$P38,$R38,$T38,$V38,$X38),4)","v":0},{"$f":"LARGE(($H38,$J38,$L38,$N38,$P38,$R38,$T38,$V38,$X38),5)","v":0},{"$f":"LARGE(($H38,$J38,$L38,$N38,$P38,$R38,$T38,$V38,$X38),6)","v":0},{"$f":"LARGE(($H38,$J38,$L38,$N38,$P38,$R38,$T38,$V38,$X38),7)","v":0},{"$f":"LARGE(($H38,$J38,$L38,$N38,$P38,$R38,$T38,$V38,$X38),8)","v":0},{"$f":"LARGE(($H38,$J38,$L38,$N38,$P38,$R38,$T38,$V38,$X38),9)","v":0}]
[35,2001,"ÖSTMARK Elsa","Gävle Alpina SK",34,34,17,{"$f":"LOOKUP(G39,Poängberäkning!$B$6:$B$97,Poängberäkning!$C$6:$C$97)","v":34},null,{"$f":"LOOKUP(I39,Poängberäkning!$B$6:$B$97,Poängberäkning!$C$6:$C$97)","v":0},null,{"$f":"LOOKUP(K39,Poängberäkning!$B$6:$B$97,Poängberäkning!$C$6:$C$97)","v":0},null,{"$f":"LOOKUP(M39,Poängberäkning!$B$6:$B$97,Poängberäkning!$C$6:$C$97)","v":0},null,{"$f":"LOOKUP(O39,Poängberäkning!$B$6:$B$97,Poängberäkning!$C$6:$C$97)","v":0},null,{"$f":"LOOKUP(Q39,[1]Poängberäkning!$B$6:$B$97,[1]Poängberäkning!$C$6:$C$97)","v":0},null,{"$f":"LOOKUP(S39,[1]Poängberäkning!$B$6:$B$97,[1]Poängberäkning!$C$6:$C$97)","v":0},null,{"$f":"LOOKUP(U39,[1]Poängberäkning!$B$6:$B$97,[1]Poängberäkning!$C$6:$C$97)","v":0},null,{"$f":"LOOKUP(W39,[1]Poängberäkning!$B$6:$B$97,[1]Poängberäkning!$C$6:$C$97)","v":0},{"$f":"LARGE(($H39,$J39,$L39,$N39,$P39,$R39,$T39,$V39,$X39),1)","v":34},{"$f":"LARGE(($H39,$J39,$L39,$N39,$P39,$R39,$T39,$V39,$X39),2)","v":0},{"$f":"LARGE(($H39,$J39,$L39,$N39,$P39,$R39,$T39,$V39,$X39),3)","v":0},{"$f":"LARGE(($H39,$J39,$L39,$N39,$P39,$R39,$T39,$V39,$X39),4)","v":0},{"$f":"LARGE(($H39,$J39,$L39,$N39,$P39,$R39,$T39,$V39,$X39),5)","v":0},{"$f":"LARGE(($H39,$J39,$L39,$N39,$P39,$R39,$T39,$V39,$X39),6)","v":0},{"$f":"LARGE(($H39,$J39,$L39,$N39,$P39,$R39,$T39,$V39,$X39),7)","v":0},{"$f":"LARGE(($H39,$J39,$L39,$N39,$P39,$R39,$T39,$V39,$X39),8)","v":0},{"$f":"LARGE(($H39,$J39,$L39,$N39,$P39,$R39,$T39,$V39,$X39),9)","v":0}]
[36,2000,"SANDBERG Ahnoo","IFK Falun",33,33,18,{"$f":"LOOKUP(G40,Poängberäkning!$B$6:$B$97,Poängberäkning!$C$6:$C$97)","v":33},null,{"$f":"LOOKUP(I40,Poängberäkning!$B$6:$B$97,Poängberäkning!$C$6:$C$97)","v":0},null,{"$f":"LOOKUP(K40,Poängberäkning!$B$6:$B$97,Poängberäkning!$C$6:$C$97)","v":0},null,{"$f":"LOOKUP(M40,Poängberäkning!$B$6:$B$97,Poängberäkning!$C$6:$C$97)","v":0},null,{"$f":"LOOKUP(O40,Poängberäkning!$B$6:$B$97,Poängberäkning!$C$6:$C$97)","v":0},null,{"$f":"LOOKUP(Q40,[1]Poängberäkning!$B$6:$B$97,[1]Poängberäkning!$C$6:$C$97)","v":0},null,{"$f":"LOOKUP(S40,[1]Poängberäkning!$B$6:$B$97,[1]Poängberäkning!$C$6:$C$97)","v":0},null,{"$f":"LOOKUP(U40,[1]Poängberäkning!$B$6:$B$97,[1]Poängberäkning!$C$6:$C$97)","v":0},null,{"$f":"LOOKUP(W40,[1]Poängberäkning!$B$6:$B$97,[1]Poängberäkning!$C$6:$C$97)","v":0},{"$f":"LARGE(($H40,$J40,$L40,$N40,$P40,$R40,$T40,$V40,$X40),1)","v":33},{"$f":"LARGE(($H40,$J40,$L40,$N40,$P40,$R40,$T40,$V40,$X40),2)","v":0},{"$f":"LARGE(($H40,$J40,$L40,$N40,$P40,$R40,$T40,$V40,$X40),3)","v":0},{"$f":"LARGE(($H40,$J40,$L40,$N40,$P40,$R40,$T40,$V40,$X40),4)","v":0},{"$f":"LARGE(($H40,$J40,$L40,$N40,$P40,$R40,$T40,$V40,$X40),5)","v":0},{"$f":"LARGE(($H40,$J40,$L40,$N40,$P40,$R40,$T40,$V40,$X40),6)","v":0},{"$f":"LARGE(($H40,$J40,$L40,$N40,$P40,$R40,$T40,$V40,$X40),7)","v":0},{"$f":"LARGE(($H40,$J40,$L40,$N40,$P40,$R40,$T40,$V40,$X40),8)","v":0},{"$f":"LARGE(($H40,$J40,$L40,$N40,$P40,$R40,$T40,$V40,$X40),9)","v":0}]
[37,2000,"HÅKANSSON Ida","Valfjällets SLK",32,32,19,{"$f":"LOOKUP(G41,Poängberäkning!$B$6:$B$97,Poängberäkning!$C$6:$C$97)","v":32},null,{"$f":"LOOKUP(I41,Poängberäkning!$B$6:$B$97,Poängberäkning!$C$6:$C$97)","v":0},null,{"$f":"LOOKUP(K41,Poängberäkning!$B$6:$B$97,Poängberäkning!$C$6:$C$97)","v":0},null,{"$f":"LOOKUP(M41,Poängberäkning!$B$6:$B$97,Poängberäkning!$C$6:$C$97)","v":0},null,{"$f":"LOOKUP(O41,Poängberäkning!$B$6:$B$97,Poängberäkning!$C$6:$C$97)","v":0},null,{"$f":"LOOKUP(Q41,[1]Poängberäkning!$B$6:$B$97,[1]Poängberäkning!$C$6:$C$97)","v":0},null,{"$f":"LOOKUP(S41,[1]Poängberäkning!$B$6:$B$97,[1]Poängberäkning!$C$6:$C$97)","v":0},null,{"$f":"LOOKUP(U41,[1]Poängberäkning!$B$6:$B$97,[1]Poängberäkning!$C$6:$C$97)","v":0},null,{"$f":"LOOKUP(W41,[1]Poängberäkning!$B$6:$B$97,[1]Poängberäkning!$C$6:$C$97)","v":0},{"$f":"LARGE(($H41,$J41,$L41,$N41,$P41,$R41,$T41,$V41,$X41),1)","v":32},{"$f":"LARGE(($H41,$J41,$L41,$N41,$P41,$R41,$T41,$V41,$X41),2)","v":0},{"$f":"LARGE(($H41,$J41,$L41,$N41,$P41,$R41,$T41,$V41,$X41),3)","v":0},{"$f":"LARGE(($H41,$J41,$L41,$N41,$P41,$R41,$T41,$V41,$X41),4)","v":0},{"$f":"LARGE(($H41,$J41,$L41,$N41,$P41,$R41,$T41,$V41,$X41),5)","v":0},{"$f":"LARGE(($H41,$J41,$L41,$N41,$P41,$R41,$T41,$V41,$X41),6)","v":0},{"$f":"LARGE(($H41,$J41,$L41,$N41,$P41,$R41,$T41,$V41,$X41),7)","v":0},{"$f":"LARGE(($H41,$J41,$L41,$N41,$P41,$R41,$T41,$V41,$X41),8)","v":0},{"$f":"LARGE(($H41,$J41,$L41,$N41,$P41,$R41,$T41,$V41,$X41),9)","v":0}]
[38,2001,"MOLNSTRAND Ramona","Örebro SLF",31,31,20,{"$f":"LOOKUP(G42,Poängberäkning!$B$6:$B$97,Poängberäkning!$C$6:$C$97)","v":31},null,{"$f":"LOOKUP(I42,Poängberäkning!$B$6:$B$97,Poängberäkning!$C$6:$C$97)","v":0},null,{"$f":"LOOKUP(K42,Poängberäkning!$B$6:$B$97,Poängberäkning!$C$6:$C$97)","v":0},null,{"$f":"LOOKUP(M42,Poängberäkning!$B$6:$B$97,Poängberäkning!$C$6:$C$97)","v":0},null,{"$f":"LOOKUP(O42,Poängberäkning!$B$6:$B$97,Poängberäkning!$C$6:$C$97)","v":0},null,{"$f":"LOOKUP(Q42,[1]Poängberäkning!$B$6:$B$97,[1]Poängberäkning!$C$6:$C$97)","v":0},null,{"$f":"LOOKUP(S42,[1]Poängberäkning!$B$6:$B$97,[1]Poängberäkning!$C$6:$C$97)","v":0},null,{"$f":"LOOKUP(U42,[1]Poängberäkning!$B$6:$B$97,[1]Poängberäkning!$C$6:$C$97)","v":0},null,{"$f":"LOOKUP(W42,[1]Poängberäkning!$B$6:$B$97,[1]Poängberäkning!$C$6:$C$97)","v":0},{"$f":"LARGE(($H42,$J42,$L42,$N42,$P42,$R42,$T42,$V42,$X42),1)","v":31},{"$f":"LARGE(($H42,$J42,$L42,$N42,$P42,$R42,$T42,$V42,$X42),2)","v":0},{"$f":"LARGE(($H42,$J42,$L42,$N42,$P42,$R42,$T42,$V42,$X42),3)","v":0},{"$f":"LARGE(($H42,$J42,$L42,$N42,$P42,$R42,$T42,$V42,$X42),4)","v":0},{"$f":"LARGE(($H42,$J42,$L42,$N42,$P42,$R42,$T42,$V42,$X42),5)","v":0},{"$f":"LARGE(($H42,$J42,$L42,$N42,$P42,$R42,$T42,$V42,$X42),6)","v":0},{"$f":"LARGE(($H42,$J42,$L42,$N42,$P42,$R42,$T42,$V42,$X42),7)","v":0},{"$f":"LARGE(($H42,$J42,$L42,$N42,$P42,$R42,$T42,$V42,$X42),8)","v":0},{"$f":"LARGE(($H42,$J42,$L42,$N42,$P42,$R42,$T42,$V42,$X42),9)","v":0}]
[39,2000,"JADING Rebecka","Idre SK",29,29,22,{"$f":"LOOKUP(G43,Poängberäkning!$B$6:$B$97,Poängberäkning!$C$6:$C$97)","v":29},null,{"$f":"LOOKUP(I43,Poängberäkning!$B$6:$B$97,Poängberäkning!$C$6:$C$97)","v":0},null,{"$f":"LOOKUP(K43,Poängberäkning!$B$6:$B$97,Poängberäkning!$C$6:$C$97)","v":0},null,{"$f":"LOOKUP(M43,Poängberäkning!$B$6:$B$97,Poängberäkning!$C$6:$C$97)","v":0},null,{"$f":"LOOKUP(O43,Poängberäkning!$B$6:$B$97,Poängberäkning!$C$6:$C$97)","v":0},null,{"$f":"LOOKUP(Q43,[1]Poängberäkning!$B$6:$B$97,[1]Poängberäkning!$C$6:$C$97)","v":0},null,{"$f":"LOOKUP(S43,[1]Poängberäkning!$B$6:$B$97,[1]Poängberäkning!$C$6:$C$97)","v":0},null,{"$f":"LOOKUP(U43,[1]Poängberäkning!$B$6:$B$97,[1]Poängberäkning!$C$6:$C$97)","v":0},null,{"$f":"LOOKUP(W43,[1]Poängberäkning!$B$6:$B$97,[1]Poängberäkning!$C$6:$C$97)","v":0},{"$f":"LARGE(($H43,$J43,$L43,$N43,$P43,$R43,$T43,$V43,$X43),1)","v":29},{"$f":"LARGE(($H43,$J43,$L43,$N43,$P43,$R43,$T43,$V43,$X43),2)","v":0},{"$f":"LARGE(($H43,$J43,$L43,$N43,$P43,$R43,$T43,$V43,$X43),3)","v":0},{"$f":"LARGE(($H43,$J43,$L43,$N43,$P43,$R43,$T43,$V43,$X43),4)","v":0},{"$f":"LARGE(($H43,$J43,$L43,$N43,$P43,$R43,$T43,$V43,$X43),5)","v":0},{"$f":"LARGE(($H43,$J43,$L43,$N43,$P43,$R43,$T43,$V43,$X43),6)","v":0},{"$f":"LARGE(($H43,$J43,$L43,$N43,$P43,$R43,$T43,$V43,$X43),7)","v":0},{"$f":"LARGE(($H43,$J43,$L43,$N43,$P43,$R43,$T43,$V43,$X43),8)","v":0},{"$f":"LARGE(($H43,$J43,$L43,$N43,$P43,$R43,$T43,$V43,$X43),9)","v":0}]
[40,2001,"HELLGREN Stina","Idre SK",28,28,23,{"$f":"LOOKUP(G44,Poängberäkning!$B$6:$B$97,Poängberäkning!$C$6:$C$97)","v":28},null,{"$f":"LOOKUP(I44,Poängberäkning!$B$6:$B$97,Poängberäkning!$C$6:$C$97)","v":0},null,{"$f":"LOOKUP(K44,Poängberäkning!$B$6:$B$97,Poängberäkning!$C$6:$C$97)","v":0},null,{"$f":"LOOKUP(M44,Poängberäkning!$B$6:$B$97,Poängberäkning!$C$6:$C$97)","v":0},null,{"$f":"LOOKUP(O44,Poängberäkning!$B$6:$B$97,Poängberäkning!$C$6:$C$97)","v":0},null,{"$f":"LOOKUP(Q44,[1]Poängberäkning!$B$6:$B$97,[1]Poängberäkning!$C$6:$C$97)","v":0},null,{"$f":"LOOKUP(S44,[1]Poängberäkning!$B$6:$B$97,[1]Poängberäkning!$C$6:$C$97)","v":0},null,{"$f":"LOOKUP(U44,[1]Poängberäkning!$B$6:$B$97,[1]Poängberäkning!$C$6:$C$97)","v":0},null,{"$f":"LOOKUP(W44,[1]Poängberäkning!$B$6:$B$97,[1]Poängberäkning!$C$6:$C$97)","v":0},{"$f":"LARGE(($H44,$J44,$L44,$N44,$P44,$R44,$T44,$V44,$X44),1)","v":28},{"$f":"LARGE(($H44,$J44,$L44,$N44,$P44,$R44,$T44,$V44,$X44),2)","v":0},{"$f":"LARGE(($H44,$J44,$L44,$N44,$P44,$R44,$T44,$V44,$X44),3)","v":0},{"$f":"LARGE(($H44,$J44,$L44,$N44,$P44,$R44,$T44,$V44,$X44),4)","v":0},{"$f":"LARGE(($H44,$J44,$L44,$N44,$P44,$R44,$T44,$V44,$X44),5)","v":0},{"$f":"LARGE(($H44,$J44,$L44,$N44,$P44,$R44,$T44,$V44,$X44),6)","v":0},{"$f":"LARGE(($H44,$J44,$L44,$N44,$P44,$R44,$T44,$V44,$X44),7)","v":0},{"$f":"LARGE(($H44,$J44,$L44,$N44,$P44,$R44,$T44,$V44,$X44),8)","v":0},{"$f":"LARGE(($H44,$J44,$L44,$N44,$P44,$R44,$T44,$V44,$X44),9)","v":0}]
[41,2000,"PETTERSSON Linn","Idre SK",28,28,23,{"$f":"LOOKUP(G45,Poängberäkning!$B$6:$B$97,Poängberäkning!$C$6:$C$97)","v":28},null,{"$f":"LOOKUP(I45,Poängberäkning!$B$6:$B$97,Poängberäkning!$C$6:$C$97)","v":0},null,{"$f":"LOOKUP(K45,Poängberäkning!$B$6:$B$97,Poängberäkning!$C$6:$C$97)","v":0},null,{"$f":"LOOKUP(M45,Poängberäkning!$B$6:$B$97,Poängberäkning!$C$6:$C$97)","v":0},null,{"$f":"LOOKUP(O45,Poängberäkning!$B$6:$B$97,Poängberäkning!$C$6:$C$97)","v":0},null,{"$f":"LOOKUP(Q45,[1]Poängberäkning!$B$6:$B$97,[1]Poängberäkning!$C$6:$C$97)","v":0},null,{"$f":"LOOKUP(S45,[1]Poängberäkning!$B$6:$B$97,[1]Poängberäkning!$C$6:$C$97)","v":0},null,{"$f":"LOOKUP(U45,[1]Poängberäkning!$B$6:$B$97,[1]Poängberäkning!$C$6:$C$97)","v":0},null,{"$f":"LOOKUP(W45,[1]Poängberäkning!$B$6:$B$97,[1]Poängberäkning!$C$6:$C$97)","v":0},{"$f":"LARGE(($H45,$J45,$L45,$N45,$P45,$R45,$T45,$V45,$X45),1)","v":28},{"$f":"LARGE(($H45,$J45,$L45,$N45,$P45,$R45,$T45,$V45,$X45),2)","v":0},{"$f":"LARGE(($H45,$J45,$L45,$N45,$P45,$R45,$T45,$V45,$X45),3)","v":0},{"$f":"LARGE(($H45,$J45,$L45,$N45,$P45,$R45,$T45,$V45,$X45),4)","v":0},{"$f":"LARGE(($H45,$J45,$L45,$N45,$P45,$R45,$T45,$V45,$X45),5)","v":0},{"$f":"LARGE(($H45,$J45,$L45,$N45,$P45,$R45,$T45,$V45,$X45),6)","v":0},{"$f":"LARGE(($H45,$J45,$L45,$N45,$P45,$R45,$T45,$V45,$X45),7)","v":0},{"$f":"LARGE(($H45,$J45,$L45,$N45,$P45,$R45,$T45,$V45,$X45),8)","v":0},{"$f":"LARGE(($H45,$J45,$L45,$N45,$P45,$R45,$T45,$V45,$X45),9)","v":0}]
[42,2000,"HEDGREN Sofia","Malungs SLK",26,26,25,{"$f":"LOOKUP(G46,Poängberäkning!$B$6:$B$97,Poängberäkning!$C$6:$C$97)","v":26},null,{"$f":"LOOKUP(I46,Poängberäkning!$B$6:$B$97,Poängberäkning!$C$6:$C$97)","v":0},null,{"$f":"LOOKUP(K46,Poängberäkning!$B$6:$B$97,Poängberäkning!$C$6:$C$97)","v":0},null,{"$f":"LOOKUP(M46,Poängberäkning!$B$6:$B$97,Poängberäkning!$C$6:$C$97)","v":0},null,{"$f":"LOOKUP(O46,Poängberäkning!$B$6:$B$97,Poängberäkning!$C$6:$C$97)","v":0},null,{"$f":"LOOKUP(Q46,[1]Poängberäkning!$B$6:$B$97,[1]Poängberäkning!$C$6:$C$97)","v":0},null,{"$f":"LOOKUP(S46,[1]Poängberäkning!$B$6:$B$97,[1]Poängberäkning!$C$6:$C$97)","v":0},null,{"$f":"LOOKUP(U46,[1]Poängberäkning!$B$6:$B$97,[1]Poängberäkning!$C$6:$C$97)","v":0},null,{"$f":"LOOKUP(W46,[1]Poängberäkning!$B$6:$B$97,[1]Poängberäkning!$C$6:$C$97)","v":0},{"$f":"LARGE(($H46,$J46,$L46,$N46,$P46,$R46,$T46,$V46,$X46),1)","v":26},{"$f":"LARGE(($H46,$J46,$L46,$N46,$P46,$R46,$T46,$V46,$X46),2)","v":0},{"$f":"LARGE(($H46,$J46,$L46,$N46,$P46,$R46,$T46,$V46,$X46),3)","v":0},{"$f":"LARGE(($H46,$J46,$L46,$N46,$P46,$R46,$T46,$V46,$X46),4)","v":0},{"$f":"LARGE(($H46,$J46,$L46,$N46,$P46,$R46,$T46,$V46,$X46),5)","v":0},{"$f":"LARGE(($H46,$J46,$L46,$N46,$P46,$R46,$T46,$V46,$X46),6)","v":0},{"$f":"LARGE(($H46,$J46,$L46,$N46,$P46,$R46,$T46,$V46,$X46),7)","v":0},{"$f":"LARGE(($H46,$J46,$L46,$N46,$P46,$R46,$T46,$V46,$X46),8)","v":0},{"$f":"LARGE(($H46,$J46,$L46,$N46,$P46,$R46,$T46,$V46,$X46),9)","v":0}]
[43,2000,"KINDBERG Ellen","Kils SLK",25,25,26,{"$f":"LOOKUP(G47,Poängberäkning!$B$6:$B$97,Poängberäkning!$C$6:$C$97)","v":25},null,{"$f":"LOOKUP(I47,Poängberäkning!$B$6:$B$97,Poängberäkning!$C$6:$C$97)","v":0},null,{"$f":"LOOKUP(K47,Poängberäkning!$B$6:$B$97,Poängberäkning!$C$6:$C$97)","v":0},null,{"$f":"LOOKUP(M47,Poängberäkning!$B$6:$B$97,Poängberäkning!$C$6:$C$97)","v":0},null,{"$f":"LOOKUP(O47,Poängberäkning!$B$6:$B$97,Poängberäkning!$C$6:$C$97)","v":0},null,{"$f":"LOOKUP(Q47,[1]Poängberäkning!$B$6:$B$97,[1]Poängberäkning!$C$6:$C$97)","v":0},null,{"$f":"LOOKUP(S47,[1]Poängberäkning!$B$6:$B$97,[1]Poängberäkning!$C$6:$C$97)","v":0},null,{"$f":"LOOKUP(U47,[1]Poängberäkning!$B$6:$B$97,[1]Poängberäkning!$C$6:$C$97)","v":0},null,{"$f":"LOOKUP(W47,[1]Poängberäkning!$B$6:$B$97,[1]Poängberäkning!$C$6:$C$97)","v":0},{"$f":"LARGE(($H47,$J47,$L47,$N47,$P47,$R47,$T47,$V47,$X47),1)","v":25},{"$f":"LARGE(($H47,$J47,$L47,$N47,$P47,$R47,$T47,$V47,$X47),2)","v":0},{"$f":"LARGE(($H47,$J47,$L47,$N47,$P47,$R47,$T47,$V47,$X47),3)","v":0},{"$f":"LARGE(($H47,$J47,$L47,$N47,$P47,$R47,$T47,$V47,$X47),4)","v":0},{"$f":"LARGE(($H47,$J47,$L47,$N47,$P47,$R47,$T47,$V47,$X47),5)","v":0},{"$f":"LARGE(($H47,$J47,$L47,$N47,$P47,$R47,$T47,$V47,$X47),6)","v":0},{"$f":"LARGE(($H47,$J47,$L47,$N47,$P47,$R47,$T47,$V47,$X47),7)","v":0},{"$f":"LARGE(($H47,$J47,$L47,$N47,$P47,$R47,$T47,$V47,$X47),8)","v":0},{"$f":"LARGE(($H47,$J47,$L47,$N47,$P47,$R47,$T47,$V47,$X47),9)","v":0}]
[44,2000,"FROHM Ellen","Idre SK",24,24,27,{"$f":"LOOKUP(G48,Poängberäkning!$B$6:$B$97,Poängberäkning!$C$6:$C$97)","v":24},null,{"$f":"LOOKUP(I48,Poängberäkning!$B$6:$B$97,Poängberäkning!$C$6:$C$97)","v":0},null,{"$f":"LOOKUP(K48,Poängberäkning!$B$6:$B$97,Poängberäkning!$C$6:$C$97)","v":0},null,{"$f":"LOOKUP(M48,Poängberäkning!$B$6:$B$97,Poängberäkning!$C$6:$C$97)","v":0},null,{"$f":"LOOKUP(O48,Poängberäkning!$B$6:$B$97,Poängberäkning!$C$6:$C$97)","v":0},null,{"$f":"LOOKUP(Q48,[1]Poängberäkning!$B$6:$B$97,[1]Poängberäkning!$C$6:$C$97)","v":0},null,{"$f":"LOOKUP(S48,[1]Poängberäkning!$B$6:$B$97,[1]Poängberäkning!$C$6:$C$97)","v":0},null,{"$f":"LOOKUP(U48,[1]Poängberäkning!$B$6:$B$97,[1]Poängberäkning!$C$6:$C$97)","v":0},null,{"$f":"LOOKUP(W48,[1]Poängberäkning!$B$6:$B$97,[1]Poängberäkning!$C$6:$C$97)","v":0},{"$f":"LARGE(($H48,$J48,$L48,$N48,$P48,$R48,$T48,$V48,$X48),1)","v":24},{"$f":"LARGE(($H48,$J48,$L48,$N48,$P48,$R48,$T48,$V48,$X48),2)","v":0},{"$f":"LARGE(($H48,$J48,$L48,$N48,$P48,$R48,$T48,$V48,$X48),3)","v":0},{"$f":"LARGE(($H48,$J48,$L48,$N48,$P48,$R48,$T48,$V48,$X48),4)","v":0},{"$f":"LARGE(($H48,$J48,$L48,$N48,$P48,$R48,$T48,$V48,$X48),5)","v":0},{"$f":"LARGE(($H48,$J48,$L48,$N48,$P48,$R48,$T48,$V48,$X48),6)","v":0},{"$f":"LARGE(($H48,$J48,$L48,$N48,$P48,$R48,$T48,$V48,$X48),7)","v":0},{"$f":"LARGE(($H48,$J48,$L48,$N48,$P48,$R48,$T48,$V48,$X48),8)","v":0},{"$f":"LARGE(($H48,$J48,$L48,$N48,$P48,$R48,$T48,$V48,$X48),9)","v":0}]
[45,2000,"SÖDERLIND Ida","Örebro SLF",23,23,28,{"$f":"LOOKUP(G49,Poängberäkning!$B$6:$B$97,Poängberäkning!$C$6:$C$97)","v":23},null,{"$f":"LOOKUP(I49,Poängberäkning!$B$6:$B$97,Poängberäkning!$C$6:$C$97)","v":0},null,{"$f":"LOOKUP(K49,Poängberäkning!$B$6:$B$97,Poängberäkning!$C$6:$C$97)","v":0},null,{"$f":"LOOKUP(M49,Poängberäkning!$B$6:$B$97,Poängberäkning!$C$6:$C$97)","v":0},null,{"$f":"LOOKUP(O49,Poängberäkning!$B$6:$B$97,Poängberäkning!$C$6:$C$97)","v":0},null,{"$f":"LOOKUP(Q49,[1]Poängberäkning!$B$6:$B$97,[1]Poängberäkning!$C$6:$C$97)","v":0},null,{"$f":"LOOKUP(S49,[1]Poängberäkning!$B$6:$B$97,[1]Poängberäkning!$C$6:$C$97)","v":0},null,{"$f":"LOOKUP(U49,[1]Poängberäkning!$B$6:$B$97,[1]Poängberäkning!$C$6:$C$97)","v":0},null,{"$f":"LOOKUP(W49,[1]Poängberäkning!$B$6:$B$97,[1]Poängberäkning!$C$6:$C$97)","v":0},{"$f":"LARGE(($H49,$J49,$L49,$N49,$P49,$R49,$T49,$V49,$X49),1)","v":23},{"$f":"LARGE(($H49,$J49,$L49,$N49,$P49,$R49,$T49,$V49,$X49),2)","v":0},{"$f":"LARGE(($H49,$J49,$L49,$N49,$P49,$R49,$T49,$V49,$X49),3)","v":0},{"$f":"LARGE(($H49,$J49,$L49,$N49,$P49,$R49,$T49,$V49,$X49),4)","v":0},{"$f":"LARGE(($H49,$J49,$L49,$N49,$P49,$R49,$T49,$V49,$X49),5)","v":0},{"$f":"LARGE(($H49,$J49,$L49,$N49,$P49,$R49,$T49,$V49,$X49),6)","v":0},{"$f":"LARGE(($H49,$J49,$L49,$N49,$P49,$R49,$T49,$V49,$X49),7)","v":0},{"$f":"LARGE(($H49,$J49,$L49,$N49,$P49,$R49,$T49,$V49,$X49),8)","v":0},{"$f":"LARGE(($H49,$J49,$L49,$N49,$P49,$R49,$T49,$V49,$X49),9)","v":0}]
[46,2001,"KARLSSON Felicia","Valfjällets SLK",22,22,29,{"$f":"LOOKUP(G50,Poängberäkning!$B$6:$B$97,Poängberäkning!$C$6:$C$97)","v":22},null,{"$f":"LOOKUP(I50,Poängberäkning!$B$6:$B$97,Poängberäkning!$C$6:$C$97)","v":0},null,{"$f":"LOOKUP(K50,Poängberäkning!$B$6:$B$97,Poängberäkning!$C$6:$C$97)","v":0},null,{"$f":"LOOKUP(M50,Poängberäkning!$B$6:$B$97,Poängberäkning!$C$6:$C$97)","v":0},null,{"$f":"LOOKUP(O50,Poängberäkning!$B$6:$B$97,Poängberäkning!$C$6:$C$97)","v":0},null,{"$f":"LOOKUP(Q50,[1]Poängberäkning!$B$6:$B$97,[1]Poängberäkning!$C$6:$C$97)","v":0},null,{"$f":"LOOKUP(S50,[1]Poängberäkning!$B$6:$B$97,[1]Poängberäkning!$C$6:$C$97)","v":0},null,{"$f":"LOOKUP(U50,[1]Poängberäkning!$B$6:$B$97,[1]Poängberäkning!$C$6:$C$97)","v":0},null,{"$f":"LOOKUP(W50,[1]Poängberäkning!$B$6:$B$97,[1]Poängberäkning!$C$6:$C$97)","v":0},{"$f":"LARGE(($H50,$J50,$L50,$N50,$P50,$R50,$T50,$V50,$X50),1)","v":22},{"$f":"LARGE(($H50,$J50,$L50,$N50,$P50,$R50,$T50,$V50,$X50),2)","v":0},{"$f":"LARGE(($H50,$J50,$L50,$N50,$P50,$R50,$T50,$V50,$X50),3)","v":0},{"$f":"LARGE(($H50,$J50,$L50,$N50,$P50,$R50,$T50,$V50,$X50),4)","v":0},{"$f":"LARGE(($H50,$J50,$L50,$N50,$P50,$R50,$T50,$V50,$X50),5)","v":0},{"$f":"LARGE(($H50,$J50,$L50,$N50,$P50,$R50,$T50,$V50,$X50),6)","v":0},{"$f":"LARGE(($H50,$J50,$L50,$N50,$P50,$R50,$T50,$V50,$X50),7)","v":0},{"$f":"LARGE(($H50,$J50,$L50,$N50,$P50,$R50,$T50,$V50,$X50),8)","v":0},{"$f":"LARGE(($H50,$J50,$L50,$N50,$P50,$R50,$T50,$V50,$X50),9)","v":0}]
[47,2000,"BRANDÅS Agnes","Båsenberga SLK",0,0,null,{"$f":"LOOKUP(G51,Poängberäkning!$B$6:$B$97,Poängberäkning!$C$6:$C$97)","v":0},null,{"$f":"LOOKUP(I51,Poängberäkning!$B$6:$B$97,Poängberäkning!$C$6:$C$97)","v":0},null,{"$f":"LOOKUP(K51,Poängberäkning!$B$6:$B$97,Poängberäkning!$C$6:$C$97)","v":0},null,{"$f":"LOOKUP(M51,Poängberäkning!$B$6:$B$97,Poängberäkning!$C$6:$C$97)","v":0},99,{"$f":"LOOKUP(O51,Poängberäkning!$B$6:$B$97,Poängberäkning!$C$6:$C$97)","v":0},null,{"$f":"LOOKUP(Q51,[1]Poängberäkning!$B$6:$B$97,[1]Poängberäkning!$C$6:$C$97)","v":0},null,{"$f":"LOOKUP(S51,[1]Poängberäkning!$B$6:$B$97,[1]Poängberäkning!$C$6:$C$97)","v":0},null,{"$f":"LOOKUP(U51,[1]Poängberäkning!$B$6:$B$97,[1]Poängberäkning!$C$6:$C$97)","v":0},null,{"$f":"LOOKUP(W51,[1]Poängberäkning!$B$6:$B$97,[1]Poängberäkning!$C$6:$C$97)","v":0},{"$f":"LARGE(($H51,$J51,$L51,$N51,$P51,$R51,$T51,$V51,$X51),1)","v":0},{"$f":"LARGE(($H51,$J51,$L51,$N51,$P51,$R51,$T51,$V51,$X51),2)","v":0},{"$f":"LARGE(($H51,$J51,$L51,$N51,$P51,$R51,$T51,$V51,$X51),3)","v":0},{"$f":"LARGE(($H51,$J51,$L51,$N51,$P51,$R51,$T51,$V51,$X51),4)","v":0},{"$f":"LARGE(($H51,$J51,$L51,$N51,$P51,$R51,$T51,$V51,$X51),5)","v":0},{"$f":"LARGE(($H51,$J51,$L51,$N51,$P51,$R51,$T51,$V51,$X51),6)","v":0},{"$f":"LARGE(($H51,$J51,$L51,$N51,$P51,$R51,$T51,$V51,$X51),7)","v":0},{"$f":"LARGE(($H51,$J51,$L51,$N51,$P51,$R51,$T51,$V51,$X51),8)","v":0},{"$f":"LARGE(($H51,$J51,$L51,$N51,$P51,$R51,$T51,$V51,$X51),9)","v":0}]
[48,2000,"GÄFVERT Linn","Norrköpings SK",0,0,null,{"$f":"LOOKUP(G52,Poängberäkning!$B$6:$B$97,Poängberäkning!$C$6:$C$97)","v":0},null,{"$f":"LOOKUP(I52,Poängberäkning!$B$6:$B$97,Poängberäkning!$C$6:$C$97)","v":0},null,{"$f":"LOOKUP(K52,Poängberäkning!$B$6:$B$97,Poängberäkning!$C$6:$C$97)","v":0},null,{"$f":"LOOKUP(M52,Poängberäkning!$B$6:$B$97,Poängberäkning!$C$6:$C$97)","v":0},99,{"$f":"LOOKUP(O52,Poängberäkning!$B$6:$B$97,Poängberäkning!$C$6:$C$97)","v":0},null,{"$f":"LOOKUP(Q52,[1]Poängberäkning!$B$6:$B$97,[1]Poängberäkning!$C$6:$C$97)","v":0},null,{"$f":"LOOKUP(S52,[1]Poängberäkning!$B$6:$B$97,[1]Poängberäkning!$C$6:$C$97)","v":0},null,{"$f":"LOOKUP(U52,[1]Poängberäkning!$B$6:$B$97,[1]Poängberäkning!$C$6:$C$97)","v":0},null,{"$f":"LOOKUP(W52,[1]Poängberäkning!$B$6:$B$97,[1]Poängberäkning!$C$6:$C$97)","v":0},{"$f":"LARGE(($H52,$J52,$L52,$N52,$P52,$R52,$T52,$V52,$X52),1)","v":0},{"$f":"LARGE(($H52,$J52,$L52,$N52,$P52,$R52,$T52,$V52,$X52),2)","v":0},{"$f":"LARGE(($H52,$J52,$L52,$N52,$P52,$R52,$T52,$V52,$X52),3)","v":0},{"$f":"LARGE(($H52,$J52,$L52,$N52,$P52,$R52,$T52,$V52,$X52),4)","v":0},{"$f":"LARGE(($H52,$J52,$L52,$N52,$P52,$R52,$T52,$V52,$X52),5)","v":0},{"$f":"LARGE(($H52,$J52,$L52,$N52,$P52,$R52,$T52,$V52,$X52),6)","v":0},{"$f":"LARGE(($H52,$J52,$L52,$N52,$P52,$R52,$T52,$V52,$X52),7)","v":0},{"$f":"LARGE(($H52,$J52,$L52,$N52,$P52,$R52,$T52,$V52,$X52),8)","v":0},{"$f":"LARGE(($H52,$J52,$L52,$N52,$P52,$R52,$T52,$V52,$X52),9)","v":0}]
[49,2001,"AXELSSON Sofia","Mälaröarnas Alpina SK",0,0,null,{"$f":"LOOKUP(G53,Poängberäkning!$B$6:$B$97,Poängberäkning!$C$6:$C$97)","v":0},null,{"$f":"LOOKUP(I53,Poängberäkning!$B$6:$B$97,Poängberäkning!$C$6:$C$97)","v":0},null,{"$f":"LOOKUP(K53,Poängberäkning!$B$6:$B$97,Poängberäkning!$C$6:$C$97)","v":0},null,{"$f":"LOOKUP(M53,Poängberäkning!$B$6:$B$97,Poängberäkning!$C$6:$C$97)","v":0},null,{"$f":"LOOKUP(O53,Poängberäkning!$B$6:$B$97,Poängberäkning!$C$6:$C$97)","v":0},null,{"$f":"LOOKUP(Q53,[1]Poängberäkning!$B$6:$B$97,[1]Poängberäkning!$C$6:$C$97)","v":0},null,{"$f":"LOOKUP(S53,[1]Poängberäkning!$B$6:$B$97,[1]Poängberäkning!$C$6:$C$97)","v":0},null,{"$f":"LOOKUP(U53,[1]Poängberäkning!$B$6:$B$97,[1]Poängberäkning!$C$6:$C$97)","v":0},null,{"$f":"LOOKUP(W53,[1]Poängberäkning!$B$6:$B$97,[1]Poängberäkning!$C$6:$C$97)","v":0},{"$f":"LARGE(($H53,$J53,$L53,$N53,$P53,$R53,$T53,$V53,$X53),1)","v":0},{"$f":"LARGE(($H53,$J53,$L53,$N53,$P53,$R53,$T53,$V53,$X53),2)","v":0},{"$f":"LARGE(($H53,$J53,$L53,$N53,$P53,$R53,$T53,$V53,$X53),3)","v":0},{"$f":"LARGE(($H53,$J53,$L53,$N53,$P53,$R53,$T53,$V53,$X53),4)","v":0},{"$f":"LARGE(($H53,$J53,$L53,$N53,$P53,$R53,$T53,$V53,$X53),5)","v":0},{"$f":"LARGE(($H53,$J53,$L53,$N53,$P53,$R53,$T53,$V53,$X53),6)","v":0},{"$f":"LARGE(($H53,$J53,$L53,$N53,$P53,$R53,$T53,$V53,$X53),7)","v":0},{"$f":"LARGE(($H53,$J53,$L53,$N53,$P53,$R53,$T53,$V53,$X53),8)","v":0},{"$f":"LARGE(($H53,$J53,$L53,$N53,$P53,$R53,$T53,$V53,$X53),9)","v":0}]
[50,2001,"CARLSSON Emilia","Karlstads SLK",0,0,99,{"$f":"LOOKUP(G54,Poängberäkning!$B$6:$B$97,Poängberäkning!$C$6:$C$97)","v":0},null,{"$f":"LOOKUP(I54,Poängberäkning!$B$6:$B$97,Poängberäkning!$C$6:$C$97)","v":0},null,{"$f":"LOOKUP(K54,Poängberäkning!$B$6:$B$97,Poängberäkning!$C$6:$C$97)","v":0},null,{"$f":"LOOKUP(M54,Poängberäkning!$B$6:$B$97,Poängberäkning!$C$6:$C$97)","v":0},null,{"$f":"LOOKUP(O54,Poängberäkning!$B$6:$B$97,Poängberäkning!$C$6:$C$97)","v":0},null,{"$f":"LOOKUP(Q54,[1]Poängberäkning!$B$6:$B$97,[1]Poängberäkning!$C$6:$C$97)","v":0},null,{"$f":"LOOKUP(S54,[1]Poängberäkning!$B$6:$B$97,[1]Poängberäkning!$C$6:$C$97)","v":0},null,{"$f":"LOOKUP(U54,[1]Poängberäkning!$B$6:$B$97,[1]Poängberäkning!$C$6:$C$97)","v":0},null,{"$f":"LOOKUP(W54,[1]Poängberäkning!$B$6:$B$97,[1]Poängberäkning!$C$6:$C$97)","v":0},{"$f":"LARGE(($H54,$J54,$L54,$N54,$P54,$R54,$T54,$V54,$X54),1)","v":0},{"$f":"LARGE(($H54,$J54,$L54,$N54,$P54,$R54,$T54,$V54,$X54),2)","v":0},{"$f":"LARGE(($H54,$J54,$L54,$N54,$P54,$R54,$T54,$V54,$X54),3)","v":0},{"$f":"LARGE(($H54,$J54,$L54,$N54,$P54,$R54,$T54,$V54,$X54),4)","v":0},{"$f":"LARGE(($H54,$J54,$L54,$N54,$P54,$R54,$T54,$V54,$X54),5)","v":0},{"$f":"LARGE(($H54,$J54,$L54,$N54,$P54,$R54,$T54,$V54,$X54),6)","v":0},{"$f":"LARGE(($H54,$J54,$L54,$N54,$P54,$R54,$T54,$V54,$X54),7)","v":0},{"$f":"LARGE(($H54,$J54,$L54,$N54,$P54,$R54,$T54,$V54,$X54),8)","v":0},{"$f":"LARGE(($H54,$J54,$L54,$N54,$P54,$R54,$T54,$V54,$X54),9)","v":0}]
[51,2001,"HEDERSTRÖM Linnea","Kungsbergets AK",0,0,null,{"$f":"LOOKUP(G55,Poängberäkning!$B$6:$B$97,Poängberäkning!$C$6:$C$97)","v":0},null,{"$f":"LOOKUP(I55,Poängberäkning!$B$6:$B$97,Poängberäkning!$C$6:$C$97)","v":0},null,{"$f":"LOOKUP(K55,Poängberäkning!$B$6:$B$97,Poängberäkning!$C$6:$C$97)","v":0},99,{"$f":"LOOKUP(M55,Poängberäkning!$B$6:$B$97,Poängberäkning!$C$6:$C$97)","v":0},null,{"$f":"LOOKUP(O55,Poängberäkning!$B$6:$B$97,Poängberäkning!$C$6:$C$97)","v":0},null,{"$f":"LOOKUP(Q55,[1]Poängberäkning!$B$6:$B$97,[1]Poängberäkning!$C$6:$C$97)","v":0},null,{"$f":"LOOKUP(S55,[1]Poängberäkning!$B$6:$B$97,[1]Poängberäkning!$C$6:$C$97)","v":0},null,{"$f":"LOOKUP(U55,[1]Poängberäkning!$B$6:$B$97,[1]Poängberäkning!$C$6:$C$97)","v":0},null,{"$f":"LOOKUP(W55,[1]Poängberäkning!$B$6:$B$97,[1]Poängberäkning!$C$6:$C$97)","v":0},{"$f":"LARGE(($H55,$J55,$L55,$N55,$P55,$R55,$T55,$V55,$X55),1)","v":0},{"$f":"LARGE(($H55,$J55,$L55,$N55,$P55,$R55,$T55,$V55,$X55),2)","v":0},{"$f":"LARGE(($H55,$J55,$L55,$N55,$P55,$R55,$T55,$V55,$X55),3)","v":0},{"$f":"LARGE(($H55,$J55,$L55,$N55,$P55,$R55,$T55,$V55,$X55),4)","v":0},{"$f":"LARGE(($H55,$J55,$L55,$N55,$P55,$R55,$T55,$V55,$X55),5)","v":0},{"$f":"LARGE(($H55,$J55,$L55,$N55,$P55,$R55,$T55,$V55,$X55),6)","v":0},{"$f":"LARGE(($H55,$J55,$L55,$N55,$P55,$R55,$T55,$V55,$X55),7)","v":0},{"$f":"LARGE(($H55,$J55,$L55,$N55,$P55,$R55,$T55,$V55,$X55),8)","v":0},{"$f":"LARGE(($H55,$J55,$L55,$N55,$P55,$R55,$T55,$V55,$X55),9)","v":0}]
[52,2001,"KARLSSON Ronja","Valfjällets SLK",0,0,99,{"$f":"LOOKUP(G56,Poängberäkning!$B$6:$B$97,Poängberäkning!$C$6:$C$97)","v":0},null,{"$f":"LOOKUP(I56,Poängberäkning!$B$6:$B$97,Poängberäkning!$C$6:$C$97)","v":0},null,{"$f":"LOOKUP(K56,Poängberäkning!$B$6:$B$97,Poängberäkning!$C$6:$C$97)","v":0},null,{"$f":"LOOKUP(M56,Poängberäkning!$B$6:$B$97,Poängberäkning!$C$6:$C$97)","v":0},null,{"$f":"LOOKUP(O56,Poängberäkning!$B$6:$B$97,Poängberäkning!$C$6:$C$97)","v":0},null,{"$f":"LOOKUP(Q56,[1]Poängberäkning!$B$6:$B$97,[1]Poängberäkning!$C$6:$C$97)","v":0},null,{"$f":"LOOKUP(S56,[1]Poängberäkning!$B$6:$B$97,[1]Poängberäkning!$C$6:$C$97)","v":0},null,{"$f":"LOOKUP(U56,[1]Poängberäkning!$B$6:$B$97,[1]Poängberäkning!$C$6:$C$97)","v":0},null,{"$f":"LOOKUP(W56,[1]Poängberäkning!$B$6:$B$97,[1]Poängberäkning!$C$6:$C$97)","v":0},{"$f":"LARGE(($H56,$J56,$L56,$N56,$P56,$R56,$T56,$V56,$X56),1)","v":0},{"$f":"LARGE(($H56,$J56,$L56,$N56,$P56,$R56,$T56,$V56,$X56),2)","v":0},{"$f":"LARGE(($H56,$J56,$L56,$N56,$P56,$R56,$T56,$V56,$X56),3)","v":0},{"$f":"LARGE(($H56,$J56,$L56,$N56,$P56,$R56,$T56,$V56,$X56),4)","v":0},{"$f":"LARGE(($H56,$J56,$L56,$N56,$P56,$R56,$T56,$V56,$X56),5)","v":0},{"$f":"LARGE(($H56,$J56,$L56,$N56,$P56,$R56,$T56,$V56,$X56),6)","v":0},{"$f":"LARGE(($H56,$J56,$L56,$N56,$P56,$R56,$T56,$V56,$X56),7)","v":0},{"$f":"LARGE(($H56,$J56,$L56,$N56,$P56,$R56,$T56,$V56,$X56),8)","v":0},{"$f":"LARGE(($H56,$J56,$L56,$N56,$P56,$R56,$T56,$V56,$X56),9)","v":0}]
[53,2000,"LIND Felicia","IFK Borlänge",0,0,null,{"$f":"LOOKUP(G57,Poängberäkning!$B$6:$B$97,Poängberäkning!$C$6:$C$97)","v":0},null,{"$f":"LOOKUP(I57,Poängberäkning!$B$6:$B$97,Poängberäkning!$C$6:$C$97)","v":0},null,{"$f":"LOOKUP(K57,Poängberäkning!$B$6:$B$97,Poängberäkning!$C$6:$C$97)","v":0},99,{"$f":"LOOKUP(M57,Poängberäkning!$B$6:$B$97,Poängberäkning!$C$6:$C$97)","v":0},null,{"$f":"LOOKUP(O57,Poängberäkning!$B$6:$B$97,Poängberäkning!$C$6:$C$97)","v":0},null,{"$f":"LOOKUP(Q57,[1]Poängberäkning!$B$6:$B$97,[1]Poängberäkning!$C$6:$C$97)","v":0},null,{"$f":"LOOKUP(S57,[1]Poängberäkning!$B$6:$B$97,[1]Poängberäkning!$C$6:$C$97)","v":0},null,{"$f":"LOOKUP(U57,[1]Poängberäkning!$B$6:$B$97,[1]Poängberäkning!$C$6:$C$97)","v":0},null,{"$f":"LOOKUP(W57,[1]Poängberäkning!$B$6:$B$97,[1]Poängberäkning!$C$6:$C$97)","v":0},{"$f":"LARGE(($H57,$J57,$L57,$N57,$P57,$R57,$T57,$V57,$X57),1)","v":0},{"$f":"LARGE(($H57,$J57,$L57,$N57,$P57,$R57,$T57,$V57,$X57),2)","v":0},{"$f":"LARGE(($H57,$J57,$L57,$N57,$P57,$R57,$T57,$V57,$X57),3)","v":0},{"$f":"LARGE(($H57,$J57,$L57,$N57,$P57,$R57,$T57,$V57,$X57),4)","v":0},{"$f":"LARGE(($H57,$J57,$L57,$N57,$P57,$R57,$T57,$V57,$X57),5)","v":0},{"$f":"LARGE(($H57,$J57,$L57,$N57,$P57,$R57,$T57,$V57,$X57),6)","v":0},{"$f":"LARGE(($H57,$J57,$L57,$N57,$P57,$R57,$T57,$V57,$X57),7)","v":0},{"$f":"LARGE(($H57,$J57,$L57,$N57,$P57,$R57,$T57,$V57,$X57),8)","v":0},{"$f":"LARGE(($H57,$J57,$L57,$N57,$P57,$R57,$T57,$V57,$X57),9)","v":0}]
[54,2000,"WAHLGREN Sara","Idre SK",0,0,99,{"$f":"LOOKUP(G58,Poängberäkning!$B$6:$B$97,Poängberäkning!$C$6:$C$97)","v":0},null,{"$f":"LOOKUP(I58,Poängberäkning!$B$6:$B$97,Poängberäkning!$C$6:$C$97)","v":0},null,{"$f":"LOOKUP(K58,Poängberäkning!$B$6:$B$97,Poängberäkning!$C$6:$C$97)","v":0},null,{"$f":"LOOKUP(M58,Poängberäkning!$B$6:$B$97,Poängberäkning!$C$6:$C$97)","v":0},null,{"$f":"LOOKUP(O58,Poängberäkning!$B$6:$B$97,Poängberäkning!$C$6:$C$97)","v":0},null,{"$f":"LOOKUP(Q58,[1]Poängberäkning!$B$6:$B$97,[1]Poängberäkning!$C$6:$C$97)","v":0},null,{"$f":"LOOKUP(S58,[1]Poängberäkning!$B$6:$B$97,[1]Poängberäkning!$C$6:$C$97)","v":0},null,{"$f":"LOOKUP(U58,[1]Poängberäkning!$B$6:$B$97,[1]Poängberäkning!$C$6:$C$97)","v":0},null,{"$f":"LOOKUP(W58,[1]Poängberäkning!$B$6:$B$97,[1]Poängberäkning!$C$6:$C$97)","v":0},{"$f":"LARGE(($H58,$J58,$L58,$N58,$P58,$R58,$T58,$V58,$X58),1)","v":0},{"$f":"LARGE(($H58,$J58,$L58,$N58,$P58,$R58,$T58,$V58,$X58),2)","v":0},{"$f":"LARGE(($H58,$J58,$L58,$N58,$P58,$R58,$T58,$V58,$X58),3)","v":0},{"$f":"LARGE(($H58,$J58,$L58,$N58,$P58,$R58,$T58,$V58,$X58),4)","v":0},{"$f":"LARGE(($H58,$J58,$L58,$N58,$P58,$R58,$T58,$V58,$X58),5)","v":0},{"$f":"LARGE(($H58,$J58,$L58,$N58,$P58,$R58,$T58,$V58,$X58),6)","v":0},{"$f":"LARGE(($H58,$J58,$L58,$N58,$P58,$R58,$T58,$V58,$X58),7)","v":0},{"$f":"LARGE(($H58,$J58,$L58,$N58,$P58,$R58,$T58,$V58,$X58),8)","v":0},{"$f":"LARGE(($H58,$J58,$L58,$N58,$P58,$R58,$T58,$V58,$X58),9)","v":0}]
[55,2001,"WREDMARK Ofelia","IFK Lidingö Slalomklubb",0,0,null,{"$f":"LOOKUP(G59,Poängberäkning!$B$6:$B$97,Poängberäkning!$C$6:$C$97)","v":0},null,{"$f":"LOOKUP(I59,Poängberäkning!$B$6:$B$97,Poängberäkning!$C$6:$C$97)","v":0},null,{"$f":"LOOKUP(K59,Poängberäkning!$B$6:$B$97,Poängberäkning!$C$6:$C$97)","v":0},null,{"$f":"LOOKUP(M59,Poängberäkning!$B$6:$B$97,Poängberäkning!$C$6:$C$97)","v":0},null,{"$f":"LOOKUP(O59,Poängberäkning!$B$6:$B$97,Poängberäkning!$C$6:$C$97)","v":0},null,{"$f":"LOOKUP(Q59,[1]Poängberäkning!$B$6:$B$97,[1]Poängberäkning!$C$6:$C$97)","v":0},null,{"$f":"LOOKUP(S59,[1]Poängberäkning!$B$6:$B$97,[1]Poängberäkning!$C$6:$C$97)","v":0},null,{"$f":"LOOKUP(U59,[1]Poängberäkning!$B$6:$B$97,[1]Poängberäkning!$C$6:$C$97)","v":0},null,{"$f":"LOOKUP(W59,[1]Poängberäkning!$B$6:$B$97,[1]Poängberäkning!$C$6:$C$97)","v":0},{"$f":"LARGE(($H59,$J59,$L59,$N59,$P59,$R59,$T59,$V59,$X59),1)","v":0},{"$f":"LARGE(($H59,$J59,$L59,$N59,$P59,$R59,$T59,$V59,$X59),2)","v":0},{"$f":"LARGE(($H59,$J59,$L59,$N59,$P59,$R59,$T59,$V59,$X59),3)","v":0},{"$f":"LARGE(($H59,$J59,$L59,$N59,$P59,$R59,$T59,$V59,$X59),4)","v":0},{"$f":"LARGE(($H59,$J59,$L59,$N59,$P59,$R59,$T59,$V59,$X59),5)","v":0},{"$f":"LARGE(($H59,$J59,$L59,$N59,$P59,$R59,$T59,$V59,$X59),6)","v":0},{"$f":"LARGE(($H59,$J59,$L59,$N59,$P59,$R59,$T59,$V59,$X59),7)","v":0},{"$f":"LARGE(($H59,$J59,$L59,$N59,$P59,$R59,$T59,$V59,$X59),8)","v":0},{"$f":"LARGE(($H59,$J59,$L59,$N59,$P59,$R59,$T59,$V59,$X59),9)","v":0}]
[56,null,null,null,0,0,null,{"$f":"LOOKUP(G60,Poängberäkning!$B$6:$B$97,Poängberäkning!$C$6:$C$97)","v":0},null,{"$f":"LOOKUP(I60,Poängberäkning!$B$6:$B$97,Poängberäkning!$C$6:$C$97)","v":0},null,{"$f":"LOOKUP(K60,Poängberäkning!$B$6:$B$97,Poängberäkning!$C$6:$C$97)","v":0},null,{"$f":"LOOKUP(M60,Poängberäkning!$B$6:$B$97,Poängberäkning!$C$6:$C$97)","v":0},null,{"$f":"LOOKUP(O60,Poängberäkning!$B$6:$B$97,Poängberäkning!$C$6:$C$97)","v":0},null,{"$f":"LOOKUP(Q60,[1]Poängberäkning!$B$6:$B$97,[1]Poängberäkning!$C$6:$C$97)","v":0},null,{"$f":"LOOKUP(S60,[1]Poängberäkning!$B$6:$B$97,[1]Poängberäkning!$C$6:$C$97)","v":0},null,{"$f":"LOOKUP(U60,[1]Poängberäkning!$B$6:$B$97,[1]Poängberäkning!$C$6:$C$97)","v":0},null,{"$f":"LOOKUP(W60,[1]Poängberäkning!$B$6:$B$97,[1]Poängberäkning!$C$6:$C$97)","v":0},{"$f":"LARGE(($H60,$J60,$L60,$N60,$P60,$R60,$T60,$V60,$X60),1)","v":0},{"$f":"LARGE(($H60,$J60,$L60,$N60,$P60,$R60,$T60,$V60,$X60),2)","v":0},{"$f":"LARGE(($H60,$J60,$L60,$N60,$P60,$R60,$T60,$V60,$X60),3)","v":0},{"$f":"LARGE(($H60,$J60,$L60,$N60,$P60,$R60,$T60,$V60,$X60),4)","v":0},{"$f":"LARGE(($H60,$J60,$L60,$N60,$P60,$R60,$T60,$V60,$X60),5)","v":0},{"$f":"LARGE(($H60,$J60,$L60,$N60,$P60,$R60,$T60,$V60,$X60),6)","v":0},{"$f":"LARGE(($H60,$J60,$L60,$N60,$P60,$R60,$T60,$V60,$X60),7)","v":0},{"$f":"LARGE(($H60,$J60,$L60,$N60,$P60,$R60,$T60,$V60,$X60),8)","v":0},{"$f":"LARGE(($H60,$J60,$L60,$N60,$P60,$R60,$T60,$V60,$X60),9)","v":0}]
[57,null,null,null,0,0,null,{"$f":"LOOKUP(G61,Poängberäkning!$B$6:$B$97,Poängberäkning!$C$6:$C$97)","v":0},null,{"$f":"LOOKUP(I61,Poängberäkning!$B$6:$B$97,Poängberäkning!$C$6:$C$97)","v":0},null,{"$f":"LOOKUP(K61,Poängberäkning!$B$6:$B$97,Poängberäkning!$C$6:$C$97)","v":0},null,{"$f":"LOOKUP(M61,Poängberäkning!$B$6:$B$97,Poängberäkning!$C$6:$C$97)","v":0},null,{"$f":"LOOKUP(O61,Poängberäkning!$B$6:$B$97,Poängberäkning!$C$6:$C$97)","v":0},null,{"$f":"LOOKUP(Q61,[1]Poängberäkning!$B$6:$B$97,[1]Poängberäkning!$C$6:$C$97)","v":0},null,{"$f":"LOOKUP(S61,[1]Poängberäkning!$B$6:$B$97,[1]Poängberäkning!$C$6:$C$97)","v":0},null,{"$f":"LOOKUP(U61,[1]Poängberäkning!$B$6:$B$97,[1]Poängberäkning!$C$6:$C$97)","v":0},null,{"$f":"LOOKUP(W61,[1]Poängberäkning!$B$6:$B$97,[1]Poängberäkning!$C$6:$C$97)","v":0},{"$f":"LARGE(($H61,$J61,$L61,$N61,$P61,$R61,$T61,$V61,$X61),1)","v":0},{"$f":"LARGE(($H61,$J61,$L61,$N61,$P61,$R61,$T61,$V61,$X61),2)","v":0},{"$f":"LARGE(($H61,$J61,$L61,$N61,$P61,$R61,$T61,$V61,$X61),3)","v":0},{"$f":"LARGE(($H61,$J61,$L61,$N61,$P61,$R61,$T61,$V61,$X61),4)","v":0},{"$f":"LARGE(($H61,$J61,$L61,$N61,$P61,$R61,$T61,$V61,$X61),5)","v":0},{"$f":"LARGE(($H61,$J61,$L61,$N61,$P61,$R61,$T61,$V61,$X61),6)","v":0},{"$f":"LARGE(($H61,$J61,$L61,$N61,$P61,$R61,$T61,$V61,$X61),7)","v":0},{"$f":"LARGE(($H61,$J61,$L61,$N61,$P61,$R61,$T61,$V61,$X61),8)","v":0},{"$f":"LARGE(($H61,$J61,$L61,$N61,$P61,$R61,$T61,$V61,$X61),9)","v":0}]
[58,null,null,null,0,0,null,{"$f":"LOOKUP(G62,Poängberäkning!$B$6:$B$97,Poängberäkning!$C$6:$C$97)","v":0},null,{"$f":"LOOKUP(I62,Poängberäkning!$B$6:$B$97,Poängberäkning!$C$6:$C$97)","v":0},null,{"$f":"LOOKUP(K62,Poängberäkning!$B$6:$B$97,Poängberäkning!$C$6:$C$97)","v":0},null,{"$f":"LOOKUP(M62,Poängberäkning!$B$6:$B$97,Poängberäkning!$C$6:$C$97)","v":0},null,{"$f":"LOOKUP(O62,Poängberäkning!$B$6:$B$97,Poängberäkning!$C$6:$C$97)","v":0},null,{"$f":"LOOKUP(Q62,[1]Poängberäkning!$B$6:$B$97,[1]Poängberäkning!$C$6:$C$97)","v":0},null,{"$f":"LOOKUP(S62,[1]Poängberäkning!$B$6:$B$97,[1]Poängberäkning!$C$6:$C$97)","v":0},null,{"$f":"LOOKUP(U62,[1]Poängberäkning!$B$6:$B$97,[1]Poängberäkning!$C$6:$C$97)","v":0},null,{"$f":"LOOKUP(W62,[1]Poängberäkning!$B$6:$B$97,[1]Poängberäkning!$C$6:$C$97)","v":0},{"$f":"LARGE(($H62,$J62,$L62,$N62,$P62,$R62,$T62,$V62,$X62),1)","v":0},{"$f":"LARGE(($H62,$J62,$L62,$N62,$P62,$R62,$T62,$V62,$X62),2)","v":0},{"$f":"LARGE(($H62,$J62,$L62,$N62,$P62,$R62,$T62,$V62,$X62),3)","v":0},{"$f":"LARGE(($H62,$J62,$L62,$N62,$P62,$R62,$T62,$V62,$X62),4)","v":0},{"$f":"LARGE(($H62,$J62,$L62,$N62,$P62,$R62,$T62,$V62,$X62),5)","v":0},{"$f":"LARGE(($H62,$J62,$L62,$N62,$P62,$R62,$T62,$V62,$X62),6)","v":0},{"$f":"LARGE(($H62,$J62,$L62,$N62,$P62,$R62,$T62,$V62,$X62),7)","v":0},{"$f":"LARGE(($H62,$J62,$L62,$N62,$P62,$R62,$T62,$V62,$X62),8)","v":0},{"$f":"LARGE(($H62,$J62,$L62,$N62,$P62,$R62,$T62,$V62,$X62),9)","v":0}]
[59,null,null,null,0,0,null,{"$f":"LOOKUP(G63,Poängberäkning!$B$6:$B$97,Poängberäkning!$C$6:$C$97)","v":0},null,{"$f":"LOOKUP(I63,Poängberäkning!$B$6:$B$97,Poängberäkning!$C$6:$C$97)","v":0},null,{"$f":"LOOKUP(K63,Poängberäkning!$B$6:$B$97,Poängberäkning!$C$6:$C$97)","v":0},null,{"$f":"LOOKUP(M63,Poängberäkning!$B$6:$B$97,Poängberäkning!$C$6:$C$97)","v":0},null,{"$f":"LOOKUP(O63,Poängberäkning!$B$6:$B$97,Poängberäkning!$C$6:$C$97)","v":0},null,{"$f":"LOOKUP(Q63,[1]Poängberäkning!$B$6:$B$97,[1]Poängberäkning!$C$6:$C$97)","v":0},null,{"$f":"LOOKUP(S63,[1]Poängberäkning!$B$6:$B$97,[1]Poängberäkning!$C$6:$C$97)","v":0},null,{"$f":"LOOKUP(U63,[1]Poängberäkning!$B$6:$B$97,[1]Poängberäkning!$C$6:$C$97)","v":0},null,{"$f":"LOOKUP(W63,[1]Poängberäkning!$B$6:$B$97,[1]Poängberäkning!$C$6:$C$97)","v":0},{"$f":"LARGE(($H63,$J63,$L63,$N63,$P63,$R63,$T63,$V63,$X63),1)","v":0},{"$f":"LARGE(($H63,$J63,$L63,$N63,$P63,$R63,$T63,$V63,$X63),2)","v":0},{"$f":"LARGE(($H63,$J63,$L63,$N63,$P63,$R63,$T63,$V63,$X63),3)","v":0},{"$f":"LARGE(($H63,$J63,$L63,$N63,$P63,$R63,$T63,$V63,$X63),4)","v":0},{"$f":"LARGE(($H63,$J63,$L63,$N63,$P63,$R63,$T63,$V63,$X63),5)","v":0},{"$f":"LARGE(($H63,$J63,$L63,$N63,$P63,$R63,$T63,$V63,$X63),6)","v":0},{"$f":"LARGE(($H63,$J63,$L63,$N63,$P63,$R63,$T63,$V63,$X63),7)","v":0},{"$f":"LARGE(($H63,$J63,$L63,$N63,$P63,$R63,$T63,$V63,$X63),8)","v":0},{"$f":"LARGE(($H63,$J63,$L63,$N63,$P63,$R63,$T63,$V63,$X63),9)","v":0}]
[60,null,null,null,0,0,null,{"$f":"LOOKUP(G64,Poängberäkning!$B$6:$B$97,Poängberäkning!$C$6:$C$97)","v":0},null,{"$f":"LOOKUP(I64,Poängberäkning!$B$6:$B$97,Poängberäkning!$C$6:$C$97)","v":0},null,{"$f":"LOOKUP(K64,Poängberäkning!$B$6:$B$97,Poängberäkning!$C$6:$C$97)","v":0},null,{"$f":"LOOKUP(M64,Poängberäkning!$B$6:$B$97,Poängberäkning!$C$6:$C$97)","v":0},null,{"$f":"LOOKUP(O64,Poängberäkning!$B$6:$B$97,Poängberäkning!$C$6:$C$97)","v":0},null,{"$f":"LOOKUP(Q64,[1]Poängberäkning!$B$6:$B$97,[1]Poängberäkning!$C$6:$C$97)","v":0},null,{"$f":"LOOKUP(S64,[1]Poängberäkning!$B$6:$B$97,[1]Poängberäkning!$C$6:$C$97)","v":0},null,{"$f":"LOOKUP(U64,[1]Poängberäkning!$B$6:$B$97,[1]Poängberäkning!$C$6:$C$97)","v":0},null,{"$f":"LOOKUP(W64,[1]Poängberäkning!$B$6:$B$97,[1]Poängberäkning!$C$6:$C$97)","v":0},{"$f":"LARGE(($H64,$J64,$L64,$N64,$P64,$R64,$T64,$V64,$X64),1)","v":0},{"$f":"LARGE(($H64,$J64,$L64,$N64,$P64,$R64,$T64,$V64,$X64),2)","v":0},{"$f":"LARGE(($H64,$J64,$L64,$N64,$P64,$R64,$T64,$V64,$X64),3)","v":0},{"$f":"LARGE(($H64,$J64,$L64,$N64,$P64,$R64,$T64,$V64,$X64),4)","v":0},{"$f":"LARGE(($H64,$J64,$L64,$N64,$P64,$R64,$T64,$V64,$X64),5)","v":0},{"$f":"LARGE(($H64,$J64,$L64,$N64,$P64,$R64,$T64,$V64,$X64),6)","v":0},{"$f":"LARGE(($H64,$J64,$L64,$N64,$P64,$R64,$T64,$V64,$X64),7)","v":0},{"$f":"LARGE(($H64,$J64,$L64,$N64,$P64,$R64,$T64,$V64,$X64),8)","v":0},{"$f":"LARGE(($H64,$J64,$L64,$N64,$P64,$R64,$T64,$V64,$X64),9)","v":0}]
[61,null,null,null,0,0,null,{"$f":"LOOKUP(G65,Poängberäkning!$B$6:$B$97,Poängberäkning!$C$6:$C$97)","v":0},null,{"$f":"LOOKUP(I65,Poängberäkning!$B$6:$B$97,Poängberäkning!$C$6:$C$97)","v":0},null,{"$f":"LOOKUP(K65,Poängberäkning!$B$6:$B$97,Poängberäkning!$C$6:$C$97)","v":0},null,{"$f":"LOOKUP(M65,Poängberäkning!$B$6:$B$97,Poängberäkning!$C$6:$C$97)","v":0},null,{"$f":"LOOKUP(O65,Poängberäkning!$B$6:$B$97,Poängberäkning!$C$6:$C$97)","v":0},null,{"$f":"LOOKUP(Q65,[1]Poängberäkning!$B$6:$B$97,[1]Poängberäkning!$C$6:$C$97)","v":0},null,{"$f":"LOOKUP(S65,[1]Poängberäkning!$B$6:$B$97,[1]Poängberäkning!$C$6:$C$97)","v":0},null,{"$f":"LOOKUP(U65,[1]Poängberäkning!$B$6:$B$97,[1]Poängberäkning!$C$6:$C$97)","v":0},null,{"$f":"LOOKUP(W65,[1]Poängberäkning!$B$6:$B$97,[1]Poängberäkning!$C$6:$C$97)","v":0},{"$f":"LARGE(($H65,$J65,$L65,$N65,$P65,$R65,$T65,$V65,$X65),1)","v":0},{"$f":"LARGE(($H65,$J65,$L65,$N65,$P65,$R65,$T65,$V65,$X65),2)","v":0},{"$f":"LARGE(($H65,$J65,$L65,$N65,$P65,$R65,$T65,$V65,$X65),3)","v":0},{"$f":"LARGE(($H65,$J65,$L65,$N65,$P65,$R65,$T65,$V65,$X65),4)","v":0},{"$f":"LARGE(($H65,$J65,$L65,$N65,$P65,$R65,$T65,$V65,$X65),5)","v":0},{"$f":"LARGE(($H65,$J65,$L65,$N65,$P65,$R65,$T65,$V65,$X65),6)","v":0},{"$f":"LARGE(($H65,$J65,$L65,$N65,$P65,$R65,$T65,$V65,$X65),7)","v":0},{"$f":"LARGE(($H65,$J65,$L65,$N65,$P65,$R65,$T65,$V65,$X65),8)","v":0},{"$f":"LARGE(($H65,$J65,$L65,$N65,$P65,$R65,$T65,$V65,$X65),9)","v":0}]
[62,null,null,null,0,0,null,{"$f":"LOOKUP(G66,Poängberäkning!$B$6:$B$97,Poängberäkning!$C$6:$C$97)","v":0},null,{"$f":"LOOKUP(I66,Poängberäkning!$B$6:$B$97,Poängberäkning!$C$6:$C$97)","v":0},null,{"$f":"LOOKUP(K66,Poängberäkning!$B$6:$B$97,Poängberäkning!$C$6:$C$97)","v":0},null,{"$f":"LOOKUP(M66,Poängberäkning!$B$6:$B$97,Poängberäkning!$C$6:$C$97)","v":0},null,{"$f":"LOOKUP(O66,Poängberäkning!$B$6:$B$97,Poängberäkning!$C$6:$C$97)","v":0},null,{"$f":"LOOKUP(Q66,[1]Poängberäkning!$B$6:$B$97,[1]Poängberäkning!$C$6:$C$97)","v":0},null,{"$f":"LOOKUP(S66,[1]Poängberäkning!$B$6:$B$97,[1]Poängberäkning!$C$6:$C$97)","v":0},null,{"$f":"LOOKUP(U66,[1]Poängberäkning!$B$6:$B$97,[1]Poängberäkning!$C$6:$C$97)","v":0},null,{"$f":"LOOKUP(W66,[1]Poängberäkning!$B$6:$B$97,[1]Poängberäkning!$C$6:$C$97)","v":0},{"$f":"LARGE(($H66,$J66,$L66,$N66,$P66,$R66,$T66,$V66,$X66),1)","v":0},{"$f":"LARGE(($H66,$J66,$L66,$N66,$P66,$R66,$T66,$V66,$X66),2)","v":0},{"$f":"LARGE(($H66,$J66,$L66,$N66,$P66,$R66,$T66,$V66,$X66),3)","v":0},{"$f":"LARGE(($H66,$J66,$L66,$N66,$P66,$R66,$T66,$V66,$X66),4)","v":0},{"$f":"LARGE(($H66,$J66,$L66,$N66,$P66,$R66,$T66,$V66,$X66),5)","v":0},{"$f":"LARGE(($H66,$J66,$L66,$N66,$P66,$R66,$T66,$V66,$X66),6)","v":0},{"$f":"LARGE(($H66,$J66,$L66,$N66,$P66,$R66,$T66,$V66,$X66),7)","v":0},{"$f":"LARGE(($H66,$J66,$L66,$N66,$P66,$R66,$T66,$V66,$X66),8)","v":0},{"$f":"LARGE(($H66,$J66,$L66,$N66,$P66,$R66,$T66,$V66,$X66),9)","v":0}]
[63,null,null,null,0,0,null,{"$f":"LOOKUP(G67,Poängberäkning!$B$6:$B$97,Poängberäkning!$C$6:$C$97)","v":0},null,{"$f":"LOOKUP(I67,Poängberäkning!$B$6:$B$97,Poängberäkning!$C$6:$C$97)","v":0},null,{"$f":"LOOKUP(K67,Poängberäkning!$B$6:$B$97,Poängberäkning!$C$6:$C$97)","v":0},null,{"$f":"LOOKUP(M67,Poängberäkning!$B$6:$B$97,Poängberäkning!$C$6:$C$97)","v":0},null,{"$f":"LOOKUP(O67,Poängberäkning!$B$6:$B$97,Poängberäkning!$C$6:$C$97)","v":0},null,{"$f":"LOOKUP(Q67,[1]Poängberäkning!$B$6:$B$97,[1]Poängberäkning!$C$6:$C$97)","v":0},null,{"$f":"LOOKUP(S67,[1]Poängberäkning!$B$6:$B$97,[1]Poängberäkning!$C$6:$C$97)","v":0},null,{"$f":"LOOKUP(U67,[1]Poängberäkning!$B$6:$B$97,[1]Poängberäkning!$C$6:$C$97)","v":0},null,{"$f":"LOOKUP(W67,[1]Poängberäkning!$B$6:$B$97,[1]Poängberäkning!$C$6:$C$97)","v":0},{"$f":"LARGE(($H67,$J67,$L67,$N67,$P67,$R67,$T67,$V67,$X67),1)","v":0},{"$f":"LARGE(($H67,$J67,$L67,$N67,$P67,$R67,$T67,$V67,$X67),2)","v":0},{"$f":"LARGE(($H67,$J67,$L67,$N67,$P67,$R67,$T67,$V67,$X67),3)","v":0},{"$f":"LARGE(($H67,$J67,$L67,$N67,$P67,$R67,$T67,$V67,$X67),4)","v":0},{"$f":"LARGE(($H67,$J67,$L67,$N67,$P67,$R67,$T67,$V67,$X67),5)","v":0},{"$f":"LARGE(($H67,$J67,$L67,$N67,$P67,$R67,$T67,$V67,$X67),6)","v":0},{"$f":"LARGE(($H67,$J67,$L67,$N67,$P67,$R67,$T67,$V67,$X67),7)","v":0},{"$f":"LARGE(($H67,$J67,$L67,$N67,$P67,$R67,$T67,$V67,$X67),8)","v":0},{"$f":"LARGE(($H67,$J67,$L67,$N67,$P67,$R67,$T67,$V67,$X67),9)","v":0}]
[64,null,null,null,0,0,null,{"$f":"LOOKUP(G68,Poängberäkning!$B$6:$B$97,Poängberäkning!$C$6:$C$97)","v":0},null,{"$f":"LOOKUP(I68,Poängberäkning!$B$6:$B$97,Poängberäkning!$C$6:$C$97)","v":0},null,{"$f":"LOOKUP(K68,Poängberäkning!$B$6:$B$97,Poängberäkning!$C$6:$C$97)","v":0},null,{"$f":"LOOKUP(M68,Poängberäkning!$B$6:$B$97,Poängberäkning!$C$6:$C$97)","v":0},null,{"$f":"LOOKUP(O68,Poängberäkning!$B$6:$B$97,Poängberäkning!$C$6:$C$97)","v":0},null,{"$f":"LOOKUP(Q68,[1]Poängberäkning!$B$6:$B$97,[1]Poängberäkning!$C$6:$C$97)","v":0},null,{"$f":"LOOKUP(S68,[1]Poängberäkning!$B$6:$B$97,[1]Poängberäkning!$C$6:$C$97)","v":0},null,{"$f":"LOOKUP(U68,[1]Poängberäkning!$B$6:$B$97,[1]Poängberäkning!$C$6:$C$97)","v":0},null,{"$f":"LOOKUP(W68,[1]Poängberäkning!$B$6:$B$97,[1]Poängberäkning!$C$6:$C$97)","v":0},{"$f":"LARGE(($H68,$J68,$L68,$N68,$P68,$R68,$T68,$V68,$X68),1)","v":0},{"$f":"LARGE(($H68,$J68,$L68,$N68,$P68,$R68,$T68,$V68,$X68),2)","v":0},{"$f":"LARGE(($H68,$J68,$L68,$N68,$P68,$R68,$T68,$V68,$X68),3)","v":0},{"$f":"LARGE(($H68,$J68,$L68,$N68,$P68,$R68,$T68,$V68,$X68),4)","v":0},{"$f":"LARGE(($H68,$J68,$L68,$N68,$P68,$R68,$T68,$V68,$X68),5)","v":0},{"$f":"LARGE(($H68,$J68,$L68,$N68,$P68,$R68,$T68,$V68,$X68),6)","v":0},{"$f":"LARGE(($H68,$J68,$L68,$N68,$P68,$R68,$T68,$V68,$X68),7)","v":0},{"$f":"LARGE(($H68,$J68,$L68,$N68,$P68,$R68,$T68,$V68,$X68),8)","v":0},{"$f":"LARGE(($H68,$J68,$L68,$N68,$P68,$R68,$T68,$V68,$X68),9)","v":0}]
[65,null,null,null,{"$f":"SUM(Y69:AA69)","v":0},{"$f":"H69+J69+L69+N69+P69+R69+T69+V69+X69","v":0},null,{"$f":"LOOKUP(G69,Poängberäkning!$B$6:$B$97,Poängberäkning!$C$6:$C$97)","v":0},null,{"$f":"LOOKUP(I69,Poängberäkning!$B$6:$B$97,Poängberäkning!$C$6:$C$97)","v":0},null,{"$f":"LOOKUP(K69,Poängberäkning!$B$6:$B$97,Poängberäkning!$C$6:$C$97)","v":0},null,{"$f":"LOOKUP(M69,Poängberäkning!$B$6:$B$97,Poängberäkning!$C$6:$C$97)","v":0},null,{"$f":"LOOKUP(O69,Poängberäkning!$B$6:$B$97,Poängberäkning!$C$6:$C$97)","v":0},null,{"$f":"LOOKUP(Q69,[1]Poängberäkning!$B$6:$B$97,[1]Poängberäkning!$C$6:$C$97)","v":0},null,{"$f":"LOOKUP(S69,[1]Poängberäkning!$B$6:$B$97,[1]Poängberäkning!$C$6:$C$97)","v":0},null,{"$f":"LOOKUP(U69,[1]Poängberäkning!$B$6:$B$97,[1]Poängberäkning!$C$6:$C$97)","v":0},null,{"$f":"LOOKUP(W69,[1]Poängberäkning!$B$6:$B$97,[1]Poängberäkning!$C$6:$C$97)","v":0},{"$f":"LARGE(($H69,$J69,$L69,$N69,$P69,$R69,$T69,$V69,$X69),1)","v":0},{"$f":"LARGE(($H69,$J69,$L69,$N69,$P69,$R69,$T69,$V69,$X69),2)","v":0},{"$f":"LARGE(($H69,$J69,$L69,$N69,$P69,$R69,$T69,$V69,$X69),3)","v":0},{"$f":"LARGE(($H69,$J69,$L69,$N69,$P69,$R69,$T69,$V69,$X69),4)","v":0},{"$f":"LARGE(($H69,$J69,$L69,$N69,$P69,$R69,$T69,$V69,$X69),5)","v":0},{"$f":"LARGE(($H69,$J69,$L69,$N69,$P69,$R69,$T69,$V69,$X69),6)","v":0},{"$f":"LARGE(($H69,$J69,$L69,$N69,$P69,$R69,$T69,$V69,$X69),7)","v":0},{"$f":"LARGE(($H69,$J69,$L69,$N69,$P69,$R69,$T69,$V69,$X69),8)","v":0},{"$f":"LARGE(($H69,$J69,$L69,$N69,$P69,$R69,$T69,$V69,$X69),9)","v":0}]
[66,null,null,null,0,0,null,{"$f":"LOOKUP(G70,Poängberäkning!$B$6:$B$97,Poängberäkning!$C$6:$C$97)","v":0},null,{"$f":"LOOKUP(I70,Poängberäkning!$B$6:$B$97,Poängberäkning!$C$6:$C$97)","v":0},null,{"$f":"LOOKUP(K70,Poängberäkning!$B$6:$B$97,Poängberäkning!$C$6:$C$97)","v":0},null,{"$f":"LOOKUP(M70,Poängberäkning!$B$6:$B$97,Poängberäkning!$C$6:$C$97)","v":0},null,{"$f":"LOOKUP(O70,Poängberäkning!$B$6:$B$97,Poängberäkning!$C$6:$C$97)","v":0},null,{"$f":"LOOKUP(Q70,[1]Poängberäkning!$B$6:$B$97,[1]Poängberäkning!$C$6:$C$97)","v":0},null,{"$f":"LOOKUP(S70,[1]Poängberäkning!$B$6:$B$97,[1]Poängberäkning!$C$6:$C$97)","v":0},null,{"$f":"LOOKUP(U70,[1]Poängberäkning!$B$6:$B$97,[1]Poängberäkning!$C$6:$C$97)","v":0},null,{"$f":"LOOKUP(W70,[1]Poängberäkning!$B$6:$B$97,[1]Poängberäkning!$C$6:$C$97)","v":0},{"$f":"LARGE(($H70,$J70,$L70,$N70,$P70,$R70,$T70,$V70,$X70),1)","v":0},{"$f":"LARGE(($H70,$J70,$L70,$N70,$P70,$R70,$T70,$V70,$X70),2)","v":0},{"$f":"LARGE(($H70,$J70,$L70,$N70,$P70,$R70,$T70,$V70,$X70),3)","v":0},{"$f":"LARGE(($H70,$J70,$L70,$N70,$P70,$R70,$T70,$V70,$X70),4)","v":0},{"$f":"LARGE(($H70,$J70,$L70,$N70,$P70,$R70,$T70,$V70,$X70),5)","v":0},{"$f":"LARGE(($H70,$J70,$L70,$N70,$P70,$R70,$T70,$V70,$X70),6)","v":0},{"$f":"LARGE(($H70,$J70,$L70,$N70,$P70,$R70,$T70,$V70,$X70),7)","v":0},{"$f":"LARGE(($H70,$J70,$L70,$N70,$P70,$R70,$T70,$V70,$X70),8)","v":0},{"$f":"LARGE(($H70,$J70,$L70,$N70,$P70,$R70,$T70,$V70,$X70),9)","v":0}]
[67,null,null,null,0,0,null,{"$f":"LOOKUP(G71,Poängberäkning!$B$6:$B$97,Poängberäkning!$C$6:$C$97)","v":0},null,{"$f":"LOOKUP(I71,Poängberäkning!$B$6:$B$97,Poängberäkning!$C$6:$C$97)","v":0},null,{"$f":"LOOKUP(K71,Poängberäkning!$B$6:$B$97,Poängberäkning!$C$6:$C$97)","v":0},null,{"$f":"LOOKUP(M71,Poängberäkning!$B$6:$B$97,Poängberäkning!$C$6:$C$97)","v":0},null,{"$f":"LOOKUP(O71,Poängberäkning!$B$6:$B$97,Poängberäkning!$C$6:$C$97)","v":0},null,{"$f":"LOOKUP(Q71,[1]Poängberäkning!$B$6:$B$97,[1]Poängberäkning!$C$6:$C$97)","v":0},null,{"$f":"LOOKUP(S71,[1]Poängberäkning!$B$6:$B$97,[1]Poängberäkning!$C$6:$C$97)","v":0},null,{"$f":"LOOKUP(U71,[1]Poängberäkning!$B$6:$B$97,[1]Poängberäkning!$C$6:$C$97)","v":0},null,{"$f":"LOOKUP(W71,[1]Poängberäkning!$B$6:$B$97,[1]Poängberäkning!$C$6:$C$97)","v":0},{"$f":"LARGE(($H71,$J71,$L71,$N71,$P71,$R71,$T71,$V71,$X71),1)","v":0},{"$f":"LARGE(($H71,$J71,$L71,$N71,$P71,$R71,$T71,$V71,$X71),2)","v":0},{"$f":"LARGE(($H71,$J71,$L71,$N71,$P71,$R71,$T71,$V71,$X71),3)","v":0},{"$f":"LARGE(($H71,$J71,$L71,$N71,$P71,$R71,$T71,$V71,$X71),4)","v":0},{"$f":"LARGE(($H71,$J71,$L71,$N71,$P71,$R71,$T71,$V71,$X71),5)","v":0},{"$f":"LARGE(($H71,$J71,$L71,$N71,$P71,$R71,$T71,$V71,$X71),6)","v":0},{"$f":"LARGE(($H71,$J71,$L71,$N71,$P71,$R71,$T71,$V71,$X71),7)","v":0},{"$f":"LARGE(($H71,$J71,$L71,$N71,$P71,$R71,$T71,$V71,$X71),8)","v":0},{"$f":"LARGE(($H71,$J71,$L71,$N71,$P71,$R71,$T71,$V71,$X71),9)","v":0}]
[{"$f":"A71+1","v":68},null,null,null,0,0,null,{"$f":"LOOKUP(G72,Poängberäkning!$B$6:$B$97,Poängberäkning!$C$6:$C$97)","v":0},null,{"$f":"LOOKUP(I72,Poängberäkning!$B$6:$B$97,Poängberäkning!$C$6:$C$97)","v":0},null,{"$f":"LOOKUP(K72,Poängberäkning!$B$6:$B$97,Poängberäkning!$C$6:$C$97)","v":0},null,{"$f":"LOOKUP(M72,Poängberäkning!$B$6:$B$97,Poängberäkning!$C$6:$C$97)","v":0},null,{"$f":"LOOKUP(O72,Poängberäkning!$B$6:$B$97,Poängberäkning!$C$6:$C$97)","v":0},null,{"$f":"LOOKUP(Q72,[1]Poängberäkning!$B$6:$B$97,[1]Poängberäkning!$C$6:$C$97)","v":0},null,{"$f":"LOOKUP(S72,[1]Poängberäkning!$B$6:$B$97,[1]Poängberäkning!$C$6:$C$97)","v":0},null,{"$f":"LOOKUP(U72,[1]Poängberäkning!$B$6:$B$97,[1]Poängberäkning!$C$6:$C$97)","v":0},null,{"$f":"LOOKUP(W72,[1]Poängberäkning!$B$6:$B$97,[1]Poängberäkning!$C$6:$C$97)","v":0},{"$f":"LARGE(($H72,$J72,$L72,$N72,$P72,$R72,$T72,$V72,$X72),1)","v":0},{"$f":"LARGE(($H72,$J72,$L72,$N72,$P72,$R72,$T72,$V72,$X72),2)","v":0},{"$f":"LARGE(($H72,$J72,$L72,$N72,$P72,$R72,$T72,$V72,$X72),3)","v":0},{"$f":"LARGE(($H72,$J72,$L72,$N72,$P72,$R72,$T72,$V72,$X72),4)","v":0},{"$f":"LARGE(($H72,$J72,$L72,$N72,$P72,$R72,$T72,$V72,$X72),5)","v":0},{"$f":"LARGE(($H72,$J72,$L72,$N72,$P72,$R72,$T72,$V72,$X72),6)","v":0},{"$f":"LARGE(($H72,$J72,$L72,$N72,$P72,$R72,$T72,$V72,$X72),7)","v":0},{"$f":"LARGE(($H72,$J72,$L72,$N72,$P72,$R72,$T72,$V72,$X72),8)","v":0},{"$f":"LARGE(($H72,$J72,$L72,$N72,$P72,$R72,$T72,$V72,$X72),9)","v":0}]
[69,null,null,null,0,0,null,{"$f":"LOOKUP(G73,Poängberäkning!$B$6:$B$97,Poängberäkning!$C$6:$C$97)","v":0},null,{"$f":"LOOKUP(I73,Poängberäkning!$B$6:$B$97,Poängberäkning!$C$6:$C$97)","v":0},null,{"$f":"LOOKUP(K73,Poängberäkning!$B$6:$B$97,Poängberäkning!$C$6:$C$97)","v":0},null,{"$f":"LOOKUP(M73,Poängberäkning!$B$6:$B$97,Poängberäkning!$C$6:$C$97)","v":0},null,{"$f":"LOOKUP(O73,Poängberäkning!$B$6:$B$97,Poängberäkning!$C$6:$C$97)","v":0},null,{"$f":"LOOKUP(Q73,[1]Poängberäkning!$B$6:$B$97,[1]Poängberäkning!$C$6:$C$97)","v":0},null,{"$f":"LOOKUP(S73,[1]Poängberäkning!$B$6:$B$97,[1]Poängberäkning!$C$6:$C$97)","v":0},null,{"$f":"LOOKUP(U73,[1]Poängberäkning!$B$6:$B$97,[1]Poängberäkning!$C$6:$C$97)","v":0},null,{"$f":"LOOKUP(W73,[1]Poängberäkning!$B$6:$B$97,[1]Poängberäkning!$C$6:$C$97)","v":0},{"$f":"LARGE(($H73,$J73,$L73,$N73,$P73,$R73,$T73,$V73,$X73),1)","v":0},{"$f":"LARGE(($H73,$J73,$L73,$N73,$P73,$R73,$T73,$V73,$X73),2)","v":0},{"$f":"LARGE(($H73,$J73,$L73,$N73,$P73,$R73,$T73,$V73,$X73),3)","v":0},{"$f":"LARGE(($H73,$J73,$L73,$N73,$P73,$R73,$T73,$V73,$X73),4)","v":0},{"$f":"LARGE(($H73,$J73,$L73,$N73,$P73,$R73,$T73,$V73,$X73),5)","v":0},{"$f":"LARGE(($H73,$J73,$L73,$N73,$P73,$R73,$T73,$V73,$X73),6)","v":0},{"$f":"LARGE(($H73,$J73,$L73,$N73,$P73,$R73,$T73,$V73,$X73),7)","v":0},{"$f":"LARGE(($H73,$J73,$L73,$N73,$P73,$R73,$T73,$V73,$X73),8)","v":0},{"$f":"LARGE(($H73,$J73,$L73,$N73,$P73,$R73,$T73,$V73,$X73),9)","v":0}]
[70,null,null,null,0,0,null,{"$f":"LOOKUP(G74,Poängberäkning!$B$6:$B$97,Poängberäkning!$C$6:$C$97)","v":0},null,{"$f":"LOOKUP(I74,Poängberäkning!$B$6:$B$97,Poängberäkning!$C$6:$C$97)","v":0},null,{"$f":"LOOKUP(K74,Poängberäkning!$B$6:$B$97,Poängberäkning!$C$6:$C$97)","v":0},null,{"$f":"LOOKUP(M74,Poängberäkning!$B$6:$B$97,Poängberäkning!$C$6:$C$97)","v":0},null,{"$f":"LOOKUP(O74,Poängberäkning!$B$6:$B$97,Poängberäkning!$C$6:$C$97)","v":0},null,{"$f":"LOOKUP(Q74,[1]Poängberäkning!$B$6:$B$97,[1]Poängberäkning!$C$6:$C$97)","v":0},null,{"$f":"LOOKUP(S74,[1]Poängberäkning!$B$6:$B$97,[1]Poängberäkning!$C$6:$C$97)","v":0},null,{"$f":"LOOKUP(U74,[1]Poängberäkning!$B$6:$B$97,[1]Poängberäkning!$C$6:$C$97)","v":0},null,{"$f":"LOOKUP(W74,[1]Poängberäkning!$B$6:$B$97,[1]Poängberäkning!$C$6:$C$97)","v":0},{"$f":"LARGE(($H74,$J74,$L74,$N74,$P74,$R74,$T74,$V74,$X74),1)","v":0},{"$f":"LARGE(($H74,$J74,$L74,$N74,$P74,$R74,$T74,$V74,$X74),2)","v":0},{"$f":"LARGE(($H74,$J74,$L74,$N74,$P74,$R74,$T74,$V74,$X74),3)","v":0},{"$f":"LARGE(($H74,$J74,$L74,$N74,$P74,$R74,$T74,$V74,$X74),4)","v":0},{"$f":"LARGE(($H74,$J74,$L74,$N74,$P74,$R74,$T74,$V74,$X74),5)","v":0},{"$f":"LARGE(($H74,$J74,$L74,$N74,$P74,$R74,$T74,$V74,$X74),6)","v":0},{"$f":"LARGE(($H74,$J74,$L74,$N74,$P74,$R74,$T74,$V74,$X74),7)","v":0},{"$f":"LARGE(($H74,$J74,$L74,$N74,$P74,$R74,$T74,$V74,$X74),8)","v":0},{"$f":"LARGE(($H74,$J74,$L74,$N74,$P74,$R74,$T74,$V74,$X74),9)","v":0}]
[71,null,null,null,0,0,null,{"$f":"LOOKUP(G75,Poängberäkning!$B$6:$B$97,Poängberäkning!$C$6:$C$97)","v":0},null,{"$f":"LOOKUP(I75,Poängberäkning!$B$6:$B$97,Poängberäkning!$C$6:$C$97)","v":0},null,{"$f":"LOOKUP(K75,Poängberäkning!$B$6:$B$97,Poängberäkning!$C$6:$C$97)","v":0},null,{"$f":"LOOKUP(M75,Poängberäkning!$B$6:$B$97,Poängberäkning!$C$6:$C$97)","v":0},null,{"$f":"LOOKUP(O75,Poängberäkning!$B$6:$B$97,Poängberäkning!$C$6:$C$97)","v":0},null,{"$f":"LOOKUP(Q75,[1]Poängberäkning!$B$6:$B$97,[1]Poängberäkning!$C$6:$C$97)","v":0},null,{"$f":"LOOKUP(S75,[1]Poängberäkning!$B$6:$B$97,[1]Poängberäkning!$C$6:$C$97)","v":0},null,{"$f":"LOOKUP(U75,[1]Poängberäkning!$B$6:$B$97,[1]Poängberäkning!$C$6:$C$97)","v":0},null,{"$f":"LOOKUP(W75,[1]Poängberäkning!$B$6:$B$97,[1]Poängberäkning!$C$6:$C$97)","v":0},{"$f":"LARGE(($H75,$J75,$L75,$N75,$P75,$R75,$T75,$V75,$X75),1)","v":0},{"$f":"LARGE(($H75,$J75,$L75,$N75,$P75,$R75,$T75,$V75,$X75),2)","v":0},{"$f":"LARGE(($H75,$J75,$L75,$N75,$P75,$R75,$T75,$V75,$X75),3)","v":0},{"$f":"LARGE(($H75,$J75,$L75,$N75,$P75,$R75,$T75,$V75,$X75),4)","v":0},{"$f":"LARGE(($H75,$J75,$L75,$N75,$P75,$R75,$T75,$V75,$X75),5)","v":0},{"$f":"LARGE(($H75,$J75,$L75,$N75,$P75,$R75,$T75,$V75,$X75),6)","v":0},{"$f":"LARGE(($H75,$J75,$L75,$N75,$P75,$R75,$T75,$V75,$X75),7)","v":0},{"$f":"LARGE(($H75,$J75,$L75,$N75,$P75,$R75,$T75,$V75,$X75),8)","v":0},{"$f":"LARGE(($H75,$J75,$L75,$N75,$P75,$R75,$T75,$V75,$X75),9)","v":0}]
[72,null,null,null,0,0,null,{"$f":"LOOKUP(G76,Poängberäkning!$B$6:$B$97,Poängberäkning!$C$6:$C$97)","v":0},null,{"$f":"LOOKUP(I76,Poängberäkning!$B$6:$B$97,Poängberäkning!$C$6:$C$97)","v":0},null,{"$f":"LOOKUP(K76,Poängberäkning!$B$6:$B$97,Poängberäkning!$C$6:$C$97)","v":0},null,{"$f":"LOOKUP(M76,Poängberäkning!$B$6:$B$97,Poängberäkning!$C$6:$C$97)","v":0},null,{"$f":"LOOKUP(O76,Poängberäkning!$B$6:$B$97,Poängberäkning!$C$6:$C$97)","v":0},null,{"$f":"LOOKUP(Q76,[1]Poängberäkning!$B$6:$B$97,[1]Poängberäkning!$C$6:$C$97)","v":0},null,{"$f":"LOOKUP(S76,[1]Poängberäkning!$B$6:$B$97,[1]Poängberäkning!$C$6:$C$97)","v":0},null,{"$f":"LOOKUP(U76,[1]Poängberäkning!$B$6:$B$97,[1]Poängberäkning!$C$6:$C$97)","v":0},null,{"$f":"LOOKUP(W76,[1]Poängberäkning!$B$6:$B$97,[1]Poängberäkning!$C$6:$C$97)","v":0},{"$f":"LARGE(($H76,$J76,$L76,$N76,$P76,$R76,$T76,$V76,$X76),1)","v":0},{"$f":"LARGE(($H76,$J76,$L76,$N76,$P76,$R76,$T76,$V76,$X76),2)","v":0},{"$f":"LARGE(($H76,$J76,$L76,$N76,$P76,$R76,$T76,$V76,$X76),3)","v":0},{"$f":"LARGE(($H76,$J76,$L76,$N76,$P76,$R76,$T76,$V76,$X76),4)","v":0},{"$f":"LARGE(($H76,$J76,$L76,$N76,$P76,$R76,$T76,$V76,$X76),5)","v":0},{"$f":"LARGE(($H76,$J76,$L76,$N76,$P76,$R76,$T76,$V76,$X76),6)","v":0},{"$f":"LARGE(($H76,$J76,$L76,$N76,$P76,$R76,$T76,$V76,$X76),7)","v":0},{"$f":"LARGE(($H76,$J76,$L76,$N76,$P76,$R76,$T76,$V76,$X76),8)","v":0},{"$f":"LARGE(($H76,$J76,$L76,$N76,$P76,$R76,$T76,$V76,$X76),9)","v":0}]
[73,null,null,null,0,0,null,{"$f":"LOOKUP(G77,Poängberäkning!$B$6:$B$97,Poängberäkning!$C$6:$C$97)","v":0},null,{"$f":"LOOKUP(I77,Poängberäkning!$B$6:$B$97,Poängberäkning!$C$6:$C$97)","v":0},null,{"$f":"LOOKUP(K77,Poängberäkning!$B$6:$B$97,Poängberäkning!$C$6:$C$97)","v":0},null,{"$f":"LOOKUP(M77,Poängberäkning!$B$6:$B$97,Poängberäkning!$C$6:$C$97)","v":0},null,{"$f":"LOOKUP(O77,Poängberäkning!$B$6:$B$97,Poängberäkning!$C$6:$C$97)","v":0},null,{"$f":"LOOKUP(Q77,[1]Poängberäkning!$B$6:$B$97,[1]Poängberäkning!$C$6:$C$97)","v":0},null,{"$f":"LOOKUP(S77,[1]Poängberäkning!$B$6:$B$97,[1]Poängberäkning!$C$6:$C$97)","v":0},null,{"$f":"LOOKUP(U77,[1]Poängberäkning!$B$6:$B$97,[1]Poängberäkning!$C$6:$C$97)","v":0},null,{"$f":"LOOKUP(W77,[1]Poängberäkning!$B$6:$B$97,[1]Poängberäkning!$C$6:$C$97)","v":0},{"$f":"LARGE(($H77,$J77,$L77,$N77,$P77,$R77,$T77,$V77,$X77),1)","v":0},{"$f":"LARGE(($H77,$J77,$L77,$N77,$P77,$R77,$T77,$V77,$X77),2)","v":0},{"$f":"LARGE(($H77,$J77,$L77,$N77,$P77,$R77,$T77,$V77,$X77),3)","v":0},{"$f":"LARGE(($H77,$J77,$L77,$N77,$P77,$R77,$T77,$V77,$X77),4)","v":0},{"$f":"LARGE(($H77,$J77,$L77,$N77,$P77,$R77,$T77,$V77,$X77),5)","v":0},{"$f":"LARGE(($H77,$J77,$L77,$N77,$P77,$R77,$T77,$V77,$X77),6)","v":0},{"$f":"LARGE(($H77,$J77,$L77,$N77,$P77,$R77,$T77,$V77,$X77),7)","v":0},{"$f":"LARGE(($H77,$J77,$L77,$N77,$P77,$R77,$T77,$V77,$X77),8)","v":0},{"$f":"LARGE(($H77,$J77,$L77,$N77,$P77,$R77,$T77,$V77,$X77),9)","v":0}]
[74,null,null,null,0,0,null,{"$f":"LOOKUP(G78,Poängberäkning!$B$6:$B$97,Poängberäkning!$C$6:$C$97)","v":0},null,{"$f":"LOOKUP(I78,Poängberäkning!$B$6:$B$97,Poängberäkning!$C$6:$C$97)","v":0},null,{"$f":"LOOKUP(K78,Poängberäkning!$B$6:$B$97,Poängberäkning!$C$6:$C$97)","v":0},null,{"$f":"LOOKUP(M78,Poängberäkning!$B$6:$B$97,Poängberäkning!$C$6:$C$97)","v":0},null,{"$f":"LOOKUP(O78,Poängberäkning!$B$6:$B$97,Poängberäkning!$C$6:$C$97)","v":0},null,{"$f":"LOOKUP(Q78,[1]Poängberäkning!$B$6:$B$97,[1]Poängberäkning!$C$6:$C$97)","v":0},null,{"$f":"LOOKUP(S78,[1]Poängberäkning!$B$6:$B$97,[1]Poängberäkning!$C$6:$C$97)","v":0},null,{"$f":"LOOKUP(U78,[1]Poängberäkning!$B$6:$B$97,[1]Poängberäkning!$C$6:$C$97)","v":0},null,{"$f":"LOOKUP(W78,[1]Poängberäkning!$B$6:$B$97,[1]Poängberäkning!$C$6:$C$97)","v":0},{"$f":"LARGE(($H78,$J78,$L78,$N78,$P78,$R78,$T78,$V78,$X78),1)","v":0},{"$f":"LARGE(($H78,$J78,$L78,$N78,$P78,$R78,$T78,$V78,$X78),2)","v":0},{"$f":"LARGE(($H78,$J78,$L78,$N78,$P78,$R78,$T78,$V78,$X78),3)","v":0},{"$f":"LARGE(($H78,$J78,$L78,$N78,$P78,$R78,$T78,$V78,$X78),4)","v":0},{"$f":"LARGE(($H78,$J78,$L78,$N78,$P78,$R78,$T78,$V78,$X78),5)","v":0},{"$f":"LARGE(($H78,$J78,$L78,$N78,$P78,$R78,$T78,$V78,$X78),6)","v":0},{"$f":"LARGE(($H78,$J78,$L78,$N78,$P78,$R78,$T78,$V78,$X78),7)","v":0},{"$f":"LARGE(($H78,$J78,$L78,$N78,$P78,$R78,$T78,$V78,$X78),8)","v":0},{"$f":"LARGE(($H78,$J78,$L78,$N78,$P78,$R78,$T78,$V78,$X78),9)","v":0}]
[75,null,null,null,0,0,null,{"$f":"LOOKUP(G79,Poängberäkning!$B$6:$B$97,Poängberäkning!$C$6:$C$97)","v":0},null,{"$f":"LOOKUP(I79,Poängberäkning!$B$6:$B$97,Poängberäkning!$C$6:$C$97)","v":0},null,{"$f":"LOOKUP(K79,Poängberäkning!$B$6:$B$97,Poängberäkning!$C$6:$C$97)","v":0},null,{"$f":"LOOKUP(M79,Poängberäkning!$B$6:$B$97,Poängberäkning!$C$6:$C$97)","v":0},null,{"$f":"LOOKUP(O79,Poängberäkning!$B$6:$B$97,Poängberäkning!$C$6:$C$97)","v":0},null,{"$f":"LOOKUP(Q79,[1]Poängberäkning!$B$6:$B$97,[1]Poängberäkning!$C$6:$C$97)","v":0},null,{"$f":"LOOKUP(S79,[1]Poängberäkning!$B$6:$B$97,[1]Poängberäkning!$C$6:$C$97)","v":0},null,{"$f":"LOOKUP(U79,[1]Poängberäkning!$B$6:$B$97,[1]Poängberäkning!$C$6:$C$97)","v":0},null,{"$f":"LOOKUP(W79,[1]Poängberäkning!$B$6:$B$97,[1]Poängberäkning!$C$6:$C$97)","v":0},{"$f":"LARGE(($H79,$J79,$L79,$N79,$P79,$R79,$T79,$V79,$X79),1)","v":0},{"$f":"LARGE(($H79,$J79,$L79,$N79,$P79,$R79,$T79,$V79,$X79),2)","v":0},{"$f":"LARGE(($H79,$J79,$L79,$N79,$P79,$R79,$T79,$V79,$X79),3)","v":0},{"$f":"LARGE(($H79,$J79,$L79,$N79,$P79,$R79,$T79,$V79,$X79),4)","v":0},{"$f":"LARGE(($H79,$J79,$L79,$N79,$P79,$R79,$T79,$V79,$X79),5)","v":0},{"$f":"LARGE(($H79,$J79,$L79,$N79,$P79,$R79,$T79,$V79,$X79),6)","v":0},{"$f":"LARGE(($H79,$J79,$L79,$N79,$P79,$R79,$T79,$V79,$X79),7)","v":0},{"$f":"LARGE(($H79,$J79,$L79,$N79,$P79,$R79,$T79,$V79,$X79),8)","v":0},{"$f":"LARGE(($H79,$J79,$L79,$N79,$P79,$R79,$T79,$V79,$X79),9)","v":0}]
[{"$f":"A79+1","v":76},null,null,null,0,0,null,{"$f":"LOOKUP(G80,Poängberäkning!$B$6:$B$97,Poängberäkning!$C$6:$C$97)","v":0},null,{"$f":"LOOKUP(I80,Poängberäkning!$B$6:$B$97,Poängberäkning!$C$6:$C$97)","v":0},null,{"$f":"LOOKUP(K80,Poängberäkning!$B$6:$B$97,Poängberäkning!$C$6:$C$97)","v":0},null,{"$f":"LOOKUP(M80,Poängberäkning!$B$6:$B$97,Poängberäkning!$C$6:$C$97)","v":0},null,{"$f":"LOOKUP(O80,Poängberäkning!$B$6:$B$97,Poängberäkning!$C$6:$C$97)","v":0},null,{"$f":"LOOKUP(Q80,[1]Poängberäkning!$B$6:$B$97,[1]Poängberäkning!$C$6:$C$97)","v":0},null,{"$f":"LOOKUP(S80,[1]Poängberäkning!$B$6:$B$97,[1]Poängberäkning!$C$6:$C$97)","v":0},null,{"$f":"LOOKUP(U80,[1]Poängberäkning!$B$6:$B$97,[1]Poängberäkning!$C$6:$C$97)","v":0},null,{"$f":"LOOKUP(W80,[1]Poängberäkning!$B$6:$B$97,[1]Poängberäkning!$C$6:$C$97)","v":0},{"$f":"LARGE(($H80,$J80,$L80,$N80,$P80,$R80,$T80,$V80,$X80),1)","v":0},{"$f":"LARGE(($H80,$J80,$L80,$N80,$P80,$R80,$T80,$V80,$X80),2)","v":0},{"$f":"LARGE(($H80,$J80,$L80,$N80,$P80,$R80,$T80,$V80,$X80),3)","v":0},{"$f":"LARGE(($H80,$J80,$L80,$N80,$P80,$R80,$T80,$V80,$X80),4)","v":0},{"$f":"LARGE(($H80,$J80,$L80,$N80,$P80,$R80,$T80,$V80,$X80),5)","v":0},{"$f":"LARGE(($H80,$J80,$L80,$N80,$P80,$R80,$T80,$V80,$X80),6)","v":0},{"$f":"LARGE(($H80,$J80,$L80,$N80,$P80,$R80,$T80,$V80,$X80),7)","v":0},{"$f":"LARGE(($H80,$J80,$L80,$N80,$P80,$R80,$T80,$V80,$X80),8)","v":0},{"$f":"LARGE(($H80,$J80,$L80,$N80,$P80,$R80,$T80,$V80,$X80),9)","v":0}]
[{"$f":"A80+1","v":77},null,null,null,0,0,null,{"$f":"LOOKUP(G81,Poängberäkning!$B$6:$B$97,Poängberäkning!$C$6:$C$97)","v":0},null,{"$f":"LOOKUP(I81,Poängberäkning!$B$6:$B$97,Poängberäkning!$C$6:$C$97)","v":0},null,{"$f":"LOOKUP(K81,Poängberäkning!$B$6:$B$97,Poängberäkning!$C$6:$C$97)","v":0},null,{"$f":"LOOKUP(M81,Poängberäkning!$B$6:$B$97,Poängberäkning!$C$6:$C$97)","v":0},null,{"$f":"LOOKUP(O81,Poängberäkning!$B$6:$B$97,Poängberäkning!$C$6:$C$97)","v":0},null,{"$f":"LOOKUP(Q81,[1]Poängberäkning!$B$6:$B$97,[1]Poängberäkning!$C$6:$C$97)","v":0},null,{"$f":"LOOKUP(S81,[1]Poängberäkning!$B$6:$B$97,[1]Poängberäkning!$C$6:$C$97)","v":0},null,{"$f":"LOOKUP(U81,[1]Poängberäkning!$B$6:$B$97,[1]Poängberäkning!$C$6:$C$97)","v":0},null,{"$f":"LOOKUP(W81,[1]Poängberäkning!$B$6:$B$97,[1]Poängberäkning!$C$6:$C$97)","v":0},{"$f":"LARGE(($H81,$J81,$L81,$N81,$P81,$R81,$T81,$V81,$X81),1)","v":0},{"$f":"LARGE(($H81,$J81,$L81,$N81,$P81,$R81,$T81,$V81,$X81),2)","v":0},{"$f":"LARGE(($H81,$J81,$L81,$N81,$P81,$R81,$T81,$V81,$X81),3)","v":0},{"$f":"LARGE(($H81,$J81,$L81,$N81,$P81,$R81,$T81,$V81,$X81),4)","v":0},{"$f":"LARGE(($H81,$J81,$L81,$N81,$P81,$R81,$T81,$V81,$X81),5)","v":0},{"$f":"LARGE(($H81,$J81,$L81,$N81,$P81,$R81,$T81,$V81,$X81),6)","v":0},{"$f":"LARGE(($H81,$J81,$L81,$N81,$P81,$R81,$T81,$V81,$X81),7)","v":0},{"$f":"LARGE(($H81,$J81,$L81,$N81,$P81,$R81,$T81,$V81,$X81),8)","v":0},{"$f":"LARGE(($H81,$J81,$L81,$N81,$P81,$R81,$T81,$V81,$X81),9)","v":0}]
[{"$f":"A81+1","v":78},null,null,null,0,0,null,{"$f":"LOOKUP(G82,Poängberäkning!$B$6:$B$97,Poängberäkning!$C$6:$C$97)","v":0},null,{"$f":"LOOKUP(I82,Poängberäkning!$B$6:$B$97,Poängberäkning!$C$6:$C$97)","v":0},null,{"$f":"LOOKUP(K82,Poängberäkning!$B$6:$B$97,Poängberäkning!$C$6:$C$97)","v":0},null,{"$f":"LOOKUP(M82,Poängberäkning!$B$6:$B$97,Poängberäkning!$C$6:$C$97)","v":0},null,{"$f":"LOOKUP(O82,Poängberäkning!$B$6:$B$97,Poängberäkning!$C$6:$C$97)","v":0},null,{"$f":"LOOKUP(Q82,[1]Poängberäkning!$B$6:$B$97,[1]Poängberäkning!$C$6:$C$97)","v":0},null,{"$f":"LOOKUP(S82,[1]Poängberäkning!$B$6:$B$97,[1]Poängberäkning!$C$6:$C$97)","v":0},null,{"$f":"LOOKUP(U82,[1]Poängberäkning!$B$6:$B$97,[1]Poängberäkning!$C$6:$C$97)","v":0},null,{"$f":"LOOKUP(W82,[1]Poängberäkning!$B$6:$B$97,[1]Poängberäkning!$C$6:$C$97)","v":0},{"$f":"LARGE(($H82,$J82,$L82,$N82,$P82,$R82,$T82,$V82,$X82),1)","v":0},{"$f":"LARGE(($H82,$J82,$L82,$N82,$P82,$R82,$T82,$V82,$X82),2)","v":0},{"$f":"LARGE(($H82,$J82,$L82,$N82,$P82,$R82,$T82,$V82,$X82),3)","v":0},{"$f":"LARGE(($H82,$J82,$L82,$N82,$P82,$R82,$T82,$V82,$X82),4)","v":0},{"$f":"LARGE(($H82,$J82,$L82,$N82,$P82,$R82,$T82,$V82,$X82),5)","v":0},{"$f":"LARGE(($H82,$J82,$L82,$N82,$P82,$R82,$T82,$V82,$X82),6)","v":0},{"$f":"LARGE(($H82,$J82,$L82,$N82,$P82,$R82,$T82,$V82,$X82),7)","v":0},{"$f":"LARGE(($H82,$J82,$L82,$N82,$P82,$R82,$T82,$V82,$X82),8)","v":0},{"$f":"LARGE(($H82,$J82,$L82,$N82,$P82,$R82,$T82,$V82,$X82),9)","v":0}]
[79,null,null,null,0,0,null,{"$f":"LOOKUP(G83,Poängberäkning!$B$6:$B$97,Poängberäkning!$C$6:$C$97)","v":0},null,{"$f":"LOOKUP(I83,Poängberäkning!$B$6:$B$97,Poängberäkning!$C$6:$C$97)","v":0},null,{"$f":"LOOKUP(K83,Poängberäkning!$B$6:$B$97,Poängberäkning!$C$6:$C$97)","v":0},null,{"$f":"LOOKUP(M83,Poängberäkning!$B$6:$B$97,Poängberäkning!$C$6:$C$97)","v":0},null,{"$f":"LOOKUP(O83,Poängberäkning!$B$6:$B$97,Poängberäkning!$C$6:$C$97)","v":0},null,{"$f":"LOOKUP(Q83,[1]Poängberäkning!$B$6:$B$97,[1]Poängberäkning!$C$6:$C$97)","v":0},null,{"$f":"LOOKUP(S83,[1]Poängberäkning!$B$6:$B$97,[1]Poängberäkning!$C$6:$C$97)","v":0},null,{"$f":"LOOKUP(U83,[1]Poängberäkning!$B$6:$B$97,[1]Poängberäkning!$C$6:$C$97)","v":0},null,{"$f":"LOOKUP(W83,[1]Poängberäkning!$B$6:$B$97,[1]Poängberäkning!$C$6:$C$97)","v":0},{"$f":"LARGE(($H83,$J83,$L83,$N83,$P83,$R83,$T83,$V83,$X83),1)","v":0},{"$f":"LARGE(($H83,$J83,$L83,$N83,$P83,$R83,$T83,$V83,$X83),2)","v":0},{"$f":"LARGE(($H83,$J83,$L83,$N83,$P83,$R83,$T83,$V83,$X83),3)","v":0},{"$f":"LARGE(($H83,$J83,$L83,$N83,$P83,$R83,$T83,$V83,$X83),4)","v":0},{"$f":"LARGE(($H83,$J83,$L83,$N83,$P83,$R83,$T83,$V83,$X83),5)","v":0},{"$f":"LARGE(($H83,$J83,$L83,$N83,$P83,$R83,$T83,$V83,$X83),6)","v":0},{"$f":"LARGE(($H83,$J83,$L83,$N83,$P83,$R83,$T83,$V83,$X83),7)","v":0},{"$f":"LARGE(($H83,$J83,$L83,$N83,$P83,$R83,$T83,$V83,$X83),8)","v":0},{"$f":"LARGE(($H83,$J83,$L83,$N83,$P83,$R83,$T83,$V83,$X83),9)","v":0}]
[80,null,null,null,0,0,null,{"$f":"LOOKUP(G84,Poängberäkning!$B$6:$B$97,Poängberäkning!$C$6:$C$97)","v":0},null,{"$f":"LOOKUP(I84,Poängberäkning!$B$6:$B$97,Poängberäkning!$C$6:$C$97)","v":0},null,{"$f":"LOOKUP(K84,Poängberäkning!$B$6:$B$97,Poängberäkning!$C$6:$C$97)","v":0},null,{"$f":"LOOKUP(M84,Poängberäkning!$B$6:$B$97,Poängberäkning!$C$6:$C$97)","v":0},null,{"$f":"LOOKUP(O84,Poängberäkning!$B$6:$B$97,Poängberäkning!$C$6:$C$97)","v":0},null,{"$f":"LOOKUP(Q84,[1]Poängberäkning!$B$6:$B$97,[1]Poängberäkning!$C$6:$C$97)","v":0},null,{"$f":"LOOKUP(S84,[1]Poängberäkning!$B$6:$B$97,[1]Poängberäkning!$C$6:$C$97)","v":0},null,{"$f":"LOOKUP(U84,[1]Poängberäkning!$B$6:$B$97,[1]Poängberäkning!$C$6:$C$97)","v":0},null,{"$f":"LOOKUP(W84,[1]Poängberäkning!$B$6:$B$97,[1]Poängberäkning!$C$6:$C$97)","v":0},{"$f":"LARGE(($H84,$J84,$L84,$N84,$P84,$R84,$T84,$V84,$X84),1)","v":0},{"$f":"LARGE(($H84,$J84,$L84,$N84,$P84,$R84,$T84,$V84,$X84),2)","v":0},{"$f":"LARGE(($H84,$J84,$L84,$N84,$P84,$R84,$T84,$V84,$X84),3)","v":0},{"$f":"LARGE(($H84,$J84,$L84,$N84,$P84,$R84,$T84,$V84,$X84),4)","v":0},{"$f":"LARGE(($H84,$J84,$L84,$N84,$P84,$R84,$T84,$V84,$X84),5)","v":0},{"$f":"LARGE(($H84,$J84,$L84,$N84,$P84,$R84,$T84,$V84,$X84),6)","v":0},{"$f":"LARGE(($H84,$J84,$L84,$N84,$P84,$R84,$T84,$V84,$X84),7)","v":0},{"$f":"LARGE(($H84,$J84,$L84,$N84,$P84,$R84,$T84,$V84,$X84),8)","v":0},{"$f":"LARGE(($H84,$J84,$L84,$N84,$P84,$R84,$T84,$V84,$X84),9)","v":0}]
[81,null,null,null,0,0,null,{"$f":"LOOKUP(G85,Poängberäkning!$B$6:$B$97,Poängberäkning!$C$6:$C$97)","v":0},null,{"$f":"LOOKUP(I85,Poängberäkning!$B$6:$B$97,Poängberäkning!$C$6:$C$97)","v":0},null,{"$f":"LOOKUP(K85,Poängberäkning!$B$6:$B$97,Poängberäkning!$C$6:$C$97)","v":0},null,{"$f":"LOOKUP(M85,Poängberäkning!$B$6:$B$97,Poängberäkning!$C$6:$C$97)","v":0},null,{"$f":"LOOKUP(O85,Poängberäkning!$B$6:$B$97,Poängberäkning!$C$6:$C$97)","v":0},null,{"$f":"LOOKUP(Q85,[1]Poängberäkning!$B$6:$B$97,[1]Poängberäkning!$C$6:$C$97)","v":0},null,{"$f":"LOOKUP(S85,[1]Poängberäkning!$B$6:$B$97,[1]Poängberäkning!$C$6:$C$97)","v":0},null,{"$f":"LOOKUP(U85,[1]Poängberäkning!$B$6:$B$97,[1]Poängberäkning!$C$6:$C$97)","v":0},null,{"$f":"LOOKUP(W85,[1]Poängberäkning!$B$6:$B$97,[1]Poängberäkning!$C$6:$C$97)","v":0},{"$f":"LARGE(($H85,$J85,$L85,$N85,$P85,$R85,$T85,$V85,$X85),1)","v":0},{"$f":"LARGE(($H85,$J85,$L85,$N85,$P85,$R85,$T85,$V85,$X85),2)","v":0},{"$f":"LARGE(($H85,$J85,$L85,$N85,$P85,$R85,$T85,$V85,$X85),3)","v":0},{"$f":"LARGE(($H85,$J85,$L85,$N85,$P85,$R85,$T85,$V85,$X85),4)","v":0},{"$f":"LARGE(($H85,$J85,$L85,$N85,$P85,$R85,$T85,$V85,$X85),5)","v":0},{"$f":"LARGE(($H85,$J85,$L85,$N85,$P85,$R85,$T85,$V85,$X85),6)","v":0},{"$f":"LARGE(($H85,$J85,$L85,$N85,$P85,$R85,$T85,$V85,$X85),7)","v":0},{"$f":"LARGE(($H85,$J85,$L85,$N85,$P85,$R85,$T85,$V85,$X85),8)","v":0},{"$f":"LARGE(($H85,$J85,$L85,$N85,$P85,$R85,$T85,$V85,$X85),9)","v":0}]
[82,null,null,null,0,0,null,{"$f":"LOOKUP(G86,Poängberäkning!$B$6:$B$97,Poängberäkning!$C$6:$C$97)","v":0},null,{"$f":"LOOKUP(I86,Poängberäkning!$B$6:$B$97,Poängberäkning!$C$6:$C$97)","v":0},null,{"$f":"LOOKUP(K86,Poängberäkning!$B$6:$B$97,Poängberäkning!$C$6:$C$97)","v":0},null,{"$f":"LOOKUP(M86,Poängberäkning!$B$6:$B$97,Poängberäkning!$C$6:$C$97)","v":0},null,{"$f":"LOOKUP(O86,Poängberäkning!$B$6:$B$97,Poängberäkning!$C$6:$C$97)","v":0},null,{"$f":"LOOKUP(Q86,[1]Poängberäkning!$B$6:$B$97,[1]Poängberäkning!$C$6:$C$97)","v":0},null,{"$f":"LOOKUP(S86,[1]Poängberäkning!$B$6:$B$97,[1]Poängberäkning!$C$6:$C$97)","v":0},null,{"$f":"LOOKUP(U86,[1]Poängberäkning!$B$6:$B$97,[1]Poängberäkning!$C$6:$C$97)","v":0},null,{"$f":"LOOKUP(W86,[1]Poängberäkning!$B$6:$B$97,[1]Poängberäkning!$C$6:$C$97)","v":0},{"$f":"LARGE(($H86,$J86,$L86,$N86,$P86,$R86,$T86,$V86,$X86),1)","v":0},{"$f":"LARGE(($H86,$J86,$L86,$N86,$P86,$R86,$T86,$V86,$X86),2)","v":0},{"$f":"LARGE(($H86,$J86,$L86,$N86,$P86,$R86,$T86,$V86,$X86),3)","v":0},{"$f":"LARGE(($H86,$J86,$L86,$N86,$P86,$R86,$T86,$V86,$X86),4)","v":0},{"$f":"LARGE(($H86,$J86,$L86,$N86,$P86,$R86,$T86,$V86,$X86),5)","v":0},{"$f":"LARGE(($H86,$J86,$L86,$N86,$P86,$R86,$T86,$V86,$X86),6)","v":0},{"$f":"LARGE(($H86,$J86,$L86,$N86,$P86,$R86,$T86,$V86,$X86),7)","v":0},{"$f":"LARGE(($H86,$J86,$L86,$N86,$P86,$R86,$T86,$V86,$X86),8)","v":0},{"$f":"LARGE(($H86,$J86,$L86,$N86,$P86,$R86,$T86,$V86,$X86),9)","v":0}]
[83,null,null,null,0,0,null,{"$f":"LOOKUP(G87,Poängberäkning!$B$6:$B$97,Poängberäkning!$C$6:$C$97)","v":0},null,{"$f":"LOOKUP(I87,Poängberäkning!$B$6:$B$97,Poängberäkning!$C$6:$C$97)","v":0},null,{"$f":"LOOKUP(K87,Poängberäkning!$B$6:$B$97,Poängberäkning!$C$6:$C$97)","v":0},null,{"$f":"LOOKUP(M87,Poängberäkning!$B$6:$B$97,Poängberäkning!$C$6:$C$97)","v":0},null,{"$f":"LOOKUP(O87,Poängberäkning!$B$6:$B$97,Poängberäkning!$C$6:$C$97)","v":0},null,{"$f":"LOOKUP(Q87,[1]Poängberäkning!$B$6:$B$97,[1]Poängberäkning!$C$6:$C$97)","v":0},null,{"$f":"LOOKUP(S87,[1]Poängberäkning!$B$6:$B$97,[1]Poängberäkning!$C$6:$C$97)","v":0},null,{"$f":"LOOKUP(U87,[1]Poängberäkning!$B$6:$B$97,[1]Poängberäkning!$C$6:$C$97)","v":0},null,{"$f":"LOOKUP(W87,[1]Poängberäkning!$B$6:$B$97,[1]Poängberäkning!$C$6:$C$97)","v":0},{"$f":"LARGE(($H87,$J87,$L87,$N87,$P87,$R87,$T87,$V87,$X87),1)","v":0},{"$f":"LARGE(($H87,$J87,$L87,$N87,$P87,$R87,$T87,$V87,$X87),2)","v":0},{"$f":"LARGE(($H87,$J87,$L87,$N87,$P87,$R87,$T87,$V87,$X87),3)","v":0},{"$f":"LARGE(($H87,$J87,$L87,$N87,$P87,$R87,$T87,$V87,$X87),4)","v":0},{"$f":"LARGE(($H87,$J87,$L87,$N87,$P87,$R87,$T87,$V87,$X87),5)","v":0},{"$f":"LARGE(($H87,$J87,$L87,$N87,$P87,$R87,$T87,$V87,$X87),6)","v":0},{"$f":"LARGE(($H87,$J87,$L87,$N87,$P87,$R87,$T87,$V87,$X87),7)","v":0},{"$f":"LARGE(($H87,$J87,$L87,$N87,$P87,$R87,$T87,$V87,$X87),8)","v":0},{"$f":"LARGE(($H87,$J87,$L87,$N87,$P87,$R87,$T87,$V87,$X87),9)","v":0}]
[84,null,null,null,0,0,null,{"$f":"LOOKUP(G88,Poängberäkning!$B$6:$B$97,Poängberäkning!$C$6:$C$97)","v":0},null,{"$f":"LOOKUP(I88,Poängberäkning!$B$6:$B$97,Poängberäkning!$C$6:$C$97)","v":0},null,{"$f":"LOOKUP(K88,Poängberäkning!$B$6:$B$97,Poängberäkning!$C$6:$C$97)","v":0},null,{"$f":"LOOKUP(M88,Poängberäkning!$B$6:$B$97,Poängberäkning!$C$6:$C$97)","v":0},null,{"$f":"LOOKUP(O88,Poängberäkning!$B$6:$B$97,Poängberäkning!$C$6:$C$97)","v":0},null,{"$f":"LOOKUP(Q88,[1]Poängberäkning!$B$6:$B$97,[1]Poängberäkning!$C$6:$C$97)","v":0},null,{"$f":"LOOKUP(S88,[1]Poängberäkning!$B$6:$B$97,[1]Poängberäkning!$C$6:$C$97)","v":0},null,{"$f":"LOOKUP(U88,[1]Poängberäkning!$B$6:$B$97,[1]Poängberäkning!$C$6:$C$97)","v":0},null,{"$f":"LOOKUP(W88,[1]Poängberäkning!$B$6:$B$97,[1]Poängberäkning!$C$6:$C$97)","v":0},{"$f":"LARGE(($H88,$J88,$L88,$N88,$P88,$R88,$T88,$V88,$X88),1)","v":0},{"$f":"LARGE(($H88,$J88,$L88,$N88,$P88,$R88,$T88,$V88,$X88),2)","v":0},{"$f":"LARGE(($H88,$J88,$L88,$N88,$P88,$R88,$T88,$V88,$X88),3)","v":0},{"$f":"LARGE(($H88,$J88,$L88,$N88,$P88,$R88,$T88,$V88,$X88),4)","v":0},{"$f":"LARGE(($H88,$J88,$L88,$N88,$P88,$R88,$T88,$V88,$X88),5)","v":0},{"$f":"LARGE(($H88,$J88,$L88,$N88,$P88,$R88,$T88,$V88,$X88),6)","v":0},{"$f":"LARGE(($H88,$J88,$L88,$N88,$P88,$R88,$T88,$V88,$X88),7)","v":0},{"$f":"LARGE(($H88,$J88,$L88,$N88,$P88,$R88,$T88,$V88,$X88),8)","v":0},{"$f":"LARGE(($H88,$J88,$L88,$N88,$P88,$R88,$T88,$V88,$X88),9)","v":0}]
[85,null,null,null,0,0,null,{"$f":"LOOKUP(G89,Poängberäkning!$B$6:$B$97,Poängberäkning!$C$6:$C$97)","v":0},null,{"$f":"LOOKUP(I89,Poängberäkning!$B$6:$B$97,Poängberäkning!$C$6:$C$97)","v":0},null,{"$f":"LOOKUP(K89,Poängberäkning!$B$6:$B$97,Poängberäkning!$C$6:$C$97)","v":0},null,{"$f":"LOOKUP(M89,Poängberäkning!$B$6:$B$97,Poängberäkning!$C$6:$C$97)","v":0},null,{"$f":"LOOKUP(O89,Poängberäkning!$B$6:$B$97,Poängberäkning!$C$6:$C$97)","v":0},null,{"$f":"LOOKUP(Q89,[1]Poängberäkning!$B$6:$B$97,[1]Poängberäkning!$C$6:$C$97)","v":0},null,{"$f":"LOOKUP(S89,[1]Poängberäkning!$B$6:$B$97,[1]Poängberäkning!$C$6:$C$97)","v":0},null,{"$f":"LOOKUP(U89,[1]Poängberäkning!$B$6:$B$97,[1]Poängberäkning!$C$6:$C$97)","v":0},null,{"$f":"LOOKUP(W89,[1]Poängberäkning!$B$6:$B$97,[1]Poängberäkning!$C$6:$C$97)","v":0},{"$f":"LARGE(($H89,$J89,$L89,$N89,$P89,$R89,$T89,$V89,$X89),1)","v":0},{"$f":"LARGE(($H89,$J89,$L89,$N89,$P89,$R89,$T89,$V89,$X89),2)","v":0},{"$f":"LARGE(($H89,$J89,$L89,$N89,$P89,$R89,$T89,$V89,$X89),3)","v":0},{"$f":"LARGE(($H89,$J89,$L89,$N89,$P89,$R89,$T89,$V89,$X89),4)","v":0},{"$f":"LARGE(($H89,$J89,$L89,$N89,$P89,$R89,$T89,$V89,$X89),5)","v":0},{"$f":"LARGE(($H89,$J89,$L89,$N89,$P89,$R89,$T89,$V89,$X89),6)","v":0},{"$f":"LARGE(($H89,$J89,$L89,$N89,$P89,$R89,$T89,$V89,$X89),7)","v":0},{"$f":"LARGE(($H89,$J89,$L89,$N89,$P89,$R89,$T89,$V89,$X89),8)","v":0},{"$f":"LARGE(($H89,$J89,$L89,$N89,$P89,$R89,$T89,$V89,$X89),9)","v":0}]
[{"$f":"A89+1","v":86},null,null,null,0,0,null,{"$f":"LOOKUP(G90,Poängberäkning!$B$6:$B$97,Poängberäkning!$C$6:$C$97)","v":0},null,{"$f":"LOOKUP(I90,Poängberäkning!$B$6:$B$97,Poängberäkning!$C$6:$C$97)","v":0},null,{"$f":"LOOKUP(K90,Poängberäkning!$B$6:$B$97,Poängberäkning!$C$6:$C$97)","v":0},null,{"$f":"LOOKUP(M90,Poängberäkning!$B$6:$B$97,Poängberäkning!$C$6:$C$97)","v":0},null,{"$f":"LOOKUP(O90,Poängberäkning!$B$6:$B$97,Poängberäkning!$C$6:$C$97)","v":0},null,{"$f":"LOOKUP(Q90,[1]Poängberäkning!$B$6:$B$97,[1]Poängberäkning!$C$6:$C$97)","v":0},null,{"$f":"LOOKUP(S90,[1]Poängberäkning!$B$6:$B$97,[1]Poängberäkning!$C$6:$C$97)","v":0},null,{"$f":"LOOKUP(U90,[1]Poängberäkning!$B$6:$B$97,[1]Poängberäkning!$C$6:$C$97)","v":0},null,{"$f":"LOOKUP(W90,[1]Poängberäkning!$B$6:$B$97,[1]Poängberäkning!$C$6:$C$97)","v":0},{"$f":"LARGE(($H90,$J90,$L90,$N90,$P90,$R90,$T90,$V90,$X90),1)","v":0},{"$f":"LARGE(($H90,$J90,$L90,$N90,$P90,$R90,$T90,$V90,$X90),2)","v":0},{"$f":"LARGE(($H90,$J90,$L90,$N90,$P90,$R90,$T90,$V90,$X90),3)","v":0},{"$f":"LARGE(($H90,$J90,$L90,$N90,$P90,$R90,$T90,$V90,$X90),4)","v":0},{"$f":"LARGE(($H90,$J90,$L90,$N90,$P90,$R90,$T90,$V90,$X90),5)","v":0},{"$f":"LARGE(($H90,$J90,$L90,$N90,$P90,$R90,$T90,$V90,$X90),6)","v":0},{"$f":"LARGE(($H90,$J90,$L90,$N90,$P90,$R90,$T90,$V90,$X90),7)","v":0},{"$f":"LARGE(($H90,$J90,$L90,$N90,$P90,$R90,$T90,$V90,$X90),8)","v":0},{"$f":"LARGE(($H90,$J90,$L90,$N90,$P90,$R90,$T90,$V90,$X90),9)","v":0}]

{"sheet":"H 15-16","index":10,"n_rows":90,"n_cols":33,"rows_kept":90,"cut":false,"hidden":false,"merged":[[2,24,3,32],[3,6,3,7],[3,8,3,9],[3,10,3,11],[3,12,3,13],[3,14,3,15],[3,16,3,17],[3,18,3,19],[3,20,3,21],[3,22,3,23],[1,16,2,17],[1,18,2,19],[1,20,1,21],[1,22,2,23],[2,4,2,5],[2,20,2,21],[0,2,0,15],[1,0,2,1],[1,2,2,3],[1,4,1,5],[1,6,2,7],[1,8,2,9],[1,10,2,11],[1,12,2,13],[1,14,2,15]]}
[]
["H 15-16",null,null,null,null,null,"Sälen GS",null,"Falun GS",null,"Norrbärke SL",null,"Borlänge SL",null,"Orsa GS",null,null,null,null,null,null,null,"Deltävling",null,"1:a","2:a","3:e","4:e","5:e","6:e","7:e","8:e","9:e"]
[null,null,null,null,"Poäng",null,null,null,null,null,null,null,null,null,null,null,null,null,null,null,null,null,null,null,"De 5 bästa åken.                         "]
["Rang","Född","Namn","Klubb","3 Bästa","Totalt","Sö 24/1   Tot",null,"Sö 14/2      Tot",null,"Sö 21/2    Tot",null,"Lö 27/2   Tot",null,"Lö 2/4   Tot"]
[1,2001,"CONRADSSON Samuel","Högby Alpina SLK",{"$f":"SUM(Y5:AA5)","v":200},{"$f":"H5+J5+L5+N5+P5+R5+T5+V5+X5","v":200},null,{"$f":"LOOKUP(G5,Poängberäkning!$B$6:$B$97,Poängberäkning!$C$6:$C$97)","v":0},null,{"$f":"LOOKUP(I5,Poängberäkning!$B$6:$B$97,Poängberäkning!$C$6:$C$97)","v":0},2,{"$f":"LOOKUP(K5,Poängberäkning!$B$6:$B$97,Poängberäkning!$C$6:$C$97)","v":80},3,{"$f":"LOOKUP(M5,Poängberäkning!$B$6:$B$97,Poängberäkning!$C$6:$C$97)","v":70},6,{"$f":"LOOKUP(O5,Poängberäkning!$B$6:$B$97,Poängberäkning!$C$6:$C$97)","v":50},null,{"$f":"LOOKUP(Q5,[1]Poängberäkning!$B$6:$B$97,[1]Poängberäkning!$C$6:$C$97)","v":0},null,{"$f":"LOOKUP(S5,[1]Poängberäkning!$B$6:$B$97,[1]Poängberäkning!$C$6:$C$97)","v":0},null,{"$f":"LOOKUP(U5,[1]Poängberäkning!$B$6:$B$97,[1]Poängberäkning!$C$6:$C$97)","v":0},null,{"$f":"LOOKUP(W5,[1]Poängberäkning!$B$6:$B$97,[1]Poängberäkning!$C$6:$C$97)","v":0},{"$f":"LARGE(($H5,$J5,$L5,$N5,$P5,$R5,$T5,$V5,$X5),1)","v":80},{"$f":"LARGE(($H5,$J5,$L5,$N5,$P5,$R5,$T5,$V5,$X5),2)","v":70},{"$f":"LARGE(($H5,$J5,$L5,$N5,$P5,$R5,$T5,$V5,$X5),3)","v":50},{"$f":"LARGE(($H5,$J5,$L5,$N5,$P5,$R5,$T5,$V5,$X5),4)","v":0},{"$f":"LARGE(($H5,$J5,$L5,$N5,$P5,$R5,$T5,$V5,$X5),5)","v":0},{"$f":"LARGE(($H5,$J5,$L5,$N5,$P5,$R5,$T5,$V5,$X5),6)","v":0},{"$f":"LARGE(($H5,$J5,$L5,$N5,$P5,$R5,$T5,$V5,$X5),7)","v":0},{"$f":"LARGE(($H5,$J5,$L5,$N5,$P5,$R5,$T5,$V5,$X5),8)","v":0},{"$f":"LARGE(($H5,$J5,$L5,$N5,$P5,$R5,$T5,$V5,$X5),9)","v":0}]
[{"$f":"A5+1","v":2},2000,"BERGLUND Gusten","Karlstads SLK",180,180,2,{"$f":"LOOKUP(G6,Poängberäkning!$B$6:$B$97,Poängberäkning!$C$6:$C$97)","v":80},null,{"$f":"LOOKUP(I6,Poängberäkning!$B$6:$B$97,Poängberäkning!$C$6:$C$97)","v":0},null,{"$f":"LOOKUP(K6,Poängberäkning!$B$6:$B$97,Poängberäkning!$C$6:$C$97)","v":0},1,{"$f":"LOOKUP(M6,Poängberäkning!$B$6:$B$97,Poängberäkning!$C$6:$C$97)","v":100},null,{"$f":"LOOKUP(O6,Poängberäkning!$B$6:$B$97,Poängberäkning!$C$6:$C$97)","v":0},null,{"$f":"LOOKUP(Q6,[1]Poängberäkning!$B$6:$B$97,[1]Poängberäkning!$C$6:$C$97)","v":0},null,{"$f":"LOOKUP(S6,[1]Poängberäkning!$B$6:$B$97,[1]Poängberäkning!$C$6:$C$97)","v":0},null,{"$f":"LOOKUP(U6,[1]Poängberäkning!$B$6:$B$97,[1]Poängberäkning!$C$6:$C$97)","v":0},null,{"$f":"LOOKUP(W6,[1]Poängberäkning!$B$6:$B$97,[1]Poängberäkning!$C$6:$C$97)","v":0},{"$f":"LARGE(($H6,$J6,$L6,$N6,$P6,$R6,$T6,$V6,$X6),1)","v":100},{"$f":"LARGE(($H6,$J6,$L6,$N6,$P6,$R6,$T6,$V6,$X6),2)","v":80},{"$f":"LARGE(($H6,$J6,$L6,$N6,$P6,$R6,$T6,$V6,$X6),3)","v":0},{"$f":"LARGE(($H6,$J6,$L6,$N6,$P6,$R6,$T6,$V6,$X6),4)","v":0},{"$f":"LARGE(($H6,$J6,$L6,$N6,$P6,$R6,$T6,$V6,$X6),5)","v":0},{"$f":"LARGE(($H6,$J6,$L6,$N6,$P6,$R6,$T6,$V6,$X6),6)","v":0},{"$f":"LARGE(($H6,$J6,$L6,$N6,$P6,$R6,$T6,$V6,$X6),7)","v":0},{"$f":"LARGE(($H6,$J6,$L6,$N6,$P6,$R6,$T6,$V6,$X6),8)","v":0},{"$f":"LARGE(($H6,$J6,$L6,$N6,$P6,$R6,$T6,$V6,$X6),9)","v":0}]
[{"$f":"A6+1","v":3},2001,"SETTERSTRÖM Martin","Karlstads SLK",126,126,8,{"$f":"LOOKUP(G7,Poängberäkning!$B$6:$B$97,Poängberäkning!$C$6:$C$97)","v":46},null,{"$f":"LOOKUP(I7,Poängberäkning!$B$6:$B$97,Poängberäkning!$C$6:$C$97)","v":0},null,{"$f":"LOOKUP(K7,Poängberäkning!$B$6:$B$97,Poängberäkning!$C$6:$C$97)","v":0},2,{"$f":"LOOKUP(M7,Poängberäkning!$B$6:$B$97,Poängberäkning!$C$6:$C$97)","v":80},null,{"$f":"LOOKUP(O7,Poängberäkning!$B$6:$B$97,Poängberäkning!$C$6:$C$97)","v":0},null,{"$f":"LOOKUP(Q7,[1]Poängberäkning!$B$6:$B$97,[1]Poängberäkning!$C$6:$C$97)","v":0},null,{"$f":"LOOKUP(S7,[1]Poängberäkning!$B$6:$B$97,[1]Poängberäkning!$C$6:$C$97)","v":0},null,{"$f":"LOOKUP(U7,[1]Poängberäkning!$B$6:$B$97,[1]Poängberäkning!$C$6:$C$97)","v":0},null,{"$f":"LOOKUP(W7,[1]Poängberäkning!$B$6:$B$97,[1]Poängberäkning!$C$6:$C$97)","v":0},{"$f":"LARGE(($H7,$J7,$L7,$N7,$P7,$R7,$T7,$V7,$X7),1)","v":80},{"$f":"LARGE(($H7,$J7,$L7,$N7,$P7,$R7,$T7,$V7,$X7),2)","v":46},{"$f":"LARGE(($H7,$J7,$L7,$N7,$P7,$R7,$T7,$V7,$X7),3)","v":0},{"$f":"LARGE(($H7,$J7,$L7,$N7,$P7,$R7,$T7,$V7,$X7),4)","v":0},{"$f":"LARGE(($H7,$J7,$L7,$N7,$P7,$R7,$T7,$V7,$X7),5)","v":0},{"$f":"LARGE(($H7,$J7,$L7,$N7,$P7,$R7,$T7,$V7,$X7),6)","v":0},{"$f":"LARGE(($H7,$J7,$L7,$N7,$P7,$R7,$T7,$V7,$X7),7)","v":0},{"$f":"LARGE(($H7,$J7,$L7,$N7,$P7,$R7,$T7,$V7,$X7),8)","v":0},{"$f":"LARGE(($H7,$J7,$L7,$N7,$P7,$R7,$T7,$V7,$X7),9)","v":0}]
[{"$f":"A7+1","v":4},2000,"SUTHER Oliver","Rättviks SLK",126,126,25,{"$f":"LOOKUP(G8,Poängberäkning!$B$6:$B$97,Poängberäkning!$C$6:$C$97)","v":26},1,{"$f":"LOOKUP(I8,Poängberäkning!$B$6:$B$97,Poängberäkning!$C$6:$C$97)","v":100},null,{"$f":"LOOKUP(K8,Poängberäkning!$B$6:$B$97,Poängberäkning!$C$6:$C$97)","v":0},null,{"$f":"LOOKUP(M8,Poängberäkning!$B$6:$B$97,Poängberäkning!$C$6:$C$97)","v":0},null,{"$f":"LOOKUP(O8,Poängberäkning!$B$6:$B$97,Poängberäkning!$C$6:$C$97)","v":0},null,{"$f":"LOOKUP(Q8,[1]Poängberäkning!$B$6:$B$97,[1]Poängberäkning!$C$6:$C$97)","v":0},null,{"$f":"LOOKUP(S8,[1]Poängberäkning!$B$6:$B$97,[1]Poängberäkning!$C$6:$C$97)","v":0},null,{"$f":"LOOKUP(U8,[1]Poängberäkning!$B$6:$B$97,[1]Poängberäkning!$C$6:$C$97)","v":0},null,{"$f":"LOOKUP(W8,[1]Poängberäkning!$B$6:$B$97,[1]Poängberäkning!$C$6:$C$97)","v":0},{"$f":"LARGE(($H8,$J8,$L8,$N8,$P8,$R8,$T8,$V8,$X8),1)","v":100},{"$f":"LARGE(($H8,$J8,$L8,$N8,$P8,$R8,$T8,$V8,$X8),2)","v":26},{"$f":"LARGE(($H8,$J8,$L8,$N8,$P8,$R8,$T8,$V8,$X8),3)","v":0},{"$f":"LARGE(($H8,$J8,$L8,$N8,$P8,$R8,$T8,$V8,$X8),4)","v":0},{"$f":"LARGE(($H8,$J8,$L8,$N8,$P8,$R8,$T8,$V8,$X8),5)","v":0},{"$f":"LARGE(($H8,$J8,$L8,$N8,$P8,$R8,$T8,$V8,$X8),6)","v":0},{"$f":"LARGE(($H8,$J8,$L8,$N8,$P8,$R8,$T8,$V8,$X8),7)","v":0},{"$f":"LARGE(($H8,$J8,$L8,$N8,$P8,$R8,$T8,$V8,$X8),8)","v":0},{"$f":"LARGE(($H8,$J8,$L8,$N8,$P8,$R8,$T8,$V8,$X8),9)","v":0}]
[5,2001,"MICHELASSI Hendrik","Uppsala SLK",114,114,null,{"$f":"LOOKUP(G9,Poängberäkning!$B$6:$B$97,Poängberäkning!$C$6:$C$97)","v":0},null,{"$f":"LOOKUP(I9,Poängberäkning!$B$6:$B$97,Poängberäkning!$C$6:$C$97)","v":0},3,{"$f":"LOOKUP(K9,Poängberäkning!$B$6:$B$97,Poängberäkning!$C$6:$C$97)","v":70},99,{"$f":"LOOKUP(M9,Poängberäkning!$B$6:$B$97,Poängberäkning!$C$6:$C$97)","v":0},9,{"$f":"LOOKUP(O9,Poängberäkning!$B$6:$B$97,Poängberäkning!$C$6:$C$97)","v":44},null,{"$f":"LOOKUP(Q9,[1]Poängberäkning!$B$6:$B$97,[1]Poängberäkning!$C$6:$C$97)","v":0},null,{"$f":"LOOKUP(S9,[1]Poängberäkning!$B$6:$B$97,[1]Poängberäkning!$C$6:$C$97)","v":0},null,{"$f":"LOOKUP(U9,[1]Poängberäkning!$B$6:$B$97,[1]Poängberäkning!$C$6:$C$97)","v":0},null,{"$f":"LOOKUP(W9,[1]Poängberäkning!$B$6:$B$97,[1]Poängberäkning!$C$6:$C$97)","v":0},{"$f":"LARGE(($H9,$J9,$L9,$N9,$P9,$R9,$T9,$V9,$X9),1)","v":70},{"$f":"LARGE(($H9,$J9,$L9,$N9,$P9,$R9,$T9,$V9,$X9),2)","v":44},{"$f":"LARGE(($H9,$J9,$L9,$N9,$P9,$R9,$T9,$V9,$X9),3)","v":0},{"$f":"LARGE(($H9,$J9,$L9,$N9,$P9,$R9,$T9,$V9,$X9),4)","v":0},{"$f":"LARGE(($H9,$J9,$L9,$N9,$P9,$R9,$T9,$V9,$X9),5)","v":0},{"$f":"LARGE(($H9,$J9,$L9,$N9,$P9,$R9,$T9,$V9,$X9),6)","v":0},{"$f":"LARGE(($H9,$J9,$L9,$N9,$P9,$R9,$T9,$V9,$X9),7)","v":0},{"$f":"LARGE(($H9,$J9,$L9,$N9,$P9,$R9,$T9,$V9,$X9),8)","v":0},{"$f":"LARGE(($H9,$J9,$L9,$N9,$P9,$R9,$T9,$V9,$X9),9)","v":0}]
[6,2000,"GATU Mathias","Rättviks SLK",113,113,18,{"$f":"LOOKUP(G10,Poängberäkning!$B$6:$B$97,Poängberäkning!$C$6:$C$97)","v":33},2,{"$f":"LOOKUP(I10,Poängberäkning!$B$6:$B$97,Poängberäkning!$C$6:$C$97)","v":80},null,{"$f":"LOOKUP(K10,Poängberäkning!$B$6:$B$97,Poängberäkning!$C$6:$C$97)","v":0},null,{"$f":"LOOKUP(M10,Poängberäkning!$B$6:$B$97,Poängberäkning!$C$6:$C$97)","v":0},null,{"$f":"LOOKUP(O10,Poängberäkning!$B$6:$B$97,Poängberäkning!$C$6:$C$97)","v":0},null,{"$f":"LOOKUP(Q10,[1]Poängberäkning!$B$6:$B$97,[1]Poängberäkning!$C$6:$C$97)","v":0},null,{"$f":"LOOKUP(S10,[1]Poängberäkning!$B$6:$B$97,[1]Poängberäkning!$C$6:$C$97)","v":0},null,{"$f":"LOOKUP(U10,[1]Poängberäkning!$B$6:$B$97,[1]Poängberäkning!$C$6:$C$97)","v":0},null,{"$f":"LOOKUP(W10,[1]Poängberäkning!$B$6:$B$97,[1]Poängberäkning!$C$6:$C$97)","v":0},{"$f":"LARGE(($H10,$J10,$L10,$N10,$P10,$R10,$T10,$V10,$X10),1)","v":80},{"$f":"LARGE(($H10,$J10,$L10,$N10,$P10,$R10,$T10,$V10,$X10),2)","v":33},{"$f":"LARGE(($H10,$J10,$L10,$N10,$P10,$R10,$T10,$V10,$X10),3)","v":0},{"$f":"LARGE(($H10,$J10,$L10,$N10,$P10,$R10,$T10,$V10,$X10),4)","v":0},{"$f":"LARGE(($H10,$J10,$L10,$N10,$P10,$R10,$T10,$V10,$X10),5)","v":0},{"$f":"LARGE(($H10,$J10,$L10,$N10,$P10,$R10,$T10,$V10,$X10),6)","v":0},{"$f":"LARGE(($H10,$J10,$L10,$N10,$P10,$R10,$T10,$V10,$X10),7)","v":0},{"$f":"LARGE(($H10,$J10,$L10,$N10,$P10,$R10,$T10,$V10,$X10),8)","v":0},{"$f":"LARGE(($H10,$J10,$L10,$N10,$P10,$R10,$T10,$V10,$X10),9)","v":0}]
[7,2000,"LUND Oskar","Idre SK",110,110,11,{"$f":"LOOKUP(G11,Poängberäkning!$B$6:$B$97,Poängberäkning!$C$6:$C$97)","v":40},null,{"$f":"LOOKUP(I11,Poängberäkning!$B$6:$B$97,Poängberäkning!$C$6:$C$97)","v":0},null,{"$f":"LOOKUP(K11,Poängberäkning!$B$6:$B$97,Poängberäkning!$C$6:$C$97)","v":0},99,{"$f":"LOOKUP(M11,Poängberäkning!$B$6:$B$97,Poängberäkning!$C$6:$C$97)","v":0},3,{"$f":"LOOKUP(O11,Poängberäkning!$B$6:$B$97,Poängberäkning!$C$6:$C$97)","v":70},null,{"$f":"LOOKUP(Q11,[1]Poängberäkning!$B$6:$B$97,[1]Poängberäkning!$C$6:$C$97)","v":0},null,{"$f":"LOOKUP(S11,[1]Poängberäkning!$B$6:$B$97,[1]Poängberäkning!$C$6:$C$97)","v":0},null,{"$f":"LOOKUP(U11,[1]Poängberäkning!$B$6:$B$97,[1]Poängberäkning!$C$6:$C$97)","v":0},null,{"$f":"LOOKUP(W11,[1]Poängberäkning!$B$6:$B$97,[1]Poängberäkning!$C$6:$C$97)","v":0},{"$f":"LARGE(($H11,$J11,$L11,$N11,$P11,$R11,$T11,$V11,$X11),1)","v":70},{"$f":"LARGE(($H11,$J11,$L11,$N11,$P11,$R11,$T11,$V11,$X11),2)","v":40},{"$f":"LARGE(($H11,$J11,$L11,$N11,$P11,$R11,$T11,$V11,$X11),3)","v":0},{"$f":"LARGE(($H11,$J11,$L11,$N11,$P11,$R11,$T11,$V11,$X11),4)","v":0},{"$f":"LARGE(($H11,$J11,$L11,$N11,$P11,$R11,$T11,$V11,$X11),5)","v":0},{"$f":"LARGE(($H11,$J11,$L11,$N11,$P11,$R11,$T11,$V11,$X11),6)","v":0},{"$f":"LARGE(($H11,$J11,$L11,$N11,$P11,$R11,$T11,$V11,$X11),7)","v":0},{"$f":"LARGE(($H11,$J11,$L11,$N11,$P11,$R11,$T11,$V11,$X11),8)","v":0},{"$f":"LARGE(($H11,$J11,$L11,$N11,$P11,$R11,$T11,$V11,$X11),9)","v":0}]
[8,2001,"LARSSON Oscar-William","Uppsala SLK",102,102,null,{"$f":"LOOKUP(G12,Poängberäkning!$B$6:$B$97,Poängberäkning!$C$6:$C$97)","v":0},null,{"$f":"LOOKUP(I12,Poängberäkning!$B$6:$B$97,Poängberäkning!$C$6:$C$97)","v":0},4,{"$f":"LOOKUP(K12,Poängberäkning!$B$6:$B$97,Poängberäkning!$C$6:$C$97)","v":60},99,{"$f":"LOOKUP(M12,Poängberäkning!$B$6:$B$97,Poängberäkning!$C$6:$C$97)","v":0},10,{"$f":"LOOKUP(O12,Poängberäkning!$B$6:$B$97,Poängberäkning!$C$6:$C$97)","v":42},null,{"$f":"LOOKUP(Q12,[1]Poängberäkning!$B$6:$B$97,[1]Poängberäkning!$C$6:$C$97)","v":0},null,{"$f":"LOOKUP(S12,[1]Poängberäkning!$B$6:$B$97,[1]Poängberäkning!$C$6:$C$97)","v":0},null,{"$f":"LOOKUP(U12,[1]Poängberäkning!$B$6:$B$97,[1]Poängberäkning!$C$6:$C$97)","v":0},null,{"$f":"LOOKUP(W12,[1]Poängberäkning!$B$6:$B$97,[1]Poängberäkning!$C$6:$C$97)","v":0},{"$f":"LARGE(($H12,$J12,$L12,$N12,$P12,$R12,$T12,$V12,$X12),1)","v":60},{"$f":"LARGE(($H12,$J12,$L12,$N12,$P12,$R12,$T12,$V12,$X12),2)","v":42},{"$f":"LARGE(($H12,$J12,$L12,$N12,$P12,$R12,$T12,$V12,$X12),3)","v":0},{"$f":"LARGE(($H12,$J12,$L12,$N12,$P12,$R12,$T12,$V12,$X12),4)","v":0},{"$f":"LARGE(($H12,$J12,$L12,$N12,$P12,$R12,$T12,$V12,$X12),5)","v":0},{"$f":"LARGE(($H12,$J12,$L12,$N12,$P12,$R12,$T12,$V12,$X12),6)","v":0},{"$f":"LARGE(($H12,$J12,$L12,$N12,$P12,$R12,$T12,$V12,$X12),7)","v":0},{"$f":"LARGE(($H12,$J12,$L12,$N12,$P12,$R12,$T12,$V12,$X12),8)","v":0},{"$f":"LARGE(($H12,$J12,$L12,$N12,$P12,$R12,$T12,$V12,$X12),9)","v":0}]
[9,2001,"VIKSTRÖM Alfred","Edsbyns IF Alpina Förening",100,100,null,{"$f":"LOOKUP(G13,Poängberäkning!$B$6:$B$97,Poängberäkning!$C$6:$C$97)","v":0},null,{"$f":"LOOKUP(I13,Poängberäkning!$B$6:$B$97,Poängberäkning!$C$6:$C$97)","v":0},null,{"$f":"LOOKUP(K13,Poängberäkning!$B$6:$B$97,Poängberäkning!$C$6:$C$97)","v":0},null,{"$f":"LOOKUP(M13,Poängberäkning!$B$6:$B$97,Poängberäkning!$C$6:$C$97)","v":0},1,{"$f":"LOOKUP(O13,Poängberäkning!$B$6:$B$97,Poängberäkning!$C$6:$C$97)","v":100},null,{"$f":"LOOKUP(Q13,[1]Poängberäkning!$B$6:$B$97,[1]Poängberäkning!$C$6:$C$97)","v":0},null,{"$f":"LOOKUP(S13,[1]Poängberäkning!$B$6:$B$97,[1]Poängberäkning!$C$6:$C$97)","v":0},null,{"$f":"LOOKUP(U13,[1]Poängberäkning!$B$6:$B$97,[1]Poängberäkning!$C$6:$C$97)","v":0},null,{"$f":"LOOKUP(W13,[1]Poängberäkning!$B$6:$B$97,[1]Poängberäkning!$C$6:$C$97)","v":0},{"$f":"LARGE(($H13,$J13,$L13,$N13,$P13,$R13,$T13,$V13,$X13),1)","v":100},{"$f":"LARGE(($H13,$J13,$L13,$N13,$P13,$R13,$T13,$V13,$X13),2)","v":0},{"$f":"LARGE(($H13,$J13,$L13,$N13,$P13,$R13,$T13,$V13,$X13),3)","v":0},{"$f":"LARGE(($H13,$J13,$L13,$N13,$P13,$R13,$T13,$V13,$X13),4)","v":0},{"$f":"LARGE(($H13,$J13,$L13,$N13,$P13,$R13,$T13,$V13,$X13),5)","v":0},{"$f":"LARGE(($H13,$J13,$L13,$N13,$P13,$R13,$T13,$V13,$X13),6)","v":0},{"$f":"LARGE(($H13,$J13,$L13,$N13,$P13,$R13,$T13,$V13,$X13),7)","v":0},{"$f":"LARGE(($H13,$J13,$L13,$N13,$P13,$R13,$T13,$V13,$X13),8)","v":0},{"$f":"LARGE(($H13,$J13,$L13,$N13,$P13,$R13,$T13,$V13,$X13),9)","v":0}]
[10,2001,"JOHANSSON Timmy","Tunafors SK",100,100,null,{"$f":"LOOKUP(G14,Poängberäkning!$B$6:$B$97,Poängberäkning!$C$6:$C$97)","v":0},null,{"$f":"LOOKUP(I14,Poängberäkning!$B$6:$B$97,Poängberäkning!$C$6:$C$97)","v":0},1,{"$f":"LOOKUP(K14,Poängberäkning!$B$6:$B$97,Poängberäkning!$C$6:$C$97)","v":100},99,{"$f":"LOOKUP(M14,Poängberäkning!$B$6:$B$97,Poängberäkning!$C$6:$C$97)","v":0},null,{"$f":"LOOKUP(O14,Poängberäkning!$B$6:$B$97,Poängberäkning!$C$6:$C$97)","v":0},null,{"$f":"LOOKUP(Q14,[1]Poängberäkning!$B$6:$B$97,[1]Poängberäkning!$C$6:$C$97)","v":0},null,{"$f":"LOOKUP(S14,[1]Poängberäkning!$B$6:$B$97,[1]Poängberäkning!$C$6:$C$97)","v":0},null,{"$f":"LOOKUP(U14,[1]Poängberäkning!$B$6:$B$97,[1]Poängberäkning!$C$6:$C$97)","v":0},null,{"$f":"LOOKUP(W14,[1]Poängberäkning!$B$6:$B$97,[1]Poängberäkning!$C$6:$C$97)","v":0},{"$f":"LARGE(($H14,$J14,$L14,$N14,$P14,$R14,$T14,$V14,$X14),1)","v":100},{"$f":"LARGE(($H14,$J14,$L14,$N14,$P14,$R14,$T14,$V14,$X14),2)","v":0},{"$f":"LARGE(($H14,$J14,$L14,$N14,$P14,$R14,$T14,$V14,$X14),3)","v":0},{"$f":"LARGE(($H14,$J14,$L14,$N14,$P14,$R14,$T14,$V14,$X14),4)","v":0},{"$f":"LARGE(($H14,$J14,$L14,$N14,$P14,$R14,$T14,$V14,$X14),5)","v":0},{"$f":"LARGE(($H14,$J14,$L14,$N14,$P14,$R14,$T14,$V14,$X14),6)","v":0},{"$f":"LARGE(($H14,$J14,$L14,$N14,$P14,$R14,$T14,$V14,$X14),7)","v":0},{"$f":"LARGE(($H14,$J14,$L14,$N14,$P14,$R14,$T14,$V14,$X14),8)","v":0},{"$f":"LARGE(($H14,$J14,$L14,$N14,$P14,$R14,$T14,$V14,$X14),9)","v":0}]
[11,2001,"SELLING Kevin","IFK Mora AK",100,100,1,{"$f":"LOOKUP(G15,Poängberäkning!$B$6:$B$97,Poängberäkning!$C$6:$C$97)","v":100},null,{"$f":"LOOKUP(I15,Poängberäkning!$B$6:$B$97,Poängberäkning!$C$6:$C$97)","v":0},null,{"$f":"LOOKUP(K15,Poängberäkning!$B$6:$B$97,Poängberäkning!$C$6:$C$97)","v":0},null,{"$f":"LOOKUP(M15,Poängberäkning!$B$6:$B$97,Poängberäkning!$C$6:$C$97)","v":0},null,{"$f":"LOOKUP(O15,Poängberäkning!$B$6:$B$97,Poängberäkning!$C$6:$C$97)","v":0},null,{"$f":"LOOKUP(Q15,[1]Poängberäkning!$B$6:$B$97,[1]Poängberäkning!$C$6:$C$97)","v":0},null,{"$f":"LOOKUP(S15,[1]Poängberäkning!$B$6:$B$97,[1]Poängberäkning!$C$6:$C$97)","v":0},null,{"$f":"LOOKUP(U15,[1]Poängberäkning!$B$6:$B$97,[1]Poängberäkning!$C$6:$C$97)","v":0},null,{"$f":"LOOKUP(W15,[1]Poängberäkning!$B$6:$B$97,[1]Poängberäkning!$C$6:$C$97)","v":0},{"$f":"LARGE(($H15,$J15,$L15,$N15,$P15,$R15,$T15,$V15,$X15),1)","v":100},{"$f":"LARGE(($H15,$J15,$L15,$N15,$P15,$R15,$T15,$V15,$X15),2)","v":0},{"$f":"LARGE(($H15,$J15,$L15,$N15,$P15,$R15,$T15,$V15,$X15),3)","v":0},{"$f":"LARGE(($H15,$J15,$L15,$N15,$P15,$R15,$T15,$V15,$X15),4)","v":0},{"$f":"LARGE(($H15,$J15,$L15,$N15,$P15,$R15,$T15,$V15,$X15),5)","v":0},{"$f":"LARGE(($H15,$J15,$L15,$N15,$P15,$R15,$T15,$V15,$X15),6)","v":0},{"$f":"LARGE(($H15,$J15,$L15,$N15,$P15,$R15,$T15,$V15,$X15),7)","v":0},{"$f":"LARGE(($H15,$J15,$L15,$N15,$P15,$R15,$T15,$V15,$X15),8)","v":0},{"$f":"LARGE(($H15,$J15,$L15,$N15,$P15,$R15,$T15,$V15,$X15),9)","v":0}]
[12,2000,"RASK Noah","Boge SLK",80,80,null,{"$f":"LOOKUP(G16,Poängberäkning!$B$6:$B$97,Poängberäkning!$C$6:$C$97)","v":0},null,{"$f":"LOOKUP(I16,Poängberäkning!$B$6:$B$97,Poängberäkning!$C$6:$C$97)","v":0},null,{"$f":"LOOKUP(K16,Poängberäkning!$B$6:$B$97,Poängberäkning!$C$6:$C$97)","v":0},null,{"$f":"LOOKUP(M16,Poängberäkning!$B$6:$B$97,Poängberäkning!$C$6:$C$97)","v":0},2,{"$f":"LOOKUP(O16,Poängberäkning!$B$6:$B$97,Poängberäkning!$C$6:$C$97)","v":80},null,{"$f":"LOOKUP(Q16,[1]Poängberäkning!$B$6:$B$97,[1]Poängberäkning!$C$6:$C$97)","v":0},null,{"$f":"LOOKUP(S16,[1]Poängberäkning!$B$6:$B$97,[1]Poängberäkning!$C$6:$C$97)","v":0},null,{"$f":"LOOKUP(U16,[1]Poängberäkning!$B$6:$B$97,[1]Poängberäkning!$C$6:$C$97)","v":0},null,{"$f":"LOOKUP(W16,[1]Poängberäkning!$B$6:$B$97,[1]Poängberäkning!$C$6:$C$97)","v":0},{"$f":"LARGE(($H16,$J16,$L16,$N16,$P16,$R16,$T16,$V16,$X16),1)","v":80},{"$f":"LARGE(($H16,$J16,$L16,$N16,$P16,$R16,$T16,$V16,$X16),2)","v":0},{"$f":"LARGE(($H16,$J16,$L16,$N16,$P16,$R16,$T16,$V16,$X16),3)","v":0},{"$f":"LARGE(($H16,$J16,$L16,$N16,$P16,$R16,$T16,$V16,$X16),4)","v":0},{"$f":"LARGE(($H16,$J16,$L16,$N16,$P16,$R16,$T16,$V16,$X16),5)","v":0},{"$f":"LARGE(($H16,$J16,$L16,$N16,$P16,$R16,$T16,$V16,$X16),6)","v":0},{"$f":"LARGE(($H16,$J16,$L16,$N16,$P16,$R16,$T16,$V16,$X16),7)","v":0},{"$f":"LARGE(($H16,$J16,$L16,$N16,$P16,$R16,$T16,$V16,$X16),8)","v":0},{"$f":"LARGE(($H16,$J16,$L16,$N16,$P16,$R16,$T16,$V16,$X16),9)","v":0}]
[13,2000,"SUNDBERG Edvin","Örebro SLF",70,70,3,{"$f":"LOOKUP(G17,Poängberäkning!$B$6:$B$97,Poängberäkning!$C$6:$C$97)","v":70},null,{"$f":"LOOKUP(I17,Poängberäkning!$B$6:$B$97,Poängberäkning!$C$6:$C$97)","v":0},null,{"$f":"LOOKUP(K17,Poängberäkning!$B$6:$B$97,Poängberäkning!$C$6:$C$97)","v":0},99,{"$f":"LOOKUP(M17,Poängberäkning!$B$6:$B$97,Poängberäkning!$C$6:$C$97)","v":0},null,{"$f":"LOOKUP(O17,Poängberäkning!$B$6:$B$97,Poängberäkning!$C$6:$C$97)","v":0},null,{"$f":"LOOKUP(Q17,[1]Poängberäkning!$B$6:$B$97,[1]Poängberäkning!$C$6:$C$97)","v":0},null,{"$f":"LOOKUP(S17,[1]Poängberäkning!$B$6:$B$97,[1]Poängberäkning!$C$6:$C$97)","v":0},null,{"$f":"LOOKUP(U17,[1]Poängberäkning!$B$6:$B$97,[1]Poängberäkning!$C$6:$C$97)","v":0},null,{"$f":"LOOKUP(W17,[1]Poängberäkning!$B$6:$B$97,[1]Poängberäkning!$C$6:$C$97)","v":0},{"$f":"LARGE(($H17,$J17,$L17,$N17,$P17,$R17,$T17,$V17,$X17),1)","v":70},{"$f":"LARGE(($H17,$J17,$L17,$N17,$P17,$R17,$T17,$V17,$X17),2)","v":0},{"$f":"LARGE(($H17,$J17,$L17,$N17,$P17,$R17,$T17,$V17,$X17),3)","v":0},{"$f":"LARGE(($H17,$J17,$L17,$N17,$P17,$R17,$T17,$V17,$X17),4)","v":0},{"$f":"LARGE(($H17,$J17,$L17,$N17,$P17,$R17,$T17,$V17,$X17),5)","v":0},{"$f":"LARGE(($H17,$J17,$L17,$N17,$P17,$R17,$T17,$V17,$X17),6)","v":0},{"$f":"LARGE(($H17,$J17,$L17,$N17,$P17,$R17,$T17,$V17,$X17),7)","v":0},{"$f":"LARGE(($H17,$J17,$L17,$N17,$P17,$R17,$T17,$V17,$X17),8)","v":0},{"$f":"LARGE(($H17,$J17,$L17,$N17,$P17,$R17,$T17,$V17,$X17),9)","v":0}]
[14,2001,"LAGER Linus","Idre SK",68,68,23,{"$f":"LOOKUP(G18,Poängberäkning!$B$6:$B$97,Poängberäkning!$C$6:$C$97)","v":28},null,{"$f":"LOOKUP(I18,Poängberäkning!$B$6:$B$97,Poängberäkning!$C$6:$C$97)","v":0},null,{"$f":"LOOKUP(K18,Poängberäkning!$B$6:$B$97,Poängberäkning!$C$6:$C$97)","v":0},99,{"$f":"LOOKUP(M18,Poängberäkning!$B$6:$B$97,Poängberäkning!$C$6:$C$97)","v":0},11,{"$f":"LOOKUP(O18,Poängberäkning!$B$6:$B$97,Poängberäkning!$C$6:$C$97)","v":40},null,{"$f":"LOOKUP(Q18,[1]Poängberäkning!$B$6:$B$97,[1]Poängberäkning!$C$6:$C$97)","v":0},null,{"$f":"LOOKUP(S18,[1]Poängberäkning!$B$6:$B$97,[1]Poängberäkning!$C$6:$C$97)","v":0},null,{"$f":"LOOKUP(U18,[1]Poängberäkning!$B$6:$B$97,[1]Poängberäkning!$C$6:$C$97)","v":0},null,{"$f":"LOOKUP(W18,[1]Poängberäkning!$B$6:$B$97,[1]Poängberäkning!$C$6:$C$97)","v":0},{"$f":"LARGE(($H18,$J18,$L18,$N18,$P18,$R18,$T18,$V18,$X18),1)","v":40},{"$f":"LARGE(($H18,$J18,$L18,$N18,$P18,$R18,$T18,$V18,$X18),2)","v":28},{"$f":"LARGE(($H18,$J18,$L18,$N18,$P18,$R18,$T18,$V18,$X18),3)","v":0},{"$f":"LARGE(($H18,$J18,$L18,$N18,$P18,$R18,$T18,$V18,$X18),4)","v":0},{"$f":"LARGE(($H18,$J18,$L18,$N18,$P18,$R18,$T18,$V18,$X18),5)","v":0},{"$f":"LARGE(($H18,$J18,$L18,$N18,$P18,$R18,$T18,$V18,$X18),6)","v":0},{"$f":"LARGE(($H18,$J18,$L18,$N18,$P18,$R18,$T18,$V18,$X18),7)","v":0},{"$f":"LARGE(($H18,$J18,$L18,$N18,$P18,$R18,$T18,$V18,$X18),8)","v":0},{"$f":"LARGE(($H18,$J18,$L18,$N18,$P18,$R18,$T18,$V18,$X18),9)","v":0}]
[15,2001,"ANDRÉN Odd","Idre SK",63,63,26,{"$f":"LOOKUP(G19,Poängberäkning!$B$6:$B$97,Poängberäkning!$C$6:$C$97)","v":25},null,{"$f":"LOOKUP(I19,Poängberäkning!$B$6:$B$97,Poängberäkning!$C$6:$C$97)","v":0},null,{"$f":"LOOKUP(K19,Poängberäkning!$B$6:$B$97,Poängberäkning!$C$6:$C$97)","v":0},null,{"$f":"LOOKUP(M19,Poängberäkning!$B$6:$B$97,Poängberäkning!$C$6:$C$97)","v":0},13,{"$f":"LOOKUP(O19,Poängberäkning!$B$6:$B$97,Poängberäkning!$C$6:$C$97)","v":38},null,{"$f":"LOOKUP(Q19,[1]Poängberäkning!$B$6:$B$97,[1]Poängberäkning!$C$6:$C$97)","v":0},null,{"$f":"LOOKUP(S19,[1]Poängberäkning!$B$6:$B$97,[1]Poängberäkning!$C$6:$C$97)","v":0},null,{"$f":"LOOKUP(U19,[1]Poängberäkning!$B$6:$B$97,[1]Poängberäkning!$C$6:$C$97)","v":0},null,{"$f":"LOOKUP(W19,[1]Poängberäkning!$B$6:$B$97,[1]Poängberäkning!$C$6:$C$97)","v":0},{"$f":"LARGE(($H19,$J19,$L19,$N19,$P19,$R19,$T19,$V19,$X19),1)","v":38},{"$f":"LARGE(($H19,$J19,$L19,$N19,$P19,$R19,$T19,$V19,$X19),2)","v":25},{"$f":"LARGE(($H19,$J19,$L19,$N19,$P19,$R19,$T19,$V19,$X19),3)","v":0},{"$f":"LARGE(($H19,$J19,$L19,$N19,$P19,$R19,$T19,$V19,$X19),4)","v":0},{"$f":"LARGE(($H19,$J19,$L19,$N19,$P19,$R19,$T19,$V19,$X19),5)","v":0},{"$f":"LARGE(($H19,$J19,$L19,$N19,$P19,$R19,$T19,$V19,$X19),6)","v":0},{"$f":"LARGE(($H19,$J19,$L19,$N19,$P19,$R19,$T19,$V19,$X19),7)","v":0},{"$f":"LARGE(($H19,$J19,$L19,$N19,$P19,$R19,$T19,$V19,$X19),8)","v":0},{"$f":"LARGE(($H19,$J19,$L19,$N19,$P19,$R19,$T19,$V19,$X19),9)","v":0}]
[16,2001,"GRAN Herbert","SK Vitesse",60,60,null,{"$f":"LOOKUP(G20,Poängberäkning!$B$6:$B$97,Poängberäkning!$C$6:$C$97)","v":0},null,{"$f":"LOOKUP(I20,Poängberäkning!$B$6:$B$97,Poängberäkning!$C$6:$C$97)","v":0},null,{"$f":"LOOKUP(K20,Poängberäkning!$B$6:$B$97,Poängberäkning!$C$6:$C$97)","v":0},null,{"$f":"LOOKUP(M20,Poängberäkning!$B$6:$B$97,Poängberäkning!$C$6:$C$97)","v":0},4,{"$f":"LOOKUP(O20,Poängberäkning!$B$6:$B$97,Poängberäkning!$C$6:$C$97)","v":60},null,{"$f":"LOOKUP(Q20,[1]Poängberäkning!$B$6:$B$97,[1]Poängberäkning!$C$6:$C$97)","v":0},null,{"$f":"LOOKUP(S20,[1]Poängberäkning!$B$6:$B$97,[1]Poängberäkning!$C$6:$C$97)","v":0},null,{"$f":"LOOKUP(U20,[1]Poängberäkning!$B$6:$B$97,[1]Poängberäkning!$C$6:$C$97)","v":0},null,{"$f":"LOOKUP(W20,[1]Poängberäkning!$B$6:$B$97,[1]Poängberäkning!$C$6:$C$97)","v":0},{"$f":"LARGE(($H20,$J20,$L20,$N20,$P20,$R20,$T20,$V20,$X20),1)","v":60},{"$f":"LARGE(($H20,$J20,$L20,$N20,$P20,$R20,$T20,$V20,$X20),2)","v":0},{"$f":"LARGE(($H20,$J20,$L20,$N20,$P20,$R20,$T20,$V20,$X20),3)","v":0},{"$f":"LARGE(($H20,$J20,$L20,$N20,$P20,$R20,$T20,$V20,$X20),4)","v":0},{"$f":"LARGE(($H20,$J20,$L20,$N20,$P20,$R20,$T20,$V20,$X20),5)","v":0},{"$f":"LARGE(($H20,$J20,$L20,$N20,$P20,$R20,$T20,$V20,$X20),6)","v":0},{"$f":"LARGE(($H20,$J20,$L20,$N20,$P20,$R20,$T20,$V20,$X20),7)","v":0},{"$f":"LARGE(($H20,$J20,$L20,$N20,$P20,$R20,$T20,$V20,$X20),8)","v":0},{"$f":"LARGE(($H20,$J20,$L20,$N20,$P20,$R20,$T20,$V20,$X20),9)","v":0}]
[17,2001,"OLSSON Linus","Valfjällets SLK",60,60,4,{"$f":"LOOKUP(G21,Poängberäkning!$B$6:$B$97,Poängberäkning!$C$6:$C$97)","v":60},null,{"$f":"LOOKUP(I21,Poängberäkning!$B$6:$B$97,Poängberäkning!$C$6:$C$97)","v":0},null,{"$f":"LOOKUP(K21,Poängberäkning!$B$6:$B$97,Poängberäkning!$C$6:$C$97)","v":0},null,{"$f":"LOOKUP(M21,Poängberäkning!$B$6:$B$97,Poängberäkning!$C$6:$C$97)","v":0},null,{"$f":"LOOKUP(O21,Poängberäkning!$B$6:$B$97,Poängberäkning!$C$6:$C$97)","v":0},null,{"$f":"LOOKUP(Q21,[1]Poängberäkning!$B$6:$B$97,[1]Poängberäkning!$C$6:$C$97)","v":0},null,{"$f":"LOOKUP(S21,[1]Poängberäkning!$B$6:$B$97,[1]Poängberäkning!$C$6:$C$97)","v":0},null,{"$f":"LOOKUP(U21,[1]Poängberäkning!$B$6:$B$97,[1]Poängberäkning!$C$6:$C$97)","v":0},null,{"$f":"LOOKUP(W21,[1]Poängberäkning!$B$6:$B$97,[1]Poängberäkning!$C$6:$C$97)","v":0},{"$f":"LARGE(($H21,$J21,$L21,$N21,$P21,$R21,$T21,$V21,$X21),1)","v":60},{"$f":"LARGE(($H21,$J21,$L21,$N21,$P21,$R21,$T21,$V21,$X21),2)","v":0},{"$f":"LARGE(($H21,$J21,$L21,$N21,$P21,$R21,$T21,$V21,$X21),3)","v":0},{"$f":"LARGE(($H21,$J21,$L21,$N21,$P21,$R21,$T21,$V21,$X21),4)","v":0},{"$f":"LARGE(($H21,$J21,$L21,$N21,$P21,$R21,$T21,$V21,$X21),5)","v":0},{"$f":"LARGE(($H21,$J21,$L21,$N21,$P21,$R21,$T21,$V21,$X21),6)","v":0},{"$f":"LARGE(($H21,$J21,$L21,$N21,$P21,$R21,$T21,$V21,$X21),7)","v":0},{"$f":"LARGE(($H21,$J21,$L21,$N21,$P21,$R21,$T21,$V21,$X21),8)","v":0},{"$f":"LARGE(($H21,$J21,$L21,$N21,$P21,$R21,$T21,$V21,$X21),9)","v":0}]
[18,2000,"ENGLUND Joel","IF Hudik Alpin",55,55,null,{"$f":"LOOKUP(G22,Poängberäkning!$B$6:$B$97,Poängberäkning!$C$6:$C$97)","v":0},null,{"$f":"LOOKUP(I22,Poängberäkning!$B$6:$B$97,Poängberäkning!$C$6:$C$97)","v":0},null,{"$f":"LOOKUP(K22,Poängberäkning!$B$6:$B$97,Poängberäkning!$C$6:$C$97)","v":0},null,{"$f":"LOOKUP(M22,Poängberäkning!$B$6:$B$97,Poängberäkning!$C$6:$C$97)","v":0},5,{"$f":"LOOKUP(O22,Poängberäkning!$B$6:$B$97,Poängberäkning!$C$6:$C$97)","v":55},null,{"$f":"LOOKUP(Q22,[1]Poängberäkning!$B$6:$B$97,[1]Poängberäkning!$C$6:$C$97)","v":0},null,{"$f":"LOOKUP(S22,[1]Poängberäkning!$B$6:$B$97,[1]Poängberäkning!$C$6:$C$97)","v":0},null,{"$f":"LOOKUP(U22,[1]Poängberäkning!$B$6:$B$97,[1]Poängberäkning!$C$6:$C$97)","v":0},null,{"$f":"LOOKUP(W22,[1]Poängberäkning!$B$6:$B$97,[1]Poängberäkning!$C$6:$C$97)","v":0},{"$f":"LARGE(($H22,$J22,$L22,$N22,$P22,$R22,$T22,$V22,$X22),1)","v":55},{"$f":"LARGE(($H22,$J22,$L22,$N22,$P22,$R22,$T22,$V22,$X22),2)","v":0},{"$f":"LARGE(($H22,$J22,$L22,$N22,$P22,$R22,$T22,$V22,$X22),3)","v":0},{"$f":"LARGE(($H22,$J22,$L22,$N22,$P22,$R22,$T22,$V22,$X22),4)","v":0},{"$f":"LARGE(($H22,$J22,$L22,$N22,$P22,$R22,$T22,$V22,$X22),5)","v":0},{"$f":"LARGE(($H22,$J22,$L22,$N22,$P22,$R22,$T22,$V22,$X22),6)","v":0},{"$f":"LARGE(($H22,$J22,$L22,$N22,$P22,$R22,$T22,$V22,$X22),7)","v":0},{"$f":"LARGE(($H22,$J22,$L22,$N22,$P22,$R22,$T22,$V22,$X22),8)","v":0},{"$f":"LARGE(($H22,$J22,$L22,$N22,$P22,$R22,$T22,$V22,$X22),9)","v":0}]
[19,2001,"JORÄLV Filip","Arvika SLK",55,55,5,{"$f":"LOOKUP(G23,Poängberäkning!$B$6:$B$97,Poängberäkning!$C$6:$C$97)","v":55},null,{"$f":"LOOKUP(I23,Poängberäkning!$B$6:$B$97,Poängberäkning!$C$6:$C$97)","v":0},null,{"$f":"LOOKUP(K23,Poängberäkning!$B$6:$B$97,Poängberäkning!$C$6:$C$97)","v":0},99,{"$f":"LOOKUP(M23,Poängberäkning!$B$6:$B$97,Poängberäkning!$C$6:$C$97)","v":0},null,{"$f":"LOOKUP(O23,Poängberäkning!$B$6:$B$97,Poängberäkning!$C$6:$C$97)","v":0},null,{"$f":"LOOKUP(Q23,[1]Poängberäkning!$B$6:$B$97,[1]Poängberäkning!$C$6:$C$97)","v":0},null,{"$f":"LOOKUP(S23,[1]Poängberäkning!$B$6:$B$97,[1]Poängberäkning!$C$6:$C$97)","v":0},null,{"$f":"LOOKUP(U23,[1]Poängberäkning!$B$6:$B$97,[1]Poängberäkning!$C$6:$C$97)","v":0},null,{"$f":"LOOKUP(W23,[1]Poängberäkning!$B$6:$B$97,[1]Poängberäkning!$C$6:$C$97)","v":0},{"$f":"LARGE(($H23,$J23,$L23,$N23,$P23,$R23,$T23,$V23,$X23),1)","v":55},{"$f":"LARGE(($H23,$J23,$L23,$N23,$P23,$R23,$T23,$V23,$X23),2)","v":0},{"$f":"LARGE(($H23,$J23,$L23,$N23,$P23,$R23,$T23,$V23,$X23),3)","v":0},{"$f":"LARGE(($H23,$J23,$L23,$N23,$P23,$R23,$T23,$V23,$X23),4)","v":0},{"$f":"LARGE(($H23,$J23,$L23,$N23,$P23,$R23,$T23,$V23,$X23),5)","v":0},{"$f":"LARGE(($H23,$J23,$L23,$N23,$P23,$R23,$T23,$V23,$X23),6)","v":0},{"$f":"LARGE(($H23,$J23,$L23,$N23,$P23,$R23,$T23,$V23,$X23),7)","v":0},{"$f":"LARGE(($H23,$J23,$L23,$N23,$P23,$R23,$T23,$V23,$X23),8)","v":0},{"$f":"LARGE(($H23,$J23,$L23,$N23,$P23,$R23,$T23,$V23,$X23),9)","v":0}]
[20,2001,"MOBERG Erik","Karlstads SLK",50,50,6,{"$f":"LOOKUP(G24,Poängberäkning!$B$6:$B$97,Poängberäkning!$C$6:$C$97)","v":50},null,{"$f":"LOOKUP(I24,Poängberäkning!$B$6:$B$97,Poängberäkning!$C$6:$C$97)","v":0},null,{"$f":"LOOKUP(K24,Poängberäkning!$B$6:$B$97,Poängberäkning!$C$6:$C$97)","v":0},null,{"$f":"LOOKUP(M24,Poängberäkning!$B$6:$B$97,Poängberäkning!$C$6:$C$97)","v":0},null,{"$f":"LOOKUP(O24,Poängberäkning!$B$6:$B$97,Poängberäkning!$C$6:$C$97)","v":0},null,{"$f":"LOOKUP(Q24,[1]Poängberäkning!$B$6:$B$97,[1]Poängberäkning!$C$6:$C$97)","v":0},null,{"$f":"LOOKUP(S24,[1]Poängberäkning!$B$6:$B$97,[1]Poängberäkning!$C$6:$C$97)","v":0},null,{"$f":"LOOKUP(U24,[1]Poängberäkning!$B$6:$B$97,[1]Poängberäkning!$C$6:$C$97)","v":0},null,{"$f":"LOOKUP(W24,[1]Poängberäkning!$B$6:$B$97,[1]Poängberäkning!$C$6:$C$97)","v":0},{"$f":"LARGE(($H24,$J24,$L24,$N24,$P24,$R24,$T24,$V24,$X24),1)","v":50},{"$f":"LARGE(($H24,$J24,$L24,$N24,$P24,$R24,$T24,$V24,$X24),2)","v":0},{"$f":"LARGE(($H24,$J24,$L24,$N24,$P24,$R24,$T24,$V24,$X24),3)","v":0},{"$f":"LARGE(($H24,$J24,$L24,$N24,$P24,$R24,$T24,$V24,$X24),4)","v":0},{"$f":"LARGE(($H24,$J24,$L24,$N24,$P24,$R24,$T24,$V24,$X24),5)","v":0},{"$f":"LARGE(($H24,$J24,$L24,$N24,$P24,$R24,$T24,$V24,$X24),6)","v":0},{"$f":"LARGE(($H24,$J24,$L24,$N24,$P24,$R24,$T24,$V24,$X24),7)","v":0},{"$f":"LARGE(($H24,$J24,$L24,$N24,$P24,$R24,$T24,$V24,$X24),8)","v":0},{"$f":"LARGE(($H24,$J24,$L24,$N24,$P24,$R24,$T24,$V24,$X24),9)","v":0}]
[21,2001,"KARLSSON Jonathan","Båsenberga SLK",48,48,null,{"$f":"LOOKUP(G25,Poängberäkning!$B$6:$B$97,Poängberäkning!$C$6:$C$97)","v":0},null,{"$f":"LOOKUP(I25,Poängberäkning!$B$6:$B$97,Poängberäkning!$C$6:$C$97)","v":0},null,{"$f":"LOOKUP(K25,Poängberäkning!$B$6:$B$97,Poängberäkning!$C$6:$C$97)","v":0},null,{"$f":"LOOKUP(M25,Poängberäkning!$B$6:$B$97,Poängberäkning!$C$6:$C$97)","v":0},7,{"$f":"LOOKUP(O25,Poängberäkning!$B$6:$B$97,Poängberäkning!$C$6:$C$97)","v":48},null,{"$f":"LOOKUP(Q25,[1]Poängberäkning!$B$6:$B$97,[1]Poängberäkning!$C$6:$C$97)","v":0},null,{"$f":"LOOKUP(S25,[1]Poängberäkning!$B$6:$B$97,[1]Poängberäkning!$C$6:$C$97)","v":0},null,{"$f":"LOOKUP(U25,[1]Poängberäkning!$B$6:$B$97,[1]Poängberäkning!$C$6:$C$97)","v":0},null,{"$f":"LOOKUP(W25,[1]Poängberäkning!$B$6:$B$97,[1]Poängberäkning!$C$6:$C$97)","v":0},{"$f":"LARGE(($H25,$J25,$L25,$N25,$P25,$R25,$T25,$V25,$X25),1)","v":48},{"$f":"LARGE(($H25,$J25,$L25,$N25,$P25,$R25,$T25,$V25,$X25),2)","v":0},{"$f":"LARGE(($H25,$J25,$L25,$N25,$P25,$R25,$T25,$V25,$X25),3)","v":0},{"$f":"LARGE(($H25,$J25,$L25,$N25,$P25,$R25,$T25,$V25,$X25),4)","v":0},{"$f":"LARGE(($H25,$J25,$L25,$N25,$P25,$R25,$T25,$V25,$X25),5)","v":0},{"$f":"LARGE(($H25,$J25,$L25,$N25,$P25,$R25,$T25,$V25,$X25),6)","v":0},{"$f":"LARGE(($H25,$J25,$L25,$N25,$P25,$R25,$T25,$V25,$X25),7)","v":0},{"$f":"LARGE(($H25,$J25,$L25,$N25,$P25,$R25,$T25,$V25,$X25),8)","v":0},{"$f":"LARGE(($H25,$J25,$L25,$N25,$P25,$R25,$T25,$V25,$X25),9)","v":0}]
[22,2000,"SETTERSTRÖM Carl","Karlstads SLK",48,48,7,{"$f":"LOOKUP(G26,Poängberäkning!$B$6:$B$97,Poängberäkning!$C$6:$C$97)","v":48},null,{"$f":"LOOKUP(I26,Poängberäkning!$B$6:$B$97,Poängberäkning!$C$6:$C$97)","v":0},null,{"$f":"LOOKUP(K26,Poängberäkning!$B$6:$B$97,Poängberäkning!$C$6:$C$97)","v":0},99,{"$f":"LOOKUP(M26,Poängberäkning!$B$6:$B$97,Poängberäkning!$C$6:$C$97)","v":0},null,{"$f":"LOOKUP(O26,Poängberäkning!$B$6:$B$97,Poängberäkning!$C$6:$C$97)","v":0},null,{"$f":"LOOKUP(Q26,[1]Poängberäkning!$B$6:$B$97,[1]Poängberäkning!$C$6:$C$97)","v":0},null,{"$f":"LOOKUP(S26,[1]Poängberäkning!$B$6:$B$97,[1]Poängberäkning!$C$6:$C$97)","v":0},null,{"$f":"LOOKUP(U26,[1]Poängberäkning!$B$6:$B$97,[1]Poängberäkning!$C$6:$C$97)","v":0},null,{"$f":"LOOKUP(W26,[1]Poängberäkning!$B$6:$B$97,[1]Poängberäkning!$C$6:$C$97)","v":0},{"$f":"LARGE(($H26,$J26,$L26,$N26,$P26,$R26,$T26,$V26,$X26),1)","v":48},{"$f":"LARGE(($H26,$J26,$L26,$N26,$P26,$R26,$T26,$V26,$X26),2)","v":0},{"$f":"LARGE(($H26,$J26,$L26,$N26,$P26,$R26,$T26,$V26,$X26),3)","v":0},{"$f":"LARGE(($H26,$J26,$L26,$N26,$P26,$R26,$T26,$V26,$X26),4)","v":0},{"$f":"LARGE(($H26,$J26,$L26,$N26,$P26,$R26,$T26,$V26,$X26),5)","v":0},{"$f":"LARGE(($H26,$J26,$L26,$N26,$P26,$R26,$T26,$V26,$X26),6)","v":0},{"$f":"LARGE(($H26,$J26,$L26,$N26,$P26,$R26,$T26,$V26,$X26),7)","v":0},{"$f":"LARGE(($H26,$J26,$L26,$N26,$P26,$R26,$T26,$V26,$X26),8)","v":0},{"$f":"LARGE(($H26,$J26,$L26,$N26,$P26,$R26,$T26,$V26,$X26),9)","v":0}]
[23,2001,"JOHNSSON Filip","Västerås Slalomklubb",46,46,null,{"$f":"LOOKUP(G27,Poängberäkning!$B$6:$B$97,Poängberäkning!$C$6:$C$97)","v":0},null,{"$f":"LOOKUP(I27,Poängberäkning!$B$6:$B$97,Poängberäkning!$C$6:$C$97)","v":0},null,{"$f":"LOOKUP(K27,Poängberäkning!$B$6:$B$97,Poängberäkning!$C$6:$C$97)","v":0},null,{"$f":"LOOKUP(M27,Poängberäkning!$B$6:$B$97,Poängberäkning!$C$6:$C$97)","v":0},8,{"$f":"LOOKUP(O27,Poängberäkning!$B$6:$B$97,Poängberäkning!$C$6:$C$97)","v":46},null,{"$f":"LOOKUP(Q27,[1]Poängberäkning!$B$6:$B$97,[1]Poängberäkning!$C$6:$C$97)","v":0},null,{"$f":"LOOKUP(S27,[1]Poängberäkning!$B$6:$B$97,[1]Poängberäkning!$C$6:$C$97)","v":0},null,{"$f":"LOOKUP(U27,[1]Poängberäkning!$B$6:$B$97,[1]Poängberäkning!$C$6:$C$97)","v":0},null,{"$f":"LOOKUP(W27,[1]Poängberäkning!$B$6:$B$97,[1]Poängberäkning!$C$6:$C$97)","v":0},{"$f":"LARGE(($H27,$J27,$L27,$N27,$P27,$R27,$T27,$V27,$X27),1)","v":46},{"$f":"LARGE(($H27,$J27,$L27,$N27,$P27,$R27,$T27,$V27,$X27),2)","v":0},{"$f":"LARGE(($H27,$J27,$L27,$N27,$P27,$R27,$T27,$V27,$X27),3)","v":0},{"$f":"LARGE(($H27,$J27,$L27,$N27,$P27,$R27,$T27,$V27,$X27),4)","v":0},{"$f":"LARGE(($H27,$J27,$L27,$N27,$P27,$R27,$T27,$V27,$X27),5)","v":0},{"$f":"LARGE(($H27,$J27,$L27,$N27,$P27,$R27,$T27,$V27,$X27),6)","v":0},{"$f":"LARGE(($H27,$J27,$L27,$N27,$P27,$R27,$T27,$V27,$X27),7)","v":0},{"$f":"LARGE(($H27,$J27,$L27,$N27,$P27,$R27,$T27,$V27,$X27),8)","v":0},{"$f":"LARGE(($H27,$J27,$L27,$N27,$P27,$R27,$T27,$V27,$X27),9)","v":0}]
[24,2001,"HAGBERG Petter","Avesta AK",44,44,9,{"$f":"LOOKUP(G28,Poängberäkning!$B$6:$B$97,Poängberäkning!$C$6:$C$97)","v":44},null,{"$f":"LOOKUP(I28,Poängberäkning!$B$6:$B$97,Poängberäkning!$C$6:$C$97)","v":0},null,{"$f":"LOOKUP(K28,Poängberäkning!$B$6:$B$97,Poängberäkning!$C$6:$C$97)","v":0},null,{"$f":"LOOKUP(M28,Poängberäkning!$B$6:$B$97,Poängberäkning!$C$6:$C$97)","v":0},null,{"$f":"LOOKUP(O28,Poängberäkning!$B$6:$B$97,Poängberäkning!$C$6:$C$97)","v":0},null,{"$f":"LOOKUP(Q28,[1]Poängberäkning!$B$6:$B$97,[1]Poängberäkning!$C$6:$C$97)","v":0},null,{"$f":"LOOKUP(S28,[1]Poängberäkning!$B$6:$B$97,[1]Poängberäkning!$C$6:$C$97)","v":0},null,{"$f":"LOOKUP(U28,[1]Poängberäkning!$B$6:$B$97,[1]Poängberäkning!$C$6:$C$97)","v":0},null,{"$f":"LOOKUP(W28,[1]Poängberäkning!$B$6:$B$97,[1]Poängberäkning!$C$6:$C$97)","v":0},{"$f":"LARGE(($H28,$J28,$L28,$N28,$P28,$R28,$T28,$V28,$X28),1)","v":44},{"$f":"LARGE(($H28,$J28,$L28,$N28,$P28,$R28,$T28,$V28,$X28),2)","v":0},{"$f":"LARGE(($H28,$J28,$L28,$N28,$P28,$R28,$T28,$V28,$X28),3)","v":0},{"$f":"LARGE(($H28,$J28,$L28,$N28,$P28,$R28,$T28,$V28,$X28),4)","v":0},{"$f":"LARGE(($H28,$J28,$L28,$N28,$P28,$R28,$T28,$V28,$X28),5)","v":0},{"$f":"LARGE(($H28,$J28,$L28,$N28,$P28,$R28,$T28,$V28,$X28),6)","v":0},{"$f":"LARGE(($H28,$J28,$L28,$N28,$P28,$R28,$T28,$V28,$X28),7)","v":0},{"$f":"LARGE(($H28,$J28,$L28,$N28,$P28,$R28,$T28,$V28,$X28),8)","v":0},{"$f":"LARGE(($H28,$J28,$L28,$N28,$P28,$R28,$T28,$V28,$X28),9)","v":0}]
[25,2000,"LINDSTRÖM Filip","Kumla SF",42,42,10,{"$f":"LOOKUP(G29,Poängberäkning!$B$6:$B$97,Poängberäkning!$C$6:$C$97)","v":42},null,{"$f":"LOOKUP(I29,Poängberäkning!$B$6:$B$97,Poängberäkning!$C$6:$C$97)","v":0},null,{"$f":"LOOKUP(K29,Poängberäkning!$B$6:$B$97,Poängberäkning!$C$6:$C$97)","v":0},null,{"$f":"LOOKUP(M29,Poängberäkning!$B$6:$B$97,Poängberäkning!$C$6:$C$97)","v":0},null,{"$f":"LOOKUP(O29,Poängberäkning!$B$6:$B$97,Poängberäkning!$C$6:$C$97)","v":0},null,{"$f":"LOOKUP(Q29,[1]Poängberäkning!$B$6:$B$97,[1]Poängberäkning!$C$6:$C$97)","v":0},null,{"$f":"LOOKUP(S29,[1]Poängberäkning!$B$6:$B$97,[1]Poängberäkning!$C$6:$C$97)","v":0},null,{"$f":"LOOKUP(U29,[1]Poängberäkning!$B$6:$B$97,[1]Poängberäkning!$C$6:$C$97)","v":0},null,{"$f":"LOOKUP(W29,[1]Poängberäkning!$B$6:$B$97,[1]Poängberäkning!$C$6:$C$97)","v":0},{"$f":"LARGE(($H29,$J29,$L29,$N29,$P29,$R29,$T29,$V29,$X29),1)","v":42},{"$f":"LARGE(($H29,$J29,$L29,$N29,$P29,$R29,$T29,$V29,$X29),2)","v":0},{"$f":"LARGE(($H29,$J29,$L29,$N29,$P29,$R29,$T29,$V29,$X29),3)","v":0},{"$f":"LARGE(($H29,$J29,$L29,$N29,$P29,$R29,$T29,$V29,$X29),4)","v":0},{"$f":"LARGE(($H29,$J29,$L29,$N29,$P29,$R29,$T29,$V29,$X29),5)","v":0},{"$f":"LARGE(($H29,$J29,$L29,$N29,$P29,$R29,$T29,$V29,$X29),6)","v":0},{"$f":"LARGE(($H29,$J29,$L29,$N29,$P29,$R29,$T29,$V29,$X29),7)","v":0},{"$f":"LARGE(($H29,$J29,$L29,$N29,$P29,$R29,$T29,$V29,$X29),8)","v":0},{"$f":"LARGE(($H29,$J29,$L29,$N29,$P29,$R29,$T29,$V29,$X29),9)","v":0}]
[26,2001,"ÖNNERDAL Isac","Uppsala SLK",39,39,null,{"$f":"LOOKUP(G30,Poängberäkning!$B$6:$B$97,Poängberäkning!$C$6:$C$97)","v":0},null,{"$f":"LOOKUP(I30,Poängberäkning!$B$6:$B$97,Poängberäkning!$C$6:$C$97)","v":0},null,{"$f":"LOOKUP(K30,Poängberäkning!$B$6:$B$97,Poängberäkning!$C$6:$C$97)","v":0},null,{"$f":"LOOKUP(M30,Poängberäkning!$B$6:$B$97,Poängberäkning!$C$6:$C$97)","v":0},12,{"$f":"LOOKUP(O30,Poängberäkning!$B$6:$B$97,Poängberäkning!$C$6:$C$97)","v":39},null,{"$f":"LOOKUP(Q30,[1]Poängberäkning!$B$6:$B$97,[1]Poängberäkning!$C$6:$C$97)","v":0},null,{"$f":"LOOKUP(S30,[1]Poängberäkning!$B$6:$B$97,[1]Poängberäkning!$C$6:$C$97)","v":0},null,{"$f":"LOOKUP(U30,[1]Poängberäkning!$B$6:$B$97,[1]Poängberäkning!$C$6:$C$97)","v":0},null,{"$f":"LOOKUP(W30,[1]Poängberäkning!$B$6:$B$97,[1]Poängberäkning!$C$6:$C$97)","v":0},{"$f":"LARGE(($H30,$J30,$L30,$N30,$P30,$R30,$T30,$V30,$X30),1)","v":39},{"$f":"LARGE(($H30,$J30,$L30,$N30,$P30,$R30,$T30,$V30,$X30),2)","v":0},{"$f":"LARGE(($H30,$J30,$L30,$N30,$P30,$R30,$T30,$V30,$X30),3)","v":0},{"$f":"LARGE(($H30,$J30,$L30,$N30,$P30,$R30,$T30,$V30,$X30),4)","v":0},{"$f":"LARGE(($H30,$J30,$L30,$N30,$P30,$R30,$T30,$V30,$X30),5)","v":0},{"$f":"LARGE(($H30,$J30,$L30,$N30,$P30,$R30,$T30,$V30,$X30),6)","v":0},{"$f":"LARGE(($H30,$J30,$L30,$N30,$P30,$R30,$T30,$V30,$X30),7)","v":0},{"$f":"LARGE(($H30,$J30,$L30,$N30,$P30,$R30,$T30,$V30,$X30),8)","v":0},{"$f":"LARGE(($H30,$J30,$L30,$N30,$P30,$R30,$T30,$V30,$X30),9)","v":0}]
[27,2001,"SCHMIDT Niklas","Idre SK",39,39,12,{"$f":"LOOKUP(G31,Poängberäkning!$B$6:$B$97,Poängberäkning!$C$6:$C$97)","v":39},null,{"$f":"LOOKUP(I31,Poängberäkning!$B$6:$B$97,Poängberäkning!$C$6:$C$97)","v":0},null,{"$f":"LOOKUP(K31,Poängberäkning!$B$6:$B$97,Poängberäkning!$C$6:$C$97)","v":0},null,{"$f":"LOOKUP(M31,Poängberäkning!$B$6:$B$97,Poängberäkning!$C$6:$C$97)","v":0},null,{"$f":"LOOKUP(O31,Poängberäkning!$B$6:$B$97,Poängberäkning!$C$6:$C$97)","v":0},null,{"$f":"LOOKUP(Q31,[1]Poängberäkning!$B$6:$B$97,[1]Poängberäkning!$C$6:$C$97)","v":0},null,{"$f":"LOOKUP(S31,[1]Poängberäkning!$B$6:$B$97,[1]Poängberäkning!$C$6:$C$97)","v":0},null,{"$f":"LOOKUP(U31,[1]Poängberäkning!$B$6:$B$97,[1]Poängberäkning!$C$6:$C$97)","v":0},null,{"$f":"LOOKUP(W31,[1]Poängberäkning!$B$6:$B$97,[1]Poängberäkning!$C$6:$C$97)","v":0},{"$f":"LARGE(($H31,$J31,$L31,$N31,$P31,$R31,$T31,$V31,$X31),1)","v":39},{"$f":"LARGE(($H31,$J31,$L31,$N31,$P31,$R31,$T31,$V31,$X31),2)","v":0},{"$f":"LARGE(($H31,$J31,$L31,$N31,$P31,$R31,$T31,$V31,$X31),3)","v":0},{"$f":"LARGE(($H31,$J31,$L31,$N31,$P31,$R31,$T31,$V31,$X31),4)","v":0},{"$f":"LARGE(($H31,$J31,$L31,$N31,$P31,$R31,$T31,$V31,$X31),5)","v":0},{"$f":"LARGE(($H31,$J31,$L31,$N31,$P31,$R31,$T31,$V31,$X31),6)","v":0},{"$f":"LARGE(($H31,$J31,$L31,$N31,$P31,$R31,$T31,$V31,$X31),7)","v":0},{"$f":"LARGE(($H31,$J31,$L31,$N31,$P31,$R31,$T31,$V31,$X31),8)","v":0},{"$f":"LARGE(($H31,$J31,$L31,$N31,$P31,$R31,$T31,$V31,$X31),9)","v":0}]
[28,2001,"HANSSON Liam","Valfjällets SLK",38,38,13,{"$f":"LOOKUP(G32,Poängberäkning!$B$6:$B$97,Poängberäkning!$C$6:$C$97)","v":38},null,{"$f":"LOOKUP(I32,Poängberäkning!$B$6:$B$97,Poängberäkning!$C$6:$C$97)","v":0},null,{"$f":"LOOKUP(K32,Poängberäkning!$B$6:$B$97,Poängberäkning!$C$6:$C$97)","v":0},null,{"$f":"LOOKUP(M32,Poängberäkning!$B$6:$B$97,Poängberäkning!$C$6:$C$97)","v":0},null,{"$f":"LOOKUP(O32,Poängberäkning!$B$6:$B$97,Poängberäkning!$C$6:$C$97)","v":0},null,{"$f":"LOOKUP(Q32,[1]Poängberäkning!$B$6:$B$97,[1]Poängberäkning!$C$6:$C$97)","v":0},null,{"$f":"LOOKUP(S32,[1]Poängberäkning!$B$6:$B$97,[1]Poängberäkning!$C$6:$C$97)","v":0},null,{"$f":"LOOKUP(U32,[1]Poängberäkning!$B$6:$B$97,[1]Poängberäkning!$C$6:$C$97)","v":0},null,{"$f":"LOOKUP(W32,[1]Poängberäkning!$B$6:$B$97,[1]Poängberäkning!$C$6:$C$97)","v":0},{"$f":"LARGE(($H32,$J32,$L32,$N32,$P32,$R32,$T32,$V32,$X32),1)","v":38},{"$f":"LARGE(($H32,$J32,$L32,$N32,$P32,$R32,$T32,$V32,$X32),2)","v":0},{"$f":"LARGE(($H32,$J32,$L32,$N32,$P32,$R32,$T32,$V32,$X32),3)","v":0},{"$f":"LARGE(($H32,$J32,$L32,$N32,$P32,$R32,$T32,$V32,$X32),4)","v":0},{"$f":"LARGE(($H32,$J32,$L32,$N32,$P32,$R32,$T32,$V32,$X32),5)","v":0},{"$f":"LARGE(($H32,$J32,$L32,$N32,$P32,$R32,$T32,$V32,$X32),6)","v":0},{"$f":"LARGE(($H32,$J32,$L32,$N32,$P32,$R32,$T32,$V32,$X32),7)","v":0},{"$f":"LARGE(($H32,$J32,$L32,$N32,$P32,$R32,$T32,$V32,$X32),8)","v":0},{"$f":"LARGE(($H32,$J32,$L32,$N32,$P32,$R32,$T32,$V32,$X32),9)","v":0}]
[29,2001,"STRÖMBERG Isac","Karlstads SLK",37,37,14,{"$f":"LOOKUP(G33,Poängberäkning!$B$6:$B$97,Poängberäkning!$C$6:$C$97)","v":37},null,{"$f":"LOOKUP(I33,Poängberäkning!$B$6:$B$97,Poängberäkning!$C$6:$C$97)","v":0},null,{"$f":"LOOKUP(K33,Poängberäkning!$B$6:$B$97,Poängberäkning!$C$6:$C$97)","v":0},null,{"$f":"LOOKUP(M33,Poängberäkning!$B$6:$B$97,Poängberäkning!$C$6:$C$97)","v":0},null,{"$f":"LOOKUP(O33,Poängberäkning!$B$6:$B$97,Poängberäkning!$C$6:$C$97)","v":0},null,{"$f":"LOOKUP(Q33,[1]Poängberäkning!$B$6:$B$97,[1]Poängberäkning!$C$6:$C$97)","v":0},null,{"$f":"LOOKUP(S33,[1]Poängberäkning!$B$6:$B$97,[1]Poängberäkning!$C$6:$C$97)","v":0},null,{"$f":"LOOKUP(U33,[1]Poängberäkning!$B$6:$B$97,[1]Poängberäkning!$C$6:$C$97)","v":0},null,{"$f":"LOOKUP(W33,[1]Poängberäkning!$B$6:$B$97,[1]Poängberäkning!$C$6:$C$97)","v":0},{"$f":"LARGE(($H33,$J33,$L33,$N33,$P33,$R33,$T33,$V33,$X33),1)","v":37},{"$f":"LARGE(($H33,$J33,$L33,$N33,$P33,$R33,$T33,$V33,$X33),2)","v":0},{"$f":"LARGE(($H33,$J33,$L33,$N33,$P33,$R33,$T33,$V33,$X33),3)","v":0},{"$f":"LARGE(($H33,$J33,$L33,$N33,$P33,$R33,$T33,$V33,$X33),4)","v":0},{"$f":"LARGE(($H33,$J33,$L33,$N33,$P33,$R33,$T33,$V33,$X33),5)","v":0},{"$f":"LARGE(($H33,$J33,$L33,$N33,$P33,$R33,$T33,$V33,$X33),6)","v":0},{"$f":"LARGE(($H33,$J33,$L33,$N33,$P33,$R33,$T33,$V33,$X33),7)","v":0},{"$f":"LARGE(($H33,$J33,$L33,$N33,$P33,$R33,$T33,$V33,$X33),8)","v":0},{"$f":"LARGE(($H33,$J33,$L33,$N33,$P33,$R33,$T33,$V33,$X33),9)","v":0}]
[30,2001,"BRÅNANDER Gustav","Karlstads SLK",36,36,15,{"$f":"LOOKUP(G34,Poängberäkning!$B$6:$B$97,Poängberäkning!$C$6:$C$97)","v":36},null,{"$f":"LOOKUP(I34,Poängberäkning!$B$6:$B$97,Poängberäkning!$C$6:$C$97)","v":0},null,{"$f":"LOOKUP(K34,Poängberäkning!$B$6:$B$97,Poängberäkning!$C$6:$C$97)","v":0},null,{"$f":"LOOKUP(M34,Poängberäkning!$B$6:$B$97,Poängberäkning!$C$6:$C$97)","v":0},null,{"$f":"LOOKUP(O34,Poängberäkning!$B$6:$B$97,Poängberäkning!$C$6:$C$97)","v":0},null,{"$f":"LOOKUP(Q34,[1]Poängberäkning!$B$6:$B$97,[1]Poängberäkning!$C$6:$C$97)","v":0},null,{"$f":"LOOKUP(S34,[1]Poängberäkning!$B$6:$B$97,[1]Poängberäkning!$C$6:$C$97)","v":0},null,{"$f":"LOOKUP(U34,[1]Poängberäkning!$B$6:$B$97,[1]Poängberäkning!$C$6:$C$97)","v":0},null,{"$f":"LOOKUP(W34,[1]Poängberäkning!$B$6:$B$97,[1]Poängberäkning!$C$6:$C$97)","v":0},{"$f":"LARGE(($H34,$J34,$L34,$N34,$P34,$R34,$T34,$V34,$X34),1)","v":36},{"$f":"LARGE(($H34,$J34,$L34,$N34,$P34,$R34,$T34,$V34,$X34),2)","v":0},{"$f":"LARGE(($H34,$J34,$L34,$N34,$P34,$R34,$T34,$V34,$X34),3)","v":0},{"$f":"LARGE(($H34,$J34,$L34,$N34,$P34,$R34,$T34,$V34,$X34),4)","v":0},{"$f":"LARGE(($H34,$J34,$L34,$N34,$P34,$R34,$T34,$V34,$X34),5)","v":0},{"$f":"LARGE(($H34,$J34,$L34,$N34,$P34,$R34,$T34,$V34,$X34),6)","v":0},{"$f":"LARGE(($H34,$J34,$L34,$N34,$P34,$R34,$T34,$V34,$X34),7)","v":0},{"$f":"LARGE(($H34,$J34,$L34,$N34,$P34,$R34,$T34,$V34,$X34),8)","v":0},{"$f":"LARGE(($H34,$J34,$L34,$N34,$P34,$R34,$T34,$V34,$X34),9)","v":0}]
[31,2001,"RAIJ Carl","Kils SLK",35,35,16,{"$f":"LOOKUP(G35,Poängberäkning!$B$6:$B$97,Poängberäkning!$C$6:$C$97)","v":35},null,{"$f":"LOOKUP(I35,Poängberäkning!$B$6:$B$97,Poängberäkning!$C$6:$C$97)","v":0},null,{"$f":"LOOKUP(K35,Poängberäkning!$B$6:$B$97,Poängberäkning!$C$6:$C$97)","v":0},null,{"$f":"LOOKUP(M35,Poängberäkning!$B$6:$B$97,Poängberäkning!$C$6:$C$97)","v":0},null,{"$f":"LOOKUP(O35,Poängberäkning!$B$6:$B$97,Poängberäkning!$C$6:$C$97)","v":0},null,{"$f":"LOOKUP(Q35,[1]Poängberäkning!$B$6:$B$97,[1]Poängberäkning!$C$6:$C$97)","v":0},null,{"$f":"LOOKUP(S35,[1]Poängberäkning!$B$6:$B$97,[1]Poängberäkning!$C$6:$C$97)","v":0},null,{"$f":"LOOKUP(U35,[1]Poängberäkning!$B$6:$B$97,[1]Poängberäkning!$C$6:$C$97)","v":0},null,{"$f":"LOOKUP(W35,[1]Poängberäkning!$B$6:$B$97,[1]Poängberäkning!$C$6:$C$97)","v":0},{"$f":"LARGE(($H35,$J35,$L35,$N35,$P35,$R35,$T35,$V35,$X35),1)","v":35},{"$f":"LARGE(($H35,$J35,$L35,$N35,$P35,$R35,$T35,$V35,$X35),2)","v":0},{"$f":"LARGE(($H35,$J35,$L35,$N35,$P35,$R35,$T35,$V35,$X35),3)","v":0},{"$f":"LARGE(($H35,$J35,$L35,$N35,$P35,$R35,$T35,$V35,$X35),4)","v":0},{"$f":"LARGE(($H35,$J35,$L35,$N35,$P35,$R35,$T35,$V35,$X35),5)","v":0},{"$f":"LARGE(($H35,$J35,$L35,$N35,$P35,$R35,$T35,$V35,$X35),6)","v":0},{"$f":"LARGE(($H35,$J35,$L35,$N35,$P35,$R35,$T35,$V35,$X35),7)","v":0},{"$f":"LARGE(($H35,$J35,$L35,$N35,$P35,$R35,$T35,$V35,$X35),8)","v":0},{"$f":"LARGE(($H35,$J35,$L35,$N35,$P35,$R35,$T35,$V35,$X35),9)","v":0}]
[32,2001,"STJERNLÖF Philip","Avesta AK",34,34,17,{"$f":"LOOKUP(G36,Poängberäkning!$B$6:$B$97,Poängberäkning!$C$6:$C$97)","v":34},null,{"$f":"LOOKUP(I36,Poängberäkning!$B$6:$B$97,Poängberäkning!$C$6:$C$97)","v":0},null,{"$f":"LOOKUP(K36,Poängberäkning!$B$6:$B$97,Poängberäkning!$C$6:$C$97)","v":0},null,{"$f":"LOOKUP(M36,Poängberäkning!$B$6:$B$97,Poängberäkning!$C$6:$C$97)","v":0},null,{"$f":"LOOKUP(O36,Poängberäkning!$B$6:$B$97,Poängberäkning!$C$6:$C$97)","v":0},null,{"$f":"LOOKUP(Q36,[1]Poängberäkning!$B$6:$B$97,[1]Poängberäkning!$C$6:$C$97)","v":0},null,{"$f":"LOOKUP(S36,[1]Poängberäkning!$B$6:$B$97,[1]Poängberäkning!$C$6:$C$97)","v":0},null,{"$f":"LOOKUP(U36,[1]Poängberäkning!$B$6:$B$97,[1]Poängberäkning!$C$6:$C$97)","v":0},null,{"$f":"LOOKUP(W36,[1]Poängberäkning!$B$6:$B$97,[1]Poängberäkning!$C$6:$C$97)","v":0},{"$f":"LARGE(($H36,$J36,$L36,$N36,$P36,$R36,$T36,$V36,$X36),1)","v":34},{"$f":"LARGE(($H36,$J36,$L36,$N36,$P36,$R36,$T36,$V36,$X36),2)","v":0},{"$f":"LARGE(($H36,$J36,$L36,$N36,$P36,$R36,$T36,$V36,$X36),3)","v":0},{"$f":"LARGE(($H36,$J36,$L36,$N36,$P36,$R36,$T36,$V36,$X36),4)","v":0},{"$f":"LARGE(($H36,$J36,$L36,$N36,$P36,$R36,$T36,$V36,$X36),5)","v":0},{"$f":"LARGE(($H36,$J36,$L36,$N36,$P36,$R36,$T36,$V36,$X36),6)","v":0},{"$f":"LARGE(($H36,$J36,$L36,$N36,$P36,$R36,$T36,$V36,$X36),7)","v":0},{"$f":"LARGE(($H36,$J36,$L36,$N36,$P36,$R36,$T36,$V36,$X36),8)","v":0},{"$f":"LARGE(($H36,$J36,$L36,$N36,$P36,$R36,$T36,$V36,$X36),9)","v":0}]
[33,2001,"LÖVKVIST Mattias","IFK Falun",{"$f":"SUM(Y37:AA37)","v":32},{"$f":"H37+J37+L37+N37+P37+R37+T37+V37+X37","v":32},19,{"$f":"LOOKUP(G37,Poängberäkning!$B$6:$B$97,Poängberäkning!$C$6:$C$97)","v":32},null,{"$f":"LOOKUP(I37,Poängberäkning!$B$6:$B$97,Poängberäkning!$C$6:$C$97)","v":0},null,{"$f":"LOOKUP(K37,Poängberäkning!$B$6:$B$97,Poängberäkning!$C$6:$C$97)","v":0},null,{"$f":"LOOKUP(M37,Poängberäkning!$B$6:$B$97,Poängberäkning!$C$6:$C$97)","v":0},null,{"$f":"LOOKUP(O37,Poängberäkning!$B$6:$B$97,Poängberäkning!$C$6:$C$97)","v":0},null,{"$f":"LOOKUP(Q37,[1]Poängberäkning!$B$6:$B$97,[1]Poängberäkning!$C$6:$C$97)","v":0},null,{"$f":"LOOKUP(S37,[1]Poängberäkning!$B$6:$B$97,[1]Poängberäkning!$C$6:$C$97)","v":0},null,{"$f":"LOOKUP(U37,[1]Poängberäkning!$B$6:$B$97,[1]Poängberäkning!$C$6:$C$97)","v":0},null,{"$f":"LOOKUP(W37,[1]Poängberäkning!$B$6:$B$97,[1]Poängberäkning!$C$6:$C$97)","v":0},{"$f":"LARGE(($H37,$J37,$L37,$N37,$P37,$R37,$T37,$V37,$X37),1)","v":32},{"$f":"LARGE(($H37,$J37,$L37,$N37,$P37,$R37,$T37,$V37,$X37),2)","v":0},{"$f":"LARGE(($H37,$J37,$L37,$N37,$P37,$R37,$T37,$V37,$X37),3)","v":0},{"$f":"LARGE(($H37,$J37,$L37,$N37,$P37,$R37,$T37,$V37,$X37),4)","v":0},{"$f":"LARGE(($H37,$J37,$L37,$N37,$P37,$R37,$T37,$V37,$X37),5)","v":0},{"$f":"LARGE(($H37,$J37,$L37,$N37,$P37,$R37,$T37,$V37,$X37),6)","v":0},{"$f":"LARGE(($H37,$J37,$L37,$N37,$P37,$R37,$T37,$V37,$X37),7)","v":0},{"$f":"LARGE(($H37,$J37,$L37,$N37,$P37,$R37,$T37,$V37,$X37),8)","v":0},{"$f":"LARGE(($H37,$J37,$L37,$N37,$P37,$R37,$T37,$V37,$X37),9)","v":0}]
[34,2000,"HEDIN Johan","IFK Borlänge",31,31,20,{"$f":"LOOKUP(G38,Poängberäkning!$B$6:$B$97,Poängberäkning!$C$6:$C$97)","v":31},null,{"$f":"LOOKUP(I38,Poängberäkning!$B$6:$B$97,Poängberäkning!$C$6:$C$97)","v":0},null,{"$f":"LOOKUP(K38,Poängberäkning!$B$6:$B$97,Poängberäkning!$C$6:$C$97)","v":0},null,{"$f":"LOOKUP(M38,Poängberäkning!$B$6:$B$97,Poängberäkning!$C$6:$C$97)","v":0},null,{"$f":"LOOKUP(O38,Poängberäkning!$B$6:$B$97,Poängberäkning!$C$6:$C$97)","v":0},null,{"$f":"LOOKUP(Q38,[1]Poängberäkning!$B$6:$B$97,[1]Poängberäkning!$C$6:$C$97)","v":0},null,{"$f":"LOOKUP(S38,[1]Poängberäkning!$B$6:$B$97,[1]Poängberäkning!$C$6:$C$97)","v":0},null,{"$f":"LOOKUP(U38,[1]Poängberäkning!$B$6:$B$97,[1]Poängberäkning!$C$6:$C$97)","v":0},null,{"$f":"LOOKUP(W38,[1]Poängberäkning!$B$6:$B$97,[1]Poängberäkning!$C$6:$C$97)","v":0},{"$f":"LARGE(($H38,$J38,$L38,$N38,$P38,$R38,$T38,$V38,$X38),1)","v":31},{"$f":"LARGE(($H38,$J38,$L38,$N38,$P38,$R38,$T38,$V38,$X38),2)","v":0},{"$f":"LARGE(($H38,$J38,$L38,$N38,$P38,$R38,$T38,$V38,$X38),3)","v":0},{"$f":"LARGE(($H38,$J38,$L38,$N38,$P38,$R38,$T38,$V38,$X38),4)","v":0},{"$f":"LARGE(($H38,$J38,$L38,$N38,$P38,$R38,$T38,$V38,$X38),5)","v":0},{"$f":"LARGE(($H38,$J38,$L38,$N38,$P38,$R38,$T38,$V38,$X38),6)","v":0},{"$f":"LARGE(($H38,$J38,$L38,$N38,$P38,$R38,$T38,$V38,$X38),7)","v":0},{"$f":"LARGE(($H38,$J38,$L38,$N38,$P38,$R38,$T38,$V38,$X38),8)","v":0},{"$f":"LARGE(($H38,$J38,$L38,$N38,$P38,$R38,$T38,$V38,$X38),9)","v":0}]
[35,2000,"FORSMAN Rickard","Malungs SLK",30,30,21,{"$f":"LOOKUP(G39,Poängberäkning!$B$6:$B$97,Poängberäkning!$C$6:$C$97)","v":30},null,{"$f":"LOOKUP(I39,Poängberäkning!$B$6:$B$97,Poängberäkning!$C$6:$C$97)","v":0},null,{"$f":"LOOKUP(K39,Poängberäkning!$B$6:$B$97,Poängberäkning!$C$6:$C$97)","v":0},99,{"$f":"LOOKUP(M39,Poängberäkning!$B$6:$B$97,Poängberäkning!$C$6:$C$97)","v":0},null,{"$f":"LOOKUP(O39,Poängberäkning!$B$6:$B$97,Poängberäkning!$C$6:$C$97)","v":0},null,{"$f":"LOOKUP(Q39,[1]Poängberäkning!$B$6:$B$97,[1]Poängberäkning!$C$6:$C$97)","v":0},null,{"$f":"LOOKUP(S39,[1]Poängberäkning!$B$6:$B$97,[1]Poängberäkning!$C$6:$C$97)","v":0},null,{"$f":"LOOKUP(U39,[1]Poängberäkning!$B$6:$B$97,[1]Poängberäkning!$C$6:$C$97)","v":0},null,{"$f":"LOOKUP(W39,[1]Poängberäkning!$B$6:$B$97,[1]Poängberäkning!$C$6:$C$97)","v":0},{"$f":"LARGE(($H39,$J39,$L39,$N39,$P39,$R39,$T39,$V39,$X39),1)","v":30},{"$f":"LARGE(($H39,$J39,$L39,$N39,$P39,$R39,$T39,$V39,$X39),2)","v":0},{"$f":"LARGE(($H39,$J39,$L39,$N39,$P39,$R39,$T39,$V39,$X39),3)","v":0},{"$f":"LARGE(($H39,$J39,$L39,$N39,$P39,$R39,$T39,$V39,$X39),4)","v":0},{"$f":"LARGE(($H39,$J39,$L39,$N39,$P39,$R39,$T39,$V39,$X39),5)","v":0},{"$f":"LARGE(($H39,$J39,$L39,$N39,$P39,$R39,$T39,$V39,$X39),6)","v":0},{"$f":"LARGE(($H39,$J39,$L39,$N39,$P39,$R39,$T39,$V39,$X39),7)","v":0},{"$f":"LARGE(($H39,$J39,$L39,$N39,$P39,$R39,$T39,$V39,$X39),8)","v":0},{"$f":"LARGE(($H39,$J39,$L39,$N39,$P39,$R39,$T39,$V39,$X39),9)","v":0}]
[36,2001,"PALMÉR Albin","Kumla SF",29,29,22,{"$f":"LOOKUP(G40,Poängberäkning!$B$6:$B$97,Poängberäkning!$C$6:$C$97)","v":29},null,{"$f":"LOOKUP(I40,Poängberäkning!$B$6:$B$97,Poängberäkning!$C$6:$C$97)","v":0},null,{"$f":"LOOKUP(K40,Poängberäkning!$B$6:$B$97,Poängberäkning!$C$6:$C$97)","v":0},null,{"$f":"LOOKUP(M40,Poängberäkning!$B$6:$B$97,Poängberäkning!$C$6:$C$97)","v":0},null,{"$f":"LOOKUP(O40,Poängberäkning!$B$6:$B$97,Poängberäkning!$C$6:$C$97)","v":0},null,{"$f":"LOOKUP(Q40,[1]Poängberäkning!$B$6:$B$97,[1]Poängberäkning!$C$6:$C$97)","v":0},null,{"$f":"LOOKUP(S40,[1]Poängberäkning!$B$6:$B$97,[1]Poängberäkning!$C$6:$C$97)","v":0},null,{"$f":"LOOKUP(U40,[1]Poängberäkning!$B$6:$B$97,[1]Poängberäkning!$C$6:$C$97)","v":0},null,{"$f":"LOOKUP(W40,[1]Poängberäkning!$B$6:$B$97,[1]Poängberäkning!$C$6:$C$97)","v":0},{"$f":"LARGE(($H40,$J40,$L40,$N40,$P40,$R40,$T40,$V40,$X40),1)","v":29},{"$f":"LARGE(($H40,$J40,$L40,$N40,$P40,$R40,$T40,$V40,$X40),2)","v":0},{"$f":"LARGE(($H40,$J40,$L40,$N40,$P40,$R40,$T40,$V40,$X40),3)","v":0},{"$f":"LARGE(($H40,$J40,$L40,$N40,$P40,$R40,$T40,$V40,$X40),4)","v":0},{"$f":"LARGE(($H40,$J40,$L40,$N40,$P40,$R40,$T40,$V40,$X40),5)","v":0},{"$f":"LARGE(($H40,$J40,$L40,$N40,$P40,$R40,$T40,$V40,$X40),6)","v":0},{"$f":"LARGE(($H40,$J40,$L40,$N40,$P40,$R40,$T40,$V40,$X40),7)","v":0},{"$f":"LARGE(($H40,$J40,$L40,$N40,$P40,$R40,$T40,$V40,$X40),8)","v":0},{"$f":"LARGE(($H40,$J40,$L40,$N40,$P40,$R40,$T40,$V40,$X40),9)","v":0}]
[37,2001,"HEDMAN Anton","IFK Borlänge",27,27,24,{"$f":"LOOKUP(G41,Poängberäkning!$B$6:$B$97,Poängberäkning!$C$6:$C$97)","v":27},null,{"$f":"LOOKUP(I41,Poängberäkning!$B$6:$B$97,Poängberäkning!$C$6:$C$97)","v":0},null,{"$f":"LOOKUP(K41,Poängberäkning!$B$6:$B$97,Poängberäkning!$C$6:$C$97)","v":0},99,{"$f":"LOOKUP(M41,Poängberäkning!$B$6:$B$97,Poängberäkning!$C$6:$C$97)","v":0},null,{"$f":"LOOKUP(O41,Poängberäkning!$B$6:$B$97,Poängberäkning!$C$6:$C$97)","v":0},null,{"$f":"LOOKUP(Q41,[1]Poängberäkning!$B$6:$B$97,[1]Poängberäkning!$C$6:$C$97)","v":0},null,{"$f":"LOOKUP(S41,[1]Poängberäkning!$B$6:$B$97,[1]Poängberäkning!$C$6:$C$97)","v":0},null,{"$f":"LOOKUP(U41,[1]Poängberäkning!$B$6:$B$97,[1]Poängberäkning!$C$6:$C$97)","v":0},null,{"$f":"LOOKUP(W41,[1]Poängberäkning!$B$6:$B$97,[1]Poängberäkning!$C$6:$C$97)","v":0},{"$f":"LARGE(($H41,$J41,$L41,$N41,$P41,$R41,$T41,$V41,$X41),1)","v":27},{"$f":"LARGE(($H41,$J41,$L41,$N41,$P41,$R41,$T41,$V41,$X41),2)","v":0},{"$f":"LARGE(($H41,$J41,$L41,$N41,$P41,$R41,$T41,$V41,$X41),3)","v":0},{"$f":"LARGE(($H41,$J41,$L41,$N41,$P41,$R41,$T41,$V41,$X41),4)","v":0},{"$f":"LARGE(($H41,$J41,$L41,$N41,$P41,$R41,$T41,$V41,$X41),5)","v":0},{"$f":"LARGE(($H41,$J41,$L41,$N41,$P41,$R41,$T41,$V41,$X41),6)","v":0},{"$f":"LARGE(($H41,$J41,$L41,$N41,$P41,$R41,$T41,$V41,$X41),7)","v":0},{"$f":"LARGE(($H41,$J41,$L41,$N41,$P41,$R41,$T41,$V41,$X41),8)","v":0},{"$f":"LARGE(($H41,$J41,$L41,$N41,$P41,$R41,$T41,$V41,$X41),9)","v":0}]
[38,2000,"ANDRÉN Palle","Idre SK",24,24,27,{"$f":"LOOKUP(G42,Poängberäkning!$B$6:$B$97,Poängberäkning!$C$6:$C$97)","v":24},null,{"$f":"LOOKUP(I42,Poängberäkning!$B$6:$B$97,Poängberäkning!$C$6:$C$97)","v":0},null,{"$f":"LOOKUP(K42,Poängberäkning!$B$6:$B$97,Poängberäkning!$C$6:$C$97)","v":0},null,{"$f":"LOOKUP(M42,Poängberäkning!$B$6:$B$97,Poängberäkning!$C$6:$C$97)","v":0},null,{"$f":"LOOKUP(O42,Poängberäkning!$B$6:$B$97,Poängberäkning!$C$6:$C$97)","v":0},null,{"$f":"LOOKUP(Q42,[1]Poängberäkning!$B$6:$B$97,[1]Poängberäkning!$C$6:$C$97)","v":0},null,{"$f":"LOOKUP(S42,[1]Poängberäkning!$B$6:$B$97,[1]Poängberäkning!$C$6:$C$97)","v":0},null,{"$f":"LOOKUP(U42,[1]Poängberäkning!$B$6:$B$97,[1]Poängberäkning!$C$6:$C$97)","v":0},null,{"$f":"LOOKUP(W42,[1]Poängberäkning!$B$6:$B$97,[1]Poängberäkning!$C$6:$C$97)","v":0},{"$f":"LARGE(($H42,$J42,$L42,$N42,$P42,$R42,$T42,$V42,$X42),1)","v":24},{"$f":"LARGE(($H42,$J42,$L42,$N42,$P42,$R42,$T42,$V42,$X42),2)","v":0},{"$f":"LARGE(($H42,$J42,$L42,$N42,$P42,$R42,$T42,$V42,$X42),3)","v":0},{"$f":"LARGE(($H42,$J42,$L42,$N42,$P42,$R42,$T42,$V42,$X42),4)","v":0},{"$f":"LARGE(($H42,$J42,$L42,$N42,$P42,$R42,$T42,$V42,$X42),5)","v":0},{"$f":"LARGE(($H42,$J42,$L42,$N42,$P42,$R42,$T42,$V42,$X42),6)","v":0},{"$f":"LARGE(($H42,$J42,$L42,$N42,$P42,$R42,$T42,$V42,$X42),7)","v":0},{"$f":"LARGE(($H42,$J42,$L42,$N42,$P42,$R42,$T42,$V42,$X42),8)","v":0},{"$f":"LARGE(($H42,$J42,$L42,$N42,$P42,$R42,$T42,$V42,$X42),9)","v":0}]
[39,2001,"CERNY Alexander","Tunafors SK",0,0,null,{"$f":"LOOKUP(G43,Poängberäkning!$B$6:$B$97,Poängberäkning!$C$6:$C$97)","v":0},null,{"$f":"LOOKUP(I43,Poängberäkning!$B$6:$B$97,Poängberäkning!$C$6:$C$97)","v":0},null,{"$f":"LOOKUP(K43,Poängberäkning!$B$6:$B$97,Poängberäkning!$C$6:$C$97)","v":0},null,{"$f":"LOOKUP(M43,Poängberäkning!$B$6:$B$97,Poängberäkning!$C$6:$C$97)","v":0},99,{"$f":"LOOKUP(O43,Poängberäkning!$B$6:$B$97,Poängberäkning!$C$6:$C$97)","v":0},null,{"$f":"LOOKUP(Q43,[1]Poängberäkning!$B$6:$B$97,[1]Poängberäkning!$C$6:$C$97)","v":0},null,{"$f":"LOOKUP(S43,[1]Poängberäkning!$B$6:$B$97,[1]Poängberäkning!$C$6:$C$97)","v":0},null,{"$f":"LOOKUP(U43,[1]Poängberäkning!$B$6:$B$97,[1]Poängberäkning!$C$6:$C$97)","v":0},null,{"$f":"LOOKUP(W43,[1]Poängberäkning!$B$6:$B$97,[1]Poängberäkning!$C$6:$C$97)","v":0},{"$f":"LARGE(($H43,$J43,$L43,$N43,$P43,$R43,$T43,$V43,$X43),1)","v":0},{"$f":"LARGE(($H43,$J43,$L43,$N43,$P43,$R43,$T43,$V43,$X43),2)","v":0},{"$f":"LARGE(($H43,$J43,$L43,$N43,$P43,$R43,$T43,$V43,$X43),3)","v":0},{"$f":"LARGE(($H43,$J43,$L43,$N43,$P43,$R43,$T43,$V43,$X43),4)","v":0},{"$f":"LARGE(($H43,$J43,$L43,$N43,$P43,$R43,$T43,$V43,$X43),5)","v":0},{"$f":"LARGE(($H43,$J43,$L43,$N43,$P43,$R43,$T43,$V43,$X43),6)","v":0},{"$f":"LARGE(($H43,$J43,$L43,$N43,$P43,$R43,$T43,$V43,$X43),7)","v":0},{"$f":"LARGE(($H43,$J43,$L43,$N43,$P43,$R43,$T43,$V43,$X43),8)","v":0},{"$f":"LARGE(($H43,$J43,$L43,$N43,$P43,$R43,$T43,$V43,$X43),9)","v":0}]
[40,2001,"HJORTSTAM Albin","Västerås Slalomklubb",0,0,null,{"$f":"LOOKUP(G44,Poängberäkning!$B$6:$B$97,Poängberäkning!$C$6:$C$97)","v":0},null,{"$f":"LOOKUP(I44,Poängberäkning!$B$6:$B$97,Poängberäkning!$C$6:$C$97)","v":0},null,{"$f":"LOOKUP(K44,Poängberäkning!$B$6:$B$97,Poängberäkning!$C$6:$C$97)","v":0},null,{"$f":"LOOKUP(M44,Poängberäkning!$B$6:$B$97,Poängberäkning!$C$6:$C$97)","v":0},99,{"$f":"LOOKUP(O44,Poängberäkning!$B$6:$B$97,Poängberäkning!$C$6:$C$97)","v":0},null,{"$f":"LOOKUP(Q44,[1]Poängberäkning!$B$6:$B$97,[1]Poängberäkning!$C$6:$C$97)","v":0},null,{"$f":"LOOKUP(S44,[1]Poängberäkning!$B$6:$B$97,[1]Poängberäkning!$C$6:$C$97)","v":0},null,{"$f":"LOOKUP(U44,[1]Poängberäkning!$B$6:$B$97,[1]Poängberäkning!$C$6:$C$97)","v":0},null,{"$f":"LOOKUP(W44,[1]Poängberäkning!$B$6:$B$97,[1]Poängberäkning!$C$6:$C$97)","v":0},{"$f":"LARGE(($H44,$J44,$L44,$N44,$P44,$R44,$T44,$V44,$X44),1)","v":0},{"$f":"LARGE(($H44,$J44,$L44,$N44,$P44,$R44,$T44,$V44,$X44),2)","v":0},{"$f":"LARGE(($H44,$J44,$L44,$N44,$P44,$R44,$T44,$V44,$X44),3)","v":0},{"$f":"LARGE(($H44,$J44,$L44,$N44,$P44,$R44,$T44,$V44,$X44),4)","v":0},{"$f":"LARGE(($H44,$J44,$L44,$N44,$P44,$R44,$T44,$V44,$X44),5)","v":0},{"$f":"LARGE(($H44,$J44,$L44,$N44,$P44,$R44,$T44,$V44,$X44),6)","v":0},{"$f":"LARGE(($H44,$J44,$L44,$N44,$P44,$R44,$T44,$V44,$X44),7)","v":0},{"$f":"LARGE(($H44,$J44,$L44,$N44,$P44,$R44,$T44,$V44,$X44),8)","v":0},{"$f":"LARGE(($H44,$J44,$L44,$N44,$P44,$R44,$T44,$V44,$X44),9)","v":0}]
[41,2001,"DOUGHERTY Bastian","Orsa Alpina Klubb",0,0,null,{"$f":"LOOKUP(G45,Poängberäkning!$B$6:$B$97,Poängberäkning!$C$6:$C$97)","v":0},null,{"$f":"LOOKUP(I45,Poängberäkning!$B$6:$B$97,Poängberäkning!$C$6:$C$97)","v":0},null,{"$f":"LOOKUP(K45,Poängberäkning!$B$6:$B$97,Poängberäkning!$C$6:$C$97)","v":0},null,{"$f":"LOOKUP(M45,Poängberäkning!$B$6:$B$97,Poängberäkning!$C$6:$C$97)","v":0},null,{"$f":"LOOKUP(O45,Poängberäkning!$B$6:$B$97,Poängberäkning!$C$6:$C$97)","v":0},null,{"$f":"LOOKUP(Q45,[1]Poängberäkning!$B$6:$B$97,[1]Poängberäkning!$C$6:$C$97)","v":0},null,{"$f":"LOOKUP(S45,[1]Poängberäkning!$B$6:$B$97,[1]Poängberäkning!$C$6:$C$97)","v":0},null,{"$f":"LOOKUP(U45,[1]Poängberäkning!$B$6:$B$97,[1]Poängberäkning!$C$6:$C$97)","v":0},null,{"$f":"LOOKUP(W45,[1]Poängberäkning!$B$6:$B$97,[1]Poängberäkning!$C$6:$C$97)","v":0},{"$f":"LARGE(($H45,$J45,$L45,$N45,$P45,$R45,$T45,$V45,$X45),1)","v":0},{"$f":"LARGE(($H45,$J45,$L45,$N45,$P45,$R45,$T45,$V45,$X45),2)","v":0},{"$f":"LARGE(($H45,$J45,$L45,$N45,$P45,$R45,$T45,$V45,$X45),3)","v":0},{"$f":"LARGE(($H45,$J45,$L45,$N45,$P45,$R45,$T45,$V45,$X45),4)","v":0},{"$f":"LARGE(($H45,$J45,$L45,$N45,$P45,$R45,$T45,$V45,$X45),5)","v":0},{"$f":"LARGE(($H45,$J45,$L45,$N45,$P45,$R45,$T45,$V45,$X45),6)","v":0},{"$f":"LARGE(($H45,$J45,$L45,$N45,$P45,$R45,$T45,$V45,$X45),7)","v":0},{"$f":"LARGE(($H45,$J45,$L45,$N45,$P45,$R45,$T45,$V45,$X45),8)","v":0},{"$f":"LARGE(($H45,$J45,$L45,$N45,$P45,$R45,$T45,$V45,$X45),9)","v":0}]
[42,2000,"LINDSTRÖM Aaron","SK Vitesse",0,0,null,{"$f":"LOOKUP(G46,Poängberäkning!$B$6:$B$97,Poängberäkning!$C$6:$C$97)","v":0},null,{"$f":"LOOKUP(I46,Poängberäkning!$B$6:$B$97,Poängberäkning!$C$6:$C$97)","v":0},null,{"$f":"LOOKUP(K46,Poängberäkning!$B$6:$B$97,Poängberäkning!$C$6:$C$97)","v":0},null,{"$f":"LOOKUP(M46,Poängberäkning!$B$6:$B$97,Poängberäkning!$C$6:$C$97)","v":0},null,{"$f":"LOOKUP(O46,Poängberäkning!$B$6:$B$97,Poängberäkning!$C$6:$C$97)","v":0},null,{"$f":"LOOKUP(Q46,[1]Poängberäkning!$B$6:$B$97,[1]Poängberäkning!$C$6:$C$97)","v":0},null,{"$f":"LOOKUP(S46,[1]Poängberäkning!$B$6:$B$97,[1]Poängberäkning!$C$6:$C$97)","v":0},null,{"$f":"LOOKUP(U46,[1]Poängberäkning!$B$6:$B$97,[1]Poängberäkning!$C$6:$C$97)","v":0},null,{"$f":"LOOKUP(W46,[1]Poängberäkning!$B$6:$B$97,[1]Poängberäkning!$C$6:$C$97)","v":0},{"$f":"LARGE(($H46,$J46,$L46,$N46,$P46,$R46,$T46,$V46,$X46),1)","v":0},{"$f":"LARGE(($H46,$J46,$L46,$N46,$P46,$R46,$T46,$V46,$X46),2)","v":0},{"$f":"LARGE(($H46,$J46,$L46,$N46,$P46,$R46,$T46,$V46,$X46),3)","v":0},{"$f":"LARGE(($H46,$J46,$L46,$N46,$P46,$R46,$T46,$V46,$X46),4)","v":0},{"$f":"LARGE(($H46,$J46,$L46,$N46,$P46,$R46,$T46,$V46,$X46),5)","v":0},{"$f":"LARGE(($H46,$J46,$L46,$N46,$P46,$R46,$T46,$V46,$X46),6)","v":0},{"$f":"LARGE(($H46,$J46,$L46,$N46,$P46,$R46,$T46,$V46,$X46),7)","v":0},{"$f":"LARGE(($H46,$J46,$L46,$N46,$P46,$R46,$T46,$V46,$X46),8)","v":0},{"$f":"LARGE(($H46,$J46,$L46,$N46,$P46,$R46,$T46,$V46,$X46),9)","v":0}]
[43,2001,"NARKINIEMI Isak","Högby Alpina SLK",0,0,null,{"$f":"LOOKUP(G47,Poängberäkning!$B$6:$B$97,Poängberäkning!$C$6:$C$97)","v":0},null,{"$f":"LOOKUP(I47,Poängberäkning!$B$6:$B$97,Poängberäkning!$C$6:$C$97)","v":0},null,{"$f":"LOOKUP(K47,Poängberäkning!$B$6:$B$97,Poängberäkning!$C$6:$C$97)","v":0},99,{"$f":"LOOKUP(M47,Poängberäkning!$B$6:$B$97,Poängberäkning!$C$6:$C$97)","v":0},null,{"$f":"LOOKUP(O47,Poängberäkning!$B$6:$B$97,Poängberäkning!$C$6:$C$97)","v":0},null,{"$f":"LOOKUP(Q47,[1]Poängberäkning!$B$6:$B$97,[1]Poängberäkning!$C$6:$C$97)","v":0},null,{"$f":"LOOKUP(S47,[1]Poängberäkning!$B$6:$B$97,[1]Poängberäkning!$C$6:$C$97)","v":0},null,{"$f":"LOOKUP(U47,[1]Poängberäkning!$B$6:$B$97,[1]Poängberäkning!$C$6:$C$97)","v":0},null,{"$f":"LOOKUP(W47,[1]Poängberäkning!$B$6:$B$97,[1]Poängberäkning!$C$6:$C$97)","v":0},{"$f":"LARGE(($H47,$J47,$L47,$N47,$P47,$R47,$T47,$V47,$X47),1)","v":0},{"$f":"LARGE(($H47,$J47,$L47,$N47,$P47,$R47,$T47,$V47,$X47),2)","v":0},{"$f":"LARGE(($H47,$J47,$L47,$N47,$P47,$R47,$T47,$V47,$X47),3)","v":0},{"$f":"LARGE(($H47,$J47,$L47,$N47,$P47,$R47,$T47,$V47,$X47),4)","v":0},{"$f":"LARGE(($H47,$J47,$L47,$N47,$P47,$R47,$T47,$V47,$X47),5)","v":0},{"$f":"LARGE(($H47,$J47,$L47,$N47,$P47,$R47,$T47,$V47,$X47),6)","v":0},{"$f":"LARGE(($H47,$J47,$L47,$N47,$P47,$R47,$T47,$V47,$X47),7)","v":0},{"$f":"LARGE(($H47,$J47,$L47,$N47,$P47,$R47,$T47,$V47,$X47),8)","v":0},{"$f":"LARGE(($H47,$J47,$L47,$N47,$P47,$R47,$T47,$V47,$X47),9)","v":0}]
[44,2000,"NORDIN Linus","Täby SLK",0,0,null,{"$f":"LOOKUP(G48,Poängberäkning!$B$6:$B$97,Poängberäkning!$C$6:$C$97)","v":0},null,{"$f":"LOOKUP(I48,Poängberäkning!$B$6:$B$97,Poängberäkning!$C$6:$C$97)","v":0},null,{"$f":"LOOKUP(K48,Poängberäkning!$B$6:$B$97,Poängberäkning!$C$6:$C$97)","v":0},99,{"$f":"LOOKUP(M48,Poängberäkning!$B$6:$B$97,Poängberäkning!$C$6:$C$97)","v":0},null,{"$f":"LOOKUP(O48,Poängberäkning!$B$6:$B$97,Poängberäkning!$C$6:$C$97)","v":0},null,{"$f":"LOOKUP(Q48,[1]Poängberäkning!$B$6:$B$97,[1]Poängberäkning!$C$6:$C$97)","v":0},null,{"$f":"LOOKUP(S48,[1]Poängberäkning!$B$6:$B$97,[1]Poängberäkning!$C$6:$C$97)","v":0},null,{"$f":"LOOKUP(U48,[1]Poängberäkning!$B$6:$B$97,[1]Poängberäkning!$C$6:$C$97)","v":0},null,{"$f":"LOOKUP(W48,[1]Poängberäkning!$B$6:$B$97,[1]Poängberäkning!$C$6:$C$97)","v":0},{"$f":"LARGE(($H48,$J48,$L48,$N48,$P48,$R48,$T48,$V48,$X48),1)","v":0},{"$f":"LARGE(($H48,$J48,$L48,$N48,$P48,$R48,$T48,$V48,$X48),2)","v":0},{"$f":"LARGE(($H48,$J48,$L48,$N48,$P48,$R48,$T48,$V48,$X48),3)","v":0},{"$f":"LARGE(($H48,$J48,$L48,$N48,$P48,$R48,$T48,$V48,$X48),4)","v":0},{"$f":"LARGE(($H48,$J48,$L48,$N48,$P48,$R48,$T48,$V48,$X48),5)","v":0},{"$f":"LARGE(($H48,$J48,$L48,$N48,$P48,$R48,$T48,$V48,$X48),6)","v":0},{"$f":"LARGE(($H48,$J48,$L48,$N48,$P48,$R48,$T48,$V48,$X48),7)","v":0},{"$f":"LARGE(($H48,$J48,$L48,$N48,$P48,$R48,$T48,$V48,$X48),8)","v":0},{"$f":"LARGE(($H48,$J48,$L48,$N48,$P48,$R48,$T48,$V48,$X48),9)","v":0}]
[45,2001,"OSKARSSON Albin","Kumla SF",0,0,99,{"$f":"LOOKUP(G49,Poängberäkning!$B$6:$B$97,Poängberäkning!$C$6:$C$97)","v":0},null,{"$f":"LOOKUP(I49,Poängberäkning!$B$6:$B$97,Poängberäkning!$C$6:$C$97)","v":0},null,{"$f":"LOOKUP(K49,Poängberäkning!$B$6:$B$97,Poängberäkning!$C$6:$C$97)","v":0},null,{"$f":"LOOKUP(M49,Poängberäkning!$B$6:$B$97,Poängberäkning!$C$6:$C$97)","v":0},null,{"$f":"LOOKUP(O49,Poängberäkning!$B$6:$B$97,Poängberäkning!$C$6:$C$97)","v":0},null,{"$f":"LOOKUP(Q49,[1]Poängberäkning!$B$6:$B$97,[1]Poängberäkning!$C$6:$C$97)","v":0},null,{"$f":"LOOKUP(S49,[1]Poängberäkning!$B$6:$B$97,[1]Poängberäkning!$C$6:$C$97)","v":0},null,{"$f":"LOOKUP(U49,[1]Poängberäkning!$B$6:$B$97,[1]Poängberäkning!$C$6:$C$97)","v":0},null,{"$f":"LOOKUP(W49,[1]Poängberäkning!$B$6:$B$97,[1]Poängberäkning!$C$6:$C$97)","v":0},{"$f":"LARGE(($H49,$J49,$L49,$N49,$P49,$R49,$T49,$V49,$X49),1)","v":0},{"$f":"LARGE(($H49,$J49,$L49,$N49,$P49,$R49,$T49,$V49,$X49),2)","v":0},{"$f":"LARGE(($H49,$J49,$L49,$N49,$P49,$R49,$T49,$V49,$X49),3)","v":0},{"$f":"LARGE(($H49,$J49,$L49,$N49,$P49,$R49,$T49,$V49,$X49),4)","v":0},{"$f":"LARGE(($H49,$J49,$L49,$N49,$P49,$R49,$T49,$V49,$X49),5)","v":0},{"$f":"LARGE(($H49,$J49,$L49,$N49,$P49,$R49,$T49,$V49,$X49),6)","v":0},{"$f":"LARGE(($H49,$J49,$L49,$N49,$P49,$R49,$T49,$V49,$X49),7)","v":0},{"$f":"LARGE(($H49,$J49,$L49,$N49,$P49,$R49,$T49,$V49,$X49),8)","v":0},{"$f":"LARGE(($H49,$J49,$L49,$N49,$P49,$R49,$T49,$V49,$X49),9)","v":0}]
[46,2001,"ROSENQVIST Lukas","Sollentuna SLK",0,0,null,{"$f":"LOOKUP(G50,Poängberäkning!$B$6:$B$97,Poängberäkning!$C$6:$C$97)","v":0},null,{"$f":"LOOKUP(I50,Poängberäkning!$B$6:$B$97,Poängberäkning!$C$6:$C$97)","v":0},null,{"$f":"LOOKUP(K50,Poängberäkning!$B$6:$B$97,Poängberäkning!$C$6:$C$97)","v":0},99,{"$f":"LOOKUP(M50,Poängberäkning!$B$6:$B$97,Poängberäkning!$C$6:$C$97)","v":0},null,{"$f":"LOOKUP(O50,Poängberäkning!$B$6:$B$97,Poängberäkning!$C$6:$C$97)","v":0},null,{"$f":"LOOKUP(Q50,[1]Poängberäkning!$B$6:$B$97,[1]Poängberäkning!$C$6:$C$97)","v":0},null,{"$f":"LOOKUP(S50,[1]Poängberäkning!$B$6:$B$97,[1]Poängberäkning!$C$6:$C$97)","v":0},null,{"$f":"LOOKUP(U50,[1]Poängberäkning!$B$6:$B$97,[1]Poängberäkning!$C$6:$C$97)","v":0},null,{"$f":"LOOKUP(W50,[1]Poängberäkning!$B$6:$B$97,[1]Poängberäkning!$C$6:$C$97)","v":0},{"$f":"LARGE(($H50,$J50,$L50,$N50,$P50,$R50,$T50,$V50,$X50),1)","v":0},{"$f":"LARGE(($H50,$J50,$L50,$N50,$P50,$R50,$T50,$V50,$X50),2)","v":0},{"$f":"LARGE(($H50,$J50,$L50,$N50,$P50,$R50,$T50,$V50,$X50),3)","v":0},{"$f":"LARGE(($H50,$J50,$L50,$N50,$P50,$R50,$T50,$V50,$X50),4)","v":0},{"$f":"LARGE(($H50,$J50,$L50,$N50,$P50,$R50,$T50,$V50,$X50),5)","v":0},{"$f":"LARGE(($H50,$J50,$L50,$N50,$P50,$R50,$T50,$V50,$X50),6)","v":0},{"$f":"LARGE(($H50,$J50,$L50,$N50,$P50,$R50,$T50,$V50,$X50),7)","v":0},{"$f":"LARGE(($H50,$J50,$L50,$N50,$P50,$R50,$T50,$V50,$X50),8)","v":0},{"$f":"LARGE(($H50,$J50,$L50,$N50,$P50,$R50,$T50,$V50,$X50),9)","v":0}]
[47,2001,"SKOTTE Axel","IFK Mora AK",0,0,99,{"$f":"LOOKUP(G51,Poängberäkning!$B$6:$B$97,Poängberäkning!$C$6:$C$97)","v":0},null,{"$f":"LOOKUP(I51,Poängberäkning!$B$6:$B$97,Poängberäkning!$C$6:$C$97)","v":0},null,{"$f":"LOOKUP(K51,Poängberäkning!$B$6:$B$97,Poängberäkning!$C$6:$C$97)","v":0},99,{"$f":"LOOKUP(M51,Poängberäkning!$B$6:$B$97,Poängberäkning!$C$6:$C$97)","v":0},null,{"$f":"LOOKUP(O51,Poängberäkning!$B$6:$B$97,Poängberäkning!$C$6:$C$97)","v":0},null,{"$f":"LOOKUP(Q51,[1]Poängberäkning!$B$6:$B$97,[1]Poängberäkning!$C$6:$C$97)","v":0},null,{"$f":"LOOKUP(S51,[1]Poängberäkning!$B$6:$B$97,[1]Poängberäkning!$C$6:$C$97)","v":0},null,{"$f":"LOOKUP(U51,[1]Poängberäkning!$B$6:$B$97,[1]Poängberäkning!$C$6:$C$97)","v":0},null,{"$f":"LOOKUP(W51,[1]Poängberäkning!$B$6:$B$97,[1]Poängberäkning!$C$6:$C$97)","v":0},{"$f":"LARGE(($H51,$J51,$L51,$N51,$P51,$R51,$T51,$V51,$X51),1)","v":0},{"$f":"LARGE(($H51,$J51,$L51,$N51,$P51,$R51,$T51,$V51,$X51),2)","v":0},{"$f":"LARGE(($H51,$J51,$L51,$N51,$P51,$R51,$T51,$V51,$X51),3)","v":0},{"$f":"LARGE(($H51,$J51,$L51,$N51,$P51,$R51,$T51,$V51,$X51),4)","v":0},{"$f":"LARGE(($H51,$J51,$L51,$N51,$P51,$R51,$T51,$V51,$X51),5)","v":0},{"$f":"LARGE(($H51,$J51,$L51,$N51,$P51,$R51,$T51,$V51,$X51),6)","v":0},{"$f":"LARGE(($H51,$J51,$L51,$N51,$P51,$R51,$T51,$V51,$X51),7)","v":0},{"$f":"LARGE(($H51,$J51,$L51,$N51,$P51,$R51,$T51,$V51,$X51),8)","v":0},{"$f":"LARGE(($H51,$J51,$L51,$N51,$P51,$R51,$T51,$V51,$X51),9)","v":0}]
[48,2001,"TEGSTRÖM Pontus","Sollentuna SLK",0,0,null,{"$f":"LOOKUP(G52,Poängberäkning!$B$6:$B$97,Poängberäkning!$C$6:$C$97)","v":0},null,{"$f":"LOOKUP(I52,Poängberäkning!$B$6:$B$97,Poängberäkning!$C$6:$C$97)","v":0},null,{"$f":"LOOKUP(K52,Poängberäkning!$B$6:$B$97,Poängberäkning!$C$6:$C$97)","v":0},99,{"$f":"LOOKUP(M52,Poängberäkning!$B$6:$B$97,Poängberäkning!$C$6:$C$97)","v":0},null,{"$f":"LOOKUP(O52,Poängberäkning!$B$6:$B$97,Poängberäkning!$C$6:$C$97)","v":0},null,{"$f":"LOOKUP(Q52,[1]Poängberäkning!$B$6:$B$97,[1]Poängberäkning!$C$6:$C$97)","v":0},null,{"$f":"LOOKUP(S52,[1]Poängberäkning!$B$6:$B$97,[1]Poängberäkning!$C$6:$C$97)","v":0},null,{"$f":"LOOKUP(U52,[1]Poängberäkning!$B$6:$B$97,[1]Poängberäkning!$C$6:$C$97)","v":0},null,{"$f":"LOOKUP(W52,[1]Poängberäkning!$B$6:$B$97,[1]Poängberäkning!$C$6:$C$97)","v":0},{"$f":"LARGE(($H52,$J52,$L52,$N52,$P52,$R52,$T52,$V52,$X52),1)","v":0},{"$f":"LARGE(($H52,$J52,$L52,$N52,$P52,$R52,$T52,$V52,$X52),2)","v":0},{"$f":"LARGE(($H52,$J52,$L52,$N52,$P52,$R52,$T52,$V52,$X52),3)","v":0},{"$f":"LARGE(($H52,$J52,$L52,$N52,$P52,$R52,$T52,$V52,$X52),4)","v":0},{"$f":"LARGE(($H52,$J52,$L52,$N52,$P52,$R52,$T52,$V52,$X52),5)","v":0},{"$f":"LARGE(($H52,$J52,$L52,$N52,$P52,$R52,$T52,$V52,$X52),6)","v":0},{"$f":"LARGE(($H52,$J52,$L52,$N52,$P52,$R52,$T52,$V52,$X52),7)","v":0},{"$f":"LARGE(($H52,$J52,$L52,$N52,$P52,$R52,$T52,$V52,$X52),8)","v":0},{"$f":"LARGE(($H52,$J52,$L52,$N52,$P52,$R52,$T52,$V52,$X52),9)","v":0}]
[49,2000,"ZAUNBRECHER Fynn","Orsa Alpina Klubb",0,0,null,{"$f":"LOOKUP(G53,Poängberäkning!$B$6:$B$97,Poängberäkning!$C$6:$C$97)","v":0},null,{"$f":"LOOKUP(I53,Poängberäkning!$B$6:$B$97,Poängberäkning!$C$6:$C$97)","v":0},null,{"$f":"LOOKUP(K53,Poängberäkning!$B$6:$B$97,Poängberäkning!$C$6:$C$97)","v":0},null,{"$f":"LOOKUP(M53,Poängberäkning!$B$6:$B$97,Poängberäkning!$C$6:$C$97)","v":0},null,{"$f":"LOOKUP(O53,Poängberäkning!$B$6:$B$97,Poängberäkning!$C$6:$C$97)","v":0},null,{"$f":"LOOKUP(Q53,[1]Poängberäkning!$B$6:$B$97,[1]Poängberäkning!$C$6:$C$97)","v":0},null,{"$f":"LOOKUP(S53,[1]Poängberäkning!$B$6:$B$97,[1]Poängberäkning!$C$6:$C$97)","v":0},null,{"$f":"LOOKUP(U53,[1]Poängberäkning!$B$6:$B$97,[1]Poängberäkning!$C$6:$C$97)","v":0},null,{"$f":"LOOKUP(W53,[1]Poängberäkning!$B$6:$B$97,[1]Poängberäkning!$C$6:$C$97)","v":0},{"$f":"LARGE(($H53,$J53,$L53,$N53,$P53,$R53,$T53,$V53,$X53),1)","v":0},{"$f":"LARGE(($H53,$J53,$L53,$N53,$P53,$R53,$T53,$V53,$X53),2)","v":0},{"$f":"LARGE(($H53,$J53,$L53,$N53,$P53,$R53,$T53,$V53,$X53),3)","v":0},{"$f":"LARGE(($H53,$J53,$L53,$N53,$P53,$R53,$T53,$V53,$X53),4)","v":0},{"$f":"LARGE(($H53,$J53,$L53,$N53,$P53,$R53,$T53,$V53,$X53),5)","v":0},{"$f":"LARGE(($H53,$J53,$L53,$N53,$P53,$R53,$T53,$V53,$X53),6)","v":0},{"$f":"LARGE(($H53,$J53,$L53,$N53,$P53,$R53,$T53,$V53,$X53),7)","v":0},{"$f":"LARGE(($H53,$J53,$L53,$N53,$P53,$R53,$T53,$V53,$X53),8)","v":0},{"$f":"LARGE(($H53,$J53,$L53,$N53,$P53,$R53,$T53,$V53,$X53),9)","v":0}]
[50,2000,"ÖHMAN Edvin","Västerås Slalomklubb",0,0,null,{"$f":"LOOKUP(G54,Poängberäkning!$B$6:$B$97,Poängberäkning!$C$6:$C$97)","v":0},null,{"$f":"LOOKUP(I54,Poängberäkning!$B$6:$B$97,Poängberäkning!$C$6:$C$97)","v":0},null,{"$f":"LOOKUP(K54,Poängberäkning!$B$6:$B$97,Poängberäkning!$C$6:$C$97)","v":0},99,{"$f":"LOOKUP(M54,Poängberäkning!$B$6:$B$97,Poängberäkning!$C$6:$C$97)","v":0},null,{"$f":"LOOKUP(O54,Poängberäkning!$B$6:$B$97,Poängberäkning!$C$6:$C$97)","v":0},null,{"$f":"LOOKUP(Q54,[1]Poängberäkning!$B$6:$B$97,[1]Poängberäkning!$C$6:$C$97)","v":0},null,{"$f":"LOOKUP(S54,[1]Poängberäkning!$B$6:$B$97,[1]Poängberäkning!$C$6:$C$97)","v":0},null,{"$f":"LOOKUP(U54,[1]Poängberäkning!$B$6:$B$97,[1]Poängberäkning!$C$6:$C$97)","v":0},null,{"$f":"LOOKUP(W54,[1]Poängberäkning!$B$6:$B$97,[1]Poängberäkning!$C$6:$C$97)","v":0},{"$f":"LARGE(($H54,$J54,$L54,$N54,$P54,$R54,$T54,$V54,$X54),1)","v":0},{"$f":"LARGE(($H54,$J54,$L54,$N54,$P54,$R54,$T54,$V54,$X54),2)","v":0},{"$f":"LARGE(($H54,$J54,$L54,$N54,$P54,$R54,$T54,$V54,$X54),3)","v":0},{"$f":"LARGE(($H54,$J54,$L54,$N54,$P54,$R54,$T54,$V54,$X54),4)","v":0},{"$f":"LARGE(($H54,$J54,$L54,$N54,$P54,$R54,$T54,$V54,$X54),5)","v":0},{"$f":"LARGE(($H54,$J54,$L54,$N54,$P54,$R54,$T54,$V54,$X54),6)","v":0},{"$f":"LARGE(($H54,$J54,$L54,$N54,$P54,$R54,$T54,$V54,$X54),7)","v":0},{"$f":"LARGE(($H54,$J54,$L54,$N54,$P54,$R54,$T54,$V54,$X54),8)","v":0},{"$f":"LARGE(($H54,$J54,$L54,$N54,$P54,$R54,$T54,$V54,$X54),9)","v":0}]
[51,null,null,null,0,0,null,{"$f":"LOOKUP(G55,Poängberäkning!$B$6:$B$97,Poängberäkning!$C$6:$C$97)","v":0},null,{"$f":"LOOKUP(I55,Poängberäkning!$B$6:$B$97,Poängberäkning!$C$6:$C$97)","v":0},null,{"$f":"LOOKUP(K55,Poängberäkning!$B$6:$B$97,Poängberäkning!$C$6:$C$97)","v":0},null,{"$f":"LOOKUP(M55,Poängberäkning!$B$6:$B$97,Poängberäkning!$C$6:$C$97)","v":0},null,{"$f":"LOOKUP(O55,Poängberäkning!$B$6:$B$97,Poängberäkning!$C$6:$C$97)","v":0},null,{"$f":"LOOKUP(Q55,[1]Poängberäkning!$B$6:$B$97,[1]Poängberäkning!$C$6:$C$97)","v":0},null,{"$f":"LOOKUP(S55,[1]Poängberäkning!$B$6:$B$97,[1]Poängberäkning!$C$6:$C$97)","v":0},null,{"$f":"LOOKUP(U55,[1]Poängberäkning!$B$6:$B$97,[1]Poängberäkning!$C$6:$C$97)","v":0},null,{"$f":"LOOKUP(W55,[1]Poängberäkning!$B$6:$B$97,[1]Poängberäkning!$C$6:$C$97)","v":0},{"$f":"LARGE(($H55,$J55,$L55,$N55,$P55,$R55,$T55,$V55,$X55),1)","v":0},{"$f":"LARGE(($H55,$J55,$L55,$N55,$P55,$R55,$T55,$V55,$X55),2)","v":0},{"$f":"LARGE(($H55,$J55,$L55,$N55,$P55,$R55,$T55,$V55,$X55),3)","v":0},{"$f":"LARGE(($H55,$J55,$L55,$N55,$P55,$R55,$T55,$V55,$X55),4)","v":0},{"$f":"LARGE(($H55,$J55,$L55,$N55,$P55,$R55,$T55,$V55,$X55),5)","v":0},{"$f":"LARGE(($H55,$J55,$L55,$N55,$P55,$R55,$T55,$V55,$X55),6)","v":0},{"$f":"LARGE(($H55,$J55,$L55,$N55,$P55,$R55,$T55,$V55,$X55),7)","v":0},{"$f":"LARGE(($H55,$J55,$L55,$N55,$P55,$R55,$T55,$V55,$X55),8)","v":0},{"$f":"LARGE(($H55,$J55,$L55,$N55,$P55,$R55,$T55,$V55,$X55),9)","v":0}]
[52,null,null,null,0,0,null,{"$f":"LOOKUP(G56,Poängberäkning!$B$6:$B$97,Poängberäkning!$C$6:$C$97)","v":0},null,{"$f":"LOOKUP(I56,Poängberäkning!$B$6:$B$97,Poängberäkning!$C$6:$C$97)","v":0},null,{"$f":"LOOKUP(K56,Poängberäkning!$B$6:$B$97,Poängberäkning!$C$6:$C$97)","v":0},null,{"$f":"LOOKUP(M56,Poängberäkning!$B$6:$B$97,Poängberäkning!$C$6:$C$97)","v":0},null,{"$f":"LOOKUP(O56,Poängberäkning!$B$6:$B$97,Poängberäkning!$C$6:$C$97)","v":0},null,{"$f":"LOOKUP(Q56,[1]Poängberäkning!$B$6:$B$97,[1]Poängberäkning!$C$6:$C$97)","v":0},null,{"$f":"LOOKUP(S56,[1]Poängberäkning!$B$6:$B$97,[1]Poängberäkning!$C$6:$C$97)","v":0},null,{"$f":"LOOKUP(U56,[1]Poängberäkning!$B$6:$B$97,[1]Poängberäkning!$C$6:$C$97)","v":0},null,{"$f":"LOOKUP(W56,[1]Poängberäkning!$B$6:$B$97,[1]Poängberäkning!$C$6:$C$97)","v":0},{"$f":"LARGE(($H56,$J56,$L56,$N56,$P56,$R56,$T56,$V56,$X56),1)","v":0},{"$f":"LARGE(($H56,$J56,$L56,$N56,$P56,$R56,$T56,$V56,$X56),2)","v":0},{"$f":"LARGE(($H56,$J56,$L56,$N56,$P56,$R56,$T56,$V56,$X56),3)","v":0},{"$f":"LARGE(($H56,$J56,$L56,$N56,$P56,$R56,$T56,$V56,$X56),4)","v":0},{"$f":"LARGE(($H56,$J56,$L56,$N56,$P56,$R56,$T56,$V56,$X56),5)","v":0},{"$f":"LARGE(($H56,$J56,$L56,$N56,$P56,$R56,$T56,$V56,$X56),6)","v":0},{"$f":"LARGE(($H56,$J56,$L56,$N56,$P56,$R56,$T56,$V56,$X56),7)","v":0},{"$f":"LARGE(($H56,$J56,$L56,$N56,$P56,$R56,$T56,$V56,$X56),8)","v":0},{"$f":"LARGE(($H56,$J56,$L56,$N56,$P56,$R56,$T56,$V56,$X56),9)","v":0}]
[53,null,null,null,0,0,null,{"$f":"LOOKUP(G57,Poängberäkning!$B$6:$B$97,Poängberäkning!$C$6:$C$97)","v":0},null,{"$f":"LOOKUP(I57,Poängberäkning!$B$6:$B$97,Poängberäkning!$C$6:$C$97)","v":0},null,{"$f":"LOOKUP(K57,Poängberäkning!$B$6:$B$97,Poängberäkning!$C$6:$C$97)","v":0},null,{"$f":"LOOKUP(M57,Poängberäkning!$B$6:$B$97,Poängberäkning!$C$6:$C$97)","v":0},null,{"$f":"LOOKUP(O57,Poängberäkning!$B$6:$B$97,Poängberäkning!$C$6:$C$97)","v":0},null,{"$f":"LOOKUP(Q57,[1]Poängberäkning!$B$6:$B$97,[1]Poängberäkning!$C$6:$C$97)","v":0},null,{"$f":"LOOKUP(S57,[1]Poängberäkning!$B$6:$B$97,[1]Poängberäkning!$C$6:$C$97)","v":0},null,{"$f":"LOOKUP(U57,[1]Poängberäkning!$B$6:$B$97,[1]Poängberäkning!$C$6:$C$97)","v":0},null,{"$f":"LOOKUP(W57,[1]Poängberäkning!$B$6:$B$97,[1]Poängberäkning!$C$6:$C$97)","v":0},{"$f":"LARGE(($H57,$J57,$L57,$N57,$P57,$R57,$T57,$V57,$X57),1)","v":0},{"$f":"LARGE(($H57,$J57,$L57,$N57,$P57,$R57,$T57,$V57,$X57),2)","v":0},{"$f":"LARGE(($H57,$J57,$L57,$N57,$P57,$R57,$T57,$V57,$X57),3)","v":0},{"$f":"LARGE(($H57,$J57,$L57,$N57,$P57,$R57,$T57,$V57,$X57),4)","v":0},{"$f":"LARGE(($H57,$J57,$L57,$N57,$P57,$R57,$T57,$V57,$X57),5)","v":0},{"$f":"LARGE(($H57,$J57,$L57,$N57,$P57,$R57,$T57,$V57,$X57),6)","v":0},{"$f":"LARGE(($H57,$J57,$L57,$N57,$P57,$R57,$T57,$V57,$X57),7)","v":0},{"$f":"LARGE(($H57,$J57,$L57,$N57,$P57,$R57,$T57,$V57,$X57),8)","v":0},{"$f":"LARGE(($H57,$J57,$L57,$N57,$P57,$R57,$T57,$V57,$X57),9)","v":0}]
[54,null,null,null,0,0,null,{"$f":"LOOKUP(G58,Poängberäkning!$B$6:$B$97,Poängberäkning!$C$6:$C$97)","v":0},null,{"$f":"LOOKUP(I58,Poängberäkning!$B$6:$B$97,Poängberäkning!$C$6:$C$97)","v":0},null,{"$f":"LOOKUP(K58,Poängberäkning!$B$6:$B$97,Poängberäkning!$C$6:$C$97)","v":0},null,{"$f":"LOOKUP(M58,Poängberäkning!$B$6:$B$97,Poängberäkning!$C$6:$C$97)","v":0},null,{"$f":"LOOKUP(O58,Poängberäkning!$B$6:$B$97,Poängberäkning!$C$6:$C$97)","v":0},null,{"$f":"LOOKUP(Q58,[1]Poängberäkning!$B$6:$B$97,[1]Poängberäkning!$C$6:$C$97)","v":0},null,{"$f":"LOOKUP(S58,[1]Poängberäkning!$B$6:$B$97,[1]Poängberäkning!$C$6:$C$97)","v":0},null,{"$f":"LOOKUP(U58,[1]Poängberäkning!$B$6:$B$97,[1]Poängberäkning!$C$6:$C$97)","v":0},null,{"$f":"LOOKUP(W58,[1]Poängberäkning!$B$6:$B$97,[1]Poängberäkning!$C$6:$C$97)","v":0},{"$f":"LARGE(($H58,$J58,$L58,$N58,$P58,$R58,$T58,$V58,$X58),1)","v":0},{"$f":"LARGE(($H58,$J58,$L58,$N58,$P58,$R58,$T58,$V58,$X58),2)","v":0},{"$f":"LARGE(($H58,$J58,$L58,$N58,$P58,$R58,$T58,$V58,$X58),3)","v":0},{"$f":"LARGE(($H58,$J58,$L58,$N58,$P58,$R58,$T58,$V58,$X58),4)","v":0},{"$f":"LARGE(($H58,$J58,$L58,$N58,$P58,$R58,$T58,$V58,$X58),5)","v":0},{"$f":"LARGE(($H58,$J58,$L58,$N58,$P58,$R58,$T58,$V58,$X58),6)","v":0},{"$f":"LARGE(($H58,$J58,$L58,$N58,$P58,$R58,$T58,$V58,$X58),7)","v":0},{"$f":"LARGE(($H58,$J58,$L58,$N58,$P58,$R58,$T58,$V58,$X58),8)","v":0},{"$f":"LARGE(($H58,$J58,$L58,$N58,$P58,$R58,$T58,$V58,$X58),9)","v":0}]
[55,null,null,null,0,0,null,{"$f":"LOOKUP(G59,Poängberäkning!$B$6:$B$97,Poängberäkning!$C$6:$C$97)","v":0},null,{"$f":"LOOKUP(I59,Poängberäkning!$B$6:$B$97,Poängberäkning!$C$6:$C$97)","v":0},null,{"$f":"LOOKUP(K59,Poängberäkning!$B$6:$B$97,Poängberäkning!$C$6:$C$97)","v":0},null,{"$f":"LOOKUP(M59,Poängberäkning!$B$6:$B$97,Poängberäkning!$C$6:$C$97)","v":0},null,{"$f":"LOOKUP(O59,Poängberäkning!$B$6:$B$97,Poängberäkning!$C$6:$C$97)","v":0},null,{"$f":"LOOKUP(Q59,[1]Poängberäkning!$B$6:$B$97,[1]Poängberäkning!$C$6:$C$97)","v":0},null,{"$f":"LOOKUP(S59,[1]Poängberäkning!$B$6:$B$97,[1]Poängberäkning!$C$6:$C$97)","v":0},null,{"$f":"LOOKUP(U59,[1]Poängberäkning!$B$6:$B$97,[1]Poängberäkning!$C$6:$C$97)","v":0},null,{"$f":"LOOKUP(W59,[1]Poängberäkning!$B$6:$B$97,[1]Poängberäkning!$C$6:$C$97)","v":0},{"$f":"LARGE(($H59,$J59,$L59,$N59,$P59,$R59,$T59,$V59,$X59),1)","v":0},{"$f":"LARGE(($H59,$J59,$L59,$N59,$P59,$R59,$T59,$V59,$X59),2)","v":0},{"$f":"LARGE(($H59,$J59,$L59,$N59,$P59,$R59,$T59,$V59,$X59),3)","v":0},{"$f":"LARGE(($H59,$J59,$L59,$N59,$P59,$R59,$T59,$V59,$X59),4)","v":0},{"$f":"LARGE(($H59,$J59,$L59,$N59,$P59,$R59,$T59,$V59,$X59),5)","v":0},{"$f":"LARGE(($H59,$J59,$L59,$N59,$P59,$R59,$T59,$V59,$X59),6)","v":0},{"$f":"LARGE(($H59,$J59,$L59,$N59,$P59,$R59,$T59,$V59,$X59),7)","v":0},{"$f":"LARGE(($H59,$J59,$L59,$N59,$P59,$R59,$T59,$V59,$X59),8)","v":0},{"$f":"LARGE(($H59,$J59,$L59,$N59,$P59,$R59,$T59,$V59,$X59),9)","v":0}]
[56,null,null,null,0,0,null,{"$f":"LOOKUP(G60,Poängberäkning!$B$6:$B$97,Poängberäkning!$C$6:$C$97)","v":0},null,{"$f":"LOOKUP(I60,Poängberäkning!$B$6:$B$97,Poängberäkning!$C$6:$C$97)","v":0},null,{"$f":"LOOKUP(K60,Poängberäkning!$B$6:$B$97,Poängberäkning!$C$6:$C$97)","v":0},null,{"$f":"LOOKUP(M60,Poängberäkning!$B$6:$B$97,Poängberäkning!$C$6:$C$97)","v":0},null,{"$f":"LOOKUP(O60,Poängberäkning!$B$6:$B$97,Poängberäkning!$C$6:$C$97)","v":0},null,{"$f":"LOOKUP(Q60,[1]Poängberäkning!$B$6:$B$97,[1]Poängberäkning!$C$6:$C$97)","v":0},null,{"$f":"LOOKUP(S60,[1]Poängberäkning!$B$6:$B$97,[1]Poängberäkning!$C$6:$C$97)","v":0},null,{"$f":"LOOKUP(U60,[1]Poängberäkning!$B$6:$B$97,[1]Poängberäkning!$C$6:$C$97)","v":0},null,{"$f":"LOOKUP(W60,[1]Poängberäkning!$B$6:$B$97,[1]Poängberäkning!$C$6:$C$97)","v":0},{"$f":"LARGE(($H60,$J60,$L60,$N60,$P60,$R60,$T60,$V60,$X60),1)","v":0},{"$f":"LARGE(($H60,$J60,$L60,$N60,$P60,$R60,$T60,$V60,$X60),2)","v":0},{"$f":"LARGE(($H60,$J60,$L60,$N60,$P60,$R60,$T60,$V60,$X60),3)","v":0},{"$f":"LARGE(($H60,$J60,$L60,$N60,$P60,$R60,$T60,$V60,$X60),4)","v":0},{"$f":"LARGE(($H60,$J60,$L60,$N60,$P60,$R60,$T60,$V60,$X60),5)","v":0},{"$f":"LARGE(($H60,$J60,$L60,$N60,$P60,$R60,$T60,$V60,$X60),6)","v":0},{"$f":"LARGE(($H60,$J60,$L60,$N60,$P60,$R60,$T60,$V60,$X60),7)","v":0},{"$f":"LARGE(($H60,$J60,$L60,$N60,$P60,$R60,$T60,$V60,$X60),8)","v":0},{"$f":"LARGE(($H60,$J60,$L60,$N60,$P60,$R60,$T60,$V60,$X60),9)","v":0}]
[57,null,null,null,0,0,null,{"$f":"LOOKUP(G61,Poängberäkning!$B$6:$B$97,Poängberäkning!$C$6:$C$97)","v":0},null,{"$f":"LOOKUP(I61,Poängberäkning!$B$6:$B$97,Poängberäkning!$C$6:$C$97)","v":0},null,{"$f":"LOOKUP(K61,Poängberäkning!$B$6:$B$97,Poängberäkning!$C$6:$C$97)","v":0},null,{"$f":"LOOKUP(M61,Poängberäkning!$B$6:$B$97,Poängberäkning!$C$6:$C$97)","v":0},null,{"$f":"LOOKUP(O61,Poängberäkning!$B$6:$B$97,Poängberäkning!$C$6:$C$97)","v":0},null,{"$f":"LOOKUP(Q61,[1]Poängberäkning!$B$6:$B$97,[1]Poängberäkning!$C$6:$C$97)","v":0},null,{"$f":"LOOKUP(S61,[1]Poängberäkning!$B$6:$B$97,[1]Poängberäkning!$C$6:$C$97)","v":0},null,{"$f":"LOOKUP(U61,[1]Poängberäkning!$B$6:$B$97,[1]Poängberäkning!$C$6:$C$97)","v":0},null,{"$f":"LOOKUP(W61,[1]Poängberäkning!$B$6:$B$97,[1]Poängberäkning!$C$6:$C$97)","v":0},{"$f":"LARGE(($H61,$J61,$L61,$N61,$P61,$R61,$T61,$V61,$X61),1)","v":0},{"$f":"LARGE(($H61,$J61,$L61,$N61,$P61,$R61,$T61,$V61,$X61),2)","v":0},{"$f":"LARGE(($H61,$J61,$L61,$N61,$P61,$R61,$T61,$V61,$X61),3)","v":0},{"$f":"LARGE(($H61,$J61,$L61,$N61,$P61,$R61,$T61,$V61,$X61),4)","v":0},{"$f":"LARGE(($H61,$J61,$L61,$N61,$P61,$R61,$T61,$V61,$X61),5)","v":0},{"$f":"LARGE(($H61,$J61,$L61,$N61,$P61,$R61,$T61,$V61,$X61),6)","v":0},{"$f":"LARGE(($H61,$J61,$L61,$N61,$P61,$R61,$T61,$V61,$X61),7)","v":0},{"$f":"LARGE(($H61,$J61,$L61,$N61,$P61,$R61,$T61,$V61,$X61),8)","v":0},{"$f":"LARGE(($H61,$J61,$L61,$N61,$P61,$R61,$T61,$V61,$X61),9)","v":0}]
[58,null,null,null,0,0,null,{"$f":"LOOKUP(G62,Poängberäkning!$B$6:$B$97,Poängberäkning!$C$6:$C$97)","v":0},null,{"$f":"LOOKUP(I62,Poängberäkning!$B$6:$B$97,Poängberäkning!$C$6:$C$97)","v":0},null,{"$f":"LOOKUP(K62,Poängberäkning!$B$6:$B$97,Poängberäkning!$C$6:$C$97)","v":0},null,{"$f":"LOOKUP(M62,Poängberäkning!$B$6:$B$97,Poängberäkning!$C$6:$C$97)","v":0},null,{"$f":"LOOKUP(O62,Poängberäkning!$B$6:$B$97,Poängberäkning!$C$6:$C$97)","v":0},null,{"$f":"LOOKUP(Q62,[1]Poängberäkning!$B$6:$B$97,[1]Poängberäkning!$C$6:$C$97)","v":0},null,{"$f":"LOOKUP(S62,[1]Poängberäkning!$B$6:$B$97,[1]Poängberäkning!$C$6:$C$97)","v":0},null,{"$f":"LOOKUP(U62,[1]Poängberäkning!$B$6:$B$97,[1]Poängberäkning!$C$6:$C$97)","v":0},null,{"$f":"LOOKUP(W62,[1]Poängberäkning!$B$6:$B$97,[1]Poängberäkning!$C$6:$C$97)","v":0},{"$f":"LARGE(($H62,$J62,$L62,$N62,$P62,$R62,$T62,$V62,$X62),1)","v":0},{"$f":"LARGE(($H62,$J62,$L62,$N62,$P62,$R62,$T62,$V62,$X62),2)","v":0},{"$f":"LARGE(($H62,$J62,$L62,$N62,$P62,$R62,$T62,$V62,$X62),3)","v":0},{"$f":"LARGE(($H62,$J62,$L62,$N62,$P62,$R62,$T62,$V62,$X62),4)","v":0},{"$f":"LARGE(($H62,$J62,$L62,$N62,$P62,$R62,$T62,$V62,$X62),5)","v":0},{"$f":"LARGE(($H62,$J62,$L62,$N62,$P62,$R62,$T62,$V62,$X62),6)","v":0},{"$f":"LARGE(($H62,$J62,$L62,$N62,$P62,$R62,$T62,$V62,$X62),7)","v":0},{"$f":"LARGE(($H62,$J62,$L62,$N62,$P62,$R62,$T62,$V62,$X62),8)","v":0},{"$f":"LARGE(($H62,$J62,$L62,$N62,$P62,$R62,$T62,$V62,$X62),9)","v":0}]
[59,null,null,null,0,0,null,{"$f":"LOOKUP(G63,Poängberäkning!$B$6:$B$97,Poängberäkning!$C$6:$C$97)","v":0},null,{"$f":"LOOKUP(I63,Poängberäkning!$B$6:$B$97,Poängberäkning!$C$6:$C$97)","v":0},null,{"$f":"LOOKUP(K63,Poängberäkning!$B$6:$B$97,Poängberäkning!$C$6:$C$97)","v":0},null,{"$f":"LOOKUP(M63,Poängberäkning!$B$6:$B$97,Poängberäkning!$C$6:$C$97)","v":0},null,{"$f":"LOOKUP(O63,Poängberäkning!$B$6:$B$97,Poängberäkning!$C$6:$C$97)","v":0},null,{"$f":"LOOKUP(Q63,[1]Poängberäkning!$B$6:$B$97,[1]Poängberäkning!$C$6:$C$97)","v":0},null,{"$f":"LOOKUP(S63,[1]Poängberäkning!$B$6:$B$97,[1]Poängberäkning!$C$6:$C$97)","v":0},null,{"$f":"LOOKUP(U63,[1]Poängberäkning!$B$6:$B$97,[1]Poängberäkning!$C$6:$C$97)","v":0},null,{"$f":"LOOKUP(W63,[1]Poängberäkning!$B$6:$B$97,[1]Poängberäkning!$C$6:$C$97)","v":0},{"$f":"LARGE(($H63,$J63,$L63,$N63,$P63,$R63,$T63,$V63,$X63),1)","v":0},{"$f":"LARGE(($H63,$J63,$L63,$N63,$P63,$R63,$T63,$V63,$X63),2)","v":0},{"$f":"LARGE(($H63,$J63,$L63,$N63,$P63,$R63,$T63,$V63,$X63),3)","v":0},{"$f":"LARGE(($H63,$J63,$L63,$N63,$P63,$R63,$T63,$V63,$X63),4)","v":0},{"$f":"LARGE(($H63,$J63,$L63,$N63,$P63,$R63,$T63,$V63,$X63),5)","v":0},{"$f":"LARGE(($H63,$J63,$L63,$N63,$P63,$R63,$T63,$V63,$X63),6)","v":0},{"$f":"LARGE(($H63,$J63,$L63,$N63,$P63,$R63,$T63,$V63,$X63),7)","v":0},{"$f":"LARGE(($H63,$J63,$L63,$N63,$P63,$R63,$T63,$V63,$X63),8)","v":0},{"$f":"LARGE(($H63,$J63,$L63,$N63,$P63,$R63,$T63,$V63,$X63),9)","v":0}]
[60,null,null,null,0,0,null,{"$f":"LOOKUP(G64,Poängberäkning!$B$6:$B$97,Poängberäkning!$C$6:$C$97)","v":0},null,{"$f":"LOOKUP(I64,Poängberäkning!$B$6:$B$97,Poängberäkning!$C$6:$C$97)","v":0},null,{"$f":"LOOKUP(K64,Poängberäkning!$B$6:$B$97,Poängberäkning!$C$6:$C$97)","v":0},null,{"$f":"LOOKUP(M64,Poängberäkning!$B$6:$B$97,Poängberäkning!$C$6:$C$97)","v":0},null,{"$f":"LOOKUP(O64,Poängberäkning!$B$6:$B$97,Poängberäkning!$C$6:$C$97)","v":0},null,{"$f":"LOOKUP(Q64,[1]Poängberäkning!$B$6:$B$97,[1]Poängberäkning!$C$6:$C$97)","v":0},null,{"$f":"LOOKUP(S64,[1]Poängberäkning!$B$6:$B$97,[1]Poängberäkning!$C$6:$C$97)","v":0},null,{"$f":"LOOKUP(U64,[1]Poängberäkning!$B$6:$B$97,[1]Poängberäkning!$C$6:$C$97)","v":0},null,{"$f":"LOOKUP(W64,[1]Poängberäkning!$B$6:$B$97,[1]Poängberäkning!$C$6:$C$97)","v":0},{"$f":"LARGE(($H64,$J64,$L64,$N64,$P64,$R64,$T64,$V64,$X64),1)","v":0},{"$f":"LARGE(($H64,$J64,$L64,$N64,$P64,$R64,$T64,$V64,$X64),2)","v":0},{"$f":"LARGE(($H64,$J64,$L64,$N64,$P64,$R64,$T64,$V64,$X64),3)","v":0},{"$f":"LARGE(($H64,$J64,$L64,$N64,$P64,$R64,$T64,$V64,$X64),4)","v":0},{"$f":"LARGE(($H64,$J64,$L64,$N64,$P64,$R64,$T64,$V64,$X64),5)","v":0},{"$f":"LARGE(($H64,$J64,$L64,$N64,$P64,$R64,$T64,$V64,$X64),6)","v":0},{"$f":"LARGE(($H64,$J64,$L64,$N64,$P64,$R64,$T64,$V64,$X64),7)","v":0},{"$f":"LARGE(($H64,$J64,$L64,$N64,$P64,$R64,$T64,$V64,$X64),8)","v":0},{"$f":"LARGE(($H64,$J64,$L64,$N64,$P64,$R64,$T64,$V64,$X64),9)","v":0}]
[61,null,null,null,0,0,null,{"$f":"LOOKUP(G65,Poängberäkning!$B$6:$B$97,Poängberäkning!$C$6:$C$97)","v":0},null,{"$f":"LOOKUP(I65,Poängberäkning!$B$6:$B$97,Poängberäkning!$C$6:$C$97)","v":0},null,{"$f":"LOOKUP(K65,Poängberäkning!$B$6:$B$97,Poängberäkning!$C$6:$C$97)","v":0},null,{"$f":"LOOKUP(M65,Poängberäkning!$B$6:$B$97,Poängberäkning!$C$6:$C$97)","v":0},null,{"$f":"LOOKUP(O65,Poängberäkning!$B$6:$B$97,Poängberäkning!$C$6:$C$97)","v":0},null,{"$f":"LOOKUP(Q65,[1]Poängberäkning!$B$6:$B$97,[1]Poängberäkning!$C$6:$C$97)","v":0},null,{"$f":"LOOKUP(S65,[1]Poängberäkning!$B$6:$B$97,[1]Poängberäkning!$C$6:$C$97)","v":0},null,{"$f":"LOOKUP(U65,[1]Poängberäkning!$B$6:$B$97,[1]Poängberäkning!$C$6:$C$97)","v":0},null,{"$f":"LOOKUP(W65,[1]Poängberäkning!$B$6:$B$97,[1]Poängberäkning!$C$6:$C$97)","v":0},{"$f":"LARGE(($H65,$J65,$L65,$N65,$P65,$R65,$T65,$V65,$X65),1)","v":0},{"$f":"LARGE(($H65,$J65,$L65,$N65,$P65,$R65,$T65,$V65,$X65),2)","v":0},{"$f":"LARGE(($H65,$J65,$L65,$N65,$P65,$R65,$T65,$V65,$X65),3)","v":0},{"$f":"LARGE(($H65,$J65,$L65,$N65,$P65,$R65,$T65,$V65,$X65),4)","v":0},{"$f":"LARGE(($H65,$J65,$L65,$N65,$P65,$R65,$T65,$V65,$X65),5)","v":0},{"$f":"LARGE(($H65,$J65,$L65,$N65,$P65,$R65,$T65,$V65,$X65),6)","v":0},{"$f":"LARGE(($H65,$J65,$L65,$N65,$P65,$R65,$T65,$V65,$X65),7)","v":0},{"$f":"LARGE(($H65,$J65,$L65,$N65,$P65,$R65,$T65,$V65,$X65),8)","v":0},{"$f":"LARGE(($H65,$J65,$L65,$N65,$P65,$R65,$T65,$V65,$X65),9)","v":0}]
[62,null,null,null,0,0,null,{"$f":"LOOKUP(G66,Poängberäkning!$B$6:$B$97,Poängberäkning!$C$6:$C$97)","v":0},null,{"$f":"LOOKUP(I66,Poängberäkning!$B$6:$B$97,Poängberäkning!$C$6:$C$97)","v":0},null,{"$f":"LOOKUP(K66,Poängberäkning!$B$6:$B$97,Poängberäkning!$C$6:$C$97)","v":0},null,{"$f":"LOOKUP(M66,Poängberäkning!$B$6:$B$97,Poängberäkning!$C$6:$C$97)","v":0},null,{"$f":"LOOKUP(O66,Poängberäkning!$B$6:$B$97,Poängberäkning!$C$6:$C$97)","v":0},null,{"$f":"LOOKUP(Q66,[1]Poängberäkning!$B$6:$B$97,[1]Poängberäkning!$C$6:$C$97)","v":0},null,{"$f":"LOOKUP(S66,[1]Poängberäkning!$B$6:$B$97,[1]Poängberäkning!$C$6:$C$97)","v":0},null,{"$f":"LOOKUP(U66,[1]Poängberäkning!$B$6:$B$97,[1]Poängberäkning!$C$6:$C$97)","v":0},null,{"$f":"LOOKUP(W66,[1]Poängberäkning!$B$6:$B$97,[1]Poängberäkning!$C$6:$C$97)","v":0},{"$f":"LARGE(($H66,$J66,$L66,$N66,$P66,$R66,$T66,$V66,$X66),1)","v":0},{"$f":"LARGE(($H66,$J66,$L66,$N66,$P66,$R66,$T66,$V66,$X66),2)","v":0},{"$f":"LARGE(($H66,$J66,$L66,$N66,$P66,$R66,$T66,$V66,$X66),3)","v":0},{"$f":"LARGE(($H66,$J66,$L66,$N66,$P66,$R66,$T66,$V66,$X66),4)","v":0},{"$f":"LARGE(($H66,$J66,$L66,$N66,$P66,$R66,$T66,$V66,$X66),5)","v":0},{"$f":"LARGE(($H66,$J66,$L66,$N66,$P66,$R66,$T66,$V66,$X66),6)","v":0},{"$f":"LARGE(($H66,$J66,$L66,$N66,$P66,$R66,$T66,$V66,$X66),7)","v":0},{"$f":"LARGE(($H66,$J66,$L66,$N66,$P66,$R66,$T66,$V66,$X66),8)","v":0},{"$f":"LARGE(($H66,$J66,$L66,$N66,$P66,$R66,$T66,$V66,$X66),9)","v":0}]
[63,null,null,null,0,0,null,{"$f":"LOOKUP(G67,Poängberäkning!$B$6:$B$97,Poängberäkning!$C$6:$C$97)","v":0},null,{"$f":"LOOKUP(I67,Poängberäkning!$B$6:$B$97,Poängberäkning!$C$6:$C$97)","v":0},null,{"$f":"LOOKUP(K67,Poängberäkning!$B$6:$B$97,Poängberäkning!$C$6:$C$97)","v":0},null,{"$f":"LOOKUP(M67,Poängberäkning!$B$6:$B$97,Poängberäkning!$C$6:$C$97)","v":0},null,{"$f":"LOOKUP(O67,Poängberäkning!$B$6:$B$97,Poängberäkning!$C$6:$C$97)","v":0},null,{"$f":"LOOKUP(Q67,[1]Poängberäkning!$B$6:$B$97,[1]Poängberäkning!$C$6:$C$97)","v":0},null,{"$f":"LOOKUP(S67,[1]Poängberäkning!$B$6:$B$97,[1]Poängberäkning!$C$6:$C$97)","v":0},null,{"$f":"LOOKUP(U67,[1]Poängberäkning!$B$6:$B$97,[1]Poängberäkning!$C$6:$C$97)","v":0},null,{"$f":"LOOKUP(W67,[1]Poängberäkning!$B$6:$B$97,[1]Poängberäkning!$C$6:$C$97)","v":0},{"$f":"LARGE(($H67,$J67,$L67,$N67,$P67,$R67,$T67,$V67,$X67),1)","v":0},{"$f":"LARGE(($H67,$J67,$L67,$N67,$P67,$R67,$T67,$V67,$X67),2)","v":0},{"$f":"LARGE(($H67,$J67,$L67,$N67,$P67,$R67,$T67,$V67,$X67),3)","v":0},{"$f":"LARGE(($H67,$J67,$L67,$N67,$P67,$R67,$T67,$V67,$X67),4)","v":0},{"$f":"LARGE(($H67,$J67,$L67,$N67,$P67,$R67,$T67,$V67,$X67),5)","v":0},{"$f":"LARGE(($H67,$J67,$L67,$N67,$P67,$R67,$T67,$V67,$X67),6)","v":0},{"$f":"LARGE(($H67,$J67,$L67,$N67,$P67,$R67,$T67,$V67,$X67),7)","v":0},{"$f":"LARGE(($H67,$J67,$L67,$N67,$P67,$R67,$T67,$V67,$X67),8)","v":0},{"$f":"LARGE(($H67,$J67,$L67,$N67,$P67,$R67,$T67,$V67,$X67),9)","v":0}]
[64,null,null,null,0,0,null,{"$f":"LOOKUP(G68,Poängberäkning!$B$6:$B$97,Poängberäkning!$C$6:$C$97)","v":0},null,{"$f":"LOOKUP(I68,Poängberäkning!$B$6:$B$97,Poängberäkning!$C$6:$C$97)","v":0},null,{"$f":"LOOKUP(K68,Poängberäkning!$B$6:$B$97,Poängberäkning!$C$6:$C$97)","v":0},null,{"$f":"LOOKUP(M68,Poängberäkning!$B$6:$B$97,Poängberäkning!$C$6:$C$97)","v":0},null,{"$f":"LOOKUP(O68,Poängberäkning!$B$6:$B$97,Poängberäkning!$C$6:$C$97)","v":0},null,{"$f":"LOOKUP(Q68,[1]Poängberäkning!$B$6:$B$97,[1]Poängberäkning!$C$6:$C$97)","v":0},null,{"$f":"LOOKUP(S68,[1]Poängberäkning!$B$6:$B$97,[1]Poängberäkning!$C$6:$C$97)","v":0},null,{"$f":"LOOKUP(U68,[1]Poängberäkning!$B$6:$B$97,[1]Poängberäkning!$C$6:$C$97)","v":0},null,{"$f":"LOOKUP(W68,[1]Poängberäkning!$B$6:$B$97,[1]Poängberäkning!$C$6:$C$97)","v":0},{"$f":"LARGE(($H68,$J68,$L68,$N68,$P68,$R68,$T68,$V68,$X68),1)","v":0},{"$f":"LARGE(($H68,$J68,$L68,$N68,$P68,$R68,$T68,$V68,$X68),2)","v":0},{"$f":"LARGE(($H68,$J68,$L68,$N68,$P68,$R68,$T68,$V68,$X68),3)","v":0},{"$f":"LARGE(($H68,$J68,$L68,$N68,$P68,$R68,$T68,$V68,$X68),4)","v":0},{"$f":"LARGE(($H68,$J68,$L68,$N68,$P68,$R68,$T68,$V68,$X68),5)","v":0},{"$f":"LARGE(($H68,$J68,$L68,$N68,$P68,$R68,$T68,$V68,$X68),6)","v":0},{"$f":"LARGE(($H68,$J68,$L68,$N68,$P68,$R68,$T68,$V68,$X68),7)","v":0},{"$f":"LARGE(($H68,$J68,$L68,$N68,$P68,$R68,$T68,$V68,$X68),8)","v":0},{"$f":"LARGE(($H68,$J68,$L68,$N68,$P68,$R68,$T68,$V68,$X68),9)","v":0}]
[65,null,null,null,{"$f":"SUM(Y69:AA69)","v":0},{"$f":"H69+J69+L69+N69+P69+R69+T69+V69+X69","v":0},null,{"$f":"LOOKUP(G69,Poängberäkning!$B$6:$B$97,Poängberäkning!$C$6:$C$97)","v":0},null,{"$f":"LOOKUP(I69,Poängberäkning!$B$6:$B$97,Poängberäkning!$C$6:$C$97)","v":0},null,{"$f":"LOOKUP(K69,Poängberäkning!$B$6:$B$97,Poängberäkning!$C$6:$C$97)","v":0},null,{"$f":"LOOKUP(M69,Poängberäkning!$B$6:$B$97,Poängberäkning!$C$6:$C$97)","v":0},null,{"$f":"LOOKUP(O69,Poängberäkning!$B$6:$B$97,Poängberäkning!$C$6:$C$97)","v":0},null,{"$f":"LOOKUP(Q69,[1]Poängberäkning!$B$6:$B$97,[1]Poängberäkning!$C$6:$C$97)","v":0},null,{"$f":"LOOKUP(S69,[1]Poängberäkning!$B$6:$B$97,[1]Poängberäkning!$C$6:$C$97)","v":0},null,{"$f":"LOOKUP(U69,[1]Poängberäkning!$B$6:$B$97,[1]Poängberäkning!$C$6:$C$97)","v":0},null,{"$f":"LOOKUP(W69,[1]Poängberäkning!$B$6:$B$97,[1]Poängberäkning!$C$6:$C$97)","v":0},{"$f":"LARGE(($H69,$J69,$L69,$N69,$P69,$R69,$T69,$V69,$X69),1)","v":0},{"$f":"LARGE(($H69,$J69,$L69,$N69,$P69,$R69,$T69,$V69,$X69),2)","v":0},{"$f":"LARGE(($H69,$J69,$L69,$N69,$P69,$R69,$T69,$V69,$X69),3)","v":0},{"$f":"LARGE(($H69,$J69,$L69,$N69,$P69,$R69,$T69,$V69,$X69),4)","v":0},{"$f":"LARGE(($H69,$J69,$L69,$N69,$P69,$R69,$T69,$V69,$X69),5)","v":0},{"$f":"LARGE(($H69,$J69,$L69,$N69,$P69,$R69,$T69,$V69,$X69),6)","v":0},{"$f":"LARGE(($H69,$J69,$L69,$N69,$P69,$R69,$T69,$V69,$X69),7)","v":0},{"$f":"LARGE(($H69,$J69,$L69,$N69,$P69,$R69,$T69,$V69,$X69),8)","v":0},{"$f":"LARGE(($H69,$J69,$L69,$N69,$P69,$R69,$T69,$V69,$X69),9)","v":0}]
[66,null,null,null,0,0,null,{"$f":"LOOKUP(G70,Poängberäkning!$B$6:$B$97,Poängberäkning!$C$6:$C$97)","v":0},null,{"$f":"LOOKUP(I70,Poängberäkning!$B$6:$B$97,Poängberäkning!$C$6:$C$97)","v":0},null,{"$f":"LOOKUP(K70,Poängberäkning!$B$6:$B$97,Poängberäkning!$C$6:$C$97)","v":0},null,{"$f":"LOOKUP(M70,Poängberäkning!$B$6:$B$97,Poängberäkning!$C$6:$C$97)","v":0},null,{"$f":"LOOKUP(O70,Poängberäkning!$B$6:$B$97,Poängberäkning!$C$6:$C$97)","v":0},null,{"$f":"LOOKUP(Q70,[1]Poängberäkning!$B$6:$B$97,[1]Poängberäkning!$C$6:$C$97)","v":0},null,{"$f":"LOOKUP(S70,[1]Poängberäkning!$B$6:$B$97,[1]Poängberäkning!$C$6:$C$97)","v":0},null,{"$f":"LOOKUP(U70,[1]Poängberäkning!$B$6:$B$97,[1]Poängberäkning!$C$6:$C$97)","v":0},null,{"$f":"LOOKUP(W70,[1]Poängberäkning!$B$6:$B$97,[1]Poängberäkning!$C$6:$C$97)","v":0},{"$f":"LARGE(($H70,$J70,$L70,$N70,$P70,$R70,$T70,$V70,$X70),1)","v":0},{"$f":"LARGE(($H70,$J70,$L70,$N70,$P70,$R70,$T70,$V70,$X70),2)","v":0},{"$f":"LARGE(($H70,$J70,$L70,$N70,$P70,$R70,$T70,$V70,$X70),3)","v":0},{"$f":"LARGE(($H70,$J70,$L70,$N70,$P70,$R70,$T70,$V70,$X70),4)","v":0},{"$f":"LARGE(($H70,$J70,$L70,$N70,$P70,$R70,$T70,$V70,$X70),5)","v":0},{"$f":"LARGE(($H70,$J70,$L70,$N70,$P70,$R70,$T70,$V70,$X70),6)","v":0},{"$f":"LARGE(($H70,$J70,$L70,$N70,$P70,$R70,$T70,$V70,$X70),7)","v":0},{"$f":"LARGE(($H70,$J70,$L70,$N70,$P70,$R70,$T70,$V70,$X70),8)","v":0},{"$f":"LARGE(($H70,$J70,$L70,$N70,$P70,$R70,$T70,$V70,$X70),9)","v":0}]
[67,null,null,null,0,0,null,{"$f":"LOOKUP(G71,Poängberäkning!$B$6:$B$97,Poängberäkning!$C$6:$C$97)","v":0},null,{"$f":"LOOKUP(I71,Poängberäkning!$B$6:$B$97,Poängberäkning!$C$6:$C$97)","v":0},null,{"$f":"LOOKUP(K71,Poängberäkning!$B$6:$B$97,Poängberäkning!$C$6:$C$97)","v":0},null,{"$f":"LOOKUP(M71,Poängberäkning!$B$6:$B$97,Poängberäkning!$C$6:$C$97)","v":0},null,{"$f":"LOOKUP(O71,Poängberäkning!$B$6:$B$97,Poängberäkning!$C$6:$C$97)","v":0},null,{"$f":"LOOKUP(Q71,[1]Poängberäkning!$B$6:$B$97,[1]Poängberäkning!$C$6:$C$97)","v":0},null,{"$f":"LOOKUP(S71,[1]Poängberäkning!$B$6:$B$97,[1]Poängberäkning!$C$6:$C$97)","v":0},null,{"$f":"LOOKUP(U71,[1]Poängberäkning!$B$6:$B$97,[1]Poängberäkning!$C$6:$C$97)","v":0},null,{"$f":"LOOKUP(W71,[1]Poängberäkning!$B$6:$B$97,[1]Poängberäkning!$C$6:$C$97)","v":0},{"$f":"LARGE(($H71,$J71,$L71,$N71,$P71,$R71,$T71,$V71,$X71),1)","v":0},{"$f":"LARGE(($H71,$J71,$L71,$N71,$P71,$R71,$T71,$V71,$X71),2)","v":0},{"$f":"LARGE(($H71,$J71,$L71,$N71,$P71,$R71,$T71,$V71,$X71),3)","v":0},{"$f":"LARGE(($H71,$J71,$L71,$N71,$P71,$R71,$T71,$V71,$X71),4)","v":0},{"$f":"LARGE(($H71,$J71,$L71,$N71,$P71,$R71,$T71,$V71,$X71),5)","v":0},{"$f":"LARGE(($H71,$J71,$L71,$N71,$P71,$R71,$T71,$V71,$X71),6)","v":0},{"$f":"LARGE(($H71,$J71,$L71,$N71,$P71,$R71,$T71,$V71,$X71),7)","v":0},{"$f":"LARGE(($H71,$J71,$L71,$N71,$P71,$R71,$T71,$V71,$X71),8)","v":0},{"$f":"LARGE(($H71,$J71,$L71,$N71,$P71,$R71,$T71,$V71,$X71),9)","v":0}]
[{"$f":"A71+1","v":68},null,null,null,0,0,null,{"$f":"LOOKUP(G72,Poängberäkning!$B$6:$B$97,Poängberäkning!$C$6:$C$97)","v":0},null,{"$f":"LOOKUP(I72,Poängberäkning!$B$6:$B$97,Poängberäkning!$C$6:$C$97)","v":0},null,{"$f":"LOOKUP(K72,Poängberäkning!$B$6:$B$97,Poängberäkning!$C$6:$C$97)","v":0},null,{"$f":"LOOKUP(M72,Poängberäkning!$B$6:$B$97,Poängberäkning!$C$6:$C$97)","v":0},null,{"$f":"LOOKUP(O72,Poängberäkning!$B$6:$B$97,Poängberäkning!$C$6:$C$97)","v":0},null,{"$f":"LOOKUP(Q72,[1]Poängberäkning!$B$6:$B$97,[1]Poängberäkning!$C$6:$C$97)","v":0},null,{"$f":"LOOKUP(S72,[1]Poängberäkning!$B$6:$B$97,[1]Poängberäkning!$C$6:$C$97)","v":0},null,{"$f":"LOOKUP(U72,[1]Poängberäkning!$B$6:$B$97,[1]Poängberäkning!$C$6:$C$97)","v":0},null,{"$f":"LOOKUP(W72,[1]Poängberäkning!$B$6:$B$97,[1]Poängberäkning!$C$6:$C$97)","v":0},{"$f":"LARGE(($H72,$J72,$L72,$N72,$P72,$R72,$T72,$V72,$X72),1)","v":0},{"$f":"LARGE(($H72,$J72,$L72,$N72,$P72,$R72,$T72,$V72,$X72),2)","v":0},{"$f":"LARGE(($H72,$J72,$L72,$N72,$P72,$R72,$T72,$V72,$X72),3)","v":0},{"$f":"LARGE(($H72,$J72,$L72,$N72,$P72,$R72,$T72,$V72,$X72),4)","v":0},{"$f":"LARGE(($H72,$J72,$L72,$N72,$P72,$R72,$T72,$V72,$X72),5)","v":0},{"$f":"LARGE(($H72,$J72,$L72,$N72,$P72,$R72,$T72,$V72,$X72),6)","v":0},{"$f":"LARGE(($H72,$J72,$L72,$N72,$P72,$R72,$T72,$V72,$X72),7)","v":0},{"$f":"LARGE(($H72,$J72,$L72,$N72,$P72,$R72,$T72,$V72,$X72),8)","v":0},{"$f":"LARGE(($H72,$J72,$L72,$N72,$P72,$R72,$T72,$V72,$X72),9)","v":0}]
[69,null,null,null,0,0,null,{"$f":"LOOKUP(G73,Poängberäkning!$B$6:$B$97,Poängberäkning!$C$6:$C$97)","v":0},null,{"$f":"LOOKUP(I73,Poängberäkning!$B$6:$B$97,Poängberäkning!$C$6:$C$97)","v":0},null,{"$f":"LOOKUP(K73,Poängberäkning!$B$6:$B$97,Poängberäkning!$C$6:$C$97)","v":0},null,{"$f":"LOOKUP(M73,Poängberäkning!$B$6:$B$97,Poängberäkning!$C$6:$C$97)","v":0},null,{"$f":"LOOKUP(O73,Poängberäkning!$B$6:$B$97,Poängberäkning!$C$6:$C$97)","v":0},null,{"$f":"LOOKUP(Q73,[1]Poängberäkning!$B$6:$B$97,[1]Poängberäkning!$C$6:$C$97)","v":0},null,{"$f":"LOOKUP(S73,[1]Poängberäkning!$B$6:$B$97,[1]Poängberäkning!$C$6:$C$97)","v":0},null,{"$f":"LOOKUP(U73,[1]Poängberäkning!$B$6:$B$97,[1]Poängberäkning!$C$6:$C$97)","v":0},null,{"$f":"LOOKUP(W73,[1]Poängberäkning!$B$6:$B$97,[1]Poängberäkning!$C$6:$C$97)","v":0},{"$f":"LARGE(($H73,$J73,$L73,$N73,$P73,$R73,$T73,$V73,$X73),1)","v":0},{"$f":"LARGE(($H73,$J73,$L73,$N73,$P73,$R73,$T73,$V73,$X73),2)","v":0},{"$f":"LARGE(($H73,$J73,$L73,$N73,$P73,$R73,$T73,$V73,$X73),3)","v":0},{"$f":"LARGE(($H73,$J73,$L73,$N73,$P73,$R73,$T73,$V73,$X73),4)","v":0},{"$f":"LARGE(($H73,$J73,$L73,$N73,$P73,$R73,$T73,$V73,$X73),5)","v":0},{"$f":"LARGE(($H73,$J73,$L73,$N73,$P73,$R73,$T73,$V73,$X73),6)","v":0},{"$f":"LARGE(($H73,$J73,$L73,$N73,$P73,$R73,$T73,$V73,$X73),7)","v":0},{"$f":"LARGE(($H73,$J73,$L73,$N73,$P73,$R73,$T73,$V73,$X73),8)","v":0},{"$f":"LARGE(($H73,$J73,$L73,$N73,$P73,$R73,$T73,$V73,$X73),9)","v":0}]
[70,null,null,null,0,0,null,{"$f":"LOOKUP(G74,Poängberäkning!$B$6:$B$97,Poängberäkning!$C$6:$C$97)","v":0},null,{"$f":"LOOKUP(I74,Poängberäkning!$B$6:$B$97,Poängberäkning!$C$6:$C$97)","v":0},null,{"$f":"LOOKUP(K74,Poängberäkning!$B$6:$B$97,Poängberäkning!$C$6:$C$97)","v":0},null,{"$f":"LOOKUP(M74,Poängberäkning!$B$6:$B$97,Poängberäkning!$C$6:$C$97)","v":0},null,{"$f":"LOOKUP(O74,Poängberäkning!$B$6:$B$97,Poängberäkning!$C$6:$C$97)","v":0},null,{"$f":"LOOKUP(Q74,[1]Poängberäkning!$B$6:$B$97,[1]Poängberäkning!$C$6:$C$97)","v":0},null,{"$f":"LOOKUP(S74,[1]Poängberäkning!$B$6:$B$97,[1]Poängberäkning!$C$6:$C$97)","v":0},null,{"$f":"LOOKUP(U74,[1]Poängberäkning!$B$6:$B$97,[1]Poängberäkning!$C$6:$C$97)","v":0},null,{"$f":"LOOKUP(W74,[1]Poängberäkning!$B$6:$B$97,[1]Poängberäkning!$C$6:$C$97)","v":0},{"$f":"LARGE(($H74,$J74,$L74,$N74,$P74,$R74,$T74,$V74,$X74),1)","v":0},{"$f":"LARGE(($H74,$J74,$L74,$N74,$P74,$R74,$T74,$V74,$X74),2)","v":0},{"$f":"LARGE(($H74,$J74,$L74,$N74,$P74,$R74,$T74,$V74,$X74),3)","v":0},{"$f":"LARGE(($H74,$J74,$L74,$N74,$P74,$R74,$T74,$V74,$X74),4)","v":0},{"$f":"LARGE(($H74,$J74,$L74,$N74,$P74,$R74,$T74,$V74,$X74),5)","v":0},{"$f":"LARGE(($H74,$J74,$L74,$N74,$P74,$R74,$T74,$V74,$X74),6)","v":0},{"$f":"LARGE(($H74,$J74,$L74,$N74,$P74,$R74,$T74,$V74,$X74),7)","v":0},{"$f":"LARGE(($H74,$J74,$L74,$N74,$P74,$R74,$T74,$V74,$X74),8)","v":0},{"$f":"LARGE(($H74,$J74,$L74,$N74,$P74,$R74,$T74,$V74,$X74),9)","v":0}]
[71,null,null,null,0,0,null,{"$f":"LOOKUP(G75,Poängberäkning!$B$6:$B$97,Poängberäkning!$C$6:$C$97)","v":0},null,{"$f":"LOOKUP(I75,Poängberäkning!$B$6:$B$97,Poängberäkning!$C$6:$C$97)","v":0},null,{"$f":"LOOKUP(K75,Poängberäkning!$B$6:$B$97,Poängberäkning!$C$6:$C$97)","v":0},null,{"$f":"LOOKUP(M75,Poängberäkning!$B$6:$B$97,Poängberäkning!$C$6:$C$97)","v":0},null,{"$f":"LOOKUP(O75,Poängberäkning!$B$6:$B$97,Poängberäkning!$C$6:$C$97)","v":0},null,{"$f":"LOOKUP(Q75,[1]Poängberäkning!$B$6:$B$97,[1]Poängberäkning!$C$6:$C$97)","v":0},null,{"$f":"LOOKUP(S75,[1]Poängberäkning!$B$6:$B$97,[1]Poängberäkning!$C$6:$C$97)","v":0},null,{"$f":"LOOKUP(U75,[1]Poängberäkning!$B$6:$B$97,[1]Poängberäkning!$C$6:$C$97)","v":0},null,{"$f":"LOOKUP(W75,[1]Poängberäkning!$B$6:$B$97,[1]Poängberäkning!$C$6:$C$97)","v":0},{"$f":"LARGE(($H75,$J75,$L75,$N75,$P75,$R75,$T75,$V75,$X75),1)","v":0},{"$f":"LARGE(($H75,$J75,$L75,$N75,$P75,$R75,$T75,$V75,$X75),2)","v":0},{"$f":"LARGE(($H75,$J75,$L75,$N75,$P75,$R75,$T75,$V75,$X75),3)","v":0},{"$f":"LARGE(($H75,$J75,$L75,$N75,$P75,$R75,$T75,$V75,$X75),4)","v":0},{"$f":"LARGE(($H75,$J75,$L75,$N75,$P75,$R75,$T75,$V75,$X75),5)","v":0},{"$f":"LARGE(($H75,$J75,$L75,$N75,$P75,$R75,$T75,$V75,$X75),6)","v":0},{"$f":"LARGE(($H75,$J75,$L75,$N75,$P75,$R75,$T75,$V75,$X75),7)","v":0},{"$f":"LARGE(($H75,$J75,$L75,$N75,$P75,$R75,$T75,$V75,$X75),8)","v":0},{"$f":"LARGE(($H75,$J75,$L75,$N75,$P75,$R75,$T75,$V75,$X75),9)","v":0}]
[72,null,null,null,0,0,null,{"$f":"LOOKUP(G76,Poängberäkning!$B$6:$B$97,Poängberäkning!$C$6:$C$97)","v":0},null,{"$f":"LOOKUP(I76,Poängberäkning!$B$6:$B$97,Poängberäkning!$C$6:$C$97)","v":0},null,{"$f":"LOOKUP(K76,Poängberäkning!$B$6:$B$97,Poängberäkning!$C$6:$C$97)","v":0},null,{"$f":"LOOKUP(M76,Poängberäkning!$B$6:$B$97,Poängberäkning!$C$6:$C$97)","v":0},null,{"$f":"LOOKUP(O76,Poängberäkning!$B$6:$B$97,Poängberäkning!$C$6:$C$97)","v":0},null,{"$f":"LOOKUP(Q76,[1]Poängberäkning!$B$6:$B$97,[1]Poängberäkning!$C$6:$C$97)","v":0},null,{"$f":"LOOKUP(S76,[1]Poängberäkning!$B$6:$B$97,[1]Poängberäkning!$C$6:$C$97)","v":0},null,{"$f":"LOOKUP(U76,[1]Poängberäkning!$B$6:$B$97,[1]Poängberäkning!$C$6:$C$97)","v":0},null,{"$f":"LOOKUP(W76,[1]Poängberäkning!$B$6:$B$97,[1]Poängberäkning!$C$6:$C$97)","v":0},{"$f":"LARGE(($H76,$J76,$L76,$N76,$P76,$R76,$T76,$V76,$X76),1)","v":0},{"$f":"LARGE(($H76,$J76,$L76,$N76,$P76,$R76,$T76,$V76,$X76),2)","v":0},{"$f":"LARGE(($H76,$J76,$L76,$N76,$P76,$R76,$T76,$V76,$X76),3)","v":0},{"$f":"LARGE(($H76,$J76,$L76,$N76,$P76,$R76,$T76,$V76,$X76),4)","v":0},{"$f":"LARGE(($H76,$J76,$L76,$N76,$P76,$R76,$T76,$V76,$X76),5)","v":0},{"$f":"LARGE(($H76,$J76,$L76,$N76,$P76,$R76,$T76,$V76,$X76),6)","v":0},{"$f":"LARGE(($H76,$J76,$L76,$N76,$P76,$R76,$T76,$V76,$X76),7)","v":0},{"$f":"LARGE(($H76,$J76,$L76,$N76,$P76,$R76,$T76,$V76,$X76),8)","v":0},{"$f":"LARGE(($H76,$J76,$L76,$N76,$P76,$R76,$T76,$V76,$X76),9)","v":0}]
[73,null,null,null,0,0,null,{"$f":"LOOKUP(G77,Poängberäkning!$B$6:$B$97,Poängberäkning!$C$6:$C$97)","v":0},null,{"$f":"LOOKUP(I77,Poängberäkning!$B$6:$B$97,Poängberäkning!$C$6:$C$97)","v":0},null,{"$f":"LOOKUP(K77,Poängberäkning!$B$6:$B$97,Poängberäkning!$C$6:$C$97)","v":0},null,{"$f":"LOOKUP(M77,Poängberäkning!$B$6:$B$97,Poängberäkning!$C$6:$C$97)","v":0},null,{"$f":"LOOKUP(O77,Poängberäkning!$B$6:$B$97,Poängberäkning!$C$6:$C$97)","v":0},null,{"$f":"LOOKUP(Q77,[1]Poängberäkning!$B$6:$B$97,[1]Poängberäkning!$C$6:$C$97)","v":0},null,{"$f":"LOOKUP(S77,[1]Poängberäkning!$B$6:$B$97,[1]Poängberäkning!$C$6:$C$97)","v":0},null,{"$f":"LOOKUP(U77,[1]Poängberäkning!$B$6:$B$97,[1]Poängberäkning!$C$6:$C$97)","v":0},null,{"$f":"LOOKUP(W77,[1]Poängberäkning!$B$6:$B$97,[1]Poängberäkning!$C$6:$C$97)","v":0},{"$f":"LARGE(($H77,$J77,$L77,$N77,$P77,$R77,$T77,$V77,$X77),1)","v":0},{"$f":"LARGE(($H77,$J77,$L77,$N77,$P77,$R77,$T77,$V77,$X77),2)","v":0},{"$f":"LARGE(($H77,$J77,$L77,$N77,$P77,$R77,$T77,$V77,$X77),3)","v":0},{"$f":"LARGE(($H77,$J77,$L77,$N77,$P77,$R77,$T77,$V77,$X77),4)","v":0},{"$f":"LARGE(($H77,$J77,$L77,$N77,$P77,$R77,$T77,$V77,$X77),5)","v":0},{"$f":"LARGE(($H77,$J77,$L77,$N77,$P77,$R77,$T77,$V77,$X77),6)","v":0},{"$f":"LARGE(($H77,$J77,$L77,$N77,$P77,$R77,$T77,$V77,$X77),7)","v":0},{"$f":"LARGE(($H77,$J77,$L77,$N77,$P77,$R77,$T77,$V77,$X77),8)","v":0},{"$f":"LARGE(($H77,$J77,$L77,$N77,$P77,$R77,$T77,$V77,$X77),9)","v":0}]
[74,null,null,null,0,0,null,{"$f":"LOOKUP(G78,Poängberäkning!$B$6:$B$97,Poängberäkning!$C$6:$C$97)","v":0},null,{"$f":"LOOKUP(I78,Poängberäkning!$B$6:$B$97,Poängberäkning!$C$6:$C$97)","v":0},null,{"$f":"LOOKUP(K78,Poängberäkning!$B$6:$B$97,Poängberäkning!$C$6:$C$97)","v":0},null,{"$f":"LOOKUP(M78,Poängberäkning!$B$6:$B$97,Poängberäkning!$C$6:$C$97)","v":0},null,{"$f":"LOOKUP(O78,Poängberäkning!$B$6:$B$97,Poängberäkning!$C$6:$C$97)","v":0},null,{"$f":"LOOKUP(Q78,[1]Poängberäkning!$B$6:$B$97,[1]Poängberäkning!$C$6:$C$97)","v":0},null,{"$f":"LOOKUP(S78,[1]Poängberäkning!$B$6:$B$97,[1]Poängberäkning!$C$6:$C$97)","v":0},null,{"$f":"LOOKUP(U78,[1]Poängberäkning!$B$6:$B$97,[1]Poängberäkning!$C$6:$C$97)","v":0},null,{"$f":"LOOKUP(W78,[1]Poängberäkning!$B$6:$B$97,[1]Poängberäkning!$C$6:$C$97)","v":0},{"$f":"LARGE(($H78,$J78,$L78,$N78,$P78,$R78,$T78,$V78,$X78),1)","v":0},{"$f":"LARGE(($H78,$J78,$L78,$N78,$P78,$R78,$T78,$V78,$X78),2)","v":0},{"$f":"LARGE(($H78,$J78,$L78,$N78,$P78,$R78,$T78,$V78,$X78),3)","v":0},{"$f":"LARGE(($H78,$J78,$L78,$N78,$P78,$R78,$T78,$V78,$X78),4)","v":0},{"$f":"LARGE(($H78,$J78,$L78,$N78,$P78,$R78,$T78,$V78,$X78),5)","v":0},{"$f":"LARGE(($H78,$J78,$L78,$N78,$P78,$R78,$T78,$V78,$X78),6)","v":0},{"$f":"LARGE(($H78,$J78,$L78,$N78,$P78,$R78,$T78,$V78,$X78),7)","v":0},{"$f":"LARGE(($H78,$J78,$L78,$N78,$P78,$R78,$T78,$V78,$X78),8)","v":0},{"$f":"LARGE(($H78,$J78,$L78,$N78,$P78,$R78,$T78,$V78,$X78),9)","v":0}]
[75,null,null,null,0,0,null,{"$f":"LOOKUP(G79,Poängberäkning!$B$6:$B$97,Poängberäkning!$C$6:$C$97)","v":0},null,{"$f":"LOOKUP(I79,Poängberäkning!$B$6:$B$97,Poängberäkning!$C$6:$C$97)","v":0},null,{"$f":"LOOKUP(K79,Poängberäkning!$B$6:$B$97,Poängberäkning!$C$6:$C$97)","v":0},null,{"$f":"LOOKUP(M79,Poängberäkning!$B$6:$B$97,Poängberäkning!$C$6:$C$97)","v":0},null,{"$f":"LOOKUP(O79,Poängberäkning!$B$6:$B$97,Poängberäkning!$C$6:$C$97)","v":0},null,{"$f":"LOOKUP(Q79,[1]Poängberäkning!$B$6:$B$97,[1]Poängberäkning!$C$6:$C$97)","v":0},null,{"$f":"LOOKUP(S79,[1]Poängberäkning!$B$6:$B$97,[1]Poängberäkning!$C$6:$C$97)","v":0},null,{"$f":"LOOKUP(U79,[1]Poängberäkning!$B$6:$B$97,[1]Poängberäkning!$C$6:$C$97)","v":0},null,{"$f":"LOOKUP(W79,[1]Poängberäkning!$B$6:$B$97,[1]Poängberäkning!$C$6:$C$97)","v":0},{"$f":"LARGE(($H79,$J79,$L79,$N79,$P79,$R79,$T79,$V79,$X79),1)","v":0},{"$f":"LARGE(($H79,$J79,$L79,$N79,$P79,$R79,$T79,$V79,$X79),2)","v":0},{"$f":"LARGE(($H79,$J79,$L79,$N79,$P79,$R79,$T79,$V79,$X79),3)","v":0},{"$f":"LARGE(($H79,$J79,$L79,$N79,$P79,$R79,$T79,$V79,$X79),4)","v":0},{"$f":"LARGE(($H79,$J79,$L79,$N79,$P79,$R79,$T79,$V79,$X79),5)","v":0},{"$f":"LARGE(($H79,$J79,$L79,$N79,$P79,$R79,$T79,$V79,$X79),6)","v":0},{"$f":"LARGE(($H79,$J79,$L79,$N79,$P79,$R79,$T79,$V79,$X79),7)","v":0},{"$f":"LARGE(($H79,$J79,$L79,$N79,$P79,$R79,$T79,$V79,$X79),8)","v":0},{"$f":"LARGE(($H79,$J79,$L79,$N79,$P79,$R79,$T79,$V79,$X79),9)","v":0}]
[{"$f":"A79+1","v":76},null,null,null,0,0,null,{"$f":"LOOKUP(G80,Poängberäkning!$B$6:$B$97,Poängberäkning!$C$6:$C$97)","v":0},null,{"$f":"LOOKUP(I80,Poängberäkning!$B$6:$B$97,Poängberäkning!$C$6:$C$97)","v":0},null,{"$f":"LOOKUP(K80,Poängberäkning!$B$6:$B$97,Poängberäkning!$C$6:$C$97)","v":0},null,{"$f":"LOOKUP(M80,Poängberäkning!$B$6:$B$97,Poängberäkning!$C$6:$C$97)","v":0},null,{"$f":"LOOKUP(O80,Poängberäkning!$B$6:$B$97,Poängberäkning!$C$6:$C$97)","v":0},null,{"$f":"LOOKUP(Q80,[1]Poängberäkning!$B$6:$B$97,[1]Poängberäkning!$C$6:$C$97)","v":0},null,{"$f":"LOOKUP(S80,[1]Poängberäkning!$B$6:$B$97,[1]Poängberäkning!$C$6:$C$97)","v":0},null,{"$f":"LOOKUP(U80,[1]Poängberäkning!$B$6:$B$97,[1]Poängberäkning!$C$6:$C$97)","v":0},null,{"$f":"LOOKUP(W80,[1]Poängberäkning!$B$6:$B$97,[1]Poängberäkning!$C$6:$C$97)","v":0},{"$f":"LARGE(($H80,$J80,$L80,$N80,$P80,$R80,$T80,$V80,$X80),1)","v":0},{"$f":"LARGE(($H80,$J80,$L80,$N80,$P80,$R80,$T80,$V80,$X80),2)","v":0},{"$f":"LARGE(($H80,$J80,$L80,$N80,$P80,$R80,$T80,$V80,$X80),3)","v":0},{"$f":"LARGE(($H80,$J80,$L80,$N80,$P80,$R80,$T80,$V80,$X80),4)","v":0},{"$f":"LARGE(($H80,$J80,$L80,$N80,$P80,$R80,$T80,$V80,$X80),5)","v":0},{"$f":"LARGE(($H80,$J80,$L80,$N80,$P80,$R80,$T80,$V80,$X80),6)","v":0},{"$f":"LARGE(($H80,$J80,$L80,$N80,$P80,$R80,$T80,$V80,$X80),7)","v":0},{"$f":"LARGE(($H80,$J80,$L80,$N80,$P80,$R80,$T80,$V80,$X80),8)","v":0},{"$f":"LARGE(($H80,$J80,$L80,$N80,$P80,$R80,$T80,$V80,$X80),9)","v":0}]
[{"$f":"A80+1","v":77},null,null,null,0,0,null,{"$f":"LOOKUP(G81,Poängberäkning!$B$6:$B$97,Poängberäkning!$C$6:$C$97)","v":0},null,{"$f":"LOOKUP(I81,Poängberäkning!$B$6:$B$97,Poängberäkning!$C$6:$C$97)","v":0},null,{"$f":"LOOKUP(K81,Poängberäkning!$B$6:$B$97,Poängberäkning!$C$6:$C$97)","v":0},null,{"$f":"LOOKUP(M81,Poängberäkning!$B$6:$B$97,Poängberäkning!$C$6:$C$97)","v":0},null,{"$f":"LOOKUP(O81,Poängberäkning!$B$6:$B$97,Poängberäkning!$C$6:$C$97)","v":0},null,{"$f":"LOOKUP(Q81,[1]Poängberäkning!$B$6:$B$97,[1]Poängberäkning!$C$6:$C$97)","v":0},null,{"$f":"LOOKUP(S81,[1]Poängberäkning!$B$6:$B$97,[1]Poängberäkning!$C$6:$C$97)","v":0},null,{"$f":"LOOKUP(U81,[1]Poängberäkning!$B$6:$B$97,[1]Poängberäkning!$C$6:$C$97)","v":0},null,{"$f":"LOOKUP(W81,[1]Poängberäkning!$B$6:$B$97,[1]Poängberäkning!$C$6:$C$97)","v":0},{"$f":"LARGE(($H81,$J81,$L81,$N81,$P81,$R81,$T81,$V81,$X81),1)","v":0},{"$f":"LARGE(($H81,$J81,$L81,$N81,$P81,$R81,$T81,$V81,$X81),2)","v":0},{"$f":"LARGE(($H81,$J81,$L81,$N81,$P81,$R81,$T81,$V81,$X81),3)","v":0},{"$f":"LARGE(($H81,$J81,$L81,$N81,$P81,$R81,$T81,$V81,$X81),4)","v":0},{"$f":"LARGE(($H81,$J81,$L81,$N81,$P81,$R81,$T81,$V81,$X81),5)","v":0},{"$f":"LARGE(($H81,$J81,$L81,$N81,$P81,$R81,$T81,$V81,$X81),6)","v":0},{"$f":"LARGE(($H81,$J81,$L81,$N81,$P81,$R81,$T81,$V81,$X81),7)","v":0},{"$f":"LARGE(($H81,$J81,$L81,$N81,$P81,$R81,$T81,$V81,$X81),8)","v":0},{"$f":"LARGE(($H81,$J81,$L81,$N81,$P81,$R81,$T81,$V81,$X81),9)","v":0}]
[{"$f":"A81+1","v":78},null,null,null,0,0,null,{"$f":"LOOKUP(G82,Poängberäkning!$B$6:$B$97,Poängberäkning!$C$6:$C$97)","v":0},null,{"$f":"LOOKUP(I82,Poängberäkning!$B$6:$B$97,Poängberäkning!$C$6:$C$97)","v":0},null,{"$f":"LOOKUP(K82,Poängberäkning!$B$6:$B$97,Poängberäkning!$C$6:$C$97)","v":0},null,{"$f":"LOOKUP(M82,Poängberäkning!$B$6:$B$97,Poängberäkning!$C$6:$C$97)","v":0},null,{"$f":"LOOKUP(O82,Poängberäkning!$B$6:$B$97,Poängberäkning!$C$6:$C$97)","v":0},null,{"$f":"LOOKUP(Q82,[1]Poängberäkning!$B$6:$B$97,[1]Poängberäkning!$C$6:$C$97)","v":0},null,{"$f":"LOOKUP(S82,[1]Poängberäkning!$B$6:$B$97,[1]Poängberäkning!$C$6:$C$97)","v":0},null,{"$f":"LOOKUP(U82,[1]Poängberäkning!$B$6:$B$97,[1]Poängberäkning!$C$6:$C$97)","v":0},null,{"$f":"LOOKUP(W82,[1]Poängberäkning!$B$6:$B$97,[1]Poängberäkning!$C$6:$C$97)","v":0},{"$f":"LARGE(($H82,$J82,$L82,$N82,$P82,$R82,$T82,$V82,$X82),1)","v":0},{"$f":"LARGE(($H82,$J82,$L82,$N82,$P82,$R82,$T82,$V82,$X82),2)","v":0},{"$f":"LARGE(($H82,$J82,$L82,$N82,$P82,$R82,$T82,$V82,$X82),3)","v":0},{"$f":"LARGE(($H82,$J82,$L82,$N82,$P82,$R82,$T82,$V82,$X82),4)","v":0},{"$f":"LARGE(($H82,$J82,$L82,$N82,$P82,$R82,$T82,$V82,$X82),5)","v":0},{"$f":"LARGE(($H82,$J82,$L82,$N82,$P82,$R82,$T82,$V82,$X82),6)","v":0},{"$f":"LARGE(($H82,$J82,$L82,$N82,$P82,$R82,$T82,$V82,$X82),7)","v":0},{"$f":"LARGE(($H82,$J82,$L82,$N82,$P82,$R82,$T82,$V82,$X82),8)","v":0},{"$f":"LARGE(($H82,$J82,$L82,$N82,$P82,$R82,$T82,$V82,$X82),9)","v":0}]
[79,null,null,null,0,0,null,{"$f":"LOOKUP(G83,Poängberäkning!$B$6:$B$97,Poängberäkning!$C$6:$C$97)","v":0},null,{"$f":"LOOKUP(I83,Poängberäkning!$B$6:$B$97,Poängberäkning!$C$6:$C$97)","v":0},null,{"$f":"LOOKUP(K83,Poängberäkning!$B$6:$B$97,Poängberäkning!$C$6:$C$97)","v":0},null,{"$f":"LOOKUP(M83,Poängberäkning!$B$6:$B$97,Poängberäkning!$C$6:$C$97)","v":0},null,{"$f":"LOOKUP(O83,Poängberäkning!$B$6:$B$97,Poängberäkning!$C$6:$C$97)","v":0},null,{"$f":"LOOKUP(Q83,[1]Poängberäkning!$B$6:$B$97,[1]Poängberäkning!$C$6:$C$97)","v":0},null,{"$f":"LOOKUP(S83,[1]Poängberäkning!$B$6:$B$97,[1]Poängberäkning!$C$6:$C$97)","v":0},null,{"$f":"LOOKUP(U83,[1]Poängberäkning!$B$6:$B$97,[1]Poängberäkning!$C$6:$C$97)","v":0},null,{"$f":"LOOKUP(W83,[1]Poängberäkning!$B$6:$B$97,[1]Poängberäkning!$C$6:$C$97)","v":0},{"$f":"LARGE(($H83,$J83,$L83,$N83,$P83,$R83,$T83,$V83,$X83),1)","v":0},{"$f":"LARGE(($H83,$J83,$L83,$N83,$P83,$R83,$T83,$V83,$X83),2)","v":0},{"$f":"LARGE(($H83,$J83,$L83,$N83,$P83,$R83,$T83,$V83,$X83),3)","v":0},{"$f":"LARGE(($H83,$J83,$L83,$N83,$P83,$R83,$T83,$V83,$X83),4)","v":0},{"$f":"LARGE(($H83,$J83,$L83,$N83,$P83,$R83,$T83,$V83,$X83),5)","v":0},{"$f":"LARGE(($H83,$J83,$L83,$N83,$P83,$R83,$T83,$V83,$X83),6)","v":0},{"$f":"LARGE(($H83,$J83,$L83,$N83,$P83,$R83,$T83,$V83,$X83),7)","v":0},{"$f":"LARGE(($H83,$J83,$L83,$N83,$P83,$R83,$T83,$V83,$X83),8)","v":0},{"$f":"LARGE(($H83,$J83,$L83,$N83,$P83,$R83,$T83,$V83,$X83),9)","v":0}]
[80,null,null,null,0,0,null,{"$f":"LOOKUP(G84,Poängberäkning!$B$6:$B$97,Poängberäkning!$C$6:$C$97)","v":0},null,{"$f":"LOOKUP(I84,Poängberäkning!$B$6:$B$97,Poängberäkning!$C$6:$C$97)","v":0},null,{"$f":"LOOKUP(K84,Poängberäkning!$B$6:$B$97,Poängberäkning!$C$6:$C$97)","v":0},null,{"$f":"LOOKUP(M84,Poängberäkning!$B$6:$B$97,Poängberäkning!$C$6:$C$97)","v":0},null,{"$f":"LOOKUP(O84,Poängberäkning!$B$6:$B$97,Poängberäkning!$C$6:$C$97)","v":0},null,{"$f":"LOOKUP(Q84,[1]Poängberäkning!$B$6:$B$97,[1]Poängberäkning!$C$6:$C$97)","v":0},null,{"$f":"LOOKUP(S84,[1]Poängberäkning!$B$6:$B$97,[1]Poängberäkning!$C$6:$C$97)","v":0},null,{"$f":"LOOKUP(U84,[1]Poängberäkning!$B$6:$B$97,[1]Poängberäkning!$C$6:$C$97)","v":0},null,{"$f":"LOOKUP(W84,[1]Poängberäkning!$B$6:$B$97,[1]Poängberäkning!$C$6:$C$97)","v":0},{"$f":"LARGE(($H84,$J84,$L84,$N84,$P84,$R84,$T84,$V84,$X84),1)","v":0},{"$f":"LARGE(($H84,$J84,$L84,$N84,$P84,$R84,$T84,$V84,$X84),2)","v":0},{"$f":"LARGE(($H84,$J84,$L84,$N84,$P84,$R84,$T84,$V84,$X84),3)","v":0},{"$f":"LARGE(($H84,$J84,$L84,$N84,$P84,$R84,$T84,$V84,$X84),4)","v":0},{"$f":"LARGE(($H84,$J84,$L84,$N84,$P84,$R84,$T84,$V84,$X84),5)","v":0},{"$f":"LARGE(($H84,$J84,$L84,$N84,$P84,$R84,$T84,$V84,$X84),6)","v":0},{"$f":"LARGE(($H84,$J84,$L84,$N84,$P84,$R84,$T84,$V84,$X84),7)","v":0},{"$f":"LARGE(($H84,$J84,$L84,$N84,$P84,$R84,$T84,$V84,$X84),8)","v":0},{"$f":"LARGE(($H84,$J84,$L84,$N84,$P84,$R84,$T84,$V84,$X84),9)","v":0}]
[81,null,null,null,0,0,null,{"$f":"LOOKUP(G85,Poängberäkning!$B$6:$B$97,Poängberäkning!$C$6:$C$97)","v":0},null,{"$f":"LOOKUP(I85,Poängberäkning!$B$6:$B$97,Poängberäkning!$C$6:$C$97)","v":0},null,{"$f":"LOOKUP(K85,Poängberäkning!$B$6:$B$97,Poängberäkning!$C$6:$C$97)","v":0},null,{"$f":"LOOKUP(M85,Poängberäkning!$B$6:$B$97,Poängberäkning!$C$6:$C$97)","v":0},null,{"$f":"LOOKUP(O85,Poängberäkning!$B$6:$B$97,Poängberäkning!$C$6:$C$97)","v":0},null,{"$f":"LOOKUP(Q85,[1]Poängberäkning!$B$6:$B$97,[1]Poängberäkning!$C$6:$C$97)","v":0},null,{"$f":"LOOKUP(S85,[1]Poängberäkning!$B$6:$B$97,[1]Poängberäkning!$C$6:$C$97)","v":0},null,{"$f":"LOOKUP(U85,[1]Poängberäkning!$B$6:$B$97,[1]Poängberäkning!$C$6:$C$97)","v":0},null,{"$f":"LOOKUP(W85,[1]Poängberäkning!$B$6:$B$97,[1]Poängberäkning!$C$6:$C$97)","v":0},{"$f":"LARGE(($H85,$J85,$L85,$N85,$P85,$R85,$T85,$V85,$X85),1)","v":0},{"$f":"LARGE(($H85,$J85,$L85,$N85,$P85,$R85,$T85,$V85,$X85),2)","v":0},{"$f":"LARGE(($H85,$J85,$L85,$N85,$P85,$R85,$T85,$V85,$X85),3)","v":0},{"$f":"LARGE(($H85,$J85,$L85,$N85,$P85,$R85,$T85,$V85,$X85),4)","v":0},{"$f":"LARGE(($H85,$J85,$L85,$N85,$P85,$R85,$T85,$V85,$X85),5)","v":0},{"$f":"LARGE(($H85,$J85,$L85,$N85,$P85,$R85,$T85,$V85,$X85),6)","v":0},{"$f":"LARGE(($H85,$J85,$L85,$N85,$P85,$R85,$T85,$V85,$X85),7)","v":0},{"$f":"LARGE(($H85,$J85,$L85,$N85,$P85,$R85,$T85,$V85,$X85),8)","v":0},{"$f":"LARGE(($H85,$J85,$L85,$N85,$P85,$R85,$T85,$V85,$X85),9)","v":0}]
[82,null,null,null,0,0,null,{"$f":"LOOKUP(G86,Poängberäkning!$B$6:$B$97,Poängberäkning!$C$6:$C$97)","v":0},null,{"$f":"LOOKUP(I86,Poängberäkning!$B$6:$B$97,Poängberäkning!$C$6:$C$97)","v":0},null,{"$f":"LOOKUP(K86,Poängberäkning!$B$6:$B$97,Poängberäkning!$C$6:$C$97)","v":0},null,{"$f":"LOOKUP(M86,Poängberäkning!$B$6:$B$97,Poängberäkning!$C$6:$C$97)","v":0},null,{"$f":"LOOKUP(O86,Poängberäkning!$B$6:$B$97,Poängberäkning!$C$6:$C$97)","v":0},null,{"$f":"LOOKUP(Q86,[1]Poängberäkning!$B$6:$B$97,[1]Poängberäkning!$C$6:$C$97)","v":0},null,{"$f":"LOOKUP(S86,[1]Poängberäkning!$B$6:$B$97,[1]Poängberäkning!$C$6:$C$97)","v":0},null,{"$f":"LOOKUP(U86,[1]Poängberäkning!$B$6:$B$97,[1]Poängberäkning!$C$6:$C$97)","v":0},null,{"$f":"LOOKUP(W86,[1]Poängberäkning!$B$6:$B$97,[1]Poängberäkning!$C$6:$C$97)","v":0},{"$f":"LARGE(($H86,$J86,$L86,$N86,$P86,$R86,$T86,$V86,$X86),1)","v":0},{"$f":"LARGE(($H86,$J86,$L86,$N86,$P86,$R86,$T86,$V86,$X86),2)","v":0},{"$f":"LARGE(($H86,$J86,$L86,$N86,$P86,$R86,$T86,$V86,$X86),3)","v":0},{"$f":"LARGE(($H86,$J86,$L86,$N86,$P86,$R86,$T86,$V86,$X86),4)","v":0},{"$f":"LARGE(($H86,$J86,$L86,$N86,$P86,$R86,$T86,$V86,$X86),5)","v":0},{"$f":"LARGE(($H86,$J86,$L86,$N86,$P86,$R86,$T86,$V86,$X86),6)","v":0},{"$f":"LARGE(($H86,$J86,$L86,$N86,$P86,$R86,$T86,$V86,$X86),7)","v":0},{"$f":"LARGE(($H86,$J86,$L86,$N86,$P86,$R86,$T86,$V86,$X86),8)","v":0},{"$f":"LARGE(($H86,$J86,$L86,$N86,$P86,$R86,$T86,$V86,$X86),9)","v":0}]
[83,null,null,null,0,0,null,{"$f":"LOOKUP(G87,Poängberäkning!$B$6:$B$97,Poängberäkning!$C$6:$C$97)","v":0},null,{"$f":"LOOKUP(I87,Poängberäkning!$B$6:$B$97,Poängberäkning!$C$6:$C$97)","v":0},null,{"$f":"LOOKUP(K87,Poängberäkning!$B$6:$B$97,Poängberäkning!$C$6:$C$97)","v":0},null,{"$f":"LOOKUP(M87,Poängberäkning!$B$6:$B$97,Poängberäkning!$C$6:$C$97)","v":0},null,{"$f":"LOOKUP(O87,Poängberäkning!$B$6:$B$97,Poängberäkning!$C$6:$C$97)","v":0},null,{"$f":"LOOKUP(Q87,[1]Poängberäkning!$B$6:$B$97,[1]Poängberäkning!$C$6:$C$97)","v":0},null,{"$f":"LOOKUP(S87,[1]Poängberäkning!$B$6:$B$97,[1]Poängberäkning!$C$6:$C$97)","v":0},null,{"$f":"LOOKUP(U87,[1]Poängberäkning!$B$6:$B$97,[1]Poängberäkning!$C$6:$C$97)","v":0},null,{"$f":"LOOKUP(W87,[1]Poängberäkning!$B$6:$B$97,[1]Poängberäkning!$C$6:$C$97)","v":0},{"$f":"LARGE(($H87,$J87,$L87,$N87,$P87,$R87,$T87,$V87,$X87),1)","v":0},{"$f":"LARGE(($H87,$J87,$L87,$N87,$P87,$R87,$T87,$V87,$X87),2)","v":0},{"$f":"LARGE(($H87,$J87,$L87,$N87,$P87,$R87,$T87,$V87,$X87),3)","v":0},{"$f":"LARGE(($H87,$J87,$L87,$N87,$P87,$R87,$T87,$V87,$X87),4)","v":0},{"$f":"LARGE(($H87,$J87,$L87,$N87,$P87,$R87,$T87,$V87,$X87),5)","v":0},{"$f":"LARGE(($H87,$J87,$L87,$N87,$P87,$R87,$T87,$V87,$X87),6)","v":0},{"$f":"LARGE(($H87,$J87,$L87,$N87,$P87,$R87,$T87,$V87,$X87),7)","v":0},{"$f":"LARGE(($H87,$J87,$L87,$N87,$P87,$R87,$T87,$V87,$X87),8)","v":0},{"$f":"LARGE(($H87,$J87,$L87,$N87,$P87,$R87,$T87,$V87,$X87),9)","v":0}]
[84,null,null,null,0,0,null,{"$f":"LOOKUP(G88,Poängberäkning!$B$6:$B$97,Poängberäkning!$C$6:$C$97)","v":0},null,{"$f":"LOOKUP(I88,Poängberäkning!$B$6:$B$97,Poängberäkning!$C$6:$C$97)","v":0},null,{"$f":"LOOKUP(K88,Poängberäkning!$B$6:$B$97,Poängberäkning!$C$6:$C$97)","v":0},null,{"$f":"LOOKUP(M88,Poängberäkning!$B$6:$B$97,Poängberäkning!$C$6:$C$97)","v":0},null,{"$f":"LOOKUP(O88,Poängberäkning!$B$6:$B$97,Poängberäkning!$C$6:$C$97)","v":0},null,{"$f":"LOOKUP(Q88,[1]Poängberäkning!$B$6:$B$97,[1]Poängberäkning!$C$6:$C$97)","v":0},null,{"$f":"LOOKUP(S88,[1]Poängberäkning!$B$6:$B$97,[1]Poängberäkning!$C$6:$C$97)","v":0},null,{"$f":"LOOKUP(U88,[1]Poängberäkning!$B$6:$B$97,[1]Poängberäkning!$C$6:$C$97)","v":0},null,{"$f":"LOOKUP(W88,[1]Poängberäkning!$B$6:$B$97,[1]Poängberäkning!$C$6:$C$97)","v":0},{"$f":"LARGE(($H88,$J88,$L88,$N88,$P88,$R88,$T88,$V88,$X88),1)","v":0},{"$f":"LARGE(($H88,$J88,$L88,$N88,$P88,$R88,$T88,$V88,$X88),2)","v":0},{"$f":"LARGE(($H88,$J88,$L88,$N88,$P88,$R88,$T88,$V88,$X88),3)","v":0},{"$f":"LARGE(($H88,$J88,$L88,$N88,$P88,$R88,$T88,$V88,$X88),4)","v":0},{"$f":"LARGE(($H88,$J88,$L88,$N88,$P88,$R88,$T88,$V88,$X88),5)","v":0},{"$f":"LARGE(($H88,$J88,$L88,$N88,$P88,$R88,$T88,$V88,$X88),6)","v":0},{"$f":"LARGE(($H88,$J88,$L88,$N88,$P88,$R88,$T88,$V88,$X88),7)","v":0},{"$f":"LARGE(($H88,$J88,$L88,$N88,$P88,$R88,$T88,$V88,$X88),8)","v":0},{"$f":"LARGE(($H88,$J88,$L88,$N88,$P88,$R88,$T88,$V88,$X88),9)","v":0}]
[85,null,null,null,0,0,null,{"$f":"LOOKUP(G89,Poängberäkning!$B$6:$B$97,Poängberäkning!$C$6:$C$97)","v":0},null,{"$f":"LOOKUP(I89,Poängberäkning!$B$6:$B$97,Poängberäkning!$C$6:$C$97)","v":0},null,{"$f":"LOOKUP(K89,Poängberäkning!$B$6:$B$97,Poängberäkning!$C$6:$C$97)","v":0},null,{"$f":"LOOKUP(M89,Poängberäkning!$B$6:$B$97,Poängberäkning!$C$6:$C$97)","v":0},null,{"$f":"LOOKUP(O89,Poängberäkning!$B$6:$B$97,Poängberäkning!$C$6:$C$97)","v":0},null,{"$f":"LOOKUP(Q89,[1]Poängberäkning!$B$6:$B$97,[1]Poängberäkning!$C$6:$C$97)","v":0},null,{"$f":"LOOKUP(S89,[1]Poängberäkning!$B$6:$B$97,[1]Poängberäkning!$C$6:$C$97)","v":0},null,{"$f":"LOOKUP(U89,[1]Poängberäkning!$B$6:$B$97,[1]Poängberäkning!$C$6:$C$97)","v":0},null,{"$f":"LOOKUP(W89,[1]Poängberäkning!$B$6:$B$97,[1]Poängberäkning!$C$6:$C$97)","v":0},{"$f":"LARGE(($H89,$J89,$L89,$N89,$P89,$R89,$T89,$V89,$X89),1)","v":0},{"$f":"LARGE(($H89,$J89,$L89,$N89,$P89,$R89,$T89,$V89,$X89),2)","v":0},{"$f":"LARGE(($H89,$J89,$L89,$N89,$P89,$R89,$T89,$V89,$X89),3)","v":0},{"$f":"LARGE(($H89,$J89,$L89,$N89,$P89,$R89,$T89,$V89,$X89),4)","v":0},{"$f":"LARGE(($H89,$J89,$L89,$N89,$P89,$R89,$T89,$V89,$X89),5)","v":0},{"$f":"LARGE(($H89,$J89,$L89,$N89,$P89,$R89,$T89,$V89,$X89),6)","v":0},{"$f":"LARGE(($H89,$J89,$L89,$N89,$P89,$R89,$T89,$V89,$X89),7)","v":0},{"$f":"LARGE(($H89,$J89,$L89,$N89,$P89,$R89,$T89,$V89,$X89),8)","v":0},{"$f":"LARGE(($H89,$J89,$L89,$N89,$P89,$R89,$T89,$V89,$X89),9)","v":0}]
[{"$f":"A89+1","v":86},null,null,null,0,0,null,{"$f":"LOOKUP(G90,Poängberäkning!$B$6:$B$97,Poängberäkning!$C$6:$C$97)","v":0},null,{"$f":"LOOKUP(I90,Poängberäkning!$B$6:$B$97,Poängberäkning!$C$6:$C$97)","v":0},null,{"$f":"LOOKUP(K90,Poängberäkning!$B$6:$B$97,Poängberäkning!$C$6:$C$97)","v":0},null,{"$f":"LOOKUP(M90,Poängberäkning!$B$6:$B$97,Poängberäkning!$C$6:$C$97)","v":0},null,{"$f":"LOOKUP(O90,Poängberäkning!$B$6:$B$97,Poängberäkning!$C$6:$C$97)","v":0},null,{"$f":"LOOKUP(Q90,[1]Poängberäkning!$B$6:$B$97,[1]Poängberäkning!$C$6:$C$97)","v":0},null,{"$f":"LOOKUP(S90,[1]Poängberäkning!$B$6:$B$97,[1]Poängberäkning!$C$6:$C$97)","v":0},null,{"$f":"LOOKUP(U90,[1]Poängberäkning!$B$6:$B$97,[1]Poängberäkning!$C$6:$C$97)","v":0},null,{"$f":"LOOKUP(W90,[1]Poängberäkning!$B$6:$B$97,[1]Poängberäkning!$C$6:$C$97)","v":0},{"$f":"LARGE(($H90,$J90,$L90,$N90,$P90,$R90,$T90,$V90,$X90),1)","v":0},{"$f":"LARGE(($H90,$J90,$L90,$N90,$P90,$R90,$T90,$V90,$X90),2)","v":0},{"$f":"LARGE(($H90,$J90,$L90,$N90,$P90,$R90,$T90,$V90,$X90),3)","v":0},{"$f":"LARGE(($H90,$J90,$L90,$N90,$P90,$R90,$T90,$V90,$X90),4)","v":0},{"$f":"LARGE(($H90,$J90,$L90,$N90,$P90,$R90,$T90,$V90,$X90),5)","v":0},{"$f":"LARGE(($H90,$J90,$L90,$N90,$P90,$R90,$T90,$V90,$X90),6)","v":0},{"$f":"LARGE(($H90,$J90,$L90,$N90,$P90,$R90,$T90,$V90,$X90),7)","v":0},{"$f":"LARGE(($H90,$J90,$L90,$N90,$P90,$R90,$T90,$V90,$X90),8)","v":0},{"$f":"LARGE(($H90,$J90,$L90,$N90,$P90,$R90,$T90,$V90,$X90),9)","v":0}]

{"sheet":"D-17-","index":11,"n_rows":90,"n_cols":33,"rows_kept":90,"cut":false,"hidden":false,"merged":[[1,20,2,21],[2,24,3,32],[3,6,3,7],[3,8,3,9],[3,10,3,11],[3,12,3,13],[3,14,3,15],[3,16,3,17],[3,18,3,19],[3,20,3,21],[3,22,3,23],[1,16,2,17],[1,18,2,19],[1,22,2,23],[2,4,2,5],[0,2,0,15],[1,0,2,1],[1,2,2,3],[1,4,1,5],[1,6,2,7],[1,8,2,9],[1,10,2,11],[1,12,2,13],[1,14,2,15]]}
[]
["D 17-",null,null,null,null,null,"Sälen GS",null,"Falun GS",null,"Norrbärke SL",null,"Borlänge SL",null,"Orsa GS",null,"Falun SL",null,"Falun SL",null,"Deltävling",null,"Deltävling",null,"1:a","2:a","3:e","4:e","5:e","6:e","7:e","8:e","9:e"]
[null,null,null,null,"Poäng",null,null,null,null,null,null,null,null,null,null,null,null,null,null,null,null,null,null,null,"De 7 bästa åken.                         "]
["Rang","Född","Namn","Klubb","5 Bästa","Totalt","Sö 24/1   Tot",null,"Sö 14/2      Tot",null,"Sö 21/2    Tot",null,"Lö 27/2   Tot",null,"Lö 2/4   Tot",null,"Lö 16/1",null,"Sö 17/1"]
[1,1997,"MIDÉR Fanny","Norrbärke SK Alpin",{"$f":"SUM(Y5:AC5)","v":374},{"$f":"H5+J5+L5+N5+P5+R5+T5+V5+X5","v":374},99,{"$f":"LOOKUP(G5,Poängberäkning!$B$6:$B$97,Poängberäkning!$C$6:$C$97)","v":0},3,{"$f":"LOOKUP(I5,Poängberäkning!$B$6:$B$97,Poängberäkning!$C$6:$C$97)","v":70},1,{"$f":"LOOKUP(K5,Poängberäkning!$B$6:$B$97,Poängberäkning!$C$6:$C$97)","v":100},1,{"$f":"LOOKUP(M5,Poängberäkning!$B$6:$B$97,Poängberäkning!$C$6:$C$97)","v":100},2,{"$f":"LOOKUP(O5,Poängberäkning!$B$6:$B$97,Poängberäkning!$C$6:$C$97)","v":80},99,{"$f":"LOOKUP(Q5,[1]Poängberäkning!$B$6:$B$97,[1]Poängberäkning!$C$6:$C$97)","v":0},27,{"$f":"LOOKUP(S5,[1]Poängberäkning!$B$6:$B$97,[1]Poängberäkning!$C$6:$C$97)","v":24},null,{"$f":"LOOKUP(U5,[1]Poängberäkning!$B$6:$B$97,[1]Poängberäkning!$C$6:$C$97)","v":0},null,{"$f":"LOOKUP(W5,[1]Poängberäkning!$B$6:$B$97,[1]Poängberäkning!$C$6:$C$97)","v":0},{"$f":"LARGE(($H5,$J5,$L5,$N5,$P5,$R5,$T5,$V5,$X5),1)","v":100},{"$f":"LARGE(($H5,$J5,$L5,$N5,$P5,$R5,$T5,$V5,$X5),2)","v":100},{"$f":"LARGE(($H5,$J5,$L5,$N5,$P5,$R5,$T5,$V5,$X5),3)","v":80},{"$f":"LARGE(($H5,$J5,$L5,$N5,$P5,$R5,$T5,$V5,$X5),4)","v":70},{"$f":"LARGE(($H5,$J5,$L5,$N5,$P5,$R5,$T5,$V5,$X5),5)","v":24},{"$f":"LARGE(($H5,$J5,$L5,$N5,$P5,$R5,$T5,$V5,$X5),6)","v":0},{"$f":"LARGE(($H5,$J5,$L5,$N5,$P5,$R5,$T5,$V5,$X5),7)","v":0},{"$f":"LARGE(($H5,$J5,$L5,$N5,$P5,$R5,$T5,$V5,$X5),8)","v":0},{"$f":"LARGE(($H5,$J5,$L5,$N5,$P5,$R5,$T5,$V5,$X5),9)","v":0}]
[{"$f":"A5+1","v":2},1999,"WÄHL Emma","Norrbärke SK Alpin",365,373,1,{"$f":"LOOKUP(G6,Poängberäkning!$B$6:$B$97,Poängberäkning!$C$6:$C$97)","v":100},5,{"$f":"LOOKUP(I6,Poängberäkning!$B$6:$B$97,Poängberäkning!$C$6:$C$97)","v":55},3,{"$f":"LOOKUP(K6,Poängberäkning!$B$6:$B$97,Poängberäkning!$C$6:$C$97)","v":70},2,{"$f":"LOOKUP(M6,Poängberäkning!$B$6:$B$97,Poängberäkning!$C$6:$C$97)","v":80},4,{"$f":"LOOKUP(O6,Poängberäkning!$B$6:$B$97,Poängberäkning!$C$6:$C$97)","v":60},43,{"$f":"LOOKUP(Q6,[1]Poängberäkning!$B$6:$B$97,[1]Poängberäkning!$C$6:$C$97)","v":8},99,{"$f":"LOOKUP(S6,[1]Poängberäkning!$B$6:$B$97,[1]Poängberäkning!$C$6:$C$97)","v":0},null,{"$f":"LOOKUP(U6,[1]Poängberäkning!$B$6:$B$97,[1]Poängberäkning!$C$6:$C$97)","v":0},null,{"$f":"LOOKUP(W6,[1]Poängberäkning!$B$6:$B$97,[1]Poängberäkning!$C$6:$C$97)","v":0},{"$f":"LARGE(($H6,$J6,$L6,$N6,$P6,$R6,$T6,$V6,$X6),1)","v":100},{"$f":"LARGE(($H6,$J6,$L6,$N6,$P6,$R6,$T6,$V6,$X6),2)","v":80},{"$f":"LARGE(($H6,$J6,$L6,$N6,$P6,$R6,$T6,$V6,$X6),3)","v":70},{"$f":"LARGE(($H6,$J6,$L6,$N6,$P6,$R6,$T6,$V6,$X6),4)","v":60},{"$f":"LARGE(($H6,$J6,$L6,$N6,$P6,$R6,$T6,$V6,$X6),5)","v":55},{"$f":"LARGE(($H6,$J6,$L6,$N6,$P6,$R6,$T6,$V6,$X6),6)","v":8},{"$f":"LARGE(($H6,$J6,$L6,$N6,$P6,$R6,$T6,$V6,$X6),7)","v":0},{"$f":"LARGE(($H6,$J6,$L6,$N6,$P6,$R6,$T6,$V6,$X6),8)","v":0},{"$f":"LARGE(($H6,$J6,$L6,$N6,$P6,$R6,$T6,$V6,$X6),9)","v":0}]
[{"$f":"A6+1","v":3},1999,"HÅKONSEN Hanna","Norrbärke SK Alpin",255,255,null,{"$f":"LOOKUP(G7,Poängberäkning!$B$6:$B$97,Poängberäkning!$C$6:$C$97)","v":0},4,{"$f":"LOOKUP(I7,Poängberäkning!$B$6:$B$97,Poängberäkning!$C$6:$C$97)","v":60},2,{"$f":"LOOKUP(K7,Poängberäkning!$B$6:$B$97,Poängberäkning!$C$6:$C$97)","v":80},null,{"$f":"LOOKUP(M7,Poängberäkning!$B$6:$B$97,Poängberäkning!$C$6:$C$97)","v":0},1,{"$f":"LOOKUP(O7,Poängberäkning!$B$6:$B$97,Poängberäkning!$C$6:$C$97)","v":100},99,{"$f":"LOOKUP(Q7,[1]Poängberäkning!$B$6:$B$97,[1]Poängberäkning!$C$6:$C$97)","v":0},36,{"$f":"LOOKUP(S7,[1]Poängberäkning!$B$6:$B$97,[1]Poängberäkning!$C$6:$C$97)","v":15},null,{"$f":"LOOKUP(U7,[1]Poängberäkning!$B$6:$B$97,[1]Poängberäkning!$C$6:$C$97)","v":0},null,{"$f":"LOOKUP(W7,[1]Poängberäkning!$B$6:$B$97,[1]Poängberäkning!$C$6:$C$97)","v":0},{"$f":"LARGE(($H7,$J7,$L7,$N7,$P7,$R7,$T7,$V7,$X7),1)","v":100},{"$f":"LARGE(($H7,$J7,$L7,$N7,$P7,$R7,$T7,$V7,$X7),2)","v":80},{"$f":"LARGE(($H7,$J7,$L7,$N7,$P7,$R7,$T7,$V7,$X7),3)","v":60},{"$f":"LARGE(($H7,$J7,$L7,$N7,$P7,$R7,$T7,$V7,$X7),4)","v":15},{"$f":"LARGE(($H7,$J7,$L7,$N7,$P7,$R7,$T7,$V7,$X7),5)","v":0},{"$f":"LARGE(($H7,$J7,$L7,$N7,$P7,$R7,$T7,$V7,$X7),6)","v":0},{"$f":"LARGE(($H7,$J7,$L7,$N7,$P7,$R7,$T7,$V7,$X7),7)","v":0},{"$f":"LARGE(($H7,$J7,$L7,$N7,$P7,$R7,$T7,$V7,$X7),8)","v":0},{"$f":"LARGE(($H7,$J7,$L7,$N7,$P7,$R7,$T7,$V7,$X7),9)","v":0}]
[{"$f":"A7+1","v":4},1997,"ÖGREN Hanna","UHSK Umeå SK",200,200,null,{"$f":"LOOKUP(G8,Poängberäkning!$B$6:$B$97,Poängberäkning!$C$6:$C$97)","v":0},null,{"$f":"LOOKUP(I8,Poängberäkning!$B$6:$B$97,Poängberäkning!$C$6:$C$97)","v":0},null,{"$f":"LOOKUP(K8,Poängberäkning!$B$6:$B$97,Poängberäkning!$C$6:$C$97)","v":0},null,{"$f":"LOOKUP(M8,Poängberäkning!$B$6:$B$97,Poängberäkning!$C$6:$C$97)","v":0},null,{"$f":"LOOKUP(O8,Poängberäkning!$B$6:$B$97,Poängberäkning!$C$6:$C$97)","v":0},1,{"$f":"LOOKUP(Q8,[1]Poängberäkning!$B$6:$B$97,[1]Poängberäkning!$C$6:$C$97)","v":100},1,{"$f":"LOOKUP(S8,[1]Poängberäkning!$B$6:$B$97,[1]Poängberäkning!$C$6:$C$97)","v":100},null,{"$f":"LOOKUP(U8,[1]Poängberäkning!$B$6:$B$97,[1]Poängberäkning!$C$6:$C$97)","v":0},null,{"$f":"LOOKUP(W8,[1]Poängberäkning!$B$6:$B$97,[1]Poängberäkning!$C$6:$C$97)","v":0},{"$f":"LARGE(($H8,$J8,$L8,$N8,$P8,$R8,$T8,$V8,$X8),1)","v":100},{"$f":"LARGE(($H8,$J8,$L8,$N8,$P8,$R8,$T8,$V8,$X8),2)","v":100},{"$f":"LARGE(($H8,$J8,$L8,$N8,$P8,$R8,$T8,$V8,$X8),3)","v":0},{"$f":"LARGE(($H8,$J8,$L8,$N8,$P8,$R8,$T8,$V8,$X8),4)","v":0},{"$f":"LARGE(($H8,$J8,$L8,$N8,$P8,$R8,$T8,$V8,$X8),5)","v":0},{"$f":"LARGE(($H8,$J8,$L8,$N8,$P8,$R8,$T8,$V8,$X8),6)","v":0},{"$f":"LARGE(($H8,$J8,$L8,$N8,$P8,$R8,$T8,$V8,$X8),7)","v":0},{"$f":"LARGE(($H8,$J8,$L8,$N8,$P8,$R8,$T8,$V8,$X8),8)","v":0},{"$f":"LARGE(($H8,$J8,$L8,$N8,$P8,$R8,$T8,$V8,$X8),9)","v":0}]
[5,1991,"HINDERS Anna","IFK Falun",158,158,null,{"$f":"LOOKUP(G9,Poängberäkning!$B$6:$B$97,Poängberäkning!$C$6:$C$97)","v":0},2,{"$f":"LOOKUP(I9,Poängberäkning!$B$6:$B$97,Poängberäkning!$C$6:$C$97)","v":80},null,{"$f":"LOOKUP(K9,Poängberäkning!$B$6:$B$97,Poängberäkning!$C$6:$C$97)","v":0},null,{"$f":"LOOKUP(M9,Poängberäkning!$B$6:$B$97,Poängberäkning!$C$6:$C$97)","v":0},null,{"$f":"LOOKUP(O9,Poängberäkning!$B$6:$B$97,Poängberäkning!$C$6:$C$97)","v":0},15,{"$f":"LOOKUP(Q9,[1]Poängberäkning!$B$6:$B$97,[1]Poängberäkning!$C$6:$C$97)","v":36},10,{"$f":"LOOKUP(S9,[1]Poängberäkning!$B$6:$B$97,[1]Poängberäkning!$C$6:$C$97)","v":42},null,{"$f":"LOOKUP(U9,[1]Poängberäkning!$B$6:$B$97,[1]Poängberäkning!$C$6:$C$97)","v":0},null,{"$f":"LOOKUP(W9,[1]Poängberäkning!$B$6:$B$97,[1]Poängberäkning!$C$6:$C$97)","v":0},{"$f":"LARGE(($H9,$J9,$L9,$N9,$P9,$R9,$T9,$V9,$X9),1)","v":80},{"$f":"LARGE(($H9,$J9,$L9,$N9,$P9,$R9,$T9,$V9,$X9),2)","v":42},{"$f":"LARGE(($H9,$J9,$L9,$N9,$P9,$R9,$T9,$V9,$X9),3)","v":36},{"$f":"LARGE(($H9,$J9,$L9,$N9,$P9,$R9,$T9,$V9,$X9),4)","v":0},{"$f":"LARGE(($H9,$J9,$L9,$N9,$P9,$R9,$T9,$V9,$X9),5)","v":0},{"$f":"LARGE(($H9,$J9,$L9,$N9,$P9,$R9,$T9,$V9,$X9),6)","v":0},{"$f":"LARGE(($H9,$J9,$L9,$N9,$P9,$R9,$T9,$V9,$X9),7)","v":0},{"$f":"LARGE(($H9,$J9,$L9,$N9,$P9,$R9,$T9,$V9,$X9),8)","v":0},{"$f":"LARGE(($H9,$J9,$L9,$N9,$P9,$R9,$T9,$V9,$X9),9)","v":0}]
[6,1999,"DAHLIN Agnes","IF Hudik Alpin",140,140,null,{"$f":"LOOKUP(G10,Poängberäkning!$B$6:$B$97,Poängberäkning!$C$6:$C$97)","v":0},null,{"$f":"LOOKUP(I10,Poängberäkning!$B$6:$B$97,Poängberäkning!$C$6:$C$97)","v":0},null,{"$f":"LOOKUP(K10,Poängberäkning!$B$6:$B$97,Poängberäkning!$C$6:$C$97)","v":0},null,{"$f":"LOOKUP(M10,Poängberäkning!$B$6:$B$97,Poängberäkning!$C$6:$C$97)","v":0},null,{"$f":"LOOKUP(O10,Poängberäkning!$B$6:$B$97,Poängberäkning!$C$6:$C$97)","v":0},3,{"$f":"LOOKUP(Q10,[1]Poängberäkning!$B$6:$B$97,[1]Poängberäkning!$C$6:$C$97)","v":70},3,{"$f":"LOOKUP(S10,[1]Poängberäkning!$B$6:$B$97,[1]Poängberäkning!$C$6:$C$97)","v":70},null,{"$f":"LOOKUP(U10,[1]Poängberäkning!$B$6:$B$97,[1]Poängberäkning!$C$6:$C$97)","v":0},null,{"$f":"LOOKUP(W10,[1]Poängberäkning!$B$6:$B$97,[1]Poängberäkning!$C$6:$C$97)","v":0},{"$f":"LARGE(($H10,$J10,$L10,$N10,$P10,$R10,$T10,$V10,$X10),1)","v":70},{"$f":"LARGE(($H10,$J10,$L10,$N10,$P10,$R10,$T10,$V10,$X10),2)","v":70},{"$f":"LARGE(($H10,$J10,$L10,$N10,$P10,$R10,$T10,$V10,$X10),3)","v":0},{"$f":"LARGE(($H10,$J10,$L10,$N10,$P10,$R10,$T10,$V10,$X10),4)","v":0},{"$f":"LARGE(($H10,$J10,$L10,$N10,$P10,$R10,$T10,$V10,$X10),5)","v":0},{"$f":"LARGE(($H10,$J10,$L10,$N10,$P10,$R10,$T10,$V10,$X10),6)","v":0},{"$f":"LARGE(($H10,$J10,$L10,$N10,$P10,$R10,$T10,$V10,$X10),7)","v":0},{"$f":"LARGE(($H10,$J10,$L10,$N10,$P10,$R10,$T10,$V10,$X10),8)","v":0},{"$f":"LARGE(($H10,$J10,$L10,$N10,$P10,$R10,$T10,$V10,$X10),9)","v":0}]
[7,1999,"FREDRIKSSON Evelina","Huddinge SK AF",122,122,null,{"$f":"LOOKUP(G11,Poängberäkning!$B$6:$B$97,Poängberäkning!$C$6:$C$97)","v":0},null,{"$f":"LOOKUP(I11,Poängberäkning!$B$6:$B$97,Poängberäkning!$C$6:$C$97)","v":0},null,{"$f":"LOOKUP(K11,Poängberäkning!$B$6:$B$97,Poängberäkning!$C$6:$C$97)","v":0},null,{"$f":"LOOKUP(M11,Poängberäkning!$B$6:$B$97,Poängberäkning!$C$6:$C$97)","v":0},null,{"$f":"LOOKUP(O11,Poängberäkning!$B$6:$B$97,Poängberäkning!$C$6:$C$97)","v":0},10,{"$f":"LOOKUP(Q11,[1]Poängberäkning!$B$6:$B$97,[1]Poängberäkning!$C$6:$C$97)","v":42},2,{"$f":"LOOKUP(S11,[1]Poängberäkning!$B$6:$B$97,[1]Poängberäkning!$C$6:$C$97)","v":80},null,{"$f":"LOOKUP(U11,[1]Poängberäkning!$B$6:$B$97,[1]Poängberäkning!$C$6:$C$97)","v":0},null,{"$f":"LOOKUP(W11,[1]Poängberäkning!$B$6:$B$97,[1]Poängberäkning!$C$6:$C$97)","v":0},{"$f":"LARGE(($H11,$J11,$L11,$N11,$P11,$R11,$T11,$V11,$X11),1)","v":80},{"$f":"LARGE(($H11,$J11,$L11,$N11,$P11,$R11,$T11,$V11,$X11),2)","v":42},{"$f":"LARGE(($H11,$J11,$L11,$N11,$P11,$R11,$T11,$V11,$X11),3)","v":0},{"$f":"LARGE(($H11,$J11,$L11,$N11,$P11,$R11,$T11,$V11,$X11),4)","v":0},{"$f":"LARGE(($H11,$J11,$L11,$N11,$P11,$R11,$T11,$V11,$X11),5)","v":0},{"$f":"LARGE(($H11,$J11,$L11,$N11,$P11,$R11,$T11,$V11,$X11),6)","v":0},{"$f":"LARGE(($H11,$J11,$L11,$N11,$P11,$R11,$T11,$V11,$X11),7)","v":0},{"$f":"LARGE(($H11,$J11,$L11,$N11,$P11,$R11,$T11,$V11,$X11),8)","v":0},{"$f":"LARGE(($H11,$J11,$L11,$N11,$P11,$R11,$T11,$V11,$X11),9)","v":0}]
[8,1998,"STRANDBERG Ebba","Saltsjöbadens SLK",115,115,null,{"$f":"LOOKUP(G12,Poängberäkning!$B$6:$B$97,Poängberäkning!$C$6:$C$97)","v":0},null,{"$f":"LOOKUP(I12,Poängberäkning!$B$6:$B$97,Poängberäkning!$C$6:$C$97)","v":0},null,{"$f":"LOOKUP(K12,Poängberäkning!$B$6:$B$97,Poängberäkning!$C$6:$C$97)","v":0},null,{"$f":"LOOKUP(M12,Poängberäkning!$B$6:$B$97,Poängberäkning!$C$6:$C$97)","v":0},null,{"$f":"LOOKUP(O12,Poängberäkning!$B$6:$B$97,Poängberäkning!$C$6:$C$97)","v":0},4,{"$f":"LOOKUP(Q12,[1]Poängberäkning!$B$6:$B$97,[1]Poängberäkning!$C$6:$C$97)","v":60},5,{"$f":"LOOKUP(S12,[1]Poängberäkning!$B$6:$B$97,[1]Poängberäkning!$C$6:$C$97)","v":55},null,{"$f":"LOOKUP(U12,[1]Poängberäkning!$B$6:$B$97,[1]Poängberäkning!$C$6:$C$97)","v":0},null,{"$f":"LOOKUP(W12,[1]Poängberäkning!$B$6:$B$97,[1]Poängberäkning!$C$6:$C$97)","v":0},{"$f":"LARGE(($H12,$J12,$L12,$N12,$P12,$R12,$T12,$V12,$X12),1)","v":60},{"$f":"LARGE(($H12,$J12,$L12,$N12,$P12,$R12,$T12,$V12,$X12),2)","v":55},{"$f":"LARGE(($H12,$J12,$L12,$N12,$P12,$R12,$T12,$V12,$X12),3)","v":0},{"$f":"LARGE(($H12,$J12,$L12,$N12,$P12,$R12,$T12,$V12,$X12),4)","v":0},{"$f":"LARGE(($H12,$J12,$L12,$N12,$P12,$R12,$T12,$V12,$X12),5)","v":0},{"$f":"LARGE(($H12,$J12,$L12,$N12,$P12,$R12,$T12,$V12,$X12),6)","v":0},{"$f":"LARGE(($H12,$J12,$L12,$N12,$P12,$R12,$T12,$V12,$X12),7)","v":0},{"$f":"LARGE(($H12,$J12,$L12,$N12,$P12,$R12,$T12,$V12,$X12),8)","v":0},{"$f":"LARGE(($H12,$J12,$L12,$N12,$P12,$R12,$T12,$V12,$X12),9)","v":0}]
[9,1999,"HENNING Emelie","Järfälla AK",108,108,null,{"$f":"LOOKUP(G13,Poängberäkning!$B$6:$B$97,Poängberäkning!$C$6:$C$97)","v":0},null,{"$f":"LOOKUP(I13,Poängberäkning!$B$6:$B$97,Poängberäkning!$C$6:$C$97)","v":0},null,{"$f":"LOOKUP(K13,Poängberäkning!$B$6:$B$97,Poängberäkning!$C$6:$C$97)","v":0},null,{"$f":"LOOKUP(M13,Poängberäkning!$B$6:$B$97,Poängberäkning!$C$6:$C$97)","v":0},null,{"$f":"LOOKUP(O13,Poängberäkning!$B$6:$B$97,Poängberäkning!$C$6:$C$97)","v":0},7,{"$f":"LOOKUP(Q13,[1]Poängberäkning!$B$6:$B$97,[1]Poängberäkning!$C$6:$C$97)","v":48},4,{"$f":"LOOKUP(S13,[1]Poängberäkning!$B$6:$B$97,[1]Poängberäkning!$C$6:$C$97)","v":60},null,{"$f":"LOOKUP(U13,[1]Poängberäkning!$B$6:$B$97,[1]Poängberäkning!$C$6:$C$97)","v":0},null,{"$f":"LOOKUP(W13,[1]Poängberäkning!$B$6:$B$97,[1]Poängberäkning!$C$6:$C$97)","v":0},{"$f":"LARGE(($H13,$J13,$L13,$N13,$P13,$R13,$T13,$V13,$X13),1)","v":60},{"$f":"LARGE(($H13,$J13,$L13,$N13,$P13,$R13,$T13,$V13,$X13),2)","v":48},{"$f":"LARGE(($H13,$J13,$L13,$N13,$P13,$R13,$T13,$V13,$X13),3)","v":0},{"$f":"LARGE(($H13,$J13,$L13,$N13,$P13,$R13,$T13,$V13,$X13),4)","v":0},{"$f":"LARGE(($H13,$J13,$L13,$N13,$P13,$R13,$T13,$V13,$X13),5)","v":0},{"$f":"LARGE(($H13,$J13,$L13,$N13,$P13,$R13,$T13,$V13,$X13),6)","v":0},{"$f":"LARGE(($H13,$J13,$L13,$N13,$P13,$R13,$T13,$V13,$X13),7)","v":0},{"$f":"LARGE(($H13,$J13,$L13,$N13,$P13,$R13,$T13,$V13,$X13),8)","v":0},{"$f":"LARGE(($H13,$J13,$L13,$N13,$P13,$R13,$T13,$V13,$X13),9)","v":0}]
[10,1999,"DANNEWITZ Ida","Uppsala SLK",105,105,null,{"$f":"LOOKUP(G14,Poängberäkning!$B$6:$B$97,Poängberäkning!$C$6:$C$97)","v":0},null,{"$f":"LOOKUP(I14,Poängberäkning!$B$6:$B$97,Poängberäkning!$C$6:$C$97)","v":0},null,{"$f":"LOOKUP(K14,Poängberäkning!$B$6:$B$97,Poängberäkning!$C$6:$C$97)","v":0},null,{"$f":"LOOKUP(M14,Poängberäkning!$B$6:$B$97,Poängberäkning!$C$6:$C$97)","v":0},null,{"$f":"LOOKUP(O14,Poängberäkning!$B$6:$B$97,Poängberäkning!$C$6:$C$97)","v":0},5,{"$f":"LOOKUP(Q14,[1]Poängberäkning!$B$6:$B$97,[1]Poängberäkning!$C$6:$C$97)","v":55},6,{"$f":"LOOKUP(S14,[1]Poängberäkning!$B$6:$B$97,[1]Poängberäkning!$C$6:$C$97)","v":50},null,{"$f":"LOOKUP(U14,[1]Poängberäkning!$B$6:$B$97,[1]Poängberäkning!$C$6:$C$97)","v":0},null,{"$f":"LOOKUP(W14,[1]Poängberäkning!$B$6:$B$97,[1]Poängberäkning!$C$6:$C$97)","v":0},{"$f":"LARGE(($H14,$J14,$L14,$N14,$P14,$R14,$T14,$V14,$X14),1)","v":55},{"$f":"LARGE(($H14,$J14,$L14,$N14,$P14,$R14,$T14,$V14,$X14),2)","v":50},{"$f":"LARGE(($H14,$J14,$L14,$N14,$P14,$R14,$T14,$V14,$X14),3)","v":0},{"$f":"LARGE(($H14,$J14,$L14,$N14,$P14,$R14,$T14,$V14,$X14),4)","v":0},{"$f":"LARGE(($H14,$J14,$L14,$N14,$P14,$R14,$T14,$V14,$X14),5)","v":0},{"$f":"LARGE(($H14,$J14,$L14,$N14,$P14,$R14,$T14,$V14,$X14),6)","v":0},{"$f":"LARGE(($H14,$J14,$L14,$N14,$P14,$R14,$T14,$V14,$X14),7)","v":0},{"$f":"LARGE(($H14,$J14,$L14,$N14,$P14,$R14,$T14,$V14,$X14),8)","v":0},{"$f":"LARGE(($H14,$J14,$L14,$N14,$P14,$R14,$T14,$V14,$X14),9)","v":0}]
[11,1984,"HINDERS Ida","IFK Falun",100,100,null,{"$f":"LOOKUP(G15,Poängberäkning!$B$6:$B$97,Poängberäkning!$C$6:$C$97)","v":0},1,{"$f":"LOOKUP(I15,Poängberäkning!$B$6:$B$97,Poängberäkning!$C$6:$C$97)","v":100},null,{"$f":"LOOKUP(K15,Poängberäkning!$B$6:$B$97,Poängberäkning!$C$6:$C$97)","v":0},null,{"$f":"LOOKUP(M15,Poängberäkning!$B$6:$B$97,Poängberäkning!$C$6:$C$97)","v":0},99,{"$f":"LOOKUP(O15,Poängberäkning!$B$6:$B$97,Poängberäkning!$C$6:$C$97)","v":0},null,{"$f":"LOOKUP(Q15,[1]Poängberäkning!$B$6:$B$97,[1]Poängberäkning!$C$6:$C$97)","v":0},null,{"$f":"LOOKUP(S15,[1]Poängberäkning!$B$6:$B$97,[1]Poängberäkning!$C$6:$C$97)","v":0},null,{"$f":"LOOKUP(U15,[1]Poängberäkning!$B$6:$B$97,[1]Poängberäkning!$C$6:$C$97)","v":0},null,{"$f":"LOOKUP(W15,[1]Poängberäkning!$B$6:$B$97,[1]Poängberäkning!$C$6:$C$97)","v":0},{"$f":"LARGE(($H15,$J15,$L15,$N15,$P15,$R15,$T15,$V15,$X15),1)","v":100},{"$f":"LARGE(($H15,$J15,$L15,$N15,$P15,$R15,$T15,$V15,$X15),2)","v":0},{"$f":"LARGE(($H15,$J15,$L15,$N15,$P15,$R15,$T15,$V15,$X15),3)","v":0},{"$f":"LARGE(($H15,$J15,$L15,$N15,$P15,$R15,$T15,$V15,$X15),4)","v":0},{"$f":"LARGE(($H15,$J15,$L15,$N15,$P15,$R15,$T15,$V15,$X15),5)","v":0},{"$f":"LARGE(($H15,$J15,$L15,$N15,$P15,$R15,$T15,$V15,$X15),6)","v":0},{"$f":"LARGE(($H15,$J15,$L15,$N15,$P15,$R15,$T15,$V15,$X15),7)","v":0},{"$f":"LARGE(($H15,$J15,$L15,$N15,$P15,$R15,$T15,$V15,$X15),8)","v":0},{"$f":"LARGE(($H15,$J15,$L15,$N15,$P15,$R15,$T15,$V15,$X15),9)","v":0}]
[12,1998,"EDSÅS Karin","Åre SLK",94,94,null,{"$f":"LOOKUP(G16,Poängberäkning!$B$6:$B$97,Poängberäkning!$C$6:$C$97)","v":0},null,{"$f":"LOOKUP(I16,Poängberäkning!$B$6:$B$97,Poängberäkning!$C$6:$C$97)","v":0},null,{"$f":"LOOKUP(K16,Poängberäkning!$B$6:$B$97,Poängberäkning!$C$6:$C$97)","v":0},null,{"$f":"LOOKUP(M16,Poängberäkning!$B$6:$B$97,Poängberäkning!$C$6:$C$97)","v":0},null,{"$f":"LOOKUP(O16,Poängberäkning!$B$6:$B$97,Poängberäkning!$C$6:$C$97)","v":0},8,{"$f":"LOOKUP(Q16,[1]Poängberäkning!$B$6:$B$97,[1]Poängberäkning!$C$6:$C$97)","v":46},7,{"$f":"LOOKUP(S16,[1]Poängberäkning!$B$6:$B$97,[1]Poängberäkning!$C$6:$C$97)","v":48},null,{"$f":"LOOKUP(U16,[1]Poängberäkning!$B$6:$B$97,[1]Poängberäkning!$C$6:$C$97)","v":0},null,{"$f":"LOOKUP(W16,[1]Poängberäkning!$B$6:$B$97,[1]Poängberäkning!$C$6:$C$97)","v":0},{"$f":"LARGE(($H16,$J16,$L16,$N16,$P16,$R16,$T16,$V16,$X16),1)","v":48},{"$f":"LARGE(($H16,$J16,$L16,$N16,$P16,$R16,$T16,$V16,$X16),2)","v":46},{"$f":"LARGE(($H16,$J16,$L16,$N16,$P16,$R16,$T16,$V16,$X16),3)","v":0},{"$f":"LARGE(($H16,$J16,$L16,$N16,$P16,$R16,$T16,$V16,$X16),4)","v":0},{"$f":"LARGE(($H16,$J16,$L16,$N16,$P16,$R16,$T16,$V16,$X16),5)","v":0},{"$f":"LARGE(($H16,$J16,$L16,$N16,$P16,$R16,$T16,$V16,$X16),6)","v":0},{"$f":"LARGE(($H16,$J16,$L16,$N16,$P16,$R16,$T16,$V16,$X16),7)","v":0},{"$f":"LARGE(($H16,$J16,$L16,$N16,$P16,$R16,$T16,$V16,$X16),8)","v":0},{"$f":"LARGE(($H16,$J16,$L16,$N16,$P16,$R16,$T16,$V16,$X16),9)","v":0}]
[13,1998,"AXELSSON Fanny","IFK Mora AK",90,90,null,{"$f":"LOOKUP(G17,Poängberäkning!$B$6:$B$97,Poängberäkning!$C$6:$C$97)","v":0},null,{"$f":"LOOKUP(I17,Poängberäkning!$B$6:$B$97,Poängberäkning!$C$6:$C$97)","v":0},null,{"$f":"LOOKUP(K17,Poängberäkning!$B$6:$B$97,Poängberäkning!$C$6:$C$97)","v":0},null,{"$f":"LOOKUP(M17,Poängberäkning!$B$6:$B$97,Poängberäkning!$C$6:$C$97)","v":0},null,{"$f":"LOOKUP(O17,Poängberäkning!$B$6:$B$97,Poängberäkning!$C$6:$C$97)","v":0},9,{"$f":"LOOKUP(Q17,[1]Poängberäkning!$B$6:$B$97,[1]Poängberäkning!$C$6:$C$97)","v":44},8,{"$f":"LOOKUP(S17,[1]Poängberäkning!$B$6:$B$97,[1]Poängberäkning!$C$6:$C$97)","v":46},null,{"$f":"LOOKUP(U17,[1]Poängberäkning!$B$6:$B$97,[1]Poängberäkning!$C$6:$C$97)","v":0},null,{"$f":"LOOKUP(W17,[1]Poängberäkning!$B$6:$B$97,[1]Poängberäkning!$C$6:$C$97)","v":0},{"$f":"LARGE(($H17,$J17,$L17,$N17,$P17,$R17,$T17,$V17,$X17),1)","v":46},{"$f":"LARGE(($H17,$J17,$L17,$N17,$P17,$R17,$T17,$V17,$X17),2)","v":44},{"$f":"LARGE(($H17,$J17,$L17,$N17,$P17,$R17,$T17,$V17,$X17),3)","v":0},{"$f":"LARGE(($H17,$J17,$L17,$N17,$P17,$R17,$T17,$V17,$X17),4)","v":0},{"$f":"LARGE(($H17,$J17,$L17,$N17,$P17,$R17,$T17,$V17,$X17),5)","v":0},{"$f":"LARGE(($H17,$J17,$L17,$N17,$P17,$R17,$T17,$V17,$X17),6)","v":0},{"$f":"LARGE(($H17,$J17,$L17,$N17,$P17,$R17,$T17,$V17,$X17),7)","v":0},{"$f":"LARGE(($H17,$J17,$L17,$N17,$P17,$R17,$T17,$V17,$X17),8)","v":0},{"$f":"LARGE(($H17,$J17,$L17,$N17,$P17,$R17,$T17,$V17,$X17),9)","v":0}]
[14,1997,"OLOFSSON Elin","Åre SLK",90,90,null,{"$f":"LOOKUP(G18,Poängberäkning!$B$6:$B$97,Poängberäkning!$C$6:$C$97)","v":0},null,{"$f":"LOOKUP(I18,Poängberäkning!$B$6:$B$97,Poängberäkning!$C$6:$C$97)","v":0},null,{"$f":"LOOKUP(K18,Poängberäkning!$B$6:$B$97,Poängberäkning!$C$6:$C$97)","v":0},null,{"$f":"LOOKUP(M18,Poängberäkning!$B$6:$B$97,Poängberäkning!$C$6:$C$97)","v":0},null,{"$f":"LOOKUP(O18,Poängberäkning!$B$6:$B$97,Poängberäkning!$C$6:$C$97)","v":0},6,{"$f":"LOOKUP(Q18,[1]Poängberäkning!$B$6:$B$97,[1]Poängberäkning!$C$6:$C$97)","v":50},11,{"$f":"LOOKUP(S18,[1]Poängberäkning!$B$6:$B$97,[1]Poängberäkning!$C$6:$C$97)","v":40},null,{"$f":"LOOKUP(U18,[1]Poängberäkning!$B$6:$B$97,[1]Poängberäkning!$C$6:$C$97)","v":0},null,{"$f":"LOOKUP(W18,[1]Poängberäkning!$B$6:$B$97,[1]Poängberäkning!$C$6:$C$97)","v":0},{"$f":"LARGE(($H18,$J18,$L18,$N18,$P18,$R18,$T18,$V18,$X18),1)","v":50},{"$f":"LARGE(($H18,$J18,$L18,$N18,$P18,$R18,$T18,$V18,$X18),2)","v":40},{"$f":"LARGE(($H18,$J18,$L18,$N18,$P18,$R18,$T18,$V18,$X18),3)","v":0},{"$f":"LARGE(($H18,$J18,$L18,$N18,$P18,$R18,$T18,$V18,$X18),4)","v":0},{"$f":"LARGE(($H18,$J18,$L18,$N18,$P18,$R18,$T18,$V18,$X18),5)","v":0},{"$f":"LARGE(($H18,$J18,$L18,$N18,$P18,$R18,$T18,$V18,$X18),6)","v":0},{"$f":"LARGE(($H18,$J18,$L18,$N18,$P18,$R18,$T18,$V18,$X18),7)","v":0},{"$f":"LARGE(($H18,$J18,$L18,$N18,$P18,$R18,$T18,$V18,$X18),8)","v":0},{"$f":"LARGE(($H18,$J18,$L18,$N18,$P18,$R18,$T18,$V18,$X18),9)","v":0}]
[15,1997,"NILSSON Emma","Huddinge SK AF",87,87,null,{"$f":"LOOKUP(G19,Poängberäkning!$B$6:$B$97,Poängberäkning!$C$6:$C$97)","v":0},null,{"$f":"LOOKUP(I19,Poängberäkning!$B$6:$B$97,Poängberäkning!$C$6:$C$97)","v":0},null,{"$f":"LOOKUP(K19,Poängberäkning!$B$6:$B$97,Poängberäkning!$C$6:$C$97)","v":0},null,{"$f":"LOOKUP(M19,Poängberäkning!$B$6:$B$97,Poängberäkning!$C$6:$C$97)","v":0},3,{"$f":"LOOKUP(O19,Poängberäkning!$B$6:$B$97,Poängberäkning!$C$6:$C$97)","v":70},34,{"$f":"LOOKUP(Q19,[1]Poängberäkning!$B$6:$B$97,[1]Poängberäkning!$C$6:$C$97)","v":17},99,{"$f":"LOOKUP(S19,[1]Poängberäkning!$B$6:$B$97,[1]Poängberäkning!$C$6:$C$97)","v":0},null,{"$f":"LOOKUP(U19,[1]Poängberäkning!$B$6:$B$97,[1]Poängberäkning!$C$6:$C$97)","v":0},null,{"$f":"LOOKUP(W19,[1]Poängberäkning!$B$6:$B$97,[1]Poängberäkning!$C$6:$C$97)","v":0},{"$f":"LARGE(($H19,$J19,$L19,$N19,$P19,$R19,$T19,$V19,$X19),1)","v":70},{"$f":"LARGE(($H19,$J19,$L19,$N19,$P19,$R19,$T19,$V19,$X19),2)","v":17},{"$f":"LARGE(($H19,$J19,$L19,$N19,$P19,$R19,$T19,$V19,$X19),3)","v":0},{"$f":"LARGE(($H19,$J19,$L19,$N19,$P19,$R19,$T19,$V19,$X19),4)","v":0},{"$f":"LARGE(($H19,$J19,$L19,$N19,$P19,$R19,$T19,$V19,$X19),5)","v":0},{"$f":"LARGE(($H19,$J19,$L19,$N19,$P19,$R19,$T19,$V19,$X19),6)","v":0},{"$f":"LARGE(($H19,$J19,$L19,$N19,$P19,$R19,$T19,$V19,$X19),7)","v":0},{"$f":"LARGE(($H19,$J19,$L19,$N19,$P19,$R19,$T19,$V19,$X19),8)","v":0},{"$f":"LARGE(($H19,$J19,$L19,$N19,$P19,$R19,$T19,$V19,$X19),9)","v":0}]
[16,1997,"LIFVENDAHL Lisa","Sälens IF",80,80,null,{"$f":"LOOKUP(G20,Poängberäkning!$B$6:$B$97,Poängberäkning!$C$6:$C$97)","v":0},null,{"$f":"LOOKUP(I20,Poängberäkning!$B$6:$B$97,Poängberäkning!$C$6:$C$97)","v":0},null,{"$f":"LOOKUP(K20,Poängberäkning!$B$6:$B$97,Poängberäkning!$C$6:$C$97)","v":0},null,{"$f":"LOOKUP(M20,Poängberäkning!$B$6:$B$97,Poängberäkning!$C$6:$C$97)","v":0},null,{"$f":"LOOKUP(O20,Poängberäkning!$B$6:$B$97,Poängberäkning!$C$6:$C$97)","v":0},2,{"$f":"LOOKUP(Q20,[1]Poängberäkning!$B$6:$B$97,[1]Poängberäkning!$C$6:$C$97)","v":80},99,{"$f":"LOOKUP(S20,[1]Poängberäkning!$B$6:$B$97,[1]Poängberäkning!$C$6:$C$97)","v":0},null,{"$f":"LOOKUP(U20,[1]Poängberäkning!$B$6:$B$97,[1]Poängberäkning!$C$6:$C$97)","v":0},null,{"$f":"LOOKUP(W20,[1]Poängberäkning!$B$6:$B$97,[1]Poängberäkning!$C$6:$C$97)","v":0},{"$f":"LARGE(($H20,$J20,$L20,$N20,$P20,$R20,$T20,$V20,$X20),1)","v":80},{"$f":"LARGE(($H20,$J20,$L20,$N20,$P20,$R20,$T20,$V20,$X20),2)","v":0},{"$f":"LARGE(($H20,$J20,$L20,$N20,$P20,$R20,$T20,$V20,$X20),3)","v":0},{"$f":"LARGE(($H20,$J20,$L20,$N20,$P20,$R20,$T20,$V20,$X20),4)","v":0},{"$f":"LARGE(($H20,$J20,$L20,$N20,$P20,$R20,$T20,$V20,$X20),5)","v":0},{"$f":"LARGE(($H20,$J20,$L20,$N20,$P20,$R20,$T20,$V20,$X20),6)","v":0},{"$f":"LARGE(($H20,$J20,$L20,$N20,$P20,$R20,$T20,$V20,$X20),7)","v":0},{"$f":"LARGE(($H20,$J20,$L20,$N20,$P20,$R20,$T20,$V20,$X20),8)","v":0},{"$f":"LARGE(($H20,$J20,$L20,$N20,$P20,$R20,$T20,$V20,$X20),9)","v":0}]
[17,1996,"JANSSON Sandra","Höghedens SLK",79,79,null,{"$f":"LOOKUP(G21,Poängberäkning!$B$6:$B$97,Poängberäkning!$C$6:$C$97)","v":0},null,{"$f":"LOOKUP(I21,Poängberäkning!$B$6:$B$97,Poängberäkning!$C$6:$C$97)","v":0},null,{"$f":"LOOKUP(K21,Poängberäkning!$B$6:$B$97,Poängberäkning!$C$6:$C$97)","v":0},null,{"$f":"LOOKUP(M21,Poängberäkning!$B$6:$B$97,Poängberäkning!$C$6:$C$97)","v":0},null,{"$f":"LOOKUP(O21,Poängberäkning!$B$6:$B$97,Poängberäkning!$C$6:$C$97)","v":0},11,{"$f":"LOOKUP(Q21,[1]Poängberäkning!$B$6:$B$97,[1]Poängberäkning!$C$6:$C$97)","v":40},12,{"$f":"LOOKUP(S21,[1]Poängberäkning!$B$6:$B$97,[1]Poängberäkning!$C$6:$C$97)","v":39},null,{"$f":"LOOKUP(U21,[1]Poängberäkning!$B$6:$B$97,[1]Poängberäkning!$C$6:$C$97)","v":0},null,{"$f":"LOOKUP(W21,[1]Poängberäkning!$B$6:$B$97,[1]Poängberäkning!$C$6:$C$97)","v":0},{"$f":"LARGE(($H21,$J21,$L21,$N21,$P21,$R21,$T21,$V21,$X21),1)","v":40},{"$f":"LARGE(($H21,$J21,$L21,$N21,$P21,$R21,$T21,$V21,$X21),2)","v":39},{"$f":"LARGE(($H21,$J21,$L21,$N21,$P21,$R21,$T21,$V21,$X21),3)","v":0},{"$f":"LARGE(($H21,$J21,$L21,$N21,$P21,$R21,$T21,$V21,$X21),4)","v":0},{"$f":"LARGE(($H21,$J21,$L21,$N21,$P21,$R21,$T21,$V21,$X21),5)","v":0},{"$f":"LARGE(($H21,$J21,$L21,$N21,$P21,$R21,$T21,$V21,$X21),6)","v":0},{"$f":"LARGE(($H21,$J21,$L21,$N21,$P21,$R21,$T21,$V21,$X21),7)","v":0},{"$f":"LARGE(($H21,$J21,$L21,$N21,$P21,$R21,$T21,$V21,$X21),8)","v":0},{"$f":"LARGE(($H21,$J21,$L21,$N21,$P21,$R21,$T21,$V21,$X21),9)","v":0}]
[18,1996,"CHRISTENSEN Helena","Sundsvalls SLK",72,72,null,{"$f":"LOOKUP(G22,Poängberäkning!$B$6:$B$97,Poängberäkning!$C$6:$C$97)","v":0},null,{"$f":"LOOKUP(I22,Poängberäkning!$B$6:$B$97,Poängberäkning!$C$6:$C$97)","v":0},null,{"$f":"LOOKUP(K22,Poängberäkning!$B$6:$B$97,Poängberäkning!$C$6:$C$97)","v":0},null,{"$f":"LOOKUP(M22,Poängberäkning!$B$6:$B$97,Poängberäkning!$C$6:$C$97)","v":0},null,{"$f":"LOOKUP(O22,Poängberäkning!$B$6:$B$97,Poängberäkning!$C$6:$C$97)","v":0},14,{"$f":"LOOKUP(Q22,[1]Poängberäkning!$B$6:$B$97,[1]Poängberäkning!$C$6:$C$97)","v":37},16,{"$f":"LOOKUP(S22,[1]Poängberäkning!$B$6:$B$97,[1]Poängberäkning!$C$6:$C$97)","v":35},null,{"$f":"LOOKUP(U22,[1]Poängberäkning!$B$6:$B$97,[1]Poängberäkning!$C$6:$C$97)","v":0},null,{"$f":"LOOKUP(W22,[1]Poängberäkning!$B$6:$B$97,[1]Poängberäkning!$C$6:$C$97)","v":0},{"$f":"LARGE(($H22,$J22,$L22,$N22,$P22,$R22,$T22,$V22,$X22),1)","v":37},{"$f":"LARGE(($H22,$J22,$L22,$N22,$P22,$R22,$T22,$V22,$X22),2)","v":35},{"$f":"LARGE(($H22,$J22,$L22,$N22,$P22,$R22,$T22,$V22,$X22),3)","v":0},{"$f":"LARGE(($H22,$J22,$L22,$N22,$P22,$R22,$T22,$V22,$X22),4)","v":0},{"$f":"LARGE(($H22,$J22,$L22,$N22,$P22,$R22,$T22,$V22,$X22),5)","v":0},{"$f":"LARGE(($H22,$J22,$L22,$N22,$P22,$R22,$T22,$V22,$X22),6)","v":0},{"$f":"LARGE(($H22,$J22,$L22,$N22,$P22,$R22,$T22,$V22,$X22),7)","v":0},{"$f":"LARGE(($H22,$J22,$L22,$N22,$P22,$R22,$T22,$V22,$X22),8)","v":0},{"$f":"LARGE(($H22,$J22,$L22,$N22,$P22,$R22,$T22,$V22,$X22),9)","v":0}]
[19,1999,"SIGURDSSON Linn","Järvsö IF",72,72,null,{"$f":"LOOKUP(G23,Poängberäkning!$B$6:$B$97,Poängberäkning!$C$6:$C$97)","v":0},null,{"$f":"LOOKUP(I23,Poängberäkning!$B$6:$B$97,Poängberäkning!$C$6:$C$97)","v":0},null,{"$f":"LOOKUP(K23,Poängberäkning!$B$6:$B$97,Poängberäkning!$C$6:$C$97)","v":0},99,{"$f":"LOOKUP(M23,Poängberäkning!$B$6:$B$97,Poängberäkning!$C$6:$C$97)","v":0},null,{"$f":"LOOKUP(O23,Poängberäkning!$B$6:$B$97,Poängberäkning!$C$6:$C$97)","v":0},16,{"$f":"LOOKUP(Q23,[1]Poängberäkning!$B$6:$B$97,[1]Poängberäkning!$C$6:$C$97)","v":35},14,{"$f":"LOOKUP(S23,[1]Poängberäkning!$B$6:$B$97,[1]Poängberäkning!$C$6:$C$97)","v":37},null,{"$f":"LOOKUP(U23,[1]Poängberäkning!$B$6:$B$97,[1]Poängberäkning!$C$6:$C$97)","v":0},null,{"$f":"LOOKUP(W23,[1]Poängberäkning!$B$6:$B$97,[1]Poängberäkning!$C$6:$C$97)","v":0},{"$f":"LARGE(($H23,$J23,$L23,$N23,$P23,$R23,$T23,$V23,$X23),1)","v":37},{"$f":"LARGE(($H23,$J23,$L23,$N23,$P23,$R23,$T23,$V23,$X23),2)","v":35},{"$f":"LARGE(($H23,$J23,$L23,$N23,$P23,$R23,$T23,$V23,$X23),3)","v":0},{"$f":"LARGE(($H23,$J23,$L23,$N23,$P23,$R23,$T23,$V23,$X23),4)","v":0},{"$f":"LARGE(($H23,$J23,$L23,$N23,$P23,$R23,$T23,$V23,$X23),5)","v":0},{"$f":"LARGE(($H23,$J23,$L23,$N23,$P23,$R23,$T23,$V23,$X23),6)","v":0},{"$f":"LARGE(($H23,$J23,$L23,$N23,$P23,$R23,$T23,$V23,$X23),7)","v":0},{"$f":"LARGE(($H23,$J23,$L23,$N23,$P23,$R23,$T23,$V23,$X23),8)","v":0},{"$f":"LARGE(($H23,$J23,$L23,$N23,$P23,$R23,$T23,$V23,$X23),9)","v":0}]
[20,1999,"RIBRANT Mikaela","Järfälla AK",70,70,null,{"$f":"LOOKUP(G24,Poängberäkning!$B$6:$B$97,Poängberäkning!$C$6:$C$97)","v":0},null,{"$f":"LOOKUP(I24,Poängberäkning!$B$6:$B$97,Poängberäkning!$C$6:$C$97)","v":0},null,{"$f":"LOOKUP(K24,Poängberäkning!$B$6:$B$97,Poängberäkning!$C$6:$C$97)","v":0},null,{"$f":"LOOKUP(M24,Poängberäkning!$B$6:$B$97,Poängberäkning!$C$6:$C$97)","v":0},null,{"$f":"LOOKUP(O24,Poängberäkning!$B$6:$B$97,Poängberäkning!$C$6:$C$97)","v":0},17,{"$f":"LOOKUP(Q24,[1]Poängberäkning!$B$6:$B$97,[1]Poängberäkning!$C$6:$C$97)","v":34},15,{"$f":"LOOKUP(S24,[1]Poängberäkning!$B$6:$B$97,[1]Poängberäkning!$C$6:$C$97)","v":36},null,{"$f":"LOOKUP(U24,[1]Poängberäkning!$B$6:$B$97,[1]Poängberäkning!$C$6:$C$97)","v":0},null,{"$f":"LOOKUP(W24,[1]Poängberäkning!$B$6:$B$97,[1]Poängberäkning!$C$6:$C$97)","v":0},{"$f":"LARGE(($H24,$J24,$L24,$N24,$P24,$R24,$T24,$V24,$X24),1)","v":36},{"$f":"LARGE(($H24,$J24,$L24,$N24,$P24,$R24,$T24,$V24,$X24),2)","v":34},{"$f":"LARGE(($H24,$J24,$L24,$N24,$P24,$R24,$T24,$V24,$X24),3)","v":0},{"$f":"LARGE(($H24,$J24,$L24,$N24,$P24,$R24,$T24,$V24,$X24),4)","v":0},{"$f":"LARGE(($H24,$J24,$L24,$N24,$P24,$R24,$T24,$V24,$X24),5)","v":0},{"$f":"LARGE(($H24,$J24,$L24,$N24,$P24,$R24,$T24,$V24,$X24),6)","v":0},{"$f":"LARGE(($H24,$J24,$L24,$N24,$P24,$R24,$T24,$V24,$X24),7)","v":0},{"$f":"LARGE(($H24,$J24,$L24,$N24,$P24,$R24,$T24,$V24,$X24),8)","v":0},{"$f":"LARGE(($H24,$J24,$L24,$N24,$P24,$R24,$T24,$V24,$X24),9)","v":0}]
[21,1998,"HAGERIUS Julia","Örebro SLF",67,67,null,{"$f":"LOOKUP(G25,Poängberäkning!$B$6:$B$97,Poängberäkning!$C$6:$C$97)","v":0},null,{"$f":"LOOKUP(I25,Poängberäkning!$B$6:$B$97,Poängberäkning!$C$6:$C$97)","v":0},null,{"$f":"LOOKUP(K25,Poängberäkning!$B$6:$B$97,Poängberäkning!$C$6:$C$97)","v":0},null,{"$f":"LOOKUP(M25,Poängberäkning!$B$6:$B$97,Poängberäkning!$C$6:$C$97)","v":0},null,{"$f":"LOOKUP(O25,Poängberäkning!$B$6:$B$97,Poängberäkning!$C$6:$C$97)","v":0},22,{"$f":"LOOKUP(Q25,[1]Poängberäkning!$B$6:$B$97,[1]Poängberäkning!$C$6:$C$97)","v":29},13,{"$f":"LOOKUP(S25,[1]Poängberäkning!$B$6:$B$97,[1]Poängberäkning!$C$6:$C$97)","v":38},null,{"$f":"LOOKUP(U25,[1]Poängberäkning!$B$6:$B$97,[1]Poängberäkning!$C$6:$C$97)","v":0},null,{"$f":"LOOKUP(W25,[1]Poängberäkning!$B$6:$B$97,[1]Poängberäkning!$C$6:$C$97)","v":0},{"$f":"LARGE(($H25,$J25,$L25,$N25,$P25,$R25,$T25,$V25,$X25),1)","v":38},{"$f":"LARGE(($H25,$J25,$L25,$N25,$P25,$R25,$T25,$V25,$X25),2)","v":29},{"$f":"LARGE(($H25,$J25,$L25,$N25,$P25,$R25,$T25,$V25,$X25),3)","v":0},{"$f":"LARGE(($H25,$J25,$L25,$N25,$P25,$R25,$T25,$V25,$X25),4)","v":0},{"$f":"LARGE(($H25,$J25,$L25,$N25,$P25,$R25,$T25,$V25,$X25),5)","v":0},{"$f":"LARGE(($H25,$J25,$L25,$N25,$P25,$R25,$T25,$V25,$X25),6)","v":0},{"$f":"LARGE(($H25,$J25,$L25,$N25,$P25,$R25,$T25,$V25,$X25),7)","v":0},{"$f":"LARGE(($H25,$J25,$L25,$N25,$P25,$R25,$T25,$V25,$X25),8)","v":0},{"$f":"LARGE(($H25,$J25,$L25,$N25,$P25,$R25,$T25,$V25,$X25),9)","v":0}]
[22,1999,"SAKS Elin","Sollentuna SLK",64,64,null,{"$f":"LOOKUP(G26,Poängberäkning!$B$6:$B$97,Poängberäkning!$C$6:$C$97)","v":0},null,{"$f":"LOOKUP(I26,Poängberäkning!$B$6:$B$97,Poängberäkning!$C$6:$C$97)","v":0},null,{"$f":"LOOKUP(K26,Poängberäkning!$B$6:$B$97,Poängberäkning!$C$6:$C$97)","v":0},null,{"$f":"LOOKUP(M26,Poängberäkning!$B$6:$B$97,Poängberäkning!$C$6:$C$97)","v":0},null,{"$f":"LOOKUP(O26,Poängberäkning!$B$6:$B$97,Poängberäkning!$C$6:$C$97)","v":0},21,{"$f":"LOOKUP(Q26,[1]Poängberäkning!$B$6:$B$97,[1]Poängberäkning!$C$6:$C$97)","v":30},17,{"$f":"LOOKUP(S26,[1]Poängberäkning!$B$6:$B$97,[1]Poängberäkning!$C$6:$C$97)","v":34},null,{"$f":"LOOKUP(U26,[1]Poängberäkning!$B$6:$B$97,[1]Poängberäkning!$C$6:$C$97)","v":0},null,{"$f":"LOOKUP(W26,[1]Poängberäkning!$B$6:$B$97,[1]Poängberäkning!$C$6:$C$97)","v":0},{"$f":"LARGE(($H26,$J26,$L26,$N26,$P26,$R26,$T26,$V26,$X26),1)","v":34},{"$f":"LARGE(($H26,$J26,$L26,$N26,$P26,$R26,$T26,$V26,$X26),2)","v":30},{"$f":"LARGE(($H26,$J26,$L26,$N26,$P26,$R26,$T26,$V26,$X26),3)","v":0},{"$f":"LARGE(($H26,$J26,$L26,$N26,$P26,$R26,$T26,$V26,$X26),4)","v":0},{"$f":"LARGE(($H26,$J26,$L26,$N26,$P26,$R26,$T26,$V26,$X26),5)","v":0},{"$f":"LARGE(($H26,$J26,$L26,$N26,$P26,$R26,$T26,$V26,$X26),6)","v":0},{"$f":"LARGE(($H26,$J26,$L26,$N26,$P26,$R26,$T26,$V26,$X26),7)","v":0},{"$f":"LARGE(($H26,$J26,$L26,$N26,$P26,$R26,$T26,$V26,$X26),8)","v":0},{"$f":"LARGE(($H26,$J26,$L26,$N26,$P26,$R26,$T26,$V26,$X26),9)","v":0}]
[23,1997,"CHRISTMANSSON Anna","Östersund-Frösö SLK",60,60,null,{"$f":"LOOKUP(G27,Poängberäkning!$B$6:$B$97,Poängberäkning!$C$6:$C$97)","v":0},null,{"$f":"LOOKUP(I27,Poängberäkning!$B$6:$B$97,Poängberäkning!$C$6:$C$97)","v":0},null,{"$f":"LOOKUP(K27,Poängberäkning!$B$6:$B$97,Poängberäkning!$C$6:$C$97)","v":0},null,{"$f":"LOOKUP(M27,Poängberäkning!$B$6:$B$97,Poängberäkning!$C$6:$C$97)","v":0},null,{"$f":"LOOKUP(O27,Poängberäkning!$B$6:$B$97,Poängberäkning!$C$6:$C$97)","v":0},24,{"$f":"LOOKUP(Q27,[1]Poängberäkning!$B$6:$B$97,[1]Poängberäkning!$C$6:$C$97)","v":27},18,{"$f":"LOOKUP(S27,[1]Poängberäkning!$B$6:$B$97,[1]Poängberäkning!$C$6:$C$97)","v":33},null,{"$f":"LOOKUP(U27,[1]Poängberäkning!$B$6:$B$97,[1]Poängberäkning!$C$6:$C$97)","v":0},null,{"$f":"LOOKUP(W27,[1]Poängberäkning!$B$6:$B$97,[1]Poängberäkning!$C$6:$C$97)","v":0},{"$f":"LARGE(($H27,$J27,$L27,$N27,$P27,$R27,$T27,$V27,$X27),1)","v":33},{"$f":"LARGE(($H27,$J27,$L27,$N27,$P27,$R27,$T27,$V27,$X27),2)","v":27},{"$f":"LARGE(($H27,$J27,$L27,$N27,$P27,$R27,$T27,$V27,$X27),3)","v":0},{"$f":"LARGE(($H27,$J27,$L27,$N27,$P27,$R27,$T27,$V27,$X27),4)","v":0},{"$f":"LARGE(($H27,$J27,$L27,$N27,$P27,$R27,$T27,$V27,$X27),5)","v":0},{"$f":"LARGE(($H27,$J27,$L27,$N27,$P27,$R27,$T27,$V27,$X27),6)","v":0},{"$f":"LARGE(($H27,$J27,$L27,$N27,$P27,$R27,$T27,$V27,$X27),7)","v":0},{"$f":"LARGE(($H27,$J27,$L27,$N27,$P27,$R27,$T27,$V27,$X27),8)","v":0},{"$f":"LARGE(($H27,$J27,$L27,$N27,$P27,$R27,$T27,$V27,$X27),9)","v":0}]
[24,1999,"ÖSTLUND Amanda","Norrbärke SK Alpin",60,60,null,{"$f":"LOOKUP(G28,Poängberäkning!$B$6:$B$97,Poängberäkning!$C$6:$C$97)","v":0},null,{"$f":"LOOKUP(I28,Poängberäkning!$B$6:$B$97,Poängberäkning!$C$6:$C$97)","v":0},4,{"$f":"LOOKUP(K28,Poängberäkning!$B$6:$B$97,Poängberäkning!$C$6:$C$97)","v":60},99,{"$f":"LOOKUP(M28,Poängberäkning!$B$6:$B$97,Poängberäkning!$C$6:$C$97)","v":0},null,{"$f":"LOOKUP(O28,Poängberäkning!$B$6:$B$97,Poängberäkning!$C$6:$C$97)","v":0},null,{"$f":"LOOKUP(Q28,[1]Poängberäkning!$B$6:$B$97,[1]Poängberäkning!$C$6:$C$97)","v":0},null,{"$f":"LOOKUP(S28,[1]Poängberäkning!$B$6:$B$97,[1]Poängberäkning!$C$6:$C$97)","v":0},null,{"$f":"LOOKUP(U28,[1]Poängberäkning!$B$6:$B$97,[1]Poängberäkning!$C$6:$C$97)","v":0},null,{"$f":"LOOKUP(W28,[1]Poängberäkning!$B$6:$B$97,[1]Poängberäkning!$C$6:$C$97)","v":0},{"$f":"LARGE(($H28,$J28,$L28,$N28,$P28,$R28,$T28,$V28,$X28),1)","v":60},{"$f":"LARGE(($H28,$J28,$L28,$N28,$P28,$R28,$T28,$V28,$X28),2)","v":0},{"$f":"LARGE(($H28,$J28,$L28,$N28,$P28,$R28,$T28,$V28,$X28),3)","v":0},{"$f":"LARGE(($H28,$J28,$L28,$N28,$P28,$R28,$T28,$V28,$X28),4)","v":0},{"$f":"LARGE(($H28,$J28,$L28,$N28,$P28,$R28,$T28,$V28,$X28),5)","v":0},{"$f":"LARGE(($H28,$J28,$L28,$N28,$P28,$R28,$T28,$V28,$X28),6)","v":0},{"$f":"LARGE(($H28,$J28,$L28,$N28,$P28,$R28,$T28,$V28,$X28),7)","v":0},{"$f":"LARGE(($H28,$J28,$L28,$N28,$P28,$R28,$T28,$V28,$X28),8)","v":0},{"$f":"LARGE(($H28,$J28,$L28,$N28,$P28,$R28,$T28,$V28,$X28),9)","v":0}]
[25,1999,"STRANDBERG Sanna","Sundsvalls SLK",59,59,null,{"$f":"LOOKUP(G29,Poängberäkning!$B$6:$B$97,Poängberäkning!$C$6:$C$97)","v":0},null,{"$f":"LOOKUP(I29,Poängberäkning!$B$6:$B$97,Poängberäkning!$C$6:$C$97)","v":0},null,{"$f":"LOOKUP(K29,Poängberäkning!$B$6:$B$97,Poängberäkning!$C$6:$C$97)","v":0},null,{"$f":"LOOKUP(M29,Poängberäkning!$B$6:$B$97,Poängberäkning!$C$6:$C$97)","v":0},null,{"$f":"LOOKUP(O29,Poängberäkning!$B$6:$B$97,Poängberäkning!$C$6:$C$97)","v":0},23,{"$f":"LOOKUP(Q29,[1]Poängberäkning!$B$6:$B$97,[1]Poängberäkning!$C$6:$C$97)","v":28},20,{"$f":"LOOKUP(S29,[1]Poängberäkning!$B$6:$B$97,[1]Poängberäkning!$C$6:$C$97)","v":31},null,{"$f":"LOOKUP(U29,[1]Poängberäkning!$B$6:$B$97,[1]Poängberäkning!$C$6:$C$97)","v":0},null,{"$f":"LOOKUP(W29,[1]Poängberäkning!$B$6:$B$97,[1]Poängberäkning!$C$6:$C$97)","v":0},{"$f":"LARGE(($H29,$J29,$L29,$N29,$P29,$R29,$T29,$V29,$X29),1)","v":31},{"$f":"LARGE(($H29,$J29,$L29,$N29,$P29,$R29,$T29,$V29,$X29),2)","v":28},{"$f":"LARGE(($H29,$J29,$L29,$N29,$P29,$R29,$T29,$V29,$X29),3)","v":0},{"$f":"LARGE(($H29,$J29,$L29,$N29,$P29,$R29,$T29,$V29,$X29),4)","v":0},{"$f":"LARGE(($H29,$J29,$L29,$N29,$P29,$R29,$T29,$V29,$X29),5)","v":0},{"$f":"LARGE(($H29,$J29,$L29,$N29,$P29,$R29,$T29,$V29,$X29),6)","v":0},{"$f":"LARGE(($H29,$J29,$L29,$N29,$P29,$R29,$T29,$V29,$X29),7)","v":0},{"$f":"LARGE(($H29,$J29,$L29,$N29,$P29,$R29,$T29,$V29,$X29),8)","v":0},{"$f":"LARGE(($H29,$J29,$L29,$N29,$P29,$R29,$T29,$V29,$X29),9)","v":0}]
[26,1999,"LÖVSTRÖM Freja","Tunafors SK",55,55,null,{"$f":"LOOKUP(G30,Poängberäkning!$B$6:$B$97,Poängberäkning!$C$6:$C$97)","v":0},null,{"$f":"LOOKUP(I30,Poängberäkning!$B$6:$B$97,Poängberäkning!$C$6:$C$97)","v":0},null,{"$f":"LOOKUP(K30,Poängberäkning!$B$6:$B$97,Poängberäkning!$C$6:$C$97)","v":0},null,{"$f":"LOOKUP(M30,Poängberäkning!$B$6:$B$97,Poängberäkning!$C$6:$C$97)","v":0},5,{"$f":"LOOKUP(O30,Poängberäkning!$B$6:$B$97,Poängberäkning!$C$6:$C$97)","v":55},null,{"$f":"LOOKUP(Q30,[1]Poängberäkning!$B$6:$B$97,[1]Poängberäkning!$C$6:$C$97)","v":0},null,{"$f":"LOOKUP(S30,[1]Poängberäkning!$B$6:$B$97,[1]Poängberäkning!$C$6:$C$97)","v":0},null,{"$f":"LOOKUP(U30,[1]Poängberäkning!$B$6:$B$97,[1]Poängberäkning!$C$6:$C$97)","v":0},null,{"$f":"LOOKUP(W30,[1]Poängberäkning!$B$6:$B$97,[1]Poängberäkning!$C$6:$C$97)","v":0},{"$f":"LARGE(($H30,$J30,$L30,$N30,$P30,$R30,$T30,$V30,$X30),1)","v":55},{"$f":"LARGE(($H30,$J30,$L30,$N30,$P30,$R30,$T30,$V30,$X30),2)","v":0},{"$f":"LARGE(($H30,$J30,$L30,$N30,$P30,$R30,$T30,$V30,$X30),3)","v":0},{"$f":"LARGE(($H30,$J30,$L30,$N30,$P30,$R30,$T30,$V30,$X30),4)","v":0},{"$f":"LARGE(($H30,$J30,$L30,$N30,$P30,$R30,$T30,$V30,$X30),5)","v":0},{"$f":"LARGE(($H30,$J30,$L30,$N30,$P30,$R30,$T30,$V30,$X30),6)","v":0},{"$f":"LARGE(($H30,$J30,$L30,$N30,$P30,$R30,$T30,$V30,$X30),7)","v":0},{"$f":"LARGE(($H30,$J30,$L30,$N30,$P30,$R30,$T30,$V30,$X30),8)","v":0},{"$f":"LARGE(($H30,$J30,$L30,$N30,$P30,$R30,$T30,$V30,$X30),9)","v":0}]
[27,1999,"ANDERSSON Ida-Stina","Norrbärke SK Alpin",55,55,null,{"$f":"LOOKUP(G31,Poängberäkning!$B$6:$B$97,Poängberäkning!$C$6:$C$97)","v":0},null,{"$f":"LOOKUP(I31,Poängberäkning!$B$6:$B$97,Poängberäkning!$C$6:$C$97)","v":0},5,{"$f":"LOOKUP(K31,Poängberäkning!$B$6:$B$97,Poängberäkning!$C$6:$C$97)","v":55},null,{"$f":"LOOKUP(M31,Poängberäkning!$B$6:$B$97,Poängberäkning!$C$6:$C$97)","v":0},null,{"$f":"LOOKUP(O31,Poängberäkning!$B$6:$B$97,Poängberäkning!$C$6:$C$97)","v":0},null,{"$f":"LOOKUP(Q31,[1]Poängberäkning!$B$6:$B$97,[1]Poängberäkning!$C$6:$C$97)","v":0},null,{"$f":"LOOKUP(S31,[1]Poängberäkning!$B$6:$B$97,[1]Poängberäkning!$C$6:$C$97)","v":0},null,{"$f":"LOOKUP(U31,[1]Poängberäkning!$B$6:$B$97,[1]Poängberäkning!$C$6:$C$97)","v":0},null,{"$f":"LOOKUP(W31,[1]Poängberäkning!$B$6:$B$97,[1]Poängberäkning!$C$6:$C$97)","v":0},{"$f":"LARGE(($H31,$J31,$L31,$N31,$P31,$R31,$T31,$V31,$X31),1)","v":55},{"$f":"LARGE(($H31,$J31,$L31,$N31,$P31,$R31,$T31,$V31,$X31),2)","v":0},{"$f":"LARGE(($H31,$J31,$L31,$N31,$P31,$R31,$T31,$V31,$X31),3)","v":0},{"$f":"LARGE(($H31,$J31,$L31,$N31,$P31,$R31,$T31,$V31,$X31),4)","v":0},{"$f":"LARGE(($H31,$J31,$L31,$N31,$P31,$R31,$T31,$V31,$X31),5)","v":0},{"$f":"LARGE(($H31,$J31,$L31,$N31,$P31,$R31,$T31,$V31,$X31),6)","v":0},{"$f":"LARGE(($H31,$J31,$L31,$N31,$P31,$R31,$T31,$V31,$X31),7)","v":0},{"$f":"LARGE(($H31,$J31,$L31,$N31,$P31,$R31,$T31,$V31,$X31),8)","v":0},{"$f":"LARGE(($H31,$J31,$L31,$N31,$P31,$R31,$T31,$V31,$X31),9)","v":0}]
[28,1998,"LUNDBÄCK Emma","Huddinge SK AF",54,54,null,{"$f":"LOOKUP(G32,Poängberäkning!$B$6:$B$97,Poängberäkning!$C$6:$C$97)","v":0},null,{"$f":"LOOKUP(I32,Poängberäkning!$B$6:$B$97,Poängberäkning!$C$6:$C$97)","v":0},null,{"$f":"LOOKUP(K32,Poängberäkning!$B$6:$B$97,Poängberäkning!$C$6:$C$97)","v":0},null,{"$f":"LOOKUP(M32,Poängberäkning!$B$6:$B$97,Poängberäkning!$C$6:$C$97)","v":0},null,{"$f":"LOOKUP(O32,Poängberäkning!$B$6:$B$97,Poängberäkning!$C$6:$C$97)","v":0},20,{"$f":"LOOKUP(Q32,[1]Poängberäkning!$B$6:$B$97,[1]Poängberäkning!$C$6:$C$97)","v":31},28,{"$f":"LOOKUP(S32,[1]Poängberäkning!$B$6:$B$97,[1]Poängberäkning!$C$6:$C$97)","v":23},null,{"$f":"LOOKUP(U32,[1]Poängberäkning!$B$6:$B$97,[1]Poängberäkning!$C$6:$C$97)","v":0},null,{"$f":"LOOKUP(W32,[1]Poängberäkning!$B$6:$B$97,[1]Poängberäkning!$C$6:$C$97)","v":0},{"$f":"LARGE(($H32,$J32,$L32,$N32,$P32,$R32,$T32,$V32,$X32),1)","v":31},{"$f":"LARGE(($H32,$J32,$L32,$N32,$P32,$R32,$T32,$V32,$X32),2)","v":23},{"$f":"LARGE(($H32,$J32,$L32,$N32,$P32,$R32,$T32,$V32,$X32),3)","v":0},{"$f":"LARGE(($H32,$J32,$L32,$N32,$P32,$R32,$T32,$V32,$X32),4)","v":0},{"$f":"LARGE(($H32,$J32,$L32,$N32,$P32,$R32,$T32,$V32,$X32),5)","v":0},{"$f":"LARGE(($H32,$J32,$L32,$N32,$P32,$R32,$T32,$V32,$X32),6)","v":0},{"$f":"LARGE(($H32,$J32,$L32,$N32,$P32,$R32,$T32,$V32,$X32),7)","v":0},{"$f":"LARGE(($H32,$J32,$L32,$N32,$P32,$R32,$T32,$V32,$X32),8)","v":0},{"$f":"LARGE(($H32,$J32,$L32,$N32,$P32,$R32,$T32,$V32,$X32),9)","v":0}]
[29,1997,"WEDIN Matilda","Uppsala SLK",53,53,null,{"$f":"LOOKUP(G33,Poängberäkning!$B$6:$B$97,Poängberäkning!$C$6:$C$97)","v":0},null,{"$f":"LOOKUP(I33,Poängberäkning!$B$6:$B$97,Poängberäkning!$C$6:$C$97)","v":0},null,{"$f":"LOOKUP(K33,Poängberäkning!$B$6:$B$97,Poängberäkning!$C$6:$C$97)","v":0},null,{"$f":"LOOKUP(M33,Poängberäkning!$B$6:$B$97,Poängberäkning!$C$6:$C$97)","v":0},null,{"$f":"LOOKUP(O33,Poängberäkning!$B$6:$B$97,Poängberäkning!$C$6:$C$97)","v":0},30,{"$f":"LOOKUP(Q33,[1]Poängberäkning!$B$6:$B$97,[1]Poängberäkning!$C$6:$C$97)","v":21},19,{"$f":"LOOKUP(S33,[1]Poängberäkning!$B$6:$B$97,[1]Poängberäkning!$C$6:$C$97)","v":32},null,{"$f":"LOOKUP(U33,[1]Poängberäkning!$B$6:$B$97,[1]Poängberäkning!$C$6:$C$97)","v":0},null,{"$f":"LOOKUP(W33,[1]Poängberäkning!$B$6:$B$97,[1]Poängberäkning!$C$6:$C$97)","v":0},{"$f":"LARGE(($H33,$J33,$L33,$N33,$P33,$R33,$T33,$V33,$X33),1)","v":32},{"$f":"LARGE(($H33,$J33,$L33,$N33,$P33,$R33,$T33,$V33,$X33),2)","v":21},{"$f":"LARGE(($H33,$J33,$L33,$N33,$P33,$R33,$T33,$V33,$X33),3)","v":0},{"$f":"LARGE(($H33,$J33,$L33,$N33,$P33,$R33,$T33,$V33,$X33),4)","v":0},{"$f":"LARGE(($H33,$J33,$L33,$N33,$P33,$R33,$T33,$V33,$X33),5)","v":0},{"$f":"LARGE(($H33,$J33,$L33,$N33,$P33,$R33,$T33,$V33,$X33),6)","v":0},{"$f":"LARGE(($H33,$J33,$L33,$N33,$P33,$R33,$T33,$V33,$X33),7)","v":0},{"$f":"LARGE(($H33,$J33,$L33,$N33,$P33,$R33,$T33,$V33,$X33),8)","v":0},{"$f":"LARGE(($H33,$J33,$L33,$N33,$P33,$R33,$T33,$V33,$X33),9)","v":0}]
[30,1986,"HINDERS Elin","IFK Falun",50,50,null,{"$f":"LOOKUP(G34,Poängberäkning!$B$6:$B$97,Poängberäkning!$C$6:$C$97)","v":0},6,{"$f":"LOOKUP(I34,Poängberäkning!$B$6:$B$97,Poängberäkning!$C$6:$C$97)","v":50},null,{"$f":"LOOKUP(K34,Poängberäkning!$B$6:$B$97,Poängberäkning!$C$6:$C$97)","v":0},null,{"$f":"LOOKUP(M34,Poängberäkning!$B$6:$B$97,Poängberäkning!$C$6:$C$97)","v":0},null,{"$f":"LOOKUP(O34,Poängberäkning!$B$6:$B$97,Poängberäkning!$C$6:$C$97)","v":0},null,{"$f":"LOOKUP(Q34,[1]Poängberäkning!$B$6:$B$97,[1]Poängberäkning!$C$6:$C$97)","v":0},null,{"$f":"LOOKUP(S34,[1]Poängberäkning!$B$6:$B$97,[1]Poängberäkning!$C$6:$C$97)","v":0},null,{"$f":"LOOKUP(U34,[1]Poängberäkning!$B$6:$B$97,[1]Poängberäkning!$C$6:$C$97)","v":0},null,{"$f":"LOOKUP(W34,[1]Poängberäkning!$B$6:$B$97,[1]Poängberäkning!$C$6:$C$97)","v":0},{"$f":"LARGE(($H34,$J34,$L34,$N34,$P34,$R34,$T34,$V34,$X34),1)","v":50},{"$f":"LARGE(($H34,$J34,$L34,$N34,$P34,$R34,$T34,$V34,$X34),2)","v":0},{"$f":"LARGE(($H34,$J34,$L34,$N34,$P34,$R34,$T34,$V34,$X34),3)","v":0},{"$f":"LARGE(($H34,$J34,$L34,$N34,$P34,$R34,$T34,$V34,$X34),4)","v":0},{"$f":"LARGE(($H34,$J34,$L34,$N34,$P34,$R34,$T34,$V34,$X34),5)","v":0},{"$f":"LARGE(($H34,$J34,$L34,$N34,$P34,$R34,$T34,$V34,$X34),6)","v":0},{"$f":"LARGE(($H34,$J34,$L34,$N34,$P34,$R34,$T34,$V34,$X34),7)","v":0},{"$f":"LARGE(($H34,$J34,$L34,$N34,$P34,$R34,$T34,$V34,$X34),8)","v":0},{"$f":"LARGE(($H34,$J34,$L34,$N34,$P34,$R34,$T34,$V34,$X34),9)","v":0}]
[31,1997,"OLSSON Klara","Uppsala SLK",49,49,null,{"$f":"LOOKUP(G35,Poängberäkning!$B$6:$B$97,Poängberäkning!$C$6:$C$97)","v":0},null,{"$f":"LOOKUP(I35,Poängberäkning!$B$6:$B$97,Poängberäkning!$C$6:$C$97)","v":0},null,{"$f":"LOOKUP(K35,Poängberäkning!$B$6:$B$97,Poängberäkning!$C$6:$C$97)","v":0},null,{"$f":"LOOKUP(M35,Poängberäkning!$B$6:$B$97,Poängberäkning!$C$6:$C$97)","v":0},null,{"$f":"LOOKUP(O35,Poängberäkning!$B$6:$B$97,Poängberäkning!$C$6:$C$97)","v":0},31,{"$f":"LOOKUP(Q35,[1]Poängberäkning!$B$6:$B$97,[1]Poängberäkning!$C$6:$C$97)","v":20},22,{"$f":"LOOKUP(S35,[1]Poängberäkning!$B$6:$B$97,[1]Poängberäkning!$C$6:$C$97)","v":29},null,{"$f":"LOOKUP(U35,[1]Poängberäkning!$B$6:$B$97,[1]Poängberäkning!$C$6:$C$97)","v":0},null,{"$f":"LOOKUP(W35,[1]Poängberäkning!$B$6:$B$97,[1]Poängberäkning!$C$6:$C$97)","v":0},{"$f":"LARGE(($H35,$J35,$L35,$N35,$P35,$R35,$T35,$V35,$X35),1)","v":29},{"$f":"LARGE(($H35,$J35,$L35,$N35,$P35,$R35,$T35,$V35,$X35),2)","v":20},{"$f":"LARGE(($H35,$J35,$L35,$N35,$P35,$R35,$T35,$V35,$X35),3)","v":0},{"$f":"LARGE(($H35,$J35,$L35,$N35,$P35,$R35,$T35,$V35,$X35),4)","v":0},{"$f":"LARGE(($H35,$J35,$L35,$N35,$P35,$R35,$T35,$V35,$X35),5)","v":0},{"$f":"LARGE(($H35,$J35,$L35,$N35,$P35,$R35,$T35,$V35,$X35),6)","v":0},{"$f":"LARGE(($H35,$J35,$L35,$N35,$P35,$R35,$T35,$V35,$X35),7)","v":0},{"$f":"LARGE(($H35,$J35,$L35,$N35,$P35,$R35,$T35,$V35,$X35),8)","v":0},{"$f":"LARGE(($H35,$J35,$L35,$N35,$P35,$R35,$T35,$V35,$X35),9)","v":0}]
[32,1998,"MÅNGS Elin","Idre SK",48,48,null,{"$f":"LOOKUP(G36,Poängberäkning!$B$6:$B$97,Poängberäkning!$C$6:$C$97)","v":0},null,{"$f":"LOOKUP(I36,Poängberäkning!$B$6:$B$97,Poängberäkning!$C$6:$C$97)","v":0},null,{"$f":"LOOKUP(K36,Poängberäkning!$B$6:$B$97,Poängberäkning!$C$6:$C$97)","v":0},null,{"$f":"LOOKUP(M36,Poängberäkning!$B$6:$B$97,Poängberäkning!$C$6:$C$97)","v":0},null,{"$f":"LOOKUP(O36,Poängberäkning!$B$6:$B$97,Poängberäkning!$C$6:$C$97)","v":0},29,{"$f":"LOOKUP(Q36,[1]Poängberäkning!$B$6:$B$97,[1]Poängberäkning!$C$6:$C$97)","v":22},25,{"$f":"LOOKUP(S36,[1]Poängberäkning!$B$6:$B$97,[1]Poängberäkning!$C$6:$C$97)","v":26},null,{"$f":"LOOKUP(U36,[1]Poängberäkning!$B$6:$B$97,[1]Poängberäkning!$C$6:$C$97)","v":0},null,{"$f":"LOOKUP(W36,[1]Poängberäkning!$B$6:$B$97,[1]Poängberäkning!$C$6:$C$97)","v":0},{"$f":"LARGE(($H36,$J36,$L36,$N36,$P36,$R36,$T36,$V36,$X36),1)","v":26},{"$f":"LARGE(($H36,$J36,$L36,$N36,$P36,$R36,$T36,$V36,$X36),2)","v":22},{"$f":"LARGE(($H36,$J36,$L36,$N36,$P36,$R36,$T36,$V36,$X36),3)","v":0},{"$f":"LARGE(($H36,$J36,$L36,$N36,$P36,$R36,$T36,$V36,$X36),4)","v":0},{"$f":"LARGE(($H36,$J36,$L36,$N36,$P36,$R36,$T36,$V36,$X36),5)","v":0},{"$f":"LARGE(($H36,$J36,$L36,$N36,$P36,$R36,$T36,$V36,$X36),6)","v":0},{"$f":"LARGE(($H36,$J36,$L36,$N36,$P36,$R36,$T36,$V36,$X36),7)","v":0},{"$f":"LARGE(($H36,$J36,$L36,$N36,$P36,$R36,$T36,$V36,$X36),8)","v":0},{"$f":"LARGE(($H36,$J36,$L36,$N36,$P36,$R36,$T36,$V36,$X36),9)","v":0}]
[33,1995,"OLSSON Hanna","Uppsala SLK",{"$f":"SUM(Y37:AC37)","v":47},{"$f":"H37+J37+L37+N37+P37+R37+T37+V37+X37","v":47},null,{"$f":"LOOKUP(G37,Poängberäkning!$B$6:$B$97,Poängberäkning!$C$6:$C$97)","v":0},null,{"$f":"LOOKUP(I37,Poängberäkning!$B$6:$B$97,Poängberäkning!$C$6:$C$97)","v":0},null,{"$f":"LOOKUP(K37,Poängberäkning!$B$6:$B$97,Poängberäkning!$C$6:$C$97)","v":0},null,{"$f":"LOOKUP(M37,Poängberäkning!$B$6:$B$97,Poängberäkning!$C$6:$C$97)","v":0},null,{"$f":"LOOKUP(O37,Poängberäkning!$B$6:$B$97,Poängberäkning!$C$6:$C$97)","v":0},32,{"$f":"LOOKUP(Q37,[1]Poängberäkning!$B$6:$B$97,[1]Poängberäkning!$C$6:$C$97)","v":19},23,{"$f":"LOOKUP(S37,[1]Poängberäkning!$B$6:$B$97,[1]Poängberäkning!$C$6:$C$97)","v":28},null,{"$f":"LOOKUP(U37,[1]Poängberäkning!$B$6:$B$97,[1]Poängberäkning!$C$6:$C$97)","v":0},null,{"$f":"LOOKUP(W37,[1]Poängberäkning!$B$6:$B$97,[1]Poängberäkning!$C$6:$C$97)","v":0},{"$f":"LARGE(($H37,$J37,$L37,$N37,$P37,$R37,$T37,$V37,$X37),1)","v":28},{"$f":"LARGE(($H37,$J37,$L37,$N37,$P37,$R37,$T37,$V37,$X37),2)","v":19},{"$f":"LARGE(($H37,$J37,$L37,$N37,$P37,$R37,$T37,$V37,$X37),3)","v":0},{"$f":"LARGE(($H37,$J37,$L37,$N37,$P37,$R37,$T37,$V37,$X37),4)","v":0},{"$f":"LARGE(($H37,$J37,$L37,$N37,$P37,$R37,$T37,$V37,$X37),5)","v":0},{"$f":"LARGE(($H37,$J37,$L37,$N37,$P37,$R37,$T37,$V37,$X37),6)","v":0},{"$f":"LARGE(($H37,$J37,$L37,$N37,$P37,$R37,$T37,$V37,$X37),7)","v":0},{"$f":"LARGE(($H37,$J37,$L37,$N37,$P37,$R37,$T37,$V37,$X37),8)","v":0},{"$f":"LARGE(($H37,$J37,$L37,$N37,$P37,$R37,$T37,$V37,$X37),9)","v":0}]
[34,1999,"JENSEN Lovisa","Orsa Alpina Klubb",45,45,null,{"$f":"LOOKUP(G38,Poängberäkning!$B$6:$B$97,Poängberäkning!$C$6:$C$97)","v":0},null,{"$f":"LOOKUP(I38,Poängberäkning!$B$6:$B$97,Poängberäkning!$C$6:$C$97)","v":0},null,{"$f":"LOOKUP(K38,Poängberäkning!$B$6:$B$97,Poängberäkning!$C$6:$C$97)","v":0},null,{"$f":"LOOKUP(M38,Poängberäkning!$B$6:$B$97,Poängberäkning!$C$6:$C$97)","v":0},null,{"$f":"LOOKUP(O38,Poängberäkning!$B$6:$B$97,Poängberäkning!$C$6:$C$97)","v":0},27,{"$f":"LOOKUP(Q38,[1]Poängberäkning!$B$6:$B$97,[1]Poängberäkning!$C$6:$C$97)","v":24},30,{"$f":"LOOKUP(S38,[1]Poängberäkning!$B$6:$B$97,[1]Poängberäkning!$C$6:$C$97)","v":21},null,{"$f":"LOOKUP(U38,[1]Poängberäkning!$B$6:$B$97,[1]Poängberäkning!$C$6:$C$97)","v":0},null,{"$f":"LOOKUP(W38,[1]Poängberäkning!$B$6:$B$97,[1]Poängberäkning!$C$6:$C$97)","v":0},{"$f":"LARGE(($H38,$J38,$L38,$N38,$P38,$R38,$T38,$V38,$X38),1)","v":24},{"$f":"LARGE(($H38,$J38,$L38,$N38,$P38,$R38,$T38,$V38,$X38),2)","v":21},{"$f":"LARGE(($H38,$J38,$L38,$N38,$P38,$R38,$T38,$V38,$X38),3)","v":0},{"$f":"LARGE(($H38,$J38,$L38,$N38,$P38,$R38,$T38,$V38,$X38),4)","v":0},{"$f":"LARGE(($H38,$J38,$L38,$N38,$P38,$R38,$T38,$V38,$X38),5)","v":0},{"$f":"LARGE(($H38,$J38,$L38,$N38,$P38,$R38,$T38,$V38,$X38),6)","v":0},{"$f":"LARGE(($H38,$J38,$L38,$N38,$P38,$R38,$T38,$V38,$X38),7)","v":0},{"$f":"LARGE(($H38,$J38,$L38,$N38,$P38,$R38,$T38,$V38,$X38),8)","v":0},{"$f":"LARGE(($H38,$J38,$L38,$N38,$P38,$R38,$T38,$V38,$X38),9)","v":0}]
[35,1998,"BROWALDH Siri","Djurgårdens IF AF",44,44,null,{"$f":"LOOKUP(G39,Poängberäkning!$B$6:$B$97,Poängberäkning!$C$6:$C$97)","v":0},null,{"$f":"LOOKUP(I39,Poängberäkning!$B$6:$B$97,Poängberäkning!$C$6:$C$97)","v":0},null,{"$f":"LOOKUP(K39,Poängberäkning!$B$6:$B$97,Poängberäkning!$C$6:$C$97)","v":0},null,{"$f":"LOOKUP(M39,Poängberäkning!$B$6:$B$97,Poängberäkning!$C$6:$C$97)","v":0},null,{"$f":"LOOKUP(O39,Poängberäkning!$B$6:$B$97,Poängberäkning!$C$6:$C$97)","v":0},99,{"$f":"LOOKUP(Q39,[1]Poängberäkning!$B$6:$B$97,[1]Poängberäkning!$C$6:$C$97)","v":0},9,{"$f":"LOOKUP(S39,[1]Poängberäkning!$B$6:$B$97,[1]Poängberäkning!$C$6:$C$97)","v":44},null,{"$f":"LOOKUP(U39,[1]Poängberäkning!$B$6:$B$97,[1]Poängberäkning!$C$6:$C$97)","v":0},null,{"$f":"LOOKUP(W39,[1]Poängberäkning!$B$6:$B$97,[1]Poängberäkning!$C$6:$C$97)","v":0},{"$f":"LARGE(($H39,$J39,$L39,$N39,$P39,$R39,$T39,$V39,$X39),1)","v":44},{"$f":"LARGE(($H39,$J39,$L39,$N39,$P39,$R39,$T39,$V39,$X39),2)","v":0},{"$f":"LARGE(($H39,$J39,$L39,$N39,$P39,$R39,$T39,$V39,$X39),3)","v":0},{"$f":"LARGE(($H39,$J39,$L39,$N39,$P39,$R39,$T39,$V39,$X39),4)","v":0},{"$f":"LARGE(($H39,$J39,$L39,$N39,$P39,$R39,$T39,$V39,$X39),5)","v":0},{"$f":"LARGE(($H39,$J39,$L39,$N39,$P39,$R39,$T39,$V39,$X39),6)","v":0},{"$f":"LARGE(($H39,$J39,$L39,$N39,$P39,$R39,$T39,$V39,$X39),7)","v":0},{"$f":"LARGE(($H39,$J39,$L39,$N39,$P39,$R39,$T39,$V39,$X39),8)","v":0},{"$f":"LARGE(($H39,$J39,$L39,$N39,$P39,$R39,$T39,$V39,$X39),9)","v":0}]
[36,1999,"ANDERSSON Filippa","Täby SLK",41,41,null,{"$f":"LOOKUP(G40,Poängberäkning!$B$6:$B$97,Poängberäkning!$C$6:$C$97)","v":0},null,{"$f":"LOOKUP(I40,Poängberäkning!$B$6:$B$97,Poängberäkning!$C$6:$C$97)","v":0},null,{"$f":"LOOKUP(K40,Poängberäkning!$B$6:$B$97,Poängberäkning!$C$6:$C$97)","v":0},null,{"$f":"LOOKUP(M40,Poängberäkning!$B$6:$B$97,Poängberäkning!$C$6:$C$97)","v":0},null,{"$f":"LOOKUP(O40,Poängberäkning!$B$6:$B$97,Poängberäkning!$C$6:$C$97)","v":0},37,{"$f":"LOOKUP(Q40,[1]Poängberäkning!$B$6:$B$97,[1]Poängberäkning!$C$6:$C$97)","v":14},24,{"$f":"LOOKUP(S40,[1]Poängberäkning!$B$6:$B$97,[1]Poängberäkning!$C$6:$C$97)","v":27},null,{"$f":"LOOKUP(U40,[1]Poängberäkning!$B$6:$B$97,[1]Poängberäkning!$C$6:$C$97)","v":0},null,{"$f":"LOOKUP(W40,[1]Poängberäkning!$B$6:$B$97,[1]Poängberäkning!$C$6:$C$97)","v":0},{"$f":"LARGE(($H40,$J40,$L40,$N40,$P40,$R40,$T40,$V40,$X40),1)","v":27},{"$f":"LARGE(($H40,$J40,$L40,$N40,$P40,$R40,$T40,$V40,$X40),2)","v":14},{"$f":"LARGE(($H40,$J40,$L40,$N40,$P40,$R40,$T40,$V40,$X40),3)","v":0},{"$f":"LARGE(($H40,$J40,$L40,$N40,$P40,$R40,$T40,$V40,$X40),4)","v":0},{"$f":"LARGE(($H40,$J40,$L40,$N40,$P40,$R40,$T40,$V40,$X40),5)","v":0},{"$f":"LARGE(($H40,$J40,$L40,$N40,$P40,$R40,$T40,$V40,$X40),6)","v":0},{"$f":"LARGE(($H40,$J40,$L40,$N40,$P40,$R40,$T40,$V40,$X40),7)","v":0},{"$f":"LARGE(($H40,$J40,$L40,$N40,$P40,$R40,$T40,$V40,$X40),8)","v":0},{"$f":"LARGE(($H40,$J40,$L40,$N40,$P40,$R40,$T40,$V40,$X40),9)","v":0}]
[37,1999,"MIDNÄS Wilma","Falköpings AIK SLK",40,40,null,{"$f":"LOOKUP(G41,Poängberäkning!$B$6:$B$97,Poängberäkning!$C$6:$C$97)","v":0},null,{"$f":"LOOKUP(I41,Poängberäkning!$B$6:$B$97,Poängberäkning!$C$6:$C$97)","v":0},null,{"$f":"LOOKUP(K41,Poängberäkning!$B$6:$B$97,Poängberäkning!$C$6:$C$97)","v":0},null,{"$f":"LOOKUP(M41,Poängberäkning!$B$6:$B$97,Poängberäkning!$C$6:$C$97)","v":0},null,{"$f":"LOOKUP(O41,Poängberäkning!$B$6:$B$97,Poängberäkning!$C$6:$C$97)","v":0},36,{"$f":"LOOKUP(Q41,[1]Poängberäkning!$B$6:$B$97,[1]Poängberäkning!$C$6:$C$97)","v":15},26,{"$f":"LOOKUP(S41,[1]Poängberäkning!$B$6:$B$97,[1]Poängberäkning!$C$6:$C$97)","v":25},null,{"$f":"LOOKUP(U41,[1]Poängberäkning!$B$6:$B$97,[1]Poängberäkning!$C$6:$C$97)","v":0},null,{"$f":"LOOKUP(W41,[1]Poängberäkning!$B$6:$B$97,[1]Poängberäkning!$C$6:$C$97)","v":0},{"$f":"LARGE(($H41,$J41,$L41,$N41,$P41,$R41,$T41,$V41,$X41),1)","v":25},{"$f":"LARGE(($H41,$J41,$L41,$N41,$P41,$R41,$T41,$V41,$X41),2)","v":15},{"$f":"LARGE(($H41,$J41,$L41,$N41,$P41,$R41,$T41,$V41,$X41),3)","v":0},{"$f":"LARGE(($H41,$J41,$L41,$N41,$P41,$R41,$T41,$V41,$X41),4)","v":0},{"$f":"LARGE(($H41,$J41,$L41,$N41,$P41,$R41,$T41,$V41,$X41),5)","v":0},{"$f":"LARGE(($H41,$J41,$L41,$N41,$P41,$R41,$T41,$V41,$X41),6)","v":0},{"$f":"LARGE(($H41,$J41,$L41,$N41,$P41,$R41,$T41,$V41,$X41),7)","v":0},{"$f":"LARGE(($H41,$J41,$L41,$N41,$P41,$R41,$T41,$V41,$X41),8)","v":0},{"$f":"LARGE(($H41,$J41,$L41,$N41,$P41,$R41,$T41,$V41,$X41),9)","v":0}]
[38,1999,"BOIARDT Johanna","Östersund-Frösö SLK",39,39,null,{"$f":"LOOKUP(G42,Poängberäkning!$B$6:$B$97,Poängberäkning!$C$6:$C$97)","v":0},null,{"$f":"LOOKUP(I42,Poängberäkning!$B$6:$B$97,Poängberäkning!$C$6:$C$97)","v":0},null,{"$f":"LOOKUP(K42,Poängberäkning!$B$6:$B$97,Poängberäkning!$C$6:$C$97)","v":0},null,{"$f":"LOOKUP(M42,Poängberäkning!$B$6:$B$97,Poängberäkning!$C$6:$C$97)","v":0},null,{"$f":"LOOKUP(O42,Poängberäkning!$B$6:$B$97,Poängberäkning!$C$6:$C$97)","v":0},12,{"$f":"LOOKUP(Q42,[1]Poängberäkning!$B$6:$B$97,[1]Poängberäkning!$C$6:$C$97)","v":39},99,{"$f":"LOOKUP(S42,[1]Poängberäkning!$B$6:$B$97,[1]Poängberäkning!$C$6:$C$97)","v":0},null,{"$f":"LOOKUP(U42,[1]Poängberäkning!$B$6:$B$97,[1]Poängberäkning!$C$6:$C$97)","v":0},null,{"$f":"LOOKUP(W42,[1]Poängberäkning!$B$6:$B$97,[1]Poängberäkning!$C$6:$C$97)","v":0},{"$f":"LARGE(($H42,$J42,$L42,$N42,$P42,$R42,$T42,$V42,$X42),1)","v":39},{"$f":"LARGE(($H42,$J42,$L42,$N42,$P42,$R42,$T42,$V42,$X42),2)","v":0},{"$f":"LARGE(($H42,$J42,$L42,$N42,$P42,$R42,$T42,$V42,$X42),3)","v":0},{"$f":"LARGE(($H42,$J42,$L42,$N42,$P42,$R42,$T42,$V42,$X42),4)","v":0},{"$f":"LARGE(($H42,$J42,$L42,$N42,$P42,$R42,$T42,$V42,$X42),5)","v":0},{"$f":"LARGE(($H42,$J42,$L42,$N42,$P42,$R42,$T42,$V42,$X42),6)","v":0},{"$f":"LARGE(($H42,$J42,$L42,$N42,$P42,$R42,$T42,$V42,$X42),7)","v":0},{"$f":"LARGE(($H42,$J42,$L42,$N42,$P42,$R42,$T42,$V42,$X42),8)","v":0},{"$f":"LARGE(($H42,$J42,$L42,$N42,$P42,$R42,$T42,$V42,$X42),9)","v":0}]
[39,1997,"ISRAELSSON Elsa","Sundsvalls SLK",38,38,null,{"$f":"LOOKUP(G43,Poängberäkning!$B$6:$B$97,Poängberäkning!$C$6:$C$97)","v":0},null,{"$f":"LOOKUP(I43,Poängberäkning!$B$6:$B$97,Poängberäkning!$C$6:$C$97)","v":0},null,{"$f":"LOOKUP(K43,Poängberäkning!$B$6:$B$97,Poängberäkning!$C$6:$C$97)","v":0},null,{"$f":"LOOKUP(M43,Poängberäkning!$B$6:$B$97,Poängberäkning!$C$6:$C$97)","v":0},null,{"$f":"LOOKUP(O43,Poängberäkning!$B$6:$B$97,Poängberäkning!$C$6:$C$97)","v":0},13,{"$f":"LOOKUP(Q43,[1]Poängberäkning!$B$6:$B$97,[1]Poängberäkning!$C$6:$C$97)","v":38},99,{"$f":"LOOKUP(S43,[1]Poängberäkning!$B$6:$B$97,[1]Poängberäkning!$C$6:$C$97)","v":0},null,{"$f":"LOOKUP(U43,[1]Poängberäkning!$B$6:$B$97,[1]Poängberäkning!$C$6:$C$97)","v":0},null,{"$f":"LOOKUP(W43,[1]Poängberäkning!$B$6:$B$97,[1]Poängberäkning!$C$6:$C$97)","v":0},{"$f":"LARGE(($H43,$J43,$L43,$N43,$P43,$R43,$T43,$V43,$X43),1)","v":38},{"$f":"LARGE(($H43,$J43,$L43,$N43,$P43,$R43,$T43,$V43,$X43),2)","v":0},{"$f":"LARGE(($H43,$J43,$L43,$N43,$P43,$R43,$T43,$V43,$X43),3)","v":0},{"$f":"LARGE(($H43,$J43,$L43,$N43,$P43,$R43,$T43,$V43,$X43),4)","v":0},{"$f":"LARGE(($H43,$J43,$L43,$N43,$P43,$R43,$T43,$V43,$X43),5)","v":0},{"$f":"LARGE(($H43,$J43,$L43,$N43,$P43,$R43,$T43,$V43,$X43),6)","v":0},{"$f":"LARGE(($H43,$J43,$L43,$N43,$P43,$R43,$T43,$V43,$X43),7)","v":0},{"$f":"LARGE(($H43,$J43,$L43,$N43,$P43,$R43,$T43,$V43,$X43),8)","v":0},{"$f":"LARGE(($H43,$J43,$L43,$N43,$P43,$R43,$T43,$V43,$X43),9)","v":0}]
[40,1999,"ANTMAN Stina","Västerås Slalomklubb",36,36,null,{"$f":"LOOKUP(G44,Poängberäkning!$B$6:$B$97,Poängberäkning!$C$6:$C$97)","v":0},null,{"$f":"LOOKUP(I44,Poängberäkning!$B$6:$B$97,Poängberäkning!$C$6:$C$97)","v":0},null,{"$f":"LOOKUP(K44,Poängberäkning!$B$6:$B$97,Poängberäkning!$C$6:$C$97)","v":0},null,{"$f":"LOOKUP(M44,Poängberäkning!$B$6:$B$97,Poängberäkning!$C$6:$C$97)","v":0},null,{"$f":"LOOKUP(O44,Poängberäkning!$B$6:$B$97,Poängberäkning!$C$6:$C$97)","v":0},35,{"$f":"LOOKUP(Q44,[1]Poängberäkning!$B$6:$B$97,[1]Poängberäkning!$C$6:$C$97)","v":16},31,{"$f":"LOOKUP(S44,[1]Poängberäkning!$B$6:$B$97,[1]Poängberäkning!$C$6:$C$97)","v":20},null,{"$f":"LOOKUP(U44,[1]Poängberäkning!$B$6:$B$97,[1]Poängberäkning!$C$6:$C$97)","v":0},null,{"$f":"LOOKUP(W44,[1]Poängberäkning!$B$6:$B$97,[1]Poängberäkning!$C$6:$C$97)","v":0},{"$f":"LARGE(($H44,$J44,$L44,$N44,$P44,$R44,$T44,$V44,$X44),1)","v":20},{"$f":"LARGE(($H44,$J44,$L44,$N44,$P44,$R44,$T44,$V44,$X44),2)","v":16},{"$f":"LARGE(($H44,$J44,$L44,$N44,$P44,$R44,$T44,$V44,$X44),3)","v":0},{"$f":"LARGE(($H44,$J44,$L44,$N44,$P44,$R44,$T44,$V44,$X44),4)","v":0},{"$f":"LARGE(($H44,$J44,$L44,$N44,$P44,$R44,$T44,$V44,$X44),5)","v":0},{"$f":"LARGE(($H44,$J44,$L44,$N44,$P44,$R44,$T44,$V44,$X44),6)","v":0},{"$f":"LARGE(($H44,$J44,$L44,$N44,$P44,$R44,$T44,$V44,$X44),7)","v":0},{"$f":"LARGE(($H44,$J44,$L44,$N44,$P44,$R44,$T44,$V44,$X44),8)","v":0},{"$f":"LARGE(($H44,$J44,$L44,$N44,$P44,$R44,$T44,$V44,$X44),9)","v":0}]
[41,1997,"RAIJ Sofia","Kils SLK",33,33,null,{"$f":"LOOKUP(G45,Poängberäkning!$B$6:$B$97,Poängberäkning!$C$6:$C$97)","v":0},null,{"$f":"LOOKUP(I45,Poängberäkning!$B$6:$B$97,Poängberäkning!$C$6:$C$97)","v":0},null,{"$f":"LOOKUP(K45,Poängberäkning!$B$6:$B$97,Poängberäkning!$C$6:$C$97)","v":0},null,{"$f":"LOOKUP(M45,Poängberäkning!$B$6:$B$97,Poängberäkning!$C$6:$C$97)","v":0},null,{"$f":"LOOKUP(O45,Poängberäkning!$B$6:$B$97,Poängberäkning!$C$6:$C$97)","v":0},18,{"$f":"LOOKUP(Q45,[1]Poängberäkning!$B$6:$B$97,[1]Poängberäkning!$C$6:$C$97)","v":33},99,{"$f":"LOOKUP(S45,[1]Poängberäkning!$B$6:$B$97,[1]Poängberäkning!$C$6:$C$97)","v":0},null,{"$f":"LOOKUP(U45,[1]Poängberäkning!$B$6:$B$97,[1]Poängberäkning!$C$6:$C$97)","v":0},null,{"$f":"LOOKUP(W45,[1]Poängberäkning!$B$6:$B$97,[1]Poängberäkning!$C$6:$C$97)","v":0},{"$f":"LARGE(($H45,$J45,$L45,$N45,$P45,$R45,$T45,$V45,$X45),1)","v":33},{"$f":"LARGE(($H45,$J45,$L45,$N45,$P45,$R45,$T45,$V45,$X45),2)","v":0},{"$f":"LARGE(($H45,$J45,$L45,$N45,$P45,$R45,$T45,$V45,$X45),3)","v":0},{"$f":"LARGE(($H45,$J45,$L45,$N45,$P45,$R45,$T45,$V45,$X45),4)","v":0},{"$f":"LARGE(($H45,$J45,$L45,$N45,$P45,$R45,$T45,$V45,$X45),5)","v":0},{"$f":"LARGE(($H45,$J45,$L45,$N45,$P45,$R45,$T45,$V45,$X45),6)","v":0},{"$f":"LARGE(($H45,$J45,$L45,$N45,$P45,$R45,$T45,$V45,$X45),7)","v":0},{"$f":"LARGE(($H45,$J45,$L45,$N45,$P45,$R45,$T45,$V45,$X45),8)","v":0},{"$f":"LARGE(($H45,$J45,$L45,$N45,$P45,$R45,$T45,$V45,$X45),9)","v":0}]
[42,1998,"THUNELL Elida","Järvsö IF",33,33,null,{"$f":"LOOKUP(G46,Poängberäkning!$B$6:$B$97,Poängberäkning!$C$6:$C$97)","v":0},null,{"$f":"LOOKUP(I46,Poängberäkning!$B$6:$B$97,Poängberäkning!$C$6:$C$97)","v":0},null,{"$f":"LOOKUP(K46,Poängberäkning!$B$6:$B$97,Poängberäkning!$C$6:$C$97)","v":0},null,{"$f":"LOOKUP(M46,Poängberäkning!$B$6:$B$97,Poängberäkning!$C$6:$C$97)","v":0},null,{"$f":"LOOKUP(O46,Poängberäkning!$B$6:$B$97,Poängberäkning!$C$6:$C$97)","v":0},40,{"$f":"LOOKUP(Q46,[1]Poängberäkning!$B$6:$B$97,[1]Poängberäkning!$C$6:$C$97)","v":11},29,{"$f":"LOOKUP(S46,[1]Poängberäkning!$B$6:$B$97,[1]Poängberäkning!$C$6:$C$97)","v":22},null,{"$f":"LOOKUP(U46,[1]Poängberäkning!$B$6:$B$97,[1]Poängberäkning!$C$6:$C$97)","v":0},null,{"$f":"LOOKUP(W46,[1]Poängberäkning!$B$6:$B$97,[1]Poängberäkning!$C$6:$C$97)","v":0},{"$f":"LARGE(($H46,$J46,$L46,$N46,$P46,$R46,$T46,$V46,$X46),1)","v":22},{"$f":"LARGE(($H46,$J46,$L46,$N46,$P46,$R46,$T46,$V46,$X46),2)","v":11},{"$f":"LARGE(($H46,$J46,$L46,$N46,$P46,$R46,$T46,$V46,$X46),3)","v":0},{"$f":"LARGE(($H46,$J46,$L46,$N46,$P46,$R46,$T46,$V46,$X46),4)","v":0},{"$f":"LARGE(($H46,$J46,$L46,$N46,$P46,$R46,$T46,$V46,$X46),5)","v":0},{"$f":"LARGE(($H46,$J46,$L46,$N46,$P46,$R46,$T46,$V46,$X46),6)","v":0},{"$f":"LARGE(($H46,$J46,$L46,$N46,$P46,$R46,$T46,$V46,$X46),7)","v":0},{"$f":"LARGE(($H46,$J46,$L46,$N46,$P46,$R46,$T46,$V46,$X46),8)","v":0},{"$f":"LARGE(($H46,$J46,$L46,$N46,$P46,$R46,$T46,$V46,$X46),9)","v":0}]
[43,1999,"ÅBERG Julia","Avesta AK",32,32,null,{"$f":"LOOKUP(G47,Poängberäkning!$B$6:$B$97,Poängberäkning!$C$6:$C$97)","v":0},null,{"$f":"LOOKUP(I47,Poängberäkning!$B$6:$B$97,Poängberäkning!$C$6:$C$97)","v":0},null,{"$f":"LOOKUP(K47,Poängberäkning!$B$6:$B$97,Poängberäkning!$C$6:$C$97)","v":0},99,{"$f":"LOOKUP(M47,Poängberäkning!$B$6:$B$97,Poängberäkning!$C$6:$C$97)","v":0},null,{"$f":"LOOKUP(O47,Poängberäkning!$B$6:$B$97,Poängberäkning!$C$6:$C$97)","v":0},19,{"$f":"LOOKUP(Q47,[1]Poängberäkning!$B$6:$B$97,[1]Poängberäkning!$C$6:$C$97)","v":32},99,{"$f":"LOOKUP(S47,[1]Poängberäkning!$B$6:$B$97,[1]Poängberäkning!$C$6:$C$97)","v":0},null,{"$f":"LOOKUP(U47,[1]Poängberäkning!$B$6:$B$97,[1]Poängberäkning!$C$6:$C$97)","v":0},null,{"$f":"LOOKUP(W47,[1]Poängberäkning!$B$6:$B$97,[1]Poängberäkning!$C$6:$C$97)","v":0},{"$f":"LARGE(($H47,$J47,$L47,$N47,$P47,$R47,$T47,$V47,$X47),1)","v":32},{"$f":"LARGE(($H47,$J47,$L47,$N47,$P47,$R47,$T47,$V47,$X47),2)","v":0},{"$f":"LARGE(($H47,$J47,$L47,$N47,$P47,$R47,$T47,$V47,$X47),3)","v":0},{"$f":"LARGE(($H47,$J47,$L47,$N47,$P47,$R47,$T47,$V47,$X47),4)","v":0},{"$f":"LARGE(($H47,$J47,$L47,$N47,$P47,$R47,$T47,$V47,$X47),5)","v":0},{"$f":"LARGE(($H47,$J47,$L47,$N47,$P47,$R47,$T47,$V47,$X47),6)","v":0},{"$f":"LARGE(($H47,$J47,$L47,$N47,$P47,$R47,$T47,$V47,$X47),7)","v":0},{"$f":"LARGE(($H47,$J47,$L47,$N47,$P47,$R47,$T47,$V47,$X47),8)","v":0},{"$f":"LARGE(($H47,$J47,$L47,$N47,$P47,$R47,$T47,$V47,$X47),9)","v":0}]
[44,1999,"SAHLGREN Maja","Huddinge SK AF",30,30,null,{"$f":"LOOKUP(G48,Poängberäkning!$B$6:$B$97,Poängberäkning!$C$6:$C$97)","v":0},null,{"$f":"LOOKUP(I48,Poängberäkning!$B$6:$B$97,Poängberäkning!$C$6:$C$97)","v":0},null,{"$f":"LOOKUP(K48,Poängberäkning!$B$6:$B$97,Poängberäkning!$C$6:$C$97)","v":0},null,{"$f":"LOOKUP(M48,Poängberäkning!$B$6:$B$97,Poängberäkning!$C$6:$C$97)","v":0},null,{"$f":"LOOKUP(O48,Poängberäkning!$B$6:$B$97,Poängberäkning!$C$6:$C$97)","v":0},99,{"$f":"LOOKUP(Q48,[1]Poängberäkning!$B$6:$B$97,[1]Poängberäkning!$C$6:$C$97)","v":0},21,{"$f":"LOOKUP(S48,[1]Poängberäkning!$B$6:$B$97,[1]Poängberäkning!$C$6:$C$97)","v":30},null,{"$f":"LOOKUP(U48,[1]Poängberäkning!$B$6:$B$97,[1]Poängberäkning!$C$6:$C$97)","v":0},null,{"$f":"LOOKUP(W48,[1]Poängberäkning!$B$6:$B$97,[1]Poängberäkning!$C$6:$C$97)","v":0},{"$f":"LARGE(($H48,$J48,$L48,$N48,$P48,$R48,$T48,$V48,$X48),1)","v":30},{"$f":"LARGE(($H48,$J48,$L48,$N48,$P48,$R48,$T48,$V48,$X48),2)","v":0},{"$f":"LARGE(($H48,$J48,$L48,$N48,$P48,$R48,$T48,$V48,$X48),3)","v":0},{"$f":"LARGE(($H48,$J48,$L48,$N48,$P48,$R48,$T48,$V48,$X48),4)","v":0},{"$f":"LARGE(($H48,$J48,$L48,$N48,$P48,$R48,$T48,$V48,$X48),5)","v":0},{"$f":"LARGE(($H48,$J48,$L48,$N48,$P48,$R48,$T48,$V48,$X48),6)","v":0},{"$f":"LARGE(($H48,$J48,$L48,$N48,$P48,$R48,$T48,$V48,$X48),7)","v":0},{"$f":"LARGE(($H48,$J48,$L48,$N48,$P48,$R48,$T48,$V48,$X48),8)","v":0},{"$f":"LARGE(($H48,$J48,$L48,$N48,$P48,$R48,$T48,$V48,$X48),9)","v":0}]
[45,1997,"NETINDER Julia","Uppsala SLK",29,29,null,{"$f":"LOOKUP(G49,Poängberäkning!$B$6:$B$97,Poängberäkning!$C$6:$C$97)","v":0},null,{"$f":"LOOKUP(I49,Poängberäkning!$B$6:$B$97,Poängberäkning!$C$6:$C$97)","v":0},null,{"$f":"LOOKUP(K49,Poängberäkning!$B$6:$B$97,Poängberäkning!$C$6:$C$97)","v":0},null,{"$f":"LOOKUP(M49,Poängberäkning!$B$6:$B$97,Poängberäkning!$C$6:$C$97)","v":0},null,{"$f":"LOOKUP(O49,Poängberäkning!$B$6:$B$97,Poängberäkning!$C$6:$C$97)","v":0},41,{"$f":"LOOKUP(Q49,[1]Poängberäkning!$B$6:$B$97,[1]Poängberäkning!$C$6:$C$97)","v":10},32,{"$f":"LOOKUP(S49,[1]Poängberäkning!$B$6:$B$97,[1]Poängberäkning!$C$6:$C$97)","v":19},null,{"$f":"LOOKUP(U49,[1]Poängberäkning!$B$6:$B$97,[1]Poängberäkning!$C$6:$C$97)","v":0},null,{"$f":"LOOKUP(W49,[1]Poängberäkning!$B$6:$B$97,[1]Poängberäkning!$C$6:$C$97)","v":0},{"$f":"LARGE(($H49,$J49,$L49,$N49,$P49,$R49,$T49,$V49,$X49),1)","v":19},{"$f":"LARGE(($H49,$J49,$L49,$N49,$P49,$R49,$T49,$V49,$X49),2)","v":10},{"$f":"LARGE(($H49,$J49,$L49,$N49,$P49,$R49,$T49,$V49,$X49),3)","v":0},{"$f":"LARGE(($H49,$J49,$L49,$N49,$P49,$R49,$T49,$V49,$X49),4)","v":0},{"$f":"LARGE(($H49,$J49,$L49,$N49,$P49,$R49,$T49,$V49,$X49),5)","v":0},{"$f":"LARGE(($H49,$J49,$L49,$N49,$P49,$R49,$T49,$V49,$X49),6)","v":0},{"$f":"LARGE(($H49,$J49,$L49,$N49,$P49,$R49,$T49,$V49,$X49),7)","v":0},{"$f":"LARGE(($H49,$J49,$L49,$N49,$P49,$R49,$T49,$V49,$X49),8)","v":0},{"$f":"LARGE(($H49,$J49,$L49,$N49,$P49,$R49,$T49,$V49,$X49),9)","v":0}]
[46,1999,"ANDERSSON Vilma","Falköpings AIK SLK",27,27,null,{"$f":"LOOKUP(G50,Poängberäkning!$B$6:$B$97,Poängberäkning!$C$6:$C$97)","v":0},null,{"$f":"LOOKUP(I50,Poängberäkning!$B$6:$B$97,Poängberäkning!$C$6:$C$97)","v":0},null,{"$f":"LOOKUP(K50,Poängberäkning!$B$6:$B$97,Poängberäkning!$C$6:$C$97)","v":0},null,{"$f":"LOOKUP(M50,Poängberäkning!$B$6:$B$97,Poängberäkning!$C$6:$C$97)","v":0},null,{"$f":"LOOKUP(O50,Poängberäkning!$B$6:$B$97,Poängberäkning!$C$6:$C$97)","v":0},42,{"$f":"LOOKUP(Q50,[1]Poängberäkning!$B$6:$B$97,[1]Poängberäkning!$C$6:$C$97)","v":9},33,{"$f":"LOOKUP(S50,[1]Poängberäkning!$B$6:$B$97,[1]Poängberäkning!$C$6:$C$97)","v":18},null,{"$f":"LOOKUP(U50,[1]Poängberäkning!$B$6:$B$97,[1]Poängberäkning!$C$6:$C$97)","v":0},null,{"$f":"LOOKUP(W50,[1]Poängberäkning!$B$6:$B$97,[1]Poängberäkning!$C$6:$C$97)","v":0},{"$f":"LARGE(($H50,$J50,$L50,$N50,$P50,$R50,$T50,$V50,$X50),1)","v":18},{"$f":"LARGE(($H50,$J50,$L50,$N50,$P50,$R50,$T50,$V50,$X50),2)","v":9},{"$f":"LARGE(($H50,$J50,$L50,$N50,$P50,$R50,$T50,$V50,$X50),3)","v":0},{"$f":"LARGE(($H50,$J50,$L50,$N50,$P50,$R50,$T50,$V50,$X50),4)","v":0},{"$f":"LARGE(($H50,$J50,$L50,$N50,$P50,$R50,$T50,$V50,$X50),5)","v":0},{"$f":"LARGE(($H50,$J50,$L50,$N50,$P50,$R50,$T50,$V50,$X50),6)","v":0},{"$f":"LARGE(($H50,$J50,$L50,$N50,$P50,$R50,$T50,$V50,$X50),7)","v":0},{"$f":"LARGE(($H50,$J50,$L50,$N50,$P50,$R50,$T50,$V50,$X50),8)","v":0},{"$f":"LARGE(($H50,$J50,$L50,$N50,$P50,$R50,$T50,$V50,$X50),9)","v":0}]
[47,1999,"SANDBERG Clara","Luleå AK",26,26,null,{"$f":"LOOKUP(G51,Poängberäkning!$B$6:$B$97,Poängberäkning!$C$6:$C$97)","v":0},null,{"$f":"LOOKUP(I51,Poängberäkning!$B$6:$B$97,Poängberäkning!$C$6:$C$97)","v":0},null,{"$f":"LOOKUP(K51,Poängberäkning!$B$6:$B$97,Poängberäkning!$C$6:$C$97)","v":0},null,{"$f":"LOOKUP(M51,Poängberäkning!$B$6:$B$97,Poängberäkning!$C$6:$C$97)","v":0},null,{"$f":"LOOKUP(O51,Poängberäkning!$B$6:$B$97,Poängberäkning!$C$6:$C$97)","v":0},25,{"$f":"LOOKUP(Q51,[1]Poängberäkning!$B$6:$B$97,[1]Poängberäkning!$C$6:$C$97)","v":26},99,{"$f":"LOOKUP(S51,[1]Poängberäkning!$B$6:$B$97,[1]Poängberäkning!$C$6:$C$97)","v":0},null,{"$f":"LOOKUP(U51,[1]Poängberäkning!$B$6:$B$97,[1]Poängberäkning!$C$6:$C$97)","v":0},null,{"$f":"LOOKUP(W51,[1]Poängberäkning!$B$6:$B$97,[1]Poängberäkning!$C$6:$C$97)","v":0},{"$f":"LARGE(($H51,$J51,$L51,$N51,$P51,$R51,$T51,$V51,$X51),1)","v":26},{"$f":"LARGE(($H51,$J51,$L51,$N51,$P51,$R51,$T51,$V51,$X51),2)","v":0},{"$f":"LARGE(($H51,$J51,$L51,$N51,$P51,$R51,$T51,$V51,$X51),3)","v":0},{"$f":"LARGE(($H51,$J51,$L51,$N51,$P51,$R51,$T51,$V51,$X51),4)","v":0},{"$f":"LARGE(($H51,$J51,$L51,$N51,$P51,$R51,$T51,$V51,$X51),5)","v":0},{"$f":"LARGE(($H51,$J51,$L51,$N51,$P51,$R51,$T51,$V51,$X51),6)","v":0},{"$f":"LARGE(($H51,$J51,$L51,$N51,$P51,$R51,$T51,$V51,$X51),7)","v":0},{"$f":"LARGE(($H51,$J51,$L51,$N51,$P51,$R51,$T51,$V51,$X51),8)","v":0},{"$f":"LARGE(($H51,$J51,$L51,$N51,$P51,$R51,$T51,$V51,$X51),9)","v":0}]
[48,1997,"DELIN Hedda","IFK Lidingö Slalomklubb",25,25,null,{"$f":"LOOKUP(G52,Poängberäkning!$B$6:$B$97,Poängberäkning!$C$6:$C$97)","v":0},null,{"$f":"LOOKUP(I52,Poängberäkning!$B$6:$B$97,Poängberäkning!$C$6:$C$97)","v":0},null,{"$f":"LOOKUP(K52,Poängberäkning!$B$6:$B$97,Poängberäkning!$C$6:$C$97)","v":0},null,{"$f":"LOOKUP(M52,Poängberäkning!$B$6:$B$97,Poängberäkning!$C$6:$C$97)","v":0},null,{"$f":"LOOKUP(O52,Poängberäkning!$B$6:$B$97,Poängberäkning!$C$6:$C$97)","v":0},26,{"$f":"LOOKUP(Q52,[1]Poängberäkning!$B$6:$B$97,[1]Poängberäkning!$C$6:$C$97)","v":25},99,{"$f":"LOOKUP(S52,[1]Poängberäkning!$B$6:$B$97,[1]Poängberäkning!$C$6:$C$97)","v":0},null,{"$f":"LOOKUP(U52,[1]Poängberäkning!$B$6:$B$97,[1]Poängberäkning!$C$6:$C$97)","v":0},null,{"$f":"LOOKUP(W52,[1]Poängberäkning!$B$6:$B$97,[1]Poängberäkning!$C$6:$C$97)","v":0},{"$f":"LARGE(($H52,$J52,$L52,$N52,$P52,$R52,$T52,$V52,$X52),1)","v":25},{"$f":"LARGE(($H52,$J52,$L52,$N52,$P52,$R52,$T52,$V52,$X52),2)","v":0},{"$f":"LARGE(($H52,$J52,$L52,$N52,$P52,$R52,$T52,$V52,$X52),3)","v":0},{"$f":"LARGE(($H52,$J52,$L52,$N52,$P52,$R52,$T52,$V52,$X52),4)","v":0},{"$f":"LARGE(($H52,$J52,$L52,$N52,$P52,$R52,$T52,$V52,$X52),5)","v":0},{"$f":"LARGE(($H52,$J52,$L52,$N52,$P52,$R52,$T52,$V52,$X52),6)","v":0},{"$f":"LARGE(($H52,$J52,$L52,$N52,$P52,$R52,$T52,$V52,$X52),7)","v":0},{"$f":"LARGE(($H52,$J52,$L52,$N52,$P52,$R52,$T52,$V52,$X52),8)","v":0},{"$f":"LARGE(($H52,$J52,$L52,$N52,$P52,$R52,$T52,$V52,$X52),9)","v":0}]
[49,1994,"JOHANSSON Amanda","Östersund-Frösö SLK",23,23,null,{"$f":"LOOKUP(G53,Poängberäkning!$B$6:$B$97,Poängberäkning!$C$6:$C$97)","v":0},null,{"$f":"LOOKUP(I53,Poängberäkning!$B$6:$B$97,Poängberäkning!$C$6:$C$97)","v":0},null,{"$f":"LOOKUP(K53,Poängberäkning!$B$6:$B$97,Poängberäkning!$C$6:$C$97)","v":0},null,{"$f":"LOOKUP(M53,Poängberäkning!$B$6:$B$97,Poängberäkning!$C$6:$C$97)","v":0},null,{"$f":"LOOKUP(O53,Poängberäkning!$B$6:$B$97,Poängberäkning!$C$6:$C$97)","v":0},28,{"$f":"LOOKUP(Q53,[1]Poängberäkning!$B$6:$B$97,[1]Poängberäkning!$C$6:$C$97)","v":23},99,{"$f":"LOOKUP(S53,[1]Poängberäkning!$B$6:$B$97,[1]Poängberäkning!$C$6:$C$97)","v":0},null,{"$f":"LOOKUP(U53,[1]Poängberäkning!$B$6:$B$97,[1]Poängberäkning!$C$6:$C$97)","v":0},null,{"$f":"LOOKUP(W53,[1]Poängberäkning!$B$6:$B$97,[1]Poängberäkning!$C$6:$C$97)","v":0},{"$f":"LARGE(($H53,$J53,$L53,$N53,$P53,$R53,$T53,$V53,$X53),1)","v":23},{"$f":"LARGE(($H53,$J53,$L53,$N53,$P53,$R53,$T53,$V53,$X53),2)","v":0},{"$f":"LARGE(($H53,$J53,$L53,$N53,$P53,$R53,$T53,$V53,$X53),3)","v":0},{"$f":"LARGE(($H53,$J53,$L53,$N53,$P53,$R53,$T53,$V53,$X53),4)","v":0},{"$f":"LARGE(($H53,$J53,$L53,$N53,$P53,$R53,$T53,$V53,$X53),5)","v":0},{"$f":"LARGE(($H53,$J53,$L53,$N53,$P53,$R53,$T53,$V53,$X53),6)","v":0},{"$f":"LARGE(($H53,$J53,$L53,$N53,$P53,$R53,$T53,$V53,$X53),7)","v":0},{"$f":"LARGE(($H53,$J53,$L53,$N53,$P53,$R53,$T53,$V53,$X53),8)","v":0},{"$f":"LARGE(($H53,$J53,$L53,$N53,$P53,$R53,$T53,$V53,$X53),9)","v":0}]
[50,1999,"THORWID Alice","Sollentuna SLK",23,23,null,{"$f":"LOOKUP(G54,Poängberäkning!$B$6:$B$97,Poängberäkning!$C$6:$C$97)","v":0},null,{"$f":"LOOKUP(I54,Poängberäkning!$B$6:$B$97,Poängberäkning!$C$6:$C$97)","v":0},null,{"$f":"LOOKUP(K54,Poängberäkning!$B$6:$B$97,Poängberäkning!$C$6:$C$97)","v":0},null,{"$f":"LOOKUP(M54,Poängberäkning!$B$6:$B$97,Poängberäkning!$C$6:$C$97)","v":0},null,{"$f":"LOOKUP(O54,Poängberäkning!$B$6:$B$97,Poängberäkning!$C$6:$C$97)","v":0},45,{"$f":"LOOKUP(Q54,[1]Poängberäkning!$B$6:$B$97,[1]Poängberäkning!$C$6:$C$97)","v":6},34,{"$f":"LOOKUP(S54,[1]Poängberäkning!$B$6:$B$97,[1]Poängberäkning!$C$6:$C$97)","v":17},null,{"$f":"LOOKUP(U54,[1]Poängberäkning!$B$6:$B$97,[1]Poängberäkning!$C$6:$C$97)","v":0},null,{"$f":"LOOKUP(W54,[1]Poängberäkning!$B$6:$B$97,[1]Poängberäkning!$C$6:$C$97)","v":0},{"$f":"LARGE(($H54,$J54,$L54,$N54,$P54,$R54,$T54,$V54,$X54),1)","v":17},{"$f":"LARGE(($H54,$J54,$L54,$N54,$P54,$R54,$T54,$V54,$X54),2)","v":6},{"$f":"LARGE(($H54,$J54,$L54,$N54,$P54,$R54,$T54,$V54,$X54),3)","v":0},{"$f":"LARGE(($H54,$J54,$L54,$N54,$P54,$R54,$T54,$V54,$X54),4)","v":0},{"$f":"LARGE(($H54,$J54,$L54,$N54,$P54,$R54,$T54,$V54,$X54),5)","v":0},{"$f":"LARGE(($H54,$J54,$L54,$N54,$P54,$R54,$T54,$V54,$X54),6)","v":0},{"$f":"LARGE(($H54,$J54,$L54,$N54,$P54,$R54,$T54,$V54,$X54),7)","v":0},{"$f":"LARGE(($H54,$J54,$L54,$N54,$P54,$R54,$T54,$V54,$X54),8)","v":0},{"$f":"LARGE(($H54,$J54,$L54,$N54,$P54,$R54,$T54,$V54,$X54),9)","v":0}]
[51,1996,"NYSTRÖM Amanda","Hestra Skid o SK",18,18,null,{"$f":"LOOKUP(G55,Poängberäkning!$B$6:$B$97,Poängberäkning!$C$6:$C$97)","v":0},null,{"$f":"LOOKUP(I55,Poängberäkning!$B$6:$B$97,Poängberäkning!$C$6:$C$97)","v":0},null,{"$f":"LOOKUP(K55,Poängberäkning!$B$6:$B$97,Poängberäkning!$C$6:$C$97)","v":0},null,{"$f":"LOOKUP(M55,Poängberäkning!$B$6:$B$97,Poängberäkning!$C$6:$C$97)","v":0},null,{"$f":"LOOKUP(O55,Poängberäkning!$B$6:$B$97,Poängberäkning!$C$6:$C$97)","v":0},33,{"$f":"LOOKUP(Q55,[1]Poängberäkning!$B$6:$B$97,[1]Poängberäkning!$C$6:$C$97)","v":18},99,{"$f":"LOOKUP(S55,[1]Poängberäkning!$B$6:$B$97,[1]Poängberäkning!$C$6:$C$97)","v":0},null,{"$f":"LOOKUP(U55,[1]Poängberäkning!$B$6:$B$97,[1]Poängberäkning!$C$6:$C$97)","v":0},null,{"$f":"LOOKUP(W55,[1]Poängberäkning!$B$6:$B$97,[1]Poängberäkning!$C$6:$C$97)","v":0},{"$f":"LARGE(($H55,$J55,$L55,$N55,$P55,$R55,$T55,$V55,$X55),1)","v":18},{"$f":"LARGE(($H55,$J55,$L55,$N55,$P55,$R55,$T55,$V55,$X55),2)","v":0},{"$f":"LARGE(($H55,$J55,$L55,$N55,$P55,$R55,$T55,$V55,$X55),3)","v":0},{"$f":"LARGE(($H55,$J55,$L55,$N55,$P55,$R55,$T55,$V55,$X55),4)","v":0},{"$f":"LARGE(($H55,$J55,$L55,$N55,$P55,$R55,$T55,$V55,$X55),5)","v":0},{"$f":"LARGE(($H55,$J55,$L55,$N55,$P55,$R55,$T55,$V55,$X55),6)","v":0},{"$f":"LARGE(($H55,$J55,$L55,$N55,$P55,$R55,$T55,$V55,$X55),7)","v":0},{"$f":"LARGE(($H55,$J55,$L55,$N55,$P55,$R55,$T55,$V55,$X55),8)","v":0},{"$f":"LARGE(($H55,$J55,$L55,$N55,$P55,$R55,$T55,$V55,$X55),9)","v":0}]
[52,1997,"ÖSTERBERG Lina","Norrbärke SK Alpin",18,18,null,{"$f":"LOOKUP(G56,Poängberäkning!$B$6:$B$97,Poängberäkning!$C$6:$C$97)","v":0},null,{"$f":"LOOKUP(I56,Poängberäkning!$B$6:$B$97,Poängberäkning!$C$6:$C$97)","v":0},null,{"$f":"LOOKUP(K56,Poängberäkning!$B$6:$B$97,Poängberäkning!$C$6:$C$97)","v":0},null,{"$f":"LOOKUP(M56,Poängberäkning!$B$6:$B$97,Poängberäkning!$C$6:$C$97)","v":0},null,{"$f":"LOOKUP(O56,Poängberäkning!$B$6:$B$97,Poängberäkning!$C$6:$C$97)","v":0},47,{"$f":"LOOKUP(Q56,[1]Poängberäkning!$B$6:$B$97,[1]Poängberäkning!$C$6:$C$97)","v":4},37,{"$f":"LOOKUP(S56,[1]Poängberäkning!$B$6:$B$97,[1]Poängberäkning!$C$6:$C$97)","v":14},null,{"$f":"LOOKUP(U56,[1]Poängberäkning!$B$6:$B$97,[1]Poängberäkning!$C$6:$C$97)","v":0},null,{"$f":"LOOKUP(W56,[1]Poängberäkning!$B$6:$B$97,[1]Poängberäkning!$C$6:$C$97)","v":0},{"$f":"LARGE(($H56,$J56,$L56,$N56,$P56,$R56,$T56,$V56,$X56),1)","v":14},{"$f":"LARGE(($H56,$J56,$L56,$N56,$P56,$R56,$T56,$V56,$X56),2)","v":4},{"$f":"LARGE(($H56,$J56,$L56,$N56,$P56,$R56,$T56,$V56,$X56),3)","v":0},{"$f":"LARGE(($H56,$J56,$L56,$N56,$P56,$R56,$T56,$V56,$X56),4)","v":0},{"$f":"LARGE(($H56,$J56,$L56,$N56,$P56,$R56,$T56,$V56,$X56),5)","v":0},{"$f":"LARGE(($H56,$J56,$L56,$N56,$P56,$R56,$T56,$V56,$X56),6)","v":0},{"$f":"LARGE(($H56,$J56,$L56,$N56,$P56,$R56,$T56,$V56,$X56),7)","v":0},{"$f":"LARGE(($H56,$J56,$L56,$N56,$P56,$R56,$T56,$V56,$X56),8)","v":0},{"$f":"LARGE(($H56,$J56,$L56,$N56,$P56,$R56,$T56,$V56,$X56),9)","v":0}]
[53,1996,"ULLBERG Malin","Sundsvalls SLK",16,16,null,{"$f":"LOOKUP(G57,Poängberäkning!$B$6:$B$97,Poängberäkning!$C$6:$C$97)","v":0},null,{"$f":"LOOKUP(I57,Poängberäkning!$B$6:$B$97,Poängberäkning!$C$6:$C$97)","v":0},null,{"$f":"LOOKUP(K57,Poängberäkning!$B$6:$B$97,Poängberäkning!$C$6:$C$97)","v":0},null,{"$f":"LOOKUP(M57,Poängberäkning!$B$6:$B$97,Poängberäkning!$C$6:$C$97)","v":0},null,{"$f":"LOOKUP(O57,Poängberäkning!$B$6:$B$97,Poängberäkning!$C$6:$C$97)","v":0},99,{"$f":"LOOKUP(Q57,[1]Poängberäkning!$B$6:$B$97,[1]Poängberäkning!$C$6:$C$97)","v":0},35,{"$f":"LOOKUP(S57,[1]Poängberäkning!$B$6:$B$97,[1]Poängberäkning!$C$6:$C$97)","v":16},null,{"$f":"LOOKUP(U57,[1]Poängberäkning!$B$6:$B$97,[1]Poängberäkning!$C$6:$C$97)","v":0},null,{"$f":"LOOKUP(W57,[1]Poängberäkning!$B$6:$B$97,[1]Poängberäkning!$C$6:$C$97)","v":0},{"$f":"LARGE(($H57,$J57,$L57,$N57,$P57,$R57,$T57,$V57,$X57),1)","v":16},{"$f":"LARGE(($H57,$J57,$L57,$N57,$P57,$R57,$T57,$V57,$X57),2)","v":0},{"$f":"LARGE(($H57,$J57,$L57,$N57,$P57,$R57,$T57,$V57,$X57),3)","v":0},{"$f":"LARGE(($H57,$J57,$L57,$N57,$P57,$R57,$T57,$V57,$X57),4)","v":0},{"$f":"LARGE(($H57,$J57,$L57,$N57,$P57,$R57,$T57,$V57,$X57),5)","v":0},{"$f":"LARGE(($H57,$J57,$L57,$N57,$P57,$R57,$T57,$V57,$X57),6)","v":0},{"$f":"LARGE(($H57,$J57,$L57,$N57,$P57,$R57,$T57,$V57,$X57),7)","v":0},{"$f":"LARGE(($H57,$J57,$L57,$N57,$P57,$R57,$T57,$V57,$X57),8)","v":0},{"$f":"LARGE(($H57,$J57,$L57,$N57,$P57,$R57,$T57,$V57,$X57),9)","v":0}]
[54,1998,"ANDERSON Victoria","IFK Falun",13,13,null,{"$f":"LOOKUP(G58,Poängberäkning!$B$6:$B$97,Poängberäkning!$C$6:$C$97)","v":0},null,{"$f":"LOOKUP(I58,Poängberäkning!$B$6:$B$97,Poängberäkning!$C$6:$C$97)","v":0},null,{"$f":"LOOKUP(K58,Poängberäkning!$B$6:$B$97,Poängberäkning!$C$6:$C$97)","v":0},null,{"$f":"LOOKUP(M58,Poängberäkning!$B$6:$B$97,Poängberäkning!$C$6:$C$97)","v":0},null,{"$f":"LOOKUP(O58,Poängberäkning!$B$6:$B$97,Poängberäkning!$C$6:$C$97)","v":0},99,{"$f":"LOOKUP(Q58,[1]Poängberäkning!$B$6:$B$97,[1]Poängberäkning!$C$6:$C$97)","v":0},38,{"$f":"LOOKUP(S58,[1]Poängberäkning!$B$6:$B$97,[1]Poängberäkning!$C$6:$C$97)","v":13},null,{"$f":"LOOKUP(U58,[1]Poängberäkning!$B$6:$B$97,[1]Poängberäkning!$C$6:$C$97)","v":0},null,{"$f":"LOOKUP(W58,[1]Poängberäkning!$B$6:$B$97,[1]Poängberäkning!$C$6:$C$97)","v":0},{"$f":"LARGE(($H58,$J58,$L58,$N58,$P58,$R58,$T58,$V58,$X58),1)","v":13},{"$f":"LARGE(($H58,$J58,$L58,$N58,$P58,$R58,$T58,$V58,$X58),2)","v":0},{"$f":"LARGE(($H58,$J58,$L58,$N58,$P58,$R58,$T58,$V58,$X58),3)","v":0},{"$f":"LARGE(($H58,$J58,$L58,$N58,$P58,$R58,$T58,$V58,$X58),4)","v":0},{"$f":"LARGE(($H58,$J58,$L58,$N58,$P58,$R58,$T58,$V58,$X58),5)","v":0},{"$f":"LARGE(($H58,$J58,$L58,$N58,$P58,$R58,$T58,$V58,$X58),6)","v":0},{"$f":"LARGE(($H58,$J58,$L58,$N58,$P58,$R58,$T58,$V58,$X58),7)","v":0},{"$f":"LARGE(($H58,$J58,$L58,$N58,$P58,$R58,$T58,$V58,$X58),8)","v":0},{"$f":"LARGE(($H58,$J58,$L58,$N58,$P58,$R58,$T58,$V58,$X58),9)","v":0}]
[55,1999,"KARLSSON Märta","Huddinge SK AF",13,13,null,{"$f":"LOOKUP(G59,Poängberäkning!$B$6:$B$97,Poängberäkning!$C$6:$C$97)","v":0},null,{"$f":"LOOKUP(I59,Poängberäkning!$B$6:$B$97,Poängberäkning!$C$6:$C$97)","v":0},null,{"$f":"LOOKUP(K59,Poängberäkning!$B$6:$B$97,Poängberäkning!$C$6:$C$97)","v":0},null,{"$f":"LOOKUP(M59,Poängberäkning!$B$6:$B$97,Poängberäkning!$C$6:$C$97)","v":0},null,{"$f":"LOOKUP(O59,Poängberäkning!$B$6:$B$97,Poängberäkning!$C$6:$C$97)","v":0},38,{"$f":"LOOKUP(Q59,[1]Poängberäkning!$B$6:$B$97,[1]Poängberäkning!$C$6:$C$97)","v":13},99,{"$f":"LOOKUP(S59,[1]Poängberäkning!$B$6:$B$97,[1]Poängberäkning!$C$6:$C$97)","v":0},null,{"$f":"LOOKUP(U59,[1]Poängberäkning!$B$6:$B$97,[1]Poängberäkning!$C$6:$C$97)","v":0},null,{"$f":"LOOKUP(W59,[1]Poängberäkning!$B$6:$B$97,[1]Poängberäkning!$C$6:$C$97)","v":0},{"$f":"LARGE(($H59,$J59,$L59,$N59,$P59,$R59,$T59,$V59,$X59),1)","v":13},{"$f":"LARGE(($H59,$J59,$L59,$N59,$P59,$R59,$T59,$V59,$X59),2)","v":0},{"$f":"LARGE(($H59,$J59,$L59,$N59,$P59,$R59,$T59,$V59,$X59),3)","v":0},{"$f":"LARGE(($H59,$J59,$L59,$N59,$P59,$R59,$T59,$V59,$X59),4)","v":0},{"$f":"LARGE(($H59,$J59,$L59,$N59,$P59,$R59,$T59,$V59,$X59),5)","v":0},{"$f":"LARGE(($H59,$J59,$L59,$N59,$P59,$R59,$T59,$V59,$X59),6)","v":0},{"$f":"LARGE(($H59,$J59,$L59,$N59,$P59,$R59,$T59,$V59,$X59),7)","v":0},{"$f":"LARGE(($H59,$J59,$L59,$N59,$P59,$R59,$T59,$V59,$X59),8)","v":0},{"$f":"LARGE(($H59,$J59,$L59,$N59,$P59,$R59,$T59,$V59,$X59),9)","v":0}]
[56,1997,"DAHLGREN Evelina","Tunafors SK",12,12,null,{"$f":"LOOKUP(G60,Poängberäkning!$B$6:$B$97,Poängberäkning!$C$6:$C$97)","v":0},null,{"$f":"LOOKUP(I60,Poängberäkning!$B$6:$B$97,Poängberäkning!$C$6:$C$97)","v":0},null,{"$f":"LOOKUP(K60,Poängberäkning!$B$6:$B$97,Poängberäkning!$C$6:$C$97)","v":0},null,{"$f":"LOOKUP(M60,Poängberäkning!$B$6:$B$97,Poängberäkning!$C$6:$C$97)","v":0},null,{"$f":"LOOKUP(O60,Poängberäkning!$B$6:$B$97,Poängberäkning!$C$6:$C$97)","v":0},39,{"$f":"LOOKUP(Q60,[1]Poängberäkning!$B$6:$B$97,[1]Poängberäkning!$C$6:$C$97)","v":12},99,{"$f":"LOOKUP(S60,[1]Poängberäkning!$B$6:$B$97,[1]Poängberäkning!$C$6:$C$97)","v":0},null,{"$f":"LOOKUP(U60,[1]Poängberäkning!$B$6:$B$97,[1]Poängberäkning!$C$6:$C$97)","v":0},null,{"$f":"LOOKUP(W60,[1]Poängberäkning!$B$6:$B$97,[1]Poängberäkning!$C$6:$C$97)","v":0},{"$f":"LARGE(($H60,$J60,$L60,$N60,$P60,$R60,$T60,$V60,$X60),1)","v":12},{"$f":"LARGE(($H60,$J60,$L60,$N60,$P60,$R60,$T60,$V60,$X60),2)","v":0},{"$f":"LARGE(($H60,$J60,$L60,$N60,$P60,$R60,$T60,$V60,$X60),3)","v":0},{"$f":"LARGE(($H60,$J60,$L60,$N60,$P60,$R60,$T60,$V60,$X60),4)","v":0},{"$f":"LARGE(($H60,$J60,$L60,$N60,$P60,$R60,$T60,$V60,$X60),5)","v":0},{"$f":"LARGE(($H60,$J60,$L60,$N60,$P60,$R60,$T60,$V60,$X60),6)","v":0},{"$f":"LARGE(($H60,$J60,$L60,$N60,$P60,$R60,$T60,$V60,$X60),7)","v":0},{"$f":"LARGE(($H60,$J60,$L60,$N60,$P60,$R60,$T60,$V60,$X60),8)","v":0},{"$f":"LARGE(($H60,$J60,$L60,$N60,$P60,$R60,$T60,$V60,$X60),9)","v":0}]
[57,1999,"FRIES Hedvig","IFK Borlänge",7,7,null,{"$f":"LOOKUP(G61,Poängberäkning!$B$6:$B$97,Poängberäkning!$C$6:$C$97)","v":0},null,{"$f":"LOOKUP(I61,Poängberäkning!$B$6:$B$97,Poängberäkning!$C$6:$C$97)","v":0},null,{"$f":"LOOKUP(K61,Poängberäkning!$B$6:$B$97,Poängberäkning!$C$6:$C$97)","v":0},null,{"$f":"LOOKUP(M61,Poängberäkning!$B$6:$B$97,Poängberäkning!$C$6:$C$97)","v":0},null,{"$f":"LOOKUP(O61,Poängberäkning!$B$6:$B$97,Poängberäkning!$C$6:$C$97)","v":0},44,{"$f":"LOOKUP(Q61,[1]Poängberäkning!$B$6:$B$97,[1]Poängberäkning!$C$6:$C$97)","v":7},99,{"$f":"LOOKUP(S61,[1]Poängberäkning!$B$6:$B$97,[1]Poängberäkning!$C$6:$C$97)","v":0},null,{"$f":"LOOKUP(U61,[1]Poängberäkning!$B$6:$B$97,[1]Poängberäkning!$C$6:$C$97)","v":0},null,{"$f":"LOOKUP(W61,[1]Poängberäkning!$B$6:$B$97,[1]Poängberäkning!$C$6:$C$97)","v":0},{"$f":"LARGE(($H61,$J61,$L61,$N61,$P61,$R61,$T61,$V61,$X61),1)","v":7},{"$f":"LARGE(($H61,$J61,$L61,$N61,$P61,$R61,$T61,$V61,$X61),2)","v":0},{"$f":"LARGE(($H61,$J61,$L61,$N61,$P61,$R61,$T61,$V61,$X61),3)","v":0},{"$f":"LARGE(($H61,$J61,$L61,$N61,$P61,$R61,$T61,$V61,$X61),4)","v":0},{"$f":"LARGE(($H61,$J61,$L61,$N61,$P61,$R61,$T61,$V61,$X61),5)","v":0},{"$f":"LARGE(($H61,$J61,$L61,$N61,$P61,$R61,$T61,$V61,$X61),6)","v":0},{"$f":"LARGE(($H61,$J61,$L61,$N61,$P61,$R61,$T61,$V61,$X61),7)","v":0},{"$f":"LARGE(($H61,$J61,$L61,$N61,$P61,$R61,$T61,$V61,$X61),8)","v":0},{"$f":"LARGE(($H61,$J61,$L61,$N61,$P61,$R61,$T61,$V61,$X61),9)","v":0}]
[58,1998,"NYGÅRD Signe","Rättviks SLK",5,5,null,{"$f":"LOOKUP(G62,Poängberäkning!$B$6:$B$97,Poängberäkning!$C$6:$C$97)","v":0},null,{"$f":"LOOKUP(I62,Poängberäkning!$B$6:$B$97,Poängberäkning!$C$6:$C$97)","v":0},null,{"$f":"LOOKUP(K62,Poängberäkning!$B$6:$B$97,Poängberäkning!$C$6:$C$97)","v":0},null,{"$f":"LOOKUP(M62,Poängberäkning!$B$6:$B$97,Poängberäkning!$C$6:$C$97)","v":0},null,{"$f":"LOOKUP(O62,Poängberäkning!$B$6:$B$97,Poängberäkning!$C$6:$C$97)","v":0},46,{"$f":"LOOKUP(Q62,[1]Poängberäkning!$B$6:$B$97,[1]Poängberäkning!$C$6:$C$97)","v":5},99,{"$f":"LOOKUP(S62,[1]Poängberäkning!$B$6:$B$97,[1]Poängberäkning!$C$6:$C$97)","v":0},null,{"$f":"LOOKUP(U62,[1]Poängberäkning!$B$6:$B$97,[1]Poängberäkning!$C$6:$C$97)","v":0},null,{"$f":"LOOKUP(W62,[1]Poängberäkning!$B$6:$B$97,[1]Poängberäkning!$C$6:$C$97)","v":0},{"$f":"LARGE(($H62,$J62,$L62,$N62,$P62,$R62,$T62,$V62,$X62),1)","v":5},{"$f":"LARGE(($H62,$J62,$L62,$N62,$P62,$R62,$T62,$V62,$X62),2)","v":0},{"$f":"LARGE(($H62,$J62,$L62,$N62,$P62,$R62,$T62,$V62,$X62),3)","v":0},{"$f":"LARGE(($H62,$J62,$L62,$N62,$P62,$R62,$T62,$V62,$X62),4)","v":0},{"$f":"LARGE(($H62,$J62,$L62,$N62,$P62,$R62,$T62,$V62,$X62),5)","v":0},{"$f":"LARGE(($H62,$J62,$L62,$N62,$P62,$R62,$T62,$V62,$X62),6)","v":0},{"$f":"LARGE(($H62,$J62,$L62,$N62,$P62,$R62,$T62,$V62,$X62),7)","v":0},{"$f":"LARGE(($H62,$J62,$L62,$N62,$P62,$R62,$T62,$V62,$X62),8)","v":0},{"$f":"LARGE(($H62,$J62,$L62,$N62,$P62,$R62,$T62,$V62,$X62),9)","v":0}]
[59,1996,"ANDERSSON Ebba","Saltsjöbadens SLK",0,0,null,{"$f":"LOOKUP(G63,Poängberäkning!$B$6:$B$97,Poängberäkning!$C$6:$C$97)","v":0},null,{"$f":"LOOKUP(I63,Poängberäkning!$B$6:$B$97,Poängberäkning!$C$6:$C$97)","v":0},null,{"$f":"LOOKUP(K63,Poängberäkning!$B$6:$B$97,Poängberäkning!$C$6:$C$97)","v":0},null,{"$f":"LOOKUP(M63,Poängberäkning!$B$6:$B$97,Poängberäkning!$C$6:$C$97)","v":0},null,{"$f":"LOOKUP(O63,Poängberäkning!$B$6:$B$97,Poängberäkning!$C$6:$C$97)","v":0},99,{"$f":"LOOKUP(Q63,[1]Poängberäkning!$B$6:$B$97,[1]Poängberäkning!$C$6:$C$97)","v":0},99,{"$f":"LOOKUP(S63,[1]Poängberäkning!$B$6:$B$97,[1]Poängberäkning!$C$6:$C$97)","v":0},null,{"$f":"LOOKUP(U63,[1]Poängberäkning!$B$6:$B$97,[1]Poängberäkning!$C$6:$C$97)","v":0},null,{"$f":"LOOKUP(W63,[1]Poängberäkning!$B$6:$B$97,[1]Poängberäkning!$C$6:$C$97)","v":0},{"$f":"LARGE(($H63,$J63,$L63,$N63,$P63,$R63,$T63,$V63,$X63),1)","v":0},{"$f":"LARGE(($H63,$J63,$L63,$N63,$P63,$R63,$T63,$V63,$X63),2)","v":0},{"$f":"LARGE(($H63,$J63,$L63,$N63,$P63,$R63,$T63,$V63,$X63),3)","v":0},{"$f":"LARGE(($H63,$J63,$L63,$N63,$P63,$R63,$T63,$V63,$X63),4)","v":0},{"$f":"LARGE(($H63,$J63,$L63,$N63,$P63,$R63,$T63,$V63,$X63),5)","v":0},{"$f":"LARGE(($H63,$J63,$L63,$N63,$P63,$R63,$T63,$V63,$X63),6)","v":0},{"$f":"LARGE(($H63,$J63,$L63,$N63,$P63,$R63,$T63,$V63,$X63),7)","v":0},{"$f":"LARGE(($H63,$J63,$L63,$N63,$P63,$R63,$T63,$V63,$X63),8)","v":0},{"$f":"LARGE(($H63,$J63,$L63,$N63,$P63,$R63,$T63,$V63,$X63),9)","v":0}]
[60,1999,"DOUGHERTY Eira","Orsa Alpina Klubb",0,0,null,{"$f":"LOOKUP(G64,Poängberäkning!$B$6:$B$97,Poängberäkning!$C$6:$C$97)","v":0},null,{"$f":"LOOKUP(I64,Poängberäkning!$B$6:$B$97,Poängberäkning!$C$6:$C$97)","v":0},null,{"$f":"LOOKUP(K64,Poängberäkning!$B$6:$B$97,Poängberäkning!$C$6:$C$97)","v":0},null,{"$f":"LOOKUP(M64,Poängberäkning!$B$6:$B$97,Poängberäkning!$C$6:$C$97)","v":0},null,{"$f":"LOOKUP(O64,Poängberäkning!$B$6:$B$97,Poängberäkning!$C$6:$C$97)","v":0},null,{"$f":"LOOKUP(Q64,[1]Poängberäkning!$B$6:$B$97,[1]Poängberäkning!$C$6:$C$97)","v":0},null,{"$f":"LOOKUP(S64,[1]Poängberäkning!$B$6:$B$97,[1]Poängberäkning!$C$6:$C$97)","v":0},null,{"$f":"LOOKUP(U64,[1]Poängberäkning!$B$6:$B$97,[1]Poängberäkning!$C$6:$C$97)","v":0},null,{"$f":"LOOKUP(W64,[1]Poängberäkning!$B$6:$B$97,[1]Poängberäkning!$C$6:$C$97)","v":0},{"$f":"LARGE(($H64,$J64,$L64,$N64,$P64,$R64,$T64,$V64,$X64),1)","v":0},{"$f":"LARGE(($H64,$J64,$L64,$N64,$P64,$R64,$T64,$V64,$X64),2)","v":0},{"$f":"LARGE(($H64,$J64,$L64,$N64,$P64,$R64,$T64,$V64,$X64),3)","v":0},{"$f":"LARGE(($H64,$J64,$L64,$N64,$P64,$R64,$T64,$V64,$X64),4)","v":0},{"$f":"LARGE(($H64,$J64,$L64,$N64,$P64,$R64,$T64,$V64,$X64),5)","v":0},{"$f":"LARGE(($H64,$J64,$L64,$N64,$P64,$R64,$T64,$V64,$X64),6)","v":0},{"$f":"LARGE(($H64,$J64,$L64,$N64,$P64,$R64,$T64,$V64,$X64),7)","v":0},{"$f":"LARGE(($H64,$J64,$L64,$N64,$P64,$R64,$T64,$V64,$X64),8)","v":0},{"$f":"LARGE(($H64,$J64,$L64,$N64,$P64,$R64,$T64,$V64,$X64),9)","v":0}]
[61,1998,"EKMAN Ebba","Bollnäs AK",0,0,null,{"$f":"LOOKUP(G65,Poängberäkning!$B$6:$B$97,Poängberäkning!$C$6:$C$97)","v":0},null,{"$f":"LOOKUP(I65,Poängberäkning!$B$6:$B$97,Poängberäkning!$C$6:$C$97)","v":0},null,{"$f":"LOOKUP(K65,Poängberäkning!$B$6:$B$97,Poängberäkning!$C$6:$C$97)","v":0},null,{"$f":"LOOKUP(M65,Poängberäkning!$B$6:$B$97,Poängberäkning!$C$6:$C$97)","v":0},null,{"$f":"LOOKUP(O65,Poängberäkning!$B$6:$B$97,Poängberäkning!$C$6:$C$97)","v":0},99,{"$f":"LOOKUP(Q65,[1]Poängberäkning!$B$6:$B$97,[1]Poängberäkning!$C$6:$C$97)","v":0},99,{"$f":"LOOKUP(S65,[1]Poängberäkning!$B$6:$B$97,[1]Poängberäkning!$C$6:$C$97)","v":0},null,{"$f":"LOOKUP(U65,[1]Poängberäkning!$B$6:$B$97,[1]Poängberäkning!$C$6:$C$97)","v":0},null,{"$f":"LOOKUP(W65,[1]Poängberäkning!$B$6:$B$97,[1]Poängberäkning!$C$6:$C$97)","v":0},{"$f":"LARGE(($H65,$J65,$L65,$N65,$P65,$R65,$T65,$V65,$X65),1)","v":0},{"$f":"LARGE(($H65,$J65,$L65,$N65,$P65,$R65,$T65,$V65,$X65),2)","v":0},{"$f":"LARGE(($H65,$J65,$L65,$N65,$P65,$R65,$T65,$V65,$X65),3)","v":0},{"$f":"LARGE(($H65,$J65,$L65,$N65,$P65,$R65,$T65,$V65,$X65),4)","v":0},{"$f":"LARGE(($H65,$J65,$L65,$N65,$P65,$R65,$T65,$V65,$X65),5)","v":0},{"$f":"LARGE(($H65,$J65,$L65,$N65,$P65,$R65,$T65,$V65,$X65),6)","v":0},{"$f":"LARGE(($H65,$J65,$L65,$N65,$P65,$R65,$T65,$V65,$X65),7)","v":0},{"$f":"LARGE(($H65,$J65,$L65,$N65,$P65,$R65,$T65,$V65,$X65),8)","v":0},{"$f":"LARGE(($H65,$J65,$L65,$N65,$P65,$R65,$T65,$V65,$X65),9)","v":0}]
[62,1999,"LITZÉN Julia","Idre SK",0,0,null,{"$f":"LOOKUP(G66,Poängberäkning!$B$6:$B$97,Poängberäkning!$C$6:$C$97)","v":0},null,{"$f":"LOOKUP(I66,Poängberäkning!$B$6:$B$97,Poängberäkning!$C$6:$C$97)","v":0},null,{"$f":"LOOKUP(K66,Poängberäkning!$B$6:$B$97,Poängberäkning!$C$6:$C$97)","v":0},null,{"$f":"LOOKUP(M66,Poängberäkning!$B$6:$B$97,Poängberäkning!$C$6:$C$97)","v":0},null,{"$f":"LOOKUP(O66,Poängberäkning!$B$6:$B$97,Poängberäkning!$C$6:$C$97)","v":0},99,{"$f":"LOOKUP(Q66,[1]Poängberäkning!$B$6:$B$97,[1]Poängberäkning!$C$6:$C$97)","v":0},99,{"$f":"LOOKUP(S66,[1]Poängberäkning!$B$6:$B$97,[1]Poängberäkning!$C$6:$C$97)","v":0},null,{"$f":"LOOKUP(U66,[1]Poängberäkning!$B$6:$B$97,[1]Poängberäkning!$C$6:$C$97)","v":0},null,{"$f":"LOOKUP(W66,[1]Poängberäkning!$B$6:$B$97,[1]Poängberäkning!$C$6:$C$97)","v":0},{"$f":"LARGE(($H66,$J66,$L66,$N66,$P66,$R66,$T66,$V66,$X66),1)","v":0},{"$f":"LARGE(($H66,$J66,$L66,$N66,$P66,$R66,$T66,$V66,$X66),2)","v":0},{"$f":"LARGE(($H66,$J66,$L66,$N66,$P66,$R66,$T66,$V66,$X66),3)","v":0},{"$f":"LARGE(($H66,$J66,$L66,$N66,$P66,$R66,$T66,$V66,$X66),4)","v":0},{"$f":"LARGE(($H66,$J66,$L66,$N66,$P66,$R66,$T66,$V66,$X66),5)","v":0},{"$f":"LARGE(($H66,$J66,$L66,$N66,$P66,$R66,$T66,$V66,$X66),6)","v":0},{"$f":"LARGE(($H66,$J66,$L66,$N66,$P66,$R66,$T66,$V66,$X66),7)","v":0},{"$f":"LARGE(($H66,$J66,$L66,$N66,$P66,$R66,$T66,$V66,$X66),8)","v":0},{"$f":"LARGE(($H66,$J66,$L66,$N66,$P66,$R66,$T66,$V66,$X66),9)","v":0}]
[63,1999,"SVENINGSSON Filippa","Hestra Skid o SK",0,0,null,{"$f":"LOOKUP(G67,Poängberäkning!$B$6:$B$97,Poängberäkning!$C$6:$C$97)","v":0},null,{"$f":"LOOKUP(I67,Poängberäkning!$B$6:$B$97,Poängberäkning!$C$6:$C$97)","v":0},null,{"$f":"LOOKUP(K67,Poängberäkning!$B$6:$B$97,Poängberäkning!$C$6:$C$97)","v":0},null,{"$f":"LOOKUP(M67,Poängberäkning!$B$6:$B$97,Poängberäkning!$C$6:$C$97)","v":0},null,{"$f":"LOOKUP(O67,Poängberäkning!$B$6:$B$97,Poängberäkning!$C$6:$C$97)","v":0},99,{"$f":"LOOKUP(Q67,[1]Poängberäkning!$B$6:$B$97,[1]Poängberäkning!$C$6:$C$97)","v":0},99,{"$f":"LOOKUP(S67,[1]Poängberäkning!$B$6:$B$97,[1]Poängberäkning!$C$6:$C$97)","v":0},null,{"$f":"LOOKUP(U67,[1]Poängberäkning!$B$6:$B$97,[1]Poängberäkning!$C$6:$C$97)","v":0},null,{"$f":"LOOKUP(W67,[1]Poängberäkning!$B$6:$B$97,[1]Poängberäkning!$C$6:$C$97)","v":0},{"$f":"LARGE(($H67,$J67,$L67,$N67,$P67,$R67,$T67,$V67,$X67),1)","v":0},{"$f":"LARGE(($H67,$J67,$L67,$N67,$P67,$R67,$T67,$V67,$X67),2)","v":0},{"$f":"LARGE(($H67,$J67,$L67,$N67,$P67,$R67,$T67,$V67,$X67),3)","v":0},{"$f":"LARGE(($H67,$J67,$L67,$N67,$P67,$R67,$T67,$V67,$X67),4)","v":0},{"$f":"LARGE(($H67,$J67,$L67,$N67,$P67,$R67,$T67,$V67,$X67),5)","v":0},{"$f":"LARGE(($H67,$J67,$L67,$N67,$P67,$R67,$T67,$V67,$X67),6)","v":0},{"$f":"LARGE(($H67,$J67,$L67,$N67,$P67,$R67,$T67,$V67,$X67),7)","v":0},{"$f":"LARGE(($H67,$J67,$L67,$N67,$P67,$R67,$T67,$V67,$X67),8)","v":0},{"$f":"LARGE(($H67,$J67,$L67,$N67,$P67,$R67,$T67,$V67,$X67),9)","v":0}]
[64,null,null,null,0,0,null,{"$f":"LOOKUP(G68,Poängberäkning!$B$6:$B$97,Poängberäkning!$C$6:$C$97)","v":0},null,{"$f":"LOOKUP(I68,Poängberäkning!$B$6:$B$97,Poängberäkning!$C$6:$C$97)","v":0},null,{"$f":"LOOKUP(K68,Poängberäkning!$B$6:$B$97,Poängberäkning!$C$6:$C$97)","v":0},null,{"$f":"LOOKUP(M68,Poängberäkning!$B$6:$B$97,Poängberäkning!$C$6:$C$97)","v":0},null,{"$f":"LOOKUP(O68,Poängberäkning!$B$6:$B$97,Poängberäkning!$C$6:$C$97)","v":0},null,{"$f":"LOOKUP(Q68,[1]Poängberäkning!$B$6:$B$97,[1]Poängberäkning!$C$6:$C$97)","v":0},null,{"$f":"LOOKUP(S68,[1]Poängberäkning!$B$6:$B$97,[1]Poängberäkning!$C$6:$C$97)","v":0},null,{"$f":"LOOKUP(U68,[1]Poängberäkning!$B$6:$B$97,[1]Poängberäkning!$C$6:$C$97)","v":0},null,{"$f":"LOOKUP(W68,[1]Poängberäkning!$B$6:$B$97,[1]Poängberäkning!$C$6:$C$97)","v":0},{"$f":"LARGE(($H68,$J68,$L68,$N68,$P68,$R68,$T68,$V68,$X68),1)","v":0},{"$f":"LARGE(($H68,$J68,$L68,$N68,$P68,$R68,$T68,$V68,$X68),2)","v":0},{"$f":"LARGE(($H68,$J68,$L68,$N68,$P68,$R68,$T68,$V68,$X68),3)","v":0},{"$f":"LARGE(($H68,$J68,$L68,$N68,$P68,$R68,$T68,$V68,$X68),4)","v":0},{"$f":"LARGE(($H68,$J68,$L68,$N68,$P68,$R68,$T68,$V68,$X68),5)","v":0},{"$f":"LARGE(($H68,$J68,$L68,$N68,$P68,$R68,$T68,$V68,$X68),6)","v":0},{"$f":"LARGE(($H68,$J68,$L68,$N68,$P68,$R68,$T68,$V68,$X68),7)","v":0},{"$f":"LARGE(($H68,$J68,$L68,$N68,$P68,$R68,$T68,$V68,$X68),8)","v":0},{"$f":"LARGE(($H68,$J68,$L68,$N68,$P68,$R68,$T68,$V68,$X68),9)","v":0}]
[65,null,null,null,{"$f":"SUM(Y69:AC69)","v":0},{"$f":"H69+J69+L69+N69+P69+R69+T69+V69+X69","v":0},null,{"$f":"LOOKUP(G69,Poängberäkning!$B$6:$B$97,Poängberäkning!$C$6:$C$97)","v":0},null,{"$f":"LOOKUP(I69,Poängberäkning!$B$6:$B$97,Poängberäkning!$C$6:$C$97)","v":0},null,{"$f":"LOOKUP(K69,Poängberäkning!$B$6:$B$97,Poängberäkning!$C$6:$C$97)","v":0},null,{"$f":"LOOKUP(M69,Poängberäkning!$B$6:$B$97,Poängberäkning!$C$6:$C$97)","v":0},null,{"$f":"LOOKUP(O69,Poängberäkning!$B$6:$B$97,Poängberäkning!$C$6:$C$97)","v":0},null,{"$f":"LOOKUP(Q69,[1]Poängberäkning!$B$6:$B$97,[1]Poängberäkning!$C$6:$C$97)","v":0},null,{"$f":"LOOKUP(S69,[1]Poängberäkning!$B$6:$B$97,[1]Poängberäkning!$C$6:$C$97)","v":0},null,{"$f":"LOOKUP(U69,[1]Poängberäkning!$B$6:$B$97,[1]Poängberäkning!$C$6:$C$97)","v":0},null,{"$f":"LOOKUP(W69,[1]Poängberäkning!$B$6:$B$97,[1]Poängberäkning!$C$6:$C$97)","v":0},{"$f":"LARGE(($H69,$J69,$L69,$N69,$P69,$R69,$T69,$V69,$X69),1)","v":0},{"$f":"LARGE(($H69,$J69,$L69,$N69,$P69,$R69,$T69,$V69,$X69),2)","v":0},{"$f":"LARGE(($H69,$J69,$L69,$N69,$P69,$R69,$T69,$V69,$X69),3)","v":0},{"$f":"LARGE(($H69,$J69,$L69,$N69,$P69,$R69,$T69,$V69,$X69),4)","v":0},{"$f":"LARGE(($H69,$J69,$L69,$N69,$P69,$R69,$T69,$V69,$X69),5)","v":0},{"$f":"LARGE(($H69,$J69,$L69,$N69,$P69,$R69,$T69,$V69,$X69),6)","v":0},{"$f":"LARGE(($H69,$J69,$L69,$N69,$P69,$R69,$T69,$V69,$X69),7)","v":0},{"$f":"LARGE(($H69,$J69,$L69,$N69,$P69,$R69,$T69,$V69,$X69),8)","v":0},{"$f":"LARGE(($H69,$J69,$L69,$N69,$P69,$R69,$T69,$V69,$X69),9)","v":0}]
[66,null,null,null,0,0,null,{"$f":"LOOKUP(G70,Poängberäkning!$B$6:$B$97,Poängberäkning!$C$6:$C$97)","v":0},null,{"$f":"LOOKUP(I70,Poängberäkning!$B$6:$B$97,Poängberäkning!$C$6:$C$97)","v":0},null,{"$f":"LOOKUP(K70,Poängberäkning!$B$6:$B$97,Poängberäkning!$C$6:$C$97)","v":0},null,{"$f":"LOOKUP(M70,Poängberäkning!$B$6:$B$97,Poängberäkning!$C$6:$C$97)","v":0},null,{"$f":"LOOKUP(O70,Poängberäkning!$B$6:$B$97,Poängberäkning!$C$6:$C$97)","v":0},null,{"$f":"LOOKUP(Q70,[1]Poängberäkning!$B$6:$B$97,[1]Poängberäkning!$C$6:$C$97)","v":0},null,{"$f":"LOOKUP(S70,[1]Poängberäkning!$B$6:$B$97,[1]Poängberäkning!$C$6:$C$97)","v":0},null,{"$f":"LOOKUP(U70,[1]Poängberäkning!$B$6:$B$97,[1]Poängberäkning!$C$6:$C$97)","v":0},null,{"$f":"LOOKUP(W70,[1]Poängberäkning!$B$6:$B$97,[1]Poängberäkning!$C$6:$C$97)","v":0},{"$f":"LARGE(($H70,$J70,$L70,$N70,$P70,$R70,$T70,$V70,$X70),1)","v":0},{"$f":"LARGE(($H70,$J70,$L70,$N70,$P70,$R70,$T70,$V70,$X70),2)","v":0},{"$f":"LARGE(($H70,$J70,$L70,$N70,$P70,$R70,$T70,$V70,$X70),3)","v":0},{"$f":"LARGE(($H70,$J70,$L70,$N70,$P70,$R70,$T70,$V70,$X70),4)","v":0},{"$f":"LARGE(($H70,$J70,$L70,$N70,$P70,$R70,$T70,$V70,$X70),5)","v":0},{"$f":"LARGE(($H70,$J70,$L70,$N70,$P70,$R70,$T70,$V70,$X70),6)","v":0},{"$f":"LARGE(($H70,$J70,$L70,$N70,$P70,$R70,$T70,$V70,$X70),7)","v":0},{"$f":"LARGE(($H70,$J70,$L70,$N70,$P70,$R70,$T70,$V70,$X70),8)","v":0},{"$f":"LARGE(($H70,$J70,$L70,$N70,$P70,$R70,$T70,$V70,$X70),9)","v":0}]
[67,null,null,null,0,0,null,{"$f":"LOOKUP(G71,Poängberäkning!$B$6:$B$97,Poängberäkning!$C$6:$C$97)","v":0},null,{"$f":"LOOKUP(I71,Poängberäkning!$B$6:$B$97,Poängberäkning!$C$6:$C$97)","v":0},null,{"$f":"LOOKUP(K71,Poängberäkning!$B$6:$B$97,Poängberäkning!$C$6:$C$97)","v":0},null,{"$f":"LOOKUP(M71,Poängberäkning!$B$6:$B$97,Poängberäkning!$C$6:$C$97)","v":0},null,{"$f":"LOOKUP(O71,Poängberäkning!$B$6:$B$97,Poängberäkning!$C$6:$C$97)","v":0},null,{"$f":"LOOKUP(Q71,[1]Poängberäkning!$B$6:$B$97,[1]Poängberäkning!$C$6:$C$97)","v":0},null,{"$f":"LOOKUP(S71,[1]Poängberäkning!$B$6:$B$97,[1]Poängberäkning!$C$6:$C$97)","v":0},null,{"$f":"LOOKUP(U71,[1]Poängberäkning!$B$6:$B$97,[1]Poängberäkning!$C$6:$C$97)","v":0},null,{"$f":"LOOKUP(W71,[1]Poängberäkning!$B$6:$B$97,[1]Poängberäkning!$C$6:$C$97)","v":0},{"$f":"LARGE(($H71,$J71,$L71,$N71,$P71,$R71,$T71,$V71,$X71),1)","v":0},{"$f":"LARGE(($H71,$J71,$L71,$N71,$P71,$R71,$T71,$V71,$X71),2)","v":0},{"$f":"LARGE(($H71,$J71,$L71,$N71,$P71,$R71,$T71,$V71,$X71),3)","v":0},{"$f":"LARGE(($H71,$J71,$L71,$N71,$P71,$R71,$T71,$V71,$X71),4)","v":0},{"$f":"LARGE(($H71,$J71,$L71,$N71,$P71,$R71,$T71,$V71,$X71),5)","v":0},{"$f":"LARGE(($H71,$J71,$L71,$N71,$P71,$R71,$T71,$V71,$X71),6)","v":0},{"$f":"LARGE(($H71,$J71,$L71,$N71,$P71,$R71,$T71,$V71,$X71),7)","v":0},{"$f":"LARGE(($H71,$J71,$L71,$N71,$P71,$R71,$T71,$V71,$X71),8)","v":0},{"$f":"LARGE(($H71,$J71,$L71,$N71,$P71,$R71,$T71,$V71,$X71),9)","v":0}]
[{"$f":"A71+1","v":68},null,null,null,0,0,null,{"$f":"LOOKUP(G72,Poängberäkning!$B$6:$B$97,Poängberäkning!$C$6:$C$97)","v":0},null,{"$f":"LOOKUP(I72,Poängberäkning!$B$6:$B$97,Poängberäkning!$C$6:$C$97)","v":0},null,{"$f":"LOOKUP(K72,Poängberäkning!$B$6:$B$97,Poängberäkning!$C$6:$C$97)","v":0},null,{"$f":"LOOKUP(M72,Poängberäkning!$B$6:$B$97,Poängberäkning!$C$6:$C$97)","v":0},null,{"$f":"LOOKUP(O72,Poängberäkning!$B$6:$B$97,Poängberäkning!$C$6:$C$97)","v":0},null,{"$f":"LOOKUP(Q72,[1]Poängberäkning!$B$6:$B$97,[1]Poängberäkning!$C$6:$C$97)","v":0},null,{"$f":"LOOKUP(S72,[1]Poängberäkning!$B$6:$B$97,[1]Poängberäkning!$C$6:$C$97)","v":0},null,{"$f":"LOOKUP(U72,[1]Poängberäkning!$B$6:$B$97,[1]Poängberäkning!$C$6:$C$97)","v":0},null,{"$f":"LOOKUP(W72,[1]Poängberäkning!$B$6:$B$97,[1]Poängberäkning!$C$6:$C$97)","v":0},{"$f":"LARGE(($H72,$J72,$L72,$N72,$P72,$R72,$T72,$V72,$X72),1)","v":0},{"$f":"LARGE(($H72,$J72,$L72,$N72,$P72,$R72,$T72,$V72,$X72),2)","v":0},{"$f":"LARGE(($H72,$J72,$L72,$N72,$P72,$R72,$T72,$V72,$X72),3)","v":0},{"$f":"LARGE(($H72,$J72,$L72,$N72,$P72,$R72,$T72,$V72,$X72),4)","v":0},{"$f":"LARGE(($H72,$J72,$L72,$N72,$P72,$R72,$T72,$V72,$X72),5)","v":0},{"$f":"LARGE(($H72,$J72,$L72,$N72,$P72,$R72,$T72,$V72,$X72),6)","v":0},{"$f":"LARGE(($H72,$J72,$L72,$N72,$P72,$R72,$T72,$V72,$X72),7)","v":0},{"$f":"LARGE(($H72,$J72,$L72,$N72,$P72,$R72,$T72,$V72,$X72),8)","v":0},{"$f":"LARGE(($H72,$J72,$L72,$N72,$P72,$R72,$T72,$V72,$X72),9)","v":0}]
[69,null,null,null,0,0,null,{"$f":"LOOKUP(G73,Poängberäkning!$B$6:$B$97,Poängberäkning!$C$6:$C$97)","v":0},null,{"$f":"LOOKUP(I73,Poängberäkning!$B$6:$B$97,Poängberäkning!$C$6:$C$97)","v":0},null,{"$f":"LOOKUP(K73,Poängberäkning!$B$6:$B$97,Poängberäkning!$C$6:$C$97)","v":0},null,{"$f":"LOOKUP(M73,Poängberäkning!$B$6:$B$97,Poängberäkning!$C$6:$C$97)","v":0},null,{"$f":"LOOKUP(O73,Poängberäkning!$B$6:$B$97,Poängberäkning!$C$6:$C$97)","v":0},null,{"$f":"LOOKUP(Q73,[1]Poängberäkning!$B$6:$B$97,[1]Poängberäkning!$C$6:$C$97)","v":0},null,{"$f":"LOOKUP(S73,[1]Poängberäkning!$B$6:$B$97,[1]Poängberäkning!$C$6:$C$97)","v":0},null,{"$f":"LOOKUP(U73,[1]Poängberäkning!$B$6:$B$97,[1]Poängberäkning!$C$6:$C$97)","v":0},null,{"$f":"LOOKUP(W73,[1]Poängberäkning!$B$6:$B$97,[1]Poängberäkning!$C$6:$C$97)","v":0},{"$f":"LARGE(($H73,$J73,$L73,$N73,$P73,$R73,$T73,$V73,$X73),1)","v":0},{"$f":"LARGE(($H73,$J73,$L73,$N73,$P73,$R73,$T73,$V73,$X73),2)","v":0},{"$f":"LARGE(($H73,$J73,$L73,$N73,$P73,$R73,$T73,$V73,$X73),3)","v":0},{"$f":"LARGE(($H73,$J73,$L73,$N73,$P73,$R73,$T73,$V73,$X73),4)","v":0},{"$f":"LARGE(($H73,$J73,$L73,$N73,$P73,$R73,$T73,$V73,$X73),5)","v":0},{"$f":"LARGE(($H73,$J73,$L73,$N73,$P73,$R73,$T73,$V73,$X73),6)","v":0},{"$f":"LARGE(($H73,$J73,$L73,$N73,$P73,$R73,$T73,$V73,$X73),7)","v":0},{"$f":"LARGE(($H73,$J73,$L73,$N73,$P73,$R73,$T73,$V73,$X73),8)","v":0},{"$f":"LARGE(($H73,$J73,$L73,$N73,$P73,$R73,$T73,$V73,$X73),9)","v":0}]
[70,null,null,null,0,0,null,{"$f":"LOOKUP(G74,Poängberäkning!$B$6:$B$97,Poängberäkning!$C$6:$C$97)","v":0},null,{"$f":"LOOKUP(I74,Poängberäkning!$B$6:$B$97,Poängberäkning!$C$6:$C$97)","v":0},null,{"$f":"LOOKUP(K74,Poängberäkning!$B$6:$B$97,Poängberäkning!$C$6:$C$97)","v":0},null,{"$f":"LOOKUP(M74,Poängberäkning!$B$6:$B$97,Poängberäkning!$C$6:$C$97)","v":0},null,{"$f":"LOOKUP(O74,Poängberäkning!$B$6:$B$97,Poängberäkning!$C$6:$C$97)","v":0},null,{"$f":"LOOKUP(Q74,[1]Poängberäkning!$B$6:$B$97,[1]Poängberäkning!$C$6:$C$97)","v":0},null,{"$f":"LOOKUP(S74,[1]Poängberäkning!$B$6:$B$97,[1]Poängberäkning!$C$6:$C$97)","v":0},null,{"$f":"LOOKUP(U74,[1]Poängberäkning!$B$6:$B$97,[1]Poängberäkning!$C$6:$C$97)","v":0},null,{"$f":"LOOKUP(W74,[1]Poängberäkning!$B$6:$B$97,[1]Poängberäkning!$C$6:$C$97)","v":0},{"$f":"LARGE(($H74,$J74,$L74,$N74,$P74,$R74,$T74,$V74,$X74),1)","v":0},{"$f":"LARGE(($H74,$J74,$L74,$N74,$P74,$R74,$T74,$V74,$X74),2)","v":0},{"$f":"LARGE(($H74,$J74,$L74,$N74,$P74,$R74,$T74,$V74,$X74),3)","v":0},{"$f":"LARGE(($H74,$J74,$L74,$N74,$P74,$R74,$T74,$V74,$X74),4)","v":0},{"$f":"LARGE(($H74,$J74,$L74,$N74,$P74,$R74,$T74,$V74,$X74),5)","v":0},{"$f":"LARGE(($H74,$J74,$L74,$N74,$P74,$R74,$T74,$V74,$X74),6)","v":0},{"$f":"LARGE(($H74,$J74,$L74,$N74,$P74,$R74,$T74,$V74,$X74),7)","v":0},{"$f":"LARGE(($H74,$J74,$L74,$N74,$P74,$R74,$T74,$V74,$X74),8)","v":0},{"$f":"LARGE(($H74,$J74,$L74,$N74,$P74,$R74,$T74,$V74,$X74),9)","v":0}]
[71,null,null,null,0,0,null,{"$f":"LOOKUP(G75,Poängberäkning!$B$6:$B$97,Poängberäkning!$C$6:$C$97)","v":0},null,{"$f":"LOOKUP(I75,Poängberäkning!$B$6:$B$97,Poängberäkning!$C$6:$C$97)","v":0},null,{"$f":"LOOKUP(K75,Poängberäkning!$B$6:$B$97,Poängberäkning!$C$6:$C$97)","v":0},null,{"$f":"LOOKUP(M75,Poängberäkning!$B$6:$B$97,Poängberäkning!$C$6:$C$97)","v":0},null,{"$f":"LOOKUP(O75,Poängberäkning!$B$6:$B$97,Poängberäkning!$C$6:$C$97)","v":0},null,{"$f":"LOOKUP(Q75,[1]Poängberäkning!$B$6:$B$97,[1]Poängberäkning!$C$6:$C$97)","v":0},null,{"$f":"LOOKUP(S75,[1]Poängberäkning!$B$6:$B$97,[1]Poängberäkning!$C$6:$C$97)","v":0},null,{"$f":"LOOKUP(U75,[1]Poängberäkning!$B$6:$B$97,[1]Poängberäkning!$C$6:$C$97)","v":0},null,{"$f":"LOOKUP(W75,[1]Poängberäkning!$B$6:$B$97,[1]Poängberäkning!$C$6:$C$97)","v":0},{"$f":"LARGE(($H75,$J75,$L75,$N75,$P75,$R75,$T75,$V75,$X75),1)","v":0},{"$f":"LARGE(($H75,$J75,$L75,$N75,$P75,$R75,$T75,$V75,$X75),2)","v":0},{"$f":"LARGE(($H75,$J75,$L75,$N75,$P75,$R75,$T75,$V75,$X75),3)","v":0},{"$f":"LARGE(($H75,$J75,$L75,$N75,$P75,$R75,$T75,$V75,$X75),4)","v":0},{"$f":"LARGE(($H75,$J75,$L75,$N75,$P75,$R75,$T75,$V75,$X75),5)","v":0},{"$f":"LARGE(($H75,$J75,$L75,$N75,$P75,$R75,$T75,$V75,$X75),6)","v":0},{"$f":"LARGE(($H75,$J75,$L75,$N75,$P75,$R75,$T75,$V75,$X75),7)","v":0},{"$f":"LARGE(($H75,$J75,$L75,$N75,$P75,$R75,$T75,$V75,$X75),8)","v":0},{"$f":"LARGE(($H75,$J75,$L75,$N75,$P75,$R75,$T75,$V75,$X75),9)","v":0}]
[72,null,null,null,0,0,null,{"$f":"LOOKUP(G76,Poängberäkning!$B$6:$B$97,Poängberäkning!$C$6:$C$97)","v":0},null,{"$f":"LOOKUP(I76,Poängberäkning!$B$6:$B$97,Poängberäkning!$C$6:$C$97)","v":0},null,{"$f":"LOOKUP(K76,Poängberäkning!$B$6:$B$97,Poängberäkning!$C$6:$C$97)","v":0},null,{"$f":"LOOKUP(M76,Poängberäkning!$B$6:$B$97,Poängberäkning!$C$6:$C$97)","v":0},null,{"$f":"LOOKUP(O76,Poängberäkning!$B$6:$B$97,Poängberäkning!$C$6:$C$97)","v":0},null,{"$f":"LOOKUP(Q76,[1]Poängberäkning!$B$6:$B$97,[1]Poängberäkning!$C$6:$C$97)","v":0},null,{"$f":"LOOKUP(S76,[1]Poängberäkning!$B$6:$B$97,[1]Poängberäkning!$C$6:$C$97)","v":0},null,{"$f":"LOOKUP(U76,[1]Poängberäkning!$B$6:$B$97,[1]Poängberäkning!$C$6:$C$97)","v":0},null,{"$f":"LOOKUP(W76,[1]Poängberäkning!$B$6:$B$97,[1]Poängberäkning!$C$6:$C$97)","v":0},{"$f":"LARGE(($H76,$J76,$L76,$N76,$P76,$R76,$T76,$V76,$X76),1)","v":0},{"$f":"LARGE(($H76,$J76,$L76,$N76,$P76,$R76,$T76,$V76,$X76),2)","v":0},{"$f":"LARGE(($H76,$J76,$L76,$N76,$P76,$R76,$T76,$V76,$X76),3)","v":0},{"$f":"LARGE(($H76,$J76,$L76,$N76,$P76,$R76,$T76,$V76,$X76),4)","v":0},{"$f":"LARGE(($H76,$J76,$L76,$N76,$P76,$R76,$T76,$V76,$X76),5)","v":0},{"$f":"LARGE(($H76,$J76,$L76,$N76,$P76,$R76,$T76,$V76,$X76),6)","v":0},{"$f":"LARGE(($H76,$J76,$L76,$N76,$P76,$R76,$T76,$V76,$X76),7)","v":0},{"$f":"LARGE(($H76,$J76,$L76,$N76,$P76,$R76,$T76,$V76,$X76),8)","v":0},{"$f":"LARGE(($H76,$J76,$L76,$N76,$P76,$R76,$T76,$V76,$X76),9)","v":0}]
[73,null,null,null,0,0,null,{"$f":"LOOKUP(G77,Poängberäkning!$B$6:$B$97,Poängberäkning!$C$6:$C$97)","v":0},null,{"$f":"LOOKUP(I77,Poängberäkning!$B$6:$B$97,Poängberäkning!$C$6:$C$97)","v":0},null,{"$f":"LOOKUP(K77,Poängberäkning!$B$6:$B$97,Poängberäkning!$C$6:$C$97)","v":0},null,{"$f":"LOOKUP(M77,Poängberäkning!$B$6:$B$97,Poängberäkning!$C$6:$C$97)","v":0},null,{"$f":"LOOKUP(O77,Poängberäkning!$B$6:$B$97,Poängberäkning!$C$6:$C$97)","v":0},null,{"$f":"LOOKUP(Q77,[1]Poängberäkning!$B$6:$B$97,[1]Poängberäkning!$C$6:$C$97)","v":0},null,{"$f":"LOOKUP(S77,[1]Poängberäkning!$B$6:$B$97,[1]Poängberäkning!$C$6:$C$97)","v":0},null,{"$f":"LOOKUP(U77,[1]Poängberäkning!$B$6:$B$97,[1]Poängberäkning!$C$6:$C$97)","v":0},null,{"$f":"LOOKUP(W77,[1]Poängberäkning!$B$6:$B$97,[1]Poängberäkning!$C$6:$C$97)","v":0},{"$f":"LARGE(($H77,$J77,$L77,$N77,$P77,$R77,$T77,$V77,$X77),1)","v":0},{"$f":"LARGE(($H77,$J77,$L77,$N77,$P77,$R77,$T77,$V77,$X77),2)","v":0},{"$f":"LARGE(($H77,$J77,$L77,$N77,$P77,$R77,$T77,$V77,$X77),3)","v":0},{"$f":"LARGE(($H77,$J77,$L77,$N77,$P77,$R77,$T77,$V77,$X77),4)","v":0},{"$f":"LARGE(($H77,$J77,$L77,$N77,$P77,$R77,$T77,$V77,$X77),5)","v":0},{"$f":"LARGE(($H77,$J77,$L77,$N77,$P77,$R77,$T77,$V77,$X77),6)","v":0},{"$f":"LARGE(($H77,$J77,$L77,$N77,$P77,$R77,$T77,$V77,$X77),7)","v":0},{"$f":"LARGE(($H77,$J77,$L77,$N77,$P77,$R77,$T77,$V77,$X77),8)","v":0},{"$f":"LARGE(($H77,$J77,$L77,$N77,$P77,$R77,$T77,$V77,$X77),9)","v":0}]
[74,null,null,null,0,0,null,{"$f":"LOOKUP(G78,Poängberäkning!$B$6:$B$97,Poängberäkning!$C$6:$C$97)","v":0},null,{"$f":"LOOKUP(I78,Poängberäkning!$B$6:$B$97,Poängberäkning!$C$6:$C$97)","v":0},null,{"$f":"LOOKUP(K78,Poängberäkning!$B$6:$B$97,Poängberäkning!$C$6:$C$97)","v":0},null,{"$f":"LOOKUP(M78,Poängberäkning!$B$6:$B$97,Poängberäkning!$C$6:$C$97)","v":0},null,{"$f":"LOOKUP(O78,Poängberäkning!$B$6:$B$97,Poängberäkning!$C$6:$C$97)","v":0},null,{"$f":"LOOKUP(Q78,[1]Poängberäkning!$B$6:$B$97,[1]Poängberäkning!$C$6:$C$97)","v":0},null,{"$f":"LOOKUP(S78,[1]Poängberäkning!$B$6:$B$97,[1]Poängberäkning!$C$6:$C$97)","v":0},null,{"$f":"LOOKUP(U78,[1]Poängberäkning!$B$6:$B$97,[1]Poängberäkning!$C$6:$C$97)","v":0},null,{"$f":"LOOKUP(W78,[1]Poängberäkning!$B$6:$B$97,[1]Poängberäkning!$C$6:$C$97)","v":0},{"$f":"LARGE(($H78,$J78,$L78,$N78,$P78,$R78,$T78,$V78,$X78),1)","v":0},{"$f":"LARGE(($H78,$J78,$L78,$N78,$P78,$R78,$T78,$V78,$X78),2)","v":0},{"$f":"LARGE(($H78,$J78,$L78,$N78,$P78,$R78,$T78,$V78,$X78),3)","v":0},{"$f":"LARGE(($H78,$J78,$L78,$N78,$P78,$R78,$T78,$V78,$X78),4)","v":0},{"$f":"LARGE(($H78,$J78,$L78,$N78,$P78,$R78,$T78,$V78,$X78),5)","v":0},{"$f":"LARGE(($H78,$J78,$L78,$N78,$P78,$R78,$T78,$V78,$X78),6)","v":0},{"$f":"LARGE(($H78,$J78,$L78,$N78,$P78,$R78,$T78,$V78,$X78),7)","v":0},{"$f":"LARGE(($H78,$J78,$L78,$N78,$P78,$R78,$T78,$V78,$X78),8)","v":0},{"$f":"LARGE(($H78,$J78,$L78,$N78,$P78,$R78,$T78,$V78,$X78),9)","v":0}]
[75,null,null,null,0,0,null,{"$f":"LOOKUP(G79,Poängberäkning!$B$6:$B$97,Poängberäkning!$C$6:$C$97)","v":0},null,{"$f":"LOOKUP(I79,Poängberäkning!$B$6:$B$97,Poängberäkning!$C$6:$C$97)","v":0},null,{"$f":"LOOKUP(K79,Poängberäkning!$B$6:$B$97,Poängberäkning!$C$6:$C$97)","v":0},null,{"$f":"LOOKUP(M79,Poängberäkning!$B$6:$B$97,Poängberäkning!$C$6:$C$97)","v":0},null,{"$f":"LOOKUP(O79,Poängberäkning!$B$6:$B$97,Poängberäkning!$C$6:$C$97)","v":0},null,{"$f":"LOOKUP(Q79,[1]Poängberäkning!$B$6:$B$97,[1]Poängberäkning!$C$6:$C$97)","v":0},null,{"$f":"LOOKUP(S79,[1]Poängberäkning!$B$6:$B$97,[1]Poängberäkning!$C$6:$C$97)","v":0},null,{"$f":"LOOKUP(U79,[1]Poängberäkning!$B$6:$B$97,[1]Poängberäkning!$C$6:$C$97)","v":0},null,{"$f":"LOOKUP(W79,[1]Poängberäkning!$B$6:$B$97,[1]Poängberäkning!$C$6:$C$97)","v":0},{"$f":"LARGE(($H79,$J79,$L79,$N79,$P79,$R79,$T79,$V79,$X79),1)","v":0},{"$f":"LARGE(($H79,$J79,$L79,$N79,$P79,$R79,$T79,$V79,$X79),2)","v":0},{"$f":"LARGE(($H79,$J79,$L79,$N79,$P79,$R79,$T79,$V79,$X79),3)","v":0},{"$f":"LARGE(($H79,$J79,$L79,$N79,$P79,$R79,$T79,$V79,$X79),4)","v":0},{"$f":"LARGE(($H79,$J79,$L79,$N79,$P79,$R79,$T79,$V79,$X79),5)","v":0},{"$f":"LARGE(($H79,$J79,$L79,$N79,$P79,$R79,$T79,$V79,$X79),6)","v":0},{"$f":"LARGE(($H79,$J79,$L79,$N79,$P79,$R79,$T79,$V79,$X79),7)","v":0},{"$f":"LARGE(($H79,$J79,$L79,$N79,$P79,$R79,$T79,$V79,$X79),8)","v":0},{"$f":"LARGE(($H79,$J79,$L79,$N79,$P79,$R79,$T79,$V79,$X79),9)","v":0}]
[{"$f":"A79+1","v":76},null,null,null,0,0,null,{"$f":"LOOKUP(G80,Poängberäkning!$B$6:$B$97,Poängberäkning!$C$6:$C$97)","v":0},null,{"$f":"LOOKUP(I80,Poängberäkning!$B$6:$B$97,Poängberäkning!$C$6:$C$97)","v":0},null,{"$f":"LOOKUP(K80,Poängberäkning!$B$6:$B$97,Poängberäkning!$C$6:$C$97)","v":0},null,{"$f":"LOOKUP(M80,Poängberäkning!$B$6:$B$97,Poängberäkning!$C$6:$C$97)","v":0},null,{"$f":"LOOKUP(O80,Poängberäkning!$B$6:$B$97,Poängberäkning!$C$6:$C$97)","v":0},null,{"$f":"LOOKUP(Q80,[1]Poängberäkning!$B$6:$B$97,[1]Poängberäkning!$C$6:$C$97)","v":0},null,{"$f":"LOOKUP(S80,[1]Poängberäkning!$B$6:$B$97,[1]Poängberäkning!$C$6:$C$97)","v":0},null,{"$f":"LOOKUP(U80,[1]Poängberäkning!$B$6:$B$97,[1]Poängberäkning!$C$6:$C$97)","v":0},null,{"$f":"LOOKUP(W80,[1]Poängberäkning!$B$6:$B$97,[1]Poängberäkning!$C$6:$C$97)","v":0},{"$f":"LARGE(($H80,$J80,$L80,$N80,$P80,$R80,$T80,$V80,$X80),1)","v":0},{"$f":"LARGE(($H80,$J80,$L80,$N80,$P80,$R80,$T80,$V80,$X80),2)","v":0},{"$f":"LARGE(($H80,$J80,$L80,$N80,$P80,$R80,$T80,$V80,$X80),3)","v":0},{"$f":"LARGE(($H80,$J80,$L80,$N80,$P80,$R80,$T80,$V80,$X80),4)","v":0},{"$f":"LARGE(($H80,$J80,$L80,$N80,$P80,$R80,$T80,$V80,$X80),5)","v":0},{"$f":"LARGE(($H80,$J80,$L80,$N80,$P80,$R80,$T80,$V80,$X80),6)","v":0},{"$f":"LARGE(($H80,$J80,$L80,$N80,$P80,$R80,$T80,$V80,$X80),7)","v":0},{"$f":"LARGE(($H80,$J80,$L80,$N80,$P80,$R80,$T80,$V80,$X80),8)","v":0},{"$f":"LARGE(($H80,$J80,$L80,$N80,$P80,$R80,$T80,$V80,$X80),9)","v":0}]
[{"$f":"A80+1","v":77},null,null,null,0,0,null,{"$f":"LOOKUP(G81,Poängberäkning!$B$6:$B$97,Poängberäkning!$C$6:$C$97)","v":0},null,{"$f":"LOOKUP(I81,Poängberäkning!$B$6:$B$97,Poängberäkning!$C$6:$C$97)","v":0},null,{"$f":"LOOKUP(K81,Poängberäkning!$B$6:$B$97,Poängberäkning!$C$6:$C$97)","v":0},null,{"$f":"LOOKUP(M81,Poängberäkning!$B$6:$B$97,Poängberäkning!$C$6:$C$97)","v":0},null,{"$f":"LOOKUP(O81,Poängberäkning!$B$6:$B$97,Poängberäkning!$C$6:$C$97)","v":0},null,{"$f":"LOOKUP(Q81,[1]Poängberäkning!$B$6:$B$97,[1]Poängberäkning!$C$6:$C$97)","v":0},null,{"$f":"LOOKUP(S81,[1]Poängberäkning!$B$6:$B$97,[1]Poängberäkning!$C$6:$C$97)","v":0},null,{"$f":"LOOKUP(U81,[1]Poängberäkning!$B$6:$B$97,[1]Poängberäkning!$C$6:$C$97)","v":0},null,{"$f":"LOOKUP(W81,[1]Poängberäkning!$B$6:$B$97,[1]Poängberäkning!$C$6:$C$97)","v":0},{"$f":"LARGE(($H81,$J81,$L81,$N81,$P81,$R81,$T81,$V81,$X81),1)","v":0},{"$f":"LARGE(($H81,$J81,$L81,$N81,$P81,$R81,$T81,$V81,$X81),2)","v":0},{"$f":"LARGE(($H81,$J81,$L81,$N81,$P81,$R81,$T81,$V81,$X81),3)","v":0},{"$f":"LARGE(($H81,$J81,$L81,$N81,$P81,$R81,$T81,$V81,$X81),4)","v":0},{"$f":"LARGE(($H81,$J81,$L81,$N81,$P81,$R81,$T81,$V81,$X81),5)","v":0},{"$f":"LARGE(($H81,$J81,$L81,$N81,$P81,$R81,$T81,$V81,$X81),6)","v":0},{"$f":"LARGE(($H81,$J81,$L81,$N81,$P81,$R81,$T81,$V81,$X81),7)","v":0},{"$f":"LARGE(($H81,$J81,$L81,$N81,$P81,$R81,$T81,$V81,$X81),8)","v":0},{"$f":"LARGE(($H81,$J81,$L81,$N81,$P81,$R81,$T81,$V81,$X81),9)","v":0}]
[{"$f":"A81+1","v":78},null,null,null,0,0,null,{"$f":"LOOKUP(G82,Poängberäkning!$B$6:$B$97,Poängberäkning!$C$6:$C$97)","v":0},null,{"$f":"LOOKUP(I82,Poängberäkning!$B$6:$B$97,Poängberäkning!$C$6:$C$97)","v":0},null,{"$f":"LOOKUP(K82,Poängberäkning!$B$6:$B$97,Poängberäkning!$C$6:$C$97)","v":0},null,{"$f":"LOOKUP(M82,Poängberäkning!$B$6:$B$97,Poängberäkning!$C$6:$C$97)","v":0},null,{"$f":"LOOKUP(O82,Poängberäkning!$B$6:$B$97,Poängberäkning!$C$6:$C$97)","v":0},null,{"$f":"LOOKUP(Q82,[1]Poängberäkning!$B$6:$B$97,[1]Poängberäkning!$C$6:$C$97)","v":0},null,{"$f":"LOOKUP(S82,[1]Poängberäkning!$B$6:$B$97,[1]Poängberäkning!$C$6:$C$97)","v":0},null,{"$f":"LOOKUP(U82,[1]Poängberäkning!$B$6:$B$97,[1]Poängberäkning!$C$6:$C$97)","v":0},null,{"$f":"LOOKUP(W82,[1]Poängberäkning!$B$6:$B$97,[1]Poängberäkning!$C$6:$C$97)","v":0},{"$f":"LARGE(($H82,$J82,$L82,$N82,$P82,$R82,$T82,$V82,$X82),1)","v":0},{"$f":"LARGE(($H82,$J82,$L82,$N82,$P82,$R82,$T82,$V82,$X82),2)","v":0},{"$f":"LARGE(($H82,$J82,$L82,$N82,$P82,$R82,$T82,$V82,$X82),3)","v":0},{"$f":"LARGE(($H82,$J82,$L82,$N82,$P82,$R82,$T82,$V82,$X82),4)","v":0},{"$f":"LARGE(($H82,$J82,$L82,$N82,$P82,$R82,$T82,$V82,$X82),5)","v":0},{"$f":"LARGE(($H82,$J82,$L82,$N82,$P82,$R82,$T82,$V82,$X82),6)","v":0},{"$f":"LARGE(($H82,$J82,$L82,$N82,$P82,$R82,$T82,$V82,$X82),7)","v":0},{"$f":"LARGE(($H82,$J82,$L82,$N82,$P82,$R82,$T82,$V82,$X82),8)","v":0},{"$f":"LARGE(($H82,$J82,$L82,$N82,$P82,$R82,$T82,$V82,$X82),9)","v":0}]
[79,null,null,null,0,0,null,{"$f":"LOOKUP(G83,Poängberäkning!$B$6:$B$97,Poängberäkning!$C$6:$C$97)","v":0},null,{"$f":"LOOKUP(I83,Poängberäkning!$B$6:$B$97,Poängberäkning!$C$6:$C$97)","v":0},null,{"$f":"LOOKUP(K83,Poängberäkning!$B$6:$B$97,Poängberäkning!$C$6:$C$97)","v":0},null,{"$f":"LOOKUP(M83,Poängberäkning!$B$6:$B$97,Poängberäkning!$C$6:$C$97)","v":0},null,{"$f":"LOOKUP(O83,Poängberäkning!$B$6:$B$97,Poängberäkning!$C$6:$C$97)","v":0},null,{"$f":"LOOKUP(Q83,[1]Poängberäkning!$B$6:$B$97,[1]Poängberäkning!$C$6:$C$97)","v":0},null,{"$f":"LOOKUP(S83,[1]Poängberäkning!$B$6:$B$97,[1]Poängberäkning!$C$6:$C$97)","v":0},null,{"$f":"LOOKUP(U83,[1]Poängberäkning!$B$6:$B$97,[1]Poängberäkning!$C$6:$C$97)","v":0},null,{"$f":"LOOKUP(W83,[1]Poängberäkning!$B$6:$B$97,[1]Poängberäkning!$C$6:$C$97)","v":0},{"$f":"LARGE(($H83,$J83,$L83,$N83,$P83,$R83,$T83,$V83,$X83),1)","v":0},{"$f":"LARGE(($H83,$J83,$L83,$N83,$P83,$R83,$T83,$V83,$X83),2)","v":0},{"$f":"LARGE(($H83,$J83,$L83,$N83,$P83,$R83,$T83,$V83,$X83),3)","v":0},{"$f":"LARGE(($H83,$J83,$L83,$N83,$P83,$R83,$T83,$V83,$X83),4)","v":0},{"$f":"LARGE(($H83,$J83,$L83,$N83,$P83,$R83,$T83,$V83,$X83),5)","v":0},{"$f":"LARGE(($H83,$J83,$L83,$N83,$P83,$R83,$T83,$V83,$X83),6)","v":0},{"$f":"LARGE(($H83,$J83,$L83,$N83,$P83,$R83,$T83,$V83,$X83),7)","v":0},{"$f":"LARGE(($H83,$J83,$L83,$N83,$P83,$R83,$T83,$V83,$X83),8)","v":0},{"$f":"LARGE(($H83,$J83,$L83,$N83,$P83,$R83,$T83,$V83,$X83),9)","v":0}]
[80,null,null,null,0,0,null,{"$f":"LOOKUP(G84,Poängberäkning!$B$6:$B$97,Poängberäkning!$C$6:$C$97)","v":0},null,{"$f":"LOOKUP(I84,Poängberäkning!$B$6:$B$97,Poängberäkning!$C$6:$C$97)","v":0},null,{"$f":"LOOKUP(K84,Poängberäkning!$B$6:$B$97,Poängberäkning!$C$6:$C$97)","v":0},null,{"$f":"LOOKUP(M84,Poängberäkning!$B$6:$B$97,Poängberäkning!$C$6:$C$97)","v":0},null,{"$f":"LOOKUP(O84,Poängberäkning!$B$6:$B$97,Poängberäkning!$C$6:$C$97)","v":0},null,{"$f":"LOOKUP(Q84,[1]Poängberäkning!$B$6:$B$97,[1]Poängberäkning!$C$6:$C$97)","v":0},null,{"$f":"LOOKUP(S84,[1]Poängberäkning!$B$6:$B$97,[1]Poängberäkning!$C$6:$C$97)","v":0},null,{"$f":"LOOKUP(U84,[1]Poängberäkning!$B$6:$B$97,[1]Poängberäkning!$C$6:$C$97)","v":0},null,{"$f":"LOOKUP(W84,[1]Poängberäkning!$B$6:$B$97,[1]Poängberäkning!$C$6:$C$97)","v":0},{"$f":"LARGE(($H84,$J84,$L84,$N84,$P84,$R84,$T84,$V84,$X84),1)","v":0},{"$f":"LARGE(($H84,$J84,$L84,$N84,$P84,$R84,$T84,$V84,$X84),2)","v":0},{"$f":"LARGE(($H84,$J84,$L84,$N84,$P84,$R84,$T84,$V84,$X84),3)","v":0},{"$f":"LARGE(($H84,$J84,$L84,$N84,$P84,$R84,$T84,$V84,$X84),4)","v":0},{"$f":"LARGE(($H84,$J84,$L84,$N84,$P84,$R84,$T84,$V84,$X84),5)","v":0},{"$f":"LARGE(($H84,$J84,$L84,$N84,$P84,$R84,$T84,$V84,$X84),6)","v":0},{"$f":"LARGE(($H84,$J84,$L84,$N84,$P84,$R84,$T84,$V84,$X84),7)","v":0},{"$f":"LARGE(($H84,$J84,$L84,$N84,$P84,$R84,$T84,$V84,$X84),8)","v":0},{"$f":"LARGE(($H84,$J84,$L84,$N84,$P84,$R84,$T84,$V84,$X84),9)","v":0}]
[81,null,null,null,0,0,null,{"$f":"LOOKUP(G85,Poängberäkning!$B$6:$B$97,Poängberäkning!$C$6:$C$97)","v":0},null,{"$f":"LOOKUP(I85,Poängberäkning!$B$6:$B$97,Poängberäkning!$C$6:$C$97)","v":0},null,{"$f":"LOOKUP(K85,Poängberäkning!$B$6:$B$97,Poängberäkning!$C$6:$C$97)","v":0},null,{"$f":"LOOKUP(M85,Poängberäkning!$B$6:$B$97,Poängberäkning!$C$6:$C$97)","v":0},null,{"$f":"LOOKUP(O85,Poängberäkning!$B$6:$B$97,Poängberäkning!$C$6:$C$97)","v":0},null,{"$f":"LOOKUP(Q85,[1]Poängberäkning!$B$6:$B$97,[1]Poängberäkning!$C$6:$C$97)","v":0},null,{"$f":"LOOKUP(S85,[1]Poängberäkning!$B$6:$B$97,[1]Poängberäkning!$C$6:$C$97)","v":0},null,{"$f":"LOOKUP(U85,[1]Poängberäkning!$B$6:$B$97,[1]Poängberäkning!$C$6:$C$97)","v":0},null,{"$f":"LOOKUP(W85,[1]Poängberäkning!$B$6:$B$97,[1]Poängberäkning!$C$6:$C$97)","v":0},{"$f":"LARGE(($H85,$J85,$L85,$N85,$P85,$R85,$T85,$V85,$X85),1)","v":0},{"$f":"LARGE(($H85,$J85,$L85,$N85,$P85,$R85,$T85,$V85,$X85),2)","v":0},{"$f":"LARGE(($H85,$J85,$L85,$N85,$P85,$R85,$T85,$V85,$X85),3)","v":0},{"$f":"LARGE(($H85,$J85,$L85,$N85,$P85,$R85,$T85,$V85,$X85),4)","v":0},{"$f":"LARGE(($H85,$J85,$L85,$N85,$P85,$R85,$T85,$V85,$X85),5)","v":0},{"$f":"LARGE(($H85,$J85,$L85,$N85,$P85,$R85,$T85,$V85,$X85),6)","v":0},{"$f":"LARGE(($H85,$J85,$L85,$N85,$P85,$R85,$T85,$V85,$X85),7)","v":0},{"$f":"LARGE(($H85,$J85,$L85,$N85,$P85,$R85,$T85,$V85,$X85),8)","v":0},{"$f":"LARGE(($H85,$J85,$L85,$N85,$P85,$R85,$T85,$V85,$X85),9)","v":0}]
[82,null,null,null,0,0,null,{"$f":"LOOKUP(G86,Poängberäkning!$B$6:$B$97,Poängberäkning!$C$6:$C$97)","v":0},null,{"$f":"LOOKUP(I86,Poängberäkning!$B$6:$B$97,Poängberäkning!$C$6:$C$97)","v":0},null,{"$f":"LOOKUP(K86,Poängberäkning!$B$6:$B$97,Poängberäkning!$C$6:$C$97)","v":0},null,{"$f":"LOOKUP(M86,Poängberäkning!$B$6:$B$97,Poängberäkning!$C$6:$C$97)","v":0},null,{"$f":"LOOKUP(O86,Poängberäkning!$B$6:$B$97,Poängberäkning!$C$6:$C$97)","v":0},null,{"$f":"LOOKUP(Q86,[1]Poängberäkning!$B$6:$B$97,[1]Poängberäkning!$C$6:$C$97)","v":0},null,{"$f":"LOOKUP(S86,[1]Poängberäkning!$B$6:$B$97,[1]Poängberäkning!$C$6:$C$97)","v":0},null,{"$f":"LOOKUP(U86,[1]Poängberäkning!$B$6:$B$97,[1]Poängberäkning!$C$6:$C$97)","v":0},null,{"$f":"LOOKUP(W86,[1]Poängberäkning!$B$6:$B$97,[1]Poängberäkning!$C$6:$C$97)","v":0},{"$f":"LARGE(($H86,$J86,$L86,$N86,$P86,$R86,$T86,$V86,$X86),1)","v":0},{"$f":"LARGE(($H86,$J86,$L86,$N86,$P86,$R86,$T86,$V86,$X86),2)","v":0},{"$f":"LARGE(($H86,$J86,$L86,$N86,$P86,$R86,$T86,$V86,$X86),3)","v":0},{"$f":"LARGE(($H86,$J86,$L86,$N86,$P86,$R86,$T86,$V86,$X86),4)","v":0},{"$f":"LARGE(($H86,$J86,$L86,$N86,$P86,$R86,$T86,$V86,$X86),5)","v":0},{"$f":"LARGE(($H86,$J86,$L86,$N86,$P86,$R86,$T86,$V86,$X86),6)","v":0},{"$f":"LARGE(($H86,$J86,$L86,$N86,$P86,$R86,$T86,$V86,$X86),7)","v":0},{"$f":"LARGE(($H86,$J86,$L86,$N86,$P86,$R86,$T86,$V86,$X86),8)","v":0},{"$f":"LARGE(($H86,$J86,$L86,$N86,$P86,$R86,$T86,$V86,$X86),9)","v":0}]
[83,null,null,null,0,0,null,{"$f":"LOOKUP(G87,Poängberäkning!$B$6:$B$97,Poängberäkning!$C$6:$C$97)","v":0},null,{"$f":"LOOKUP(I87,Poängberäkning!$B$6:$B$97,Poängberäkning!$C$6:$C$97)","v":0},null,{"$f":"LOOKUP(K87,Poängberäkning!$B$6:$B$97,Poängberäkning!$C$6:$C$97)","v":0},null,{"$f":"LOOKUP(M87,Poängberäkning!$B$6:$B$97,Poängberäkning!$C$6:$C$97)","v":0},null,{"$f":"LOOKUP(O87,Poängberäkning!$B$6:$B$97,Poängberäkning!$C$6:$C$97)","v":0},null,{"$f":"LOOKUP(Q87,[1]Poängberäkning!$B$6:$B$97,[1]Poängberäkning!$C$6:$C$97)","v":0},null,{"$f":"LOOKUP(S87,[1]Poängberäkning!$B$6:$B$97,[1]Poängberäkning!$C$6:$C$97)","v":0},null,{"$f":"LOOKUP(U87,[1]Poängberäkning!$B$6:$B$97,[1]Poängberäkning!$C$6:$C$97)","v":0},null,{"$f":"LOOKUP(W87,[1]Poängberäkning!$B$6:$B$97,[1]Poängberäkning!$C$6:$C$97)","v":0},{"$f":"LARGE(($H87,$J87,$L87,$N87,$P87,$R87,$T87,$V87,$X87),1)","v":0},{"$f":"LARGE(($H87,$J87,$L87,$N87,$P87,$R87,$T87,$V87,$X87),2)","v":0},{"$f":"LARGE(($H87,$J87,$L87,$N87,$P87,$R87,$T87,$V87,$X87),3)","v":0},{"$f":"LARGE(($H87,$J87,$L87,$N87,$P87,$R87,$T87,$V87,$X87),4)","v":0},{"$f":"LARGE(($H87,$J87,$L87,$N87,$P87,$R87,$T87,$V87,$X87),5)","v":0},{"$f":"LARGE(($H87,$J87,$L87,$N87,$P87,$R87,$T87,$V87,$X87),6)","v":0},{"$f":"LARGE(($H87,$J87,$L87,$N87,$P87,$R87,$T87,$V87,$X87),7)","v":0},{"$f":"LARGE(($H87,$J87,$L87,$N87,$P87,$R87,$T87,$V87,$X87),8)","v":0},{"$f":"LARGE(($H87,$J87,$L87,$N87,$P87,$R87,$T87,$V87,$X87),9)","v":0}]
[84,null,null,null,0,0,null,{"$f":"LOOKUP(G88,Poängberäkning!$B$6:$B$97,Poängberäkning!$C$6:$C$97)","v":0},null,{"$f":"LOOKUP(I88,Poängberäkning!$B$6:$B$97,Poängberäkning!$C$6:$C$97)","v":0},null,{"$f":"LOOKUP(K88,Poängberäkning!$B$6:$B$97,Poängberäkning!$C$6:$C$97)","v":0},null,{"$f":"LOOKUP(M88,Poängberäkning!$B$6:$B$97,Poängberäkning!$C$6:$C$97)","v":0},null,{"$f":"LOOKUP(O88,Poängberäkning!$B$6:$B$97,Poängberäkning!$C$6:$C$97)","v":0},null,{"$f":"LOOKUP(Q88,[1]Poängberäkning!$B$6:$B$97,[1]Poängberäkning!$C$6:$C$97)","v":0},null,{"$f":"LOOKUP(S88,[1]Poängberäkning!$B$6:$B$97,[1]Poängberäkning!$C$6:$C$97)","v":0},null,{"$f":"LOOKUP(U88,[1]Poängberäkning!$B$6:$B$97,[1]Poängberäkning!$C$6:$C$97)","v":0},null,{"$f":"LOOKUP(W88,[1]Poängberäkning!$B$6:$B$97,[1]Poängberäkning!$C$6:$C$97)","v":0},{"$f":"LARGE(($H88,$J88,$L88,$N88,$P88,$R88,$T88,$V88,$X88),1)","v":0},{"$f":"LARGE(($H88,$J88,$L88,$N88,$P88,$R88,$T88,$V88,$X88),2)","v":0},{"$f":"LARGE(($H88,$J88,$L88,$N88,$P88,$R88,$T88,$V88,$X88),3)","v":0},{"$f":"LARGE(($H88,$J88,$L88,$N88,$P88,$R88,$T88,$V88,$X88),4)","v":0},{"$f":"LARGE(($H88,$J88,$L88,$N88,$P88,$R88,$T88,$V88,$X88),5)","v":0},{"$f":"LARGE(($H88,$J88,$L88,$N88,$P88,$R88,$T88,$V88,$X88),6)","v":0},{"$f":"LARGE(($H88,$J88,$L88,$N88,$P88,$R88,$T88,$V88,$X88),7)","v":0},{"$f":"LARGE(($H88,$J88,$L88,$N88,$P88,$R88,$T88,$V88,$X88),8)","v":0},{"$f":"LARGE(($H88,$J88,$L88,$N88,$P88,$R88,$T88,$V88,$X88),9)","v":0}]
[85,null,null,null,0,0,null,{"$f":"LOOKUP(G89,Poängberäkning!$B$6:$B$97,Poängberäkning!$C$6:$C$97)","v":0},null,{"$f":"LOOKUP(I89,Poängberäkning!$B$6:$B$97,Poängberäkning!$C$6:$C$97)","v":0},null,{"$f":"LOOKUP(K89,Poängberäkning!$B$6:$B$97,Poängberäkning!$C$6:$C$97)","v":0},null,{"$f":"LOOKUP(M89,Poängberäkning!$B$6:$B$97,Poängberäkning!$C$6:$C$97)","v":0},null,{"$f":"LOOKUP(O89,Poängberäkning!$B$6:$B$97,Poängberäkning!$C$6:$C$97)","v":0},null,{"$f":"LOOKUP(Q89,[1]Poängberäkning!$B$6:$B$97,[1]Poängberäkning!$C$6:$C$97)","v":0},null,{"$f":"LOOKUP(S89,[1]Poängberäkning!$B$6:$B$97,[1]Poängberäkning!$C$6:$C$97)","v":0},null,{"$f":"LOOKUP(U89,[1]Poängberäkning!$B$6:$B$97,[1]Poängberäkning!$C$6:$C$97)","v":0},null,{"$f":"LOOKUP(W89,[1]Poängberäkning!$B$6:$B$97,[1]Poängberäkning!$C$6:$C$97)","v":0},{"$f":"LARGE(($H89,$J89,$L89,$N89,$P89,$R89,$T89,$V89,$X89),1)","v":0},{"$f":"LARGE(($H89,$J89,$L89,$N89,$P89,$R89,$T89,$V89,$X89),2)","v":0},{"$f":"LARGE(($H89,$J89,$L89,$N89,$P89,$R89,$T89,$V89,$X89),3)","v":0},{"$f":"LARGE(($H89,$J89,$L89,$N89,$P89,$R89,$T89,$V89,$X89),4)","v":0},{"$f":"LARGE(($H89,$J89,$L89,$N89,$P89,$R89,$T89,$V89,$X89),5)","v":0},{"$f":"LARGE(($H89,$J89,$L89,$N89,$P89,$R89,$T89,$V89,$X89),6)","v":0},{"$f":"LARGE(($H89,$J89,$L89,$N89,$P89,$R89,$T89,$V89,$X89),7)","v":0},{"$f":"LARGE(($H89,$J89,$L89,$N89,$P89,$R89,$T89,$V89,$X89),8)","v":0},{"$f":"LARGE(($H89,$J89,$L89,$N89,$P89,$R89,$T89,$V89,$X89),9)","v":0}]
[{"$f":"A89+1","v":86},null,null,null,0,0,null,{"$f":"LOOKUP(G90,Poängberäkning!$B$6:$B$97,Poängberäkning!$C$6:$C$97)","v":0},null,{"$f":"LOOKUP(I90,Poängberäkning!$B$6:$B$97,Poängberäkning!$C$6:$C$97)","v":0},null,{"$f":"LOOKUP(K90,Poängberäkning!$B$6:$B$97,Poängberäkning!$C$6:$C$97)","v":0},null,{"$f":"LOOKUP(M90,Poängberäkning!$B$6:$B$97,Poängberäkning!$C$6:$C$97)","v":0},null,{"$f":"LOOKUP(O90,Poängberäkning!$B$6:$B$97,Poängberäkning!$C$6:$C$97)","v":0},null,{"$f":"LOOKUP(Q90,[1]Poängberäkning!$B$6:$B$97,[1]Poängberäkning!$C$6:$C$97)","v":0},null,{"$f":"LOOKUP(S90,[1]Poängberäkning!$B$6:$B$97,[1]Poängberäkning!$C$6:$C$97)","v":0},null,{"$f":"LOOKUP(U90,[1]Poängberäkning!$B$6:$B$97,[1]Poängberäkning!$C$6:$C$97)","v":0},null,{"$f":"LOOKUP(W90,[1]Poängberäkning!$B$6:$B$97,[1]Poängberäkning!$C$6:$C$97)","v":0},{"$f":"LARGE(($H90,$J90,$L90,$N90,$P90,$R90,$T90,$V90,$X90),1)","v":0},{"$f":"LARGE(($H90,$J90,$L90,$N90,$P90,$R90,$T90,$V90,$X90),2)","v":0},{"$f":"LARGE(($H90,$J90,$L90,$N90,$P90,$R90,$T90,$V90,$X90),3)","v":0},{"$f":"LARGE(($H90,$J90,$L90,$N90,$P90,$R90,$T90,$V90,$X90),4)","v":0},{"$f":"LARGE(($H90,$J90,$L90,$N90,$P90,$R90,$T90,$V90,$X90),5)","v":0},{"$f":"LARGE(($H90,$J90,$L90,$N90,$P90,$R90,$T90,$V90,$X90),6)","v":0},{"$f":"LARGE(($H90,$J90,$L90,$N90,$P90,$R90,$T90,$V90,$X90),7)","v":0},{"$f":"LARGE(($H90,$J90,$L90,$N90,$P90,$R90,$T90,$V90,$X90),8)","v":0},{"$f":"LARGE(($H90,$J90,$L90,$N90,$P90,$R90,$T90,$V90,$X90),9)","v":0}]

{"sheet":"H 17-","index":12,"n_rows":90,"n_cols":33,"rows_kept":90,"cut":false,"hidden":false,"merged":[[1,20,2,21],[2,24,3,32],[3,6,3,7],[3,8,3,9],[3,10,3,11],[3,12,3,13],[3,14,3,15],[3,16,3,17],[3,18,3,19],[3,20,3,21],[3,22,3,23],[1,16,2,17],[1,18,2,19],[1,22,2,23],[2,4,2,5],[0,2,0,15],[1,0,2,1],[1,2,2,3],[1,4,1,5],[1,6,2,7],[1,8,2,9],[1,10,2,11],[1,12,2,13],[1,14,2,15]]}
[]
["H 17-",null,null,null,null,null,"Sälen GS",null,"Falun GS",null,"Norrbärke SL",null,"Borlänge SL",null,"Orsa GS",null,"Falun SL",null,"Falun SL",null,"Deltävling",null,"Deltävling",null,"1:a","2:a","3:e","4:e","5:e","6:e","7:e","8:e","9:e"]
[null,null,null,null,"Poäng",null,null,null,null,null,null,null,null,null,null,null,null,null,null,null,null,null,null,null,"De 7 bästa åken.                         "]
["Rang","Född","Namn","Klubb","5 Bästa","Totalt","Sö 24/1   Tot",null,"Sö 14/2      Tot",null,"Sö 21/2    Tot",null,"Lö 27/2   Tot",null,"Lö 2/4   Tot",null,"Lö 16/1",null,"Sö 17/1"]
[1,1998,"GRANATH Jona","IFK Falun",{"$f":"SUM(Y5:AC5)","v":244},{"$f":"H5+J5+L5+N5+P5+R5+T5+V5+X5","v":244},null,{"$f":"LOOKUP(G5,Poängberäkning!$B$6:$B$97,Poängberäkning!$C$6:$C$97)","v":0},3,{"$f":"LOOKUP(I5,Poängberäkning!$B$6:$B$97,Poängberäkning!$C$6:$C$97)","v":70},1,{"$f":"LOOKUP(K5,Poängberäkning!$B$6:$B$97,Poängberäkning!$C$6:$C$97)","v":100},null,{"$f":"LOOKUP(M5,Poängberäkning!$B$6:$B$97,Poängberäkning!$C$6:$C$97)","v":0},3,{"$f":"LOOKUP(O5,Poängberäkning!$B$6:$B$97,Poängberäkning!$C$6:$C$97)","v":70},47,{"$f":"LOOKUP(Q5,[1]Poängberäkning!$B$6:$B$97,[1]Poängberäkning!$C$6:$C$97)","v":4},99,{"$f":"LOOKUP(S5,[1]Poängberäkning!$B$6:$B$97,[1]Poängberäkning!$C$6:$C$97)","v":0},null,{"$f":"LOOKUP(U5,[1]Poängberäkning!$B$6:$B$97,[1]Poängberäkning!$C$6:$C$97)","v":0},null,{"$f":"LOOKUP(W5,[1]Poängberäkning!$B$6:$B$97,[1]Poängberäkning!$C$6:$C$97)","v":0},{"$f":"LARGE(($H5,$J5,$L5,$N5,$P5,$R5,$T5,$V5,$X5),1)","v":100},{"$f":"LARGE(($H5,$J5,$L5,$N5,$P5,$R5,$T5,$V5,$X5),2)","v":70},{"$f":"LARGE(($H5,$J5,$L5,$N5,$P5,$R5,$T5,$V5,$X5),3)","v":70},{"$f":"LARGE(($H5,$J5,$L5,$N5,$P5,$R5,$T5,$V5,$X5),4)","v":4},{"$f":"LARGE(($H5,$J5,$L5,$N5,$P5,$R5,$T5,$V5,$X5),5)","v":0},{"$f":"LARGE(($H5,$J5,$L5,$N5,$P5,$R5,$T5,$V5,$X5),6)","v":0},{"$f":"LARGE(($H5,$J5,$L5,$N5,$P5,$R5,$T5,$V5,$X5),7)","v":0},{"$f":"LARGE(($H5,$J5,$L5,$N5,$P5,$R5,$T5,$V5,$X5),8)","v":0},{"$f":"LARGE(($H5,$J5,$L5,$N5,$P5,$R5,$T5,$V5,$X5),9)","v":0}]
[{"$f":"A5+1","v":2},1966,"MICHELASSI Giannetto","Uppsala SLK",195,195,null,{"$f":"LOOKUP(G6,Poängberäkning!$B$6:$B$97,Poängberäkning!$C$6:$C$97)","v":0},4,{"$f":"LOOKUP(I6,Poängberäkning!$B$6:$B$97,Poängberäkning!$C$6:$C$97)","v":60},2,{"$f":"LOOKUP(K6,Poängberäkning!$B$6:$B$97,Poängberäkning!$C$6:$C$97)","v":80},99,{"$f":"LOOKUP(M6,Poängberäkning!$B$6:$B$97,Poängberäkning!$C$6:$C$97)","v":0},5,{"$f":"LOOKUP(O6,Poängberäkning!$B$6:$B$97,Poängberäkning!$C$6:$C$97)","v":55},null,{"$f":"LOOKUP(Q6,[1]Poängberäkning!$B$6:$B$97,[1]Poängberäkning!$C$6:$C$97)","v":0},null,{"$f":"LOOKUP(S6,[1]Poängberäkning!$B$6:$B$97,[1]Poängberäkning!$C$6:$C$97)","v":0},null,{"$f":"LOOKUP(U6,[1]Poängberäkning!$B$6:$B$97,[1]Poängberäkning!$C$6:$C$97)","v":0},null,{"$f":"LOOKUP(W6,[1]Poängberäkning!$B$6:$B$97,[1]Poängberäkning!$C$6:$C$97)","v":0},{"$f":"LARGE(($H6,$J6,$L6,$N6,$P6,$R6,$T6,$V6,$X6),1)","v":80},{"$f":"LARGE(($H6,$J6,$L6,$N6,$P6,$R6,$T6,$V6,$X6),2)","v":60},{"$f":"LARGE(($H6,$J6,$L6,$N6,$P6,$R6,$T6,$V6,$X6),3)","v":55},{"$f":"LARGE(($H6,$J6,$L6,$N6,$P6,$R6,$T6,$V6,$X6),4)","v":0},{"$f":"LARGE(($H6,$J6,$L6,$N6,$P6,$R6,$T6,$V6,$X6),5)","v":0},{"$f":"LARGE(($H6,$J6,$L6,$N6,$P6,$R6,$T6,$V6,$X6),6)","v":0},{"$f":"LARGE(($H6,$J6,$L6,$N6,$P6,$R6,$T6,$V6,$X6),7)","v":0},{"$f":"LARGE(($H6,$J6,$L6,$N6,$P6,$R6,$T6,$V6,$X6),8)","v":0},{"$f":"LARGE(($H6,$J6,$L6,$N6,$P6,$R6,$T6,$V6,$X6),9)","v":0}]
[{"$f":"A6+1","v":3},1999,"KARLBERG Lukas","Mälaröarnas Alpina SK",155,155,null,{"$f":"LOOKUP(G7,Poängberäkning!$B$6:$B$97,Poängberäkning!$C$6:$C$97)","v":0},null,{"$f":"LOOKUP(I7,Poängberäkning!$B$6:$B$97,Poängberäkning!$C$6:$C$97)","v":0},null,{"$f":"LOOKUP(K7,Poängberäkning!$B$6:$B$97,Poängberäkning!$C$6:$C$97)","v":0},null,{"$f":"LOOKUP(M7,Poängberäkning!$B$6:$B$97,Poängberäkning!$C$6:$C$97)","v":0},null,{"$f":"LOOKUP(O7,Poängberäkning!$B$6:$B$97,Poängberäkning!$C$6:$C$97)","v":0},5,{"$f":"LOOKUP(Q7,[1]Poängberäkning!$B$6:$B$97,[1]Poängberäkning!$C$6:$C$97)","v":55},1,{"$f":"LOOKUP(S7,[1]Poängberäkning!$B$6:$B$97,[1]Poängberäkning!$C$6:$C$97)","v":100},null,{"$f":"LOOKUP(U7,[1]Poängberäkning!$B$6:$B$97,[1]Poängberäkning!$C$6:$C$97)","v":0},null,{"$f":"LOOKUP(W7,[1]Poängberäkning!$B$6:$B$97,[1]Poängberäkning!$C$6:$C$97)","v":0},{"$f":"LARGE(($H7,$J7,$L7,$N7,$P7,$R7,$T7,$V7,$X7),1)","v":100},{"$f":"LARGE(($H7,$J7,$L7,$N7,$P7,$R7,$T7,$V7,$X7),2)","v":55},{"$f":"LARGE(($H7,$J7,$L7,$N7,$P7,$R7,$T7,$V7,$X7),3)","v":0},{"$f":"LARGE(($H7,$J7,$L7,$N7,$P7,$R7,$T7,$V7,$X7),4)","v":0},{"$f":"LARGE(($H7,$J7,$L7,$N7,$P7,$R7,$T7,$V7,$X7),5)","v":0},{"$f":"LARGE(($H7,$J7,$L7,$N7,$P7,$R7,$T7,$V7,$X7),6)","v":0},{"$f":"LARGE(($H7,$J7,$L7,$N7,$P7,$R7,$T7,$V7,$X7),7)","v":0},{"$f":"LARGE(($H7,$J7,$L7,$N7,$P7,$R7,$T7,$V7,$X7),8)","v":0},{"$f":"LARGE(($H7,$J7,$L7,$N7,$P7,$R7,$T7,$V7,$X7),9)","v":0}]
[{"$f":"A7+1","v":4},1996,"ÖSTMARK Anton","Gävle Alpina SK",150,150,null,{"$f":"LOOKUP(G8,Poängberäkning!$B$6:$B$97,Poängberäkning!$C$6:$C$97)","v":0},null,{"$f":"LOOKUP(I8,Poängberäkning!$B$6:$B$97,Poängberäkning!$C$6:$C$97)","v":0},null,{"$f":"LOOKUP(K8,Poängberäkning!$B$6:$B$97,Poängberäkning!$C$6:$C$97)","v":0},null,{"$f":"LOOKUP(M8,Poängberäkning!$B$6:$B$97,Poängberäkning!$C$6:$C$97)","v":0},null,{"$f":"LOOKUP(O8,Poängberäkning!$B$6:$B$97,Poängberäkning!$C$6:$C$97)","v":0},3,{"$f":"LOOKUP(Q8,[1]Poängberäkning!$B$6:$B$97,[1]Poängberäkning!$C$6:$C$97)","v":70},2,{"$f":"LOOKUP(S8,[1]Poängberäkning!$B$6:$B$97,[1]Poängberäkning!$C$6:$C$97)","v":80},null,{"$f":"LOOKUP(U8,[1]Poängberäkning!$B$6:$B$97,[1]Poängberäkning!$C$6:$C$97)","v":0},null,{"$f":"LOOKUP(W8,[1]Poängberäkning!$B$6:$B$97,[1]Poängberäkning!$C$6:$C$97)","v":0},{"$f":"LARGE(($H8,$J8,$L8,$N8,$P8,$R8,$T8,$V8,$X8),1)","v":80},{"$f":"LARGE(($H8,$J8,$L8,$N8,$P8,$R8,$T8,$V8,$X8),2)","v":70},{"$f":"LARGE(($H8,$J8,$L8,$N8,$P8,$R8,$T8,$V8,$X8),3)","v":0},{"$f":"LARGE(($H8,$J8,$L8,$N8,$P8,$R8,$T8,$V8,$X8),4)","v":0},{"$f":"LARGE(($H8,$J8,$L8,$N8,$P8,$R8,$T8,$V8,$X8),5)","v":0},{"$f":"LARGE(($H8,$J8,$L8,$N8,$P8,$R8,$T8,$V8,$X8),6)","v":0},{"$f":"LARGE(($H8,$J8,$L8,$N8,$P8,$R8,$T8,$V8,$X8),7)","v":0},{"$f":"LARGE(($H8,$J8,$L8,$N8,$P8,$R8,$T8,$V8,$X8),8)","v":0},{"$f":"LARGE(($H8,$J8,$L8,$N8,$P8,$R8,$T8,$V8,$X8),9)","v":0}]
[5,1997,"KNUTSSON Oscar","Norrköpings SK",125,125,null,{"$f":"LOOKUP(G9,Poängberäkning!$B$6:$B$97,Poängberäkning!$C$6:$C$97)","v":0},null,{"$f":"LOOKUP(I9,Poängberäkning!$B$6:$B$97,Poängberäkning!$C$6:$C$97)","v":0},null,{"$f":"LOOKUP(K9,Poängberäkning!$B$6:$B$97,Poängberäkning!$C$6:$C$97)","v":0},null,{"$f":"LOOKUP(M9,Poängberäkning!$B$6:$B$97,Poängberäkning!$C$6:$C$97)","v":0},null,{"$f":"LOOKUP(O9,Poängberäkning!$B$6:$B$97,Poängberäkning!$C$6:$C$97)","v":0},5,{"$f":"LOOKUP(Q9,[1]Poängberäkning!$B$6:$B$97,[1]Poängberäkning!$C$6:$C$97)","v":55},3,{"$f":"LOOKUP(S9,[1]Poängberäkning!$B$6:$B$97,[1]Poängberäkning!$C$6:$C$97)","v":70},null,{"$f":"LOOKUP(U9,[1]Poängberäkning!$B$6:$B$97,[1]Poängberäkning!$C$6:$C$97)","v":0},null,{"$f":"LOOKUP(W9,[1]Poängberäkning!$B$6:$B$97,[1]Poängberäkning!$C$6:$C$97)","v":0},{"$f":"LARGE(($H9,$J9,$L9,$N9,$P9,$R9,$T9,$V9,$X9),1)","v":70},{"$f":"LARGE(($H9,$J9,$L9,$N9,$P9,$R9,$T9,$V9,$X9),2)","v":55},{"$f":"LARGE(($H9,$J9,$L9,$N9,$P9,$R9,$T9,$V9,$X9),3)","v":0},{"$f":"LARGE(($H9,$J9,$L9,$N9,$P9,$R9,$T9,$V9,$X9),4)","v":0},{"$f":"LARGE(($H9,$J9,$L9,$N9,$P9,$R9,$T9,$V9,$X9),5)","v":0},{"$f":"LARGE(($H9,$J9,$L9,$N9,$P9,$R9,$T9,$V9,$X9),6)","v":0},{"$f":"LARGE(($H9,$J9,$L9,$N9,$P9,$R9,$T9,$V9,$X9),7)","v":0},{"$f":"LARGE(($H9,$J9,$L9,$N9,$P9,$R9,$T9,$V9,$X9),8)","v":0},{"$f":"LARGE(($H9,$J9,$L9,$N9,$P9,$R9,$T9,$V9,$X9),9)","v":0}]
[6,1980,"STRANDBERG Peter","IFK Falun",120,120,null,{"$f":"LOOKUP(G10,Poängberäkning!$B$6:$B$97,Poängberäkning!$C$6:$C$97)","v":0},null,{"$f":"LOOKUP(I10,Poängberäkning!$B$6:$B$97,Poängberäkning!$C$6:$C$97)","v":0},null,{"$f":"LOOKUP(K10,Poängberäkning!$B$6:$B$97,Poängberäkning!$C$6:$C$97)","v":0},3,{"$f":"LOOKUP(M10,Poängberäkning!$B$6:$B$97,Poängberäkning!$C$6:$C$97)","v":70},6,{"$f":"LOOKUP(O10,Poängberäkning!$B$6:$B$97,Poängberäkning!$C$6:$C$97)","v":50},null,{"$f":"LOOKUP(Q10,[1]Poängberäkning!$B$6:$B$97,[1]Poängberäkning!$C$6:$C$97)","v":0},null,{"$f":"LOOKUP(S10,[1]Poängberäkning!$B$6:$B$97,[1]Poängberäkning!$C$6:$C$97)","v":0},null,{"$f":"LOOKUP(U10,[1]Poängberäkning!$B$6:$B$97,[1]Poängberäkning!$C$6:$C$97)","v":0},null,{"$f":"LOOKUP(W10,[1]Poängberäkning!$B$6:$B$97,[1]Poängberäkning!$C$6:$C$97)","v":0},{"$f":"LARGE(($H10,$J10,$L10,$N10,$P10,$R10,$T10,$V10,$X10),1)","v":70},{"$f":"LARGE(($H10,$J10,$L10,$N10,$P10,$R10,$T10,$V10,$X10),2)","v":50},{"$f":"LARGE(($H10,$J10,$L10,$N10,$P10,$R10,$T10,$V10,$X10),3)","v":0},{"$f":"LARGE(($H10,$J10,$L10,$N10,$P10,$R10,$T10,$V10,$X10),4)","v":0},{"$f":"LARGE(($H10,$J10,$L10,$N10,$P10,$R10,$T10,$V10,$X10),5)","v":0},{"$f":"LARGE(($H10,$J10,$L10,$N10,$P10,$R10,$T10,$V10,$X10),6)","v":0},{"$f":"LARGE(($H10,$J10,$L10,$N10,$P10,$R10,$T10,$V10,$X10),7)","v":0},{"$f":"LARGE(($H10,$J10,$L10,$N10,$P10,$R10,$T10,$V10,$X10),8)","v":0},{"$f":"LARGE(($H10,$J10,$L10,$N10,$P10,$R10,$T10,$V10,$X10),9)","v":0}]
[7,1999,"ANDERSSON Jonathan","Järfälla AK",116,116,null,{"$f":"LOOKUP(G11,Poängberäkning!$B$6:$B$97,Poängberäkning!$C$6:$C$97)","v":0},null,{"$f":"LOOKUP(I11,Poängberäkning!$B$6:$B$97,Poängberäkning!$C$6:$C$97)","v":0},null,{"$f":"LOOKUP(K11,Poängberäkning!$B$6:$B$97,Poängberäkning!$C$6:$C$97)","v":0},1,{"$f":"LOOKUP(M11,Poängberäkning!$B$6:$B$97,Poängberäkning!$C$6:$C$97)","v":100},null,{"$f":"LOOKUP(O11,Poängberäkning!$B$6:$B$97,Poängberäkning!$C$6:$C$97)","v":0},35,{"$f":"LOOKUP(Q11,[1]Poängberäkning!$B$6:$B$97,[1]Poängberäkning!$C$6:$C$97)","v":16},99,{"$f":"LOOKUP(S11,[1]Poängberäkning!$B$6:$B$97,[1]Poängberäkning!$C$6:$C$97)","v":0},null,{"$f":"LOOKUP(U11,[1]Poängberäkning!$B$6:$B$97,[1]Poängberäkning!$C$6:$C$97)","v":0},null,{"$f":"LOOKUP(W11,[1]Poängberäkning!$B$6:$B$97,[1]Poängberäkning!$C$6:$C$97)","v":0},{"$f":"LARGE(($H11,$J11,$L11,$N11,$P11,$R11,$T11,$V11,$X11),1)","v":100},{"$f":"LARGE(($H11,$J11,$L11,$N11,$P11,$R11,$T11,$V11,$X11),2)","v":16},{"$f":"LARGE(($H11,$J11,$L11,$N11,$P11,$R11,$T11,$V11,$X11),3)","v":0},{"$f":"LARGE(($H11,$J11,$L11,$N11,$P11,$R11,$T11,$V11,$X11),4)","v":0},{"$f":"LARGE(($H11,$J11,$L11,$N11,$P11,$R11,$T11,$V11,$X11),5)","v":0},{"$f":"LARGE(($H11,$J11,$L11,$N11,$P11,$R11,$T11,$V11,$X11),6)","v":0},{"$f":"LARGE(($H11,$J11,$L11,$N11,$P11,$R11,$T11,$V11,$X11),7)","v":0},{"$f":"LARGE(($H11,$J11,$L11,$N11,$P11,$R11,$T11,$V11,$X11),8)","v":0},{"$f":"LARGE(($H11,$J11,$L11,$N11,$P11,$R11,$T11,$V11,$X11),9)","v":0}]
[8,1997,"NYMAN Fabian","Sälens IF",110,110,null,{"$f":"LOOKUP(G12,Poängberäkning!$B$6:$B$97,Poängberäkning!$C$6:$C$97)","v":0},null,{"$f":"LOOKUP(I12,Poängberäkning!$B$6:$B$97,Poängberäkning!$C$6:$C$97)","v":0},null,{"$f":"LOOKUP(K12,Poängberäkning!$B$6:$B$97,Poängberäkning!$C$6:$C$97)","v":0},null,{"$f":"LOOKUP(M12,Poängberäkning!$B$6:$B$97,Poängberäkning!$C$6:$C$97)","v":0},null,{"$f":"LOOKUP(O12,Poängberäkning!$B$6:$B$97,Poängberäkning!$C$6:$C$97)","v":0},5,{"$f":"LOOKUP(Q12,[1]Poängberäkning!$B$6:$B$97,[1]Poängberäkning!$C$6:$C$97)","v":55},5,{"$f":"LOOKUP(S12,[1]Poängberäkning!$B$6:$B$97,[1]Poängberäkning!$C$6:$C$97)","v":55},null,{"$f":"LOOKUP(U12,[1]Poängberäkning!$B$6:$B$97,[1]Poängberäkning!$C$6:$C$97)","v":0},null,{"$f":"LOOKUP(W12,[1]Poängberäkning!$B$6:$B$97,[1]Poängberäkning!$C$6:$C$97)","v":0},{"$f":"LARGE(($H12,$J12,$L12,$N12,$P12,$R12,$T12,$V12,$X12),1)","v":55},{"$f":"LARGE(($H12,$J12,$L12,$N12,$P12,$R12,$T12,$V12,$X12),2)","v":55},{"$f":"LARGE(($H12,$J12,$L12,$N12,$P12,$R12,$T12,$V12,$X12),3)","v":0},{"$f":"LARGE(($H12,$J12,$L12,$N12,$P12,$R12,$T12,$V12,$X12),4)","v":0},{"$f":"LARGE(($H12,$J12,$L12,$N12,$P12,$R12,$T12,$V12,$X12),5)","v":0},{"$f":"LARGE(($H12,$J12,$L12,$N12,$P12,$R12,$T12,$V12,$X12),6)","v":0},{"$f":"LARGE(($H12,$J12,$L12,$N12,$P12,$R12,$T12,$V12,$X12),7)","v":0},{"$f":"LARGE(($H12,$J12,$L12,$N12,$P12,$R12,$T12,$V12,$X12),8)","v":0},{"$f":"LARGE(($H12,$J12,$L12,$N12,$P12,$R12,$T12,$V12,$X12),9)","v":0}]
[9,1999,"BRÄNDHOLM Jesper","Sälens IF",106,106,null,{"$f":"LOOKUP(G13,Poängberäkning!$B$6:$B$97,Poängberäkning!$C$6:$C$97)","v":0},null,{"$f":"LOOKUP(I13,Poängberäkning!$B$6:$B$97,Poängberäkning!$C$6:$C$97)","v":0},null,{"$f":"LOOKUP(K13,Poängberäkning!$B$6:$B$97,Poängberäkning!$C$6:$C$97)","v":0},null,{"$f":"LOOKUP(M13,Poängberäkning!$B$6:$B$97,Poängberäkning!$C$6:$C$97)","v":0},null,{"$f":"LOOKUP(O13,Poängberäkning!$B$6:$B$97,Poängberäkning!$C$6:$C$97)","v":0},8,{"$f":"LOOKUP(Q13,[1]Poängberäkning!$B$6:$B$97,[1]Poängberäkning!$C$6:$C$97)","v":46},4,{"$f":"LOOKUP(S13,[1]Poängberäkning!$B$6:$B$97,[1]Poängberäkning!$C$6:$C$97)","v":60},null,{"$f":"LOOKUP(U13,[1]Poängberäkning!$B$6:$B$97,[1]Poängberäkning!$C$6:$C$97)","v":0},null,{"$f":"LOOKUP(W13,[1]Poängberäkning!$B$6:$B$97,[1]Poängberäkning!$C$6:$C$97)","v":0},{"$f":"LARGE(($H13,$J13,$L13,$N13,$P13,$R13,$T13,$V13,$X13),1)","v":60},{"$f":"LARGE(($H13,$J13,$L13,$N13,$P13,$R13,$T13,$V13,$X13),2)","v":46},{"$f":"LARGE(($H13,$J13,$L13,$N13,$P13,$R13,$T13,$V13,$X13),3)","v":0},{"$f":"LARGE(($H13,$J13,$L13,$N13,$P13,$R13,$T13,$V13,$X13),4)","v":0},{"$f":"LARGE(($H13,$J13,$L13,$N13,$P13,$R13,$T13,$V13,$X13),5)","v":0},{"$f":"LARGE(($H13,$J13,$L13,$N13,$P13,$R13,$T13,$V13,$X13),6)","v":0},{"$f":"LARGE(($H13,$J13,$L13,$N13,$P13,$R13,$T13,$V13,$X13),7)","v":0},{"$f":"LARGE(($H13,$J13,$L13,$N13,$P13,$R13,$T13,$V13,$X13),8)","v":0},{"$f":"LARGE(($H13,$J13,$L13,$N13,$P13,$R13,$T13,$V13,$X13),9)","v":0}]
[10,1983,"RAINER Niklas","IFK Borlänge",100,100,null,{"$f":"LOOKUP(G14,Poängberäkning!$B$6:$B$97,Poängberäkning!$C$6:$C$97)","v":0},null,{"$f":"LOOKUP(I14,Poängberäkning!$B$6:$B$97,Poängberäkning!$C$6:$C$97)","v":0},null,{"$f":"LOOKUP(K14,Poängberäkning!$B$6:$B$97,Poängberäkning!$C$6:$C$97)","v":0},null,{"$f":"LOOKUP(M14,Poängberäkning!$B$6:$B$97,Poängberäkning!$C$6:$C$97)","v":0},1,{"$f":"LOOKUP(O14,Poängberäkning!$B$6:$B$97,Poängberäkning!$C$6:$C$97)","v":100},null,{"$f":"LOOKUP(Q14,[1]Poängberäkning!$B$6:$B$97,[1]Poängberäkning!$C$6:$C$97)","v":0},null,{"$f":"LOOKUP(S14,[1]Poängberäkning!$B$6:$B$97,[1]Poängberäkning!$C$6:$C$97)","v":0},null,{"$f":"LOOKUP(U14,[1]Poängberäkning!$B$6:$B$97,[1]Poängberäkning!$C$6:$C$97)","v":0},null,{"$f":"LOOKUP(W14,[1]Poängberäkning!$B$6:$B$97,[1]Poängberäkning!$C$6:$C$97)","v":0},{"$f":"LARGE(($H14,$J14,$L14,$N14,$P14,$R14,$T14,$V14,$X14),1)","v":100},{"$f":"LARGE(($H14,$J14,$L14,$N14,$P14,$R14,$T14,$V14,$X14),2)","v":0},{"$f":"LARGE(($H14,$J14,$L14,$N14,$P14,$R14,$T14,$V14,$X14),3)","v":0},{"$f":"LARGE(($H14,$J14,$L14,$N14,$P14,$R14,$T14,$V14,$X14),4)","v":0},{"$f":"LARGE(($H14,$J14,$L14,$N14,$P14,$R14,$T14,$V14,$X14),5)","v":0},{"$f":"LARGE(($H14,$J14,$L14,$N14,$P14,$R14,$T14,$V14,$X14),6)","v":0},{"$f":"LARGE(($H14,$J14,$L14,$N14,$P14,$R14,$T14,$V14,$X14),7)","v":0},{"$f":"LARGE(($H14,$J14,$L14,$N14,$P14,$R14,$T14,$V14,$X14),8)","v":0},{"$f":"LARGE(($H14,$J14,$L14,$N14,$P14,$R14,$T14,$V14,$X14),9)","v":0}]
[11,1995,"LIFVENDAHL Ludvig","Sälens IF",100,100,null,{"$f":"LOOKUP(G15,Poängberäkning!$B$6:$B$97,Poängberäkning!$C$6:$C$97)","v":0},null,{"$f":"LOOKUP(I15,Poängberäkning!$B$6:$B$97,Poängberäkning!$C$6:$C$97)","v":0},null,{"$f":"LOOKUP(K15,Poängberäkning!$B$6:$B$97,Poängberäkning!$C$6:$C$97)","v":0},null,{"$f":"LOOKUP(M15,Poängberäkning!$B$6:$B$97,Poängberäkning!$C$6:$C$97)","v":0},null,{"$f":"LOOKUP(O15,Poängberäkning!$B$6:$B$97,Poängberäkning!$C$6:$C$97)","v":0},1,{"$f":"LOOKUP(Q15,[1]Poängberäkning!$B$6:$B$97,[1]Poängberäkning!$C$6:$C$97)","v":100},99,{"$f":"LOOKUP(S15,[1]Poängberäkning!$B$6:$B$97,[1]Poängberäkning!$C$6:$C$97)","v":0},null,{"$f":"LOOKUP(U15,[1]Poängberäkning!$B$6:$B$97,[1]Poängberäkning!$C$6:$C$97)","v":0},null,{"$f":"LOOKUP(W15,[1]Poängberäkning!$B$6:$B$97,[1]Poängberäkning!$C$6:$C$97)","v":0},{"$f":"LARGE(($H15,$J15,$L15,$N15,$P15,$R15,$T15,$V15,$X15),1)","v":100},{"$f":"LARGE(($H15,$J15,$L15,$N15,$P15,$R15,$T15,$V15,$X15),2)","v":0},{"$f":"LARGE(($H15,$J15,$L15,$N15,$P15,$R15,$T15,$V15,$X15),3)","v":0},{"$f":"LARGE(($H15,$J15,$L15,$N15,$P15,$R15,$T15,$V15,$X15),4)","v":0},{"$f":"LARGE(($H15,$J15,$L15,$N15,$P15,$R15,$T15,$V15,$X15),5)","v":0},{"$f":"LARGE(($H15,$J15,$L15,$N15,$P15,$R15,$T15,$V15,$X15),6)","v":0},{"$f":"LARGE(($H15,$J15,$L15,$N15,$P15,$R15,$T15,$V15,$X15),7)","v":0},{"$f":"LARGE(($H15,$J15,$L15,$N15,$P15,$R15,$T15,$V15,$X15),8)","v":0},{"$f":"LARGE(($H15,$J15,$L15,$N15,$P15,$R15,$T15,$V15,$X15),9)","v":0}]
[12,1999,"TEGMARK David","IFK Falun",100,100,null,{"$f":"LOOKUP(G16,Poängberäkning!$B$6:$B$97,Poängberäkning!$C$6:$C$97)","v":0},1,{"$f":"LOOKUP(I16,Poängberäkning!$B$6:$B$97,Poängberäkning!$C$6:$C$97)","v":100},null,{"$f":"LOOKUP(K16,Poängberäkning!$B$6:$B$97,Poängberäkning!$C$6:$C$97)","v":0},99,{"$f":"LOOKUP(M16,Poängberäkning!$B$6:$B$97,Poängberäkning!$C$6:$C$97)","v":0},null,{"$f":"LOOKUP(O16,Poängberäkning!$B$6:$B$97,Poängberäkning!$C$6:$C$97)","v":0},null,{"$f":"LOOKUP(Q16,[1]Poängberäkning!$B$6:$B$97,[1]Poängberäkning!$C$6:$C$97)","v":0},null,{"$f":"LOOKUP(S16,[1]Poängberäkning!$B$6:$B$97,[1]Poängberäkning!$C$6:$C$97)","v":0},null,{"$f":"LOOKUP(U16,[1]Poängberäkning!$B$6:$B$97,[1]Poängberäkning!$C$6:$C$97)","v":0},null,{"$f":"LOOKUP(W16,[1]Poängberäkning!$B$6:$B$97,[1]Poängberäkning!$C$6:$C$97)","v":0},{"$f":"LARGE(($H16,$J16,$L16,$N16,$P16,$R16,$T16,$V16,$X16),1)","v":100},{"$f":"LARGE(($H16,$J16,$L16,$N16,$P16,$R16,$T16,$V16,$X16),2)","v":0},{"$f":"LARGE(($H16,$J16,$L16,$N16,$P16,$R16,$T16,$V16,$X16),3)","v":0},{"$f":"LARGE(($H16,$J16,$L16,$N16,$P16,$R16,$T16,$V16,$X16),4)","v":0},{"$f":"LARGE(($H16,$J16,$L16,$N16,$P16,$R16,$T16,$V16,$X16),5)","v":0},{"$f":"LARGE(($H16,$J16,$L16,$N16,$P16,$R16,$T16,$V16,$X16),6)","v":0},{"$f":"LARGE(($H16,$J16,$L16,$N16,$P16,$R16,$T16,$V16,$X16),7)","v":0},{"$f":"LARGE(($H16,$J16,$L16,$N16,$P16,$R16,$T16,$V16,$X16),8)","v":0},{"$f":"LARGE(($H16,$J16,$L16,$N16,$P16,$R16,$T16,$V16,$X16),9)","v":0}]
[13,1996,"SILFÄLT Johan","Valfjällets SLK",95,95,null,{"$f":"LOOKUP(G17,Poängberäkning!$B$6:$B$97,Poängberäkning!$C$6:$C$97)","v":0},null,{"$f":"LOOKUP(I17,Poängberäkning!$B$6:$B$97,Poängberäkning!$C$6:$C$97)","v":0},null,{"$f":"LOOKUP(K17,Poängberäkning!$B$6:$B$97,Poängberäkning!$C$6:$C$97)","v":0},null,{"$f":"LOOKUP(M17,Poängberäkning!$B$6:$B$97,Poängberäkning!$C$6:$C$97)","v":0},null,{"$f":"LOOKUP(O17,Poängberäkning!$B$6:$B$97,Poängberäkning!$C$6:$C$97)","v":0},11,{"$f":"LOOKUP(Q17,[1]Poängberäkning!$B$6:$B$97,[1]Poängberäkning!$C$6:$C$97)","v":40},5,{"$f":"LOOKUP(S17,[1]Poängberäkning!$B$6:$B$97,[1]Poängberäkning!$C$6:$C$97)","v":55},null,{"$f":"LOOKUP(U17,[1]Poängberäkning!$B$6:$B$97,[1]Poängberäkning!$C$6:$C$97)","v":0},null,{"$f":"LOOKUP(W17,[1]Poängberäkning!$B$6:$B$97,[1]Poängberäkning!$C$6:$C$97)","v":0},{"$f":"LARGE(($H17,$J17,$L17,$N17,$P17,$R17,$T17,$V17,$X17),1)","v":55},{"$f":"LARGE(($H17,$J17,$L17,$N17,$P17,$R17,$T17,$V17,$X17),2)","v":40},{"$f":"LARGE(($H17,$J17,$L17,$N17,$P17,$R17,$T17,$V17,$X17),3)","v":0},{"$f":"LARGE(($H17,$J17,$L17,$N17,$P17,$R17,$T17,$V17,$X17),4)","v":0},{"$f":"LARGE(($H17,$J17,$L17,$N17,$P17,$R17,$T17,$V17,$X17),5)","v":0},{"$f":"LARGE(($H17,$J17,$L17,$N17,$P17,$R17,$T17,$V17,$X17),6)","v":0},{"$f":"LARGE(($H17,$J17,$L17,$N17,$P17,$R17,$T17,$V17,$X17),7)","v":0},{"$f":"LARGE(($H17,$J17,$L17,$N17,$P17,$R17,$T17,$V17,$X17),8)","v":0},{"$f":"LARGE(($H17,$J17,$L17,$N17,$P17,$R17,$T17,$V17,$X17),9)","v":0}]
[14,1997,"ERIKSSON Oskar","Sollentuna SLK",92,92,null,{"$f":"LOOKUP(G18,Poängberäkning!$B$6:$B$97,Poängberäkning!$C$6:$C$97)","v":0},null,{"$f":"LOOKUP(I18,Poängberäkning!$B$6:$B$97,Poängberäkning!$C$6:$C$97)","v":0},null,{"$f":"LOOKUP(K18,Poängberäkning!$B$6:$B$97,Poängberäkning!$C$6:$C$97)","v":0},null,{"$f":"LOOKUP(M18,Poängberäkning!$B$6:$B$97,Poängberäkning!$C$6:$C$97)","v":0},null,{"$f":"LOOKUP(O18,Poängberäkning!$B$6:$B$97,Poängberäkning!$C$6:$C$97)","v":0},9,{"$f":"LOOKUP(Q18,[1]Poängberäkning!$B$6:$B$97,[1]Poängberäkning!$C$6:$C$97)","v":44},7,{"$f":"LOOKUP(S18,[1]Poängberäkning!$B$6:$B$97,[1]Poängberäkning!$C$6:$C$97)","v":48},null,{"$f":"LOOKUP(U18,[1]Poängberäkning!$B$6:$B$97,[1]Poängberäkning!$C$6:$C$97)","v":0},null,{"$f":"LOOKUP(W18,[1]Poängberäkning!$B$6:$B$97,[1]Poängberäkning!$C$6:$C$97)","v":0},{"$f":"LARGE(($H18,$J18,$L18,$N18,$P18,$R18,$T18,$V18,$X18),1)","v":48},{"$f":"LARGE(($H18,$J18,$L18,$N18,$P18,$R18,$T18,$V18,$X18),2)","v":44},{"$f":"LARGE(($H18,$J18,$L18,$N18,$P18,$R18,$T18,$V18,$X18),3)","v":0},{"$f":"LARGE(($H18,$J18,$L18,$N18,$P18,$R18,$T18,$V18,$X18),4)","v":0},{"$f":"LARGE(($H18,$J18,$L18,$N18,$P18,$R18,$T18,$V18,$X18),5)","v":0},{"$f":"LARGE(($H18,$J18,$L18,$N18,$P18,$R18,$T18,$V18,$X18),6)","v":0},{"$f":"LARGE(($H18,$J18,$L18,$N18,$P18,$R18,$T18,$V18,$X18),7)","v":0},{"$f":"LARGE(($H18,$J18,$L18,$N18,$P18,$R18,$T18,$V18,$X18),8)","v":0},{"$f":"LARGE(($H18,$J18,$L18,$N18,$P18,$R18,$T18,$V18,$X18),9)","v":0}]
[15,1995,"ERIKSSON Dennis","IFK Borlänge",83,83,null,{"$f":"LOOKUP(G19,Poängberäkning!$B$6:$B$97,Poängberäkning!$C$6:$C$97)","v":0},null,{"$f":"LOOKUP(I19,Poängberäkning!$B$6:$B$97,Poängberäkning!$C$6:$C$97)","v":0},null,{"$f":"LOOKUP(K19,Poängberäkning!$B$6:$B$97,Poängberäkning!$C$6:$C$97)","v":0},null,{"$f":"LOOKUP(M19,Poängberäkning!$B$6:$B$97,Poängberäkning!$C$6:$C$97)","v":0},null,{"$f":"LOOKUP(O19,Poängberäkning!$B$6:$B$97,Poängberäkning!$C$6:$C$97)","v":0},14,{"$f":"LOOKUP(Q19,[1]Poängberäkning!$B$6:$B$97,[1]Poängberäkning!$C$6:$C$97)","v":37},8,{"$f":"LOOKUP(S19,[1]Poängberäkning!$B$6:$B$97,[1]Poängberäkning!$C$6:$C$97)","v":46},null,{"$f":"LOOKUP(U19,[1]Poängberäkning!$B$6:$B$97,[1]Poängberäkning!$C$6:$C$97)","v":0},null,{"$f":"LOOKUP(W19,[1]Poängberäkning!$B$6:$B$97,[1]Poängberäkning!$C$6:$C$97)","v":0},{"$f":"LARGE(($H19,$J19,$L19,$N19,$P19,$R19,$T19,$V19,$X19),1)","v":46},{"$f":"LARGE(($H19,$J19,$L19,$N19,$P19,$R19,$T19,$V19,$X19),2)","v":37},{"$f":"LARGE(($H19,$J19,$L19,$N19,$P19,$R19,$T19,$V19,$X19),3)","v":0},{"$f":"LARGE(($H19,$J19,$L19,$N19,$P19,$R19,$T19,$V19,$X19),4)","v":0},{"$f":"LARGE(($H19,$J19,$L19,$N19,$P19,$R19,$T19,$V19,$X19),5)","v":0},{"$f":"LARGE(($H19,$J19,$L19,$N19,$P19,$R19,$T19,$V19,$X19),6)","v":0},{"$f":"LARGE(($H19,$J19,$L19,$N19,$P19,$R19,$T19,$V19,$X19),7)","v":0},{"$f":"LARGE(($H19,$J19,$L19,$N19,$P19,$R19,$T19,$V19,$X19),8)","v":0},{"$f":"LARGE(($H19,$J19,$L19,$N19,$P19,$R19,$T19,$V19,$X19),9)","v":0}]
[16,1999,"KARLSSON Adam","Båsenberga SLK",80,80,null,{"$f":"LOOKUP(G20,Poängberäkning!$B$6:$B$97,Poängberäkning!$C$6:$C$97)","v":0},null,{"$f":"LOOKUP(I20,Poängberäkning!$B$6:$B$97,Poängberäkning!$C$6:$C$97)","v":0},null,{"$f":"LOOKUP(K20,Poängberäkning!$B$6:$B$97,Poängberäkning!$C$6:$C$97)","v":0},null,{"$f":"LOOKUP(M20,Poängberäkning!$B$6:$B$97,Poängberäkning!$C$6:$C$97)","v":0},2,{"$f":"LOOKUP(O20,Poängberäkning!$B$6:$B$97,Poängberäkning!$C$6:$C$97)","v":80},null,{"$f":"LOOKUP(Q20,[1]Poängberäkning!$B$6:$B$97,[1]Poängberäkning!$C$6:$C$97)","v":0},null,{"$f":"LOOKUP(S20,[1]Poängberäkning!$B$6:$B$97,[1]Poängberäkning!$C$6:$C$97)","v":0},null,{"$f":"LOOKUP(U20,[1]Poängberäkning!$B$6:$B$97,[1]Poängberäkning!$C$6:$C$97)","v":0},null,{"$f":"LOOKUP(W20,[1]Poängberäkning!$B$6:$B$97,[1]Poängberäkning!$C$6:$C$97)","v":0},{"$f":"LARGE(($H20,$J20,$L20,$N20,$P20,$R20,$T20,$V20,$X20),1)","v":80},{"$f":"LARGE(($H20,$J20,$L20,$N20,$P20,$R20,$T20,$V20,$X20),2)","v":0},{"$f":"LARGE(($H20,$J20,$L20,$N20,$P20,$R20,$T20,$V20,$X20),3)","v":0},{"$f":"LARGE(($H20,$J20,$L20,$N20,$P20,$R20,$T20,$V20,$X20),4)","v":0},{"$f":"LARGE(($H20,$J20,$L20,$N20,$P20,$R20,$T20,$V20,$X20),5)","v":0},{"$f":"LARGE(($H20,$J20,$L20,$N20,$P20,$R20,$T20,$V20,$X20),6)","v":0},{"$f":"LARGE(($H20,$J20,$L20,$N20,$P20,$R20,$T20,$V20,$X20),7)","v":0},{"$f":"LARGE(($H20,$J20,$L20,$N20,$P20,$R20,$T20,$V20,$X20),8)","v":0},{"$f":"LARGE(($H20,$J20,$L20,$N20,$P20,$R20,$T20,$V20,$X20),9)","v":0}]
[17,1996,"KARLSSON Hampus","Gävle Alpina SK",80,80,null,{"$f":"LOOKUP(G21,Poängberäkning!$B$6:$B$97,Poängberäkning!$C$6:$C$97)","v":0},null,{"$f":"LOOKUP(I21,Poängberäkning!$B$6:$B$97,Poängberäkning!$C$6:$C$97)","v":0},null,{"$f":"LOOKUP(K21,Poängberäkning!$B$6:$B$97,Poängberäkning!$C$6:$C$97)","v":0},null,{"$f":"LOOKUP(M21,Poängberäkning!$B$6:$B$97,Poängberäkning!$C$6:$C$97)","v":0},null,{"$f":"LOOKUP(O21,Poängberäkning!$B$6:$B$97,Poängberäkning!$C$6:$C$97)","v":0},2,{"$f":"LOOKUP(Q21,[1]Poängberäkning!$B$6:$B$97,[1]Poängberäkning!$C$6:$C$97)","v":80},99,{"$f":"LOOKUP(S21,[1]Poängberäkning!$B$6:$B$97,[1]Poängberäkning!$C$6:$C$97)","v":0},null,{"$f":"LOOKUP(U21,[1]Poängberäkning!$B$6:$B$97,[1]Poängberäkning!$C$6:$C$97)","v":0},null,{"$f":"LOOKUP(W21,[1]Poängberäkning!$B$6:$B$97,[1]Poängberäkning!$C$6:$C$97)","v":0},{"$f":"LARGE(($H21,$J21,$L21,$N21,$P21,$R21,$T21,$V21,$X21),1)","v":80},{"$f":"LARGE(($H21,$J21,$L21,$N21,$P21,$R21,$T21,$V21,$X21),2)","v":0},{"$f":"LARGE(($H21,$J21,$L21,$N21,$P21,$R21,$T21,$V21,$X21),3)","v":0},{"$f":"LARGE(($H21,$J21,$L21,$N21,$P21,$R21,$T21,$V21,$X21),4)","v":0},{"$f":"LARGE(($H21,$J21,$L21,$N21,$P21,$R21,$T21,$V21,$X21),5)","v":0},{"$f":"LARGE(($H21,$J21,$L21,$N21,$P21,$R21,$T21,$V21,$X21),6)","v":0},{"$f":"LARGE(($H21,$J21,$L21,$N21,$P21,$R21,$T21,$V21,$X21),7)","v":0},{"$f":"LARGE(($H21,$J21,$L21,$N21,$P21,$R21,$T21,$V21,$X21),8)","v":0},{"$f":"LARGE(($H21,$J21,$L21,$N21,$P21,$R21,$T21,$V21,$X21),9)","v":0}]
[18,1997,"LARSSON Måns","Huddinge SK AF",80,80,null,{"$f":"LOOKUP(G22,Poängberäkning!$B$6:$B$97,Poängberäkning!$C$6:$C$97)","v":0},null,{"$f":"LOOKUP(I22,Poängberäkning!$B$6:$B$97,Poängberäkning!$C$6:$C$97)","v":0},null,{"$f":"LOOKUP(K22,Poängberäkning!$B$6:$B$97,Poängberäkning!$C$6:$C$97)","v":0},2,{"$f":"LOOKUP(M22,Poängberäkning!$B$6:$B$97,Poängberäkning!$C$6:$C$97)","v":80},null,{"$f":"LOOKUP(O22,Poängberäkning!$B$6:$B$97,Poängberäkning!$C$6:$C$97)","v":0},99,{"$f":"LOOKUP(Q22,[1]Poängberäkning!$B$6:$B$97,[1]Poängberäkning!$C$6:$C$97)","v":0},99,{"$f":"LOOKUP(S22,[1]Poängberäkning!$B$6:$B$97,[1]Poängberäkning!$C$6:$C$97)","v":0},null,{"$f":"LOOKUP(U22,[1]Poängberäkning!$B$6:$B$97,[1]Poängberäkning!$C$6:$C$97)","v":0},null,{"$f":"LOOKUP(W22,[1]Poängberäkning!$B$6:$B$97,[1]Poängberäkning!$C$6:$C$97)","v":0},{"$f":"LARGE(($H22,$J22,$L22,$N22,$P22,$R22,$T22,$V22,$X22),1)","v":80},{"$f":"LARGE(($H22,$J22,$L22,$N22,$P22,$R22,$T22,$V22,$X22),2)","v":0},{"$f":"LARGE(($H22,$J22,$L22,$N22,$P22,$R22,$T22,$V22,$X22),3)","v":0},{"$f":"LARGE(($H22,$J22,$L22,$N22,$P22,$R22,$T22,$V22,$X22),4)","v":0},{"$f":"LARGE(($H22,$J22,$L22,$N22,$P22,$R22,$T22,$V22,$X22),5)","v":0},{"$f":"LARGE(($H22,$J22,$L22,$N22,$P22,$R22,$T22,$V22,$X22),6)","v":0},{"$f":"LARGE(($H22,$J22,$L22,$N22,$P22,$R22,$T22,$V22,$X22),7)","v":0},{"$f":"LARGE(($H22,$J22,$L22,$N22,$P22,$R22,$T22,$V22,$X22),8)","v":0},{"$f":"LARGE(($H22,$J22,$L22,$N22,$P22,$R22,$T22,$V22,$X22),9)","v":0}]
[19,1971,"NILSSON Magnus","Tunafors SK",80,80,null,{"$f":"LOOKUP(G23,Poängberäkning!$B$6:$B$97,Poängberäkning!$C$6:$C$97)","v":0},2,{"$f":"LOOKUP(I23,Poängberäkning!$B$6:$B$97,Poängberäkning!$C$6:$C$97)","v":80},null,{"$f":"LOOKUP(K23,Poängberäkning!$B$6:$B$97,Poängberäkning!$C$6:$C$97)","v":0},null,{"$f":"LOOKUP(M23,Poängberäkning!$B$6:$B$97,Poängberäkning!$C$6:$C$97)","v":0},null,{"$f":"LOOKUP(O23,Poängberäkning!$B$6:$B$97,Poängberäkning!$C$6:$C$97)","v":0},null,{"$f":"LOOKUP(Q23,[1]Poängberäkning!$B$6:$B$97,[1]Poängberäkning!$C$6:$C$97)","v":0},null,{"$f":"LOOKUP(S23,[1]Poängberäkning!$B$6:$B$97,[1]Poängberäkning!$C$6:$C$97)","v":0},null,{"$f":"LOOKUP(U23,[1]Poängberäkning!$B$6:$B$97,[1]Poängberäkning!$C$6:$C$97)","v":0},null,{"$f":"LOOKUP(W23,[1]Poängberäkning!$B$6:$B$97,[1]Poängberäkning!$C$6:$C$97)","v":0},{"$f":"LARGE(($H23,$J23,$L23,$N23,$P23,$R23,$T23,$V23,$X23),1)","v":80},{"$f":"LARGE(($H23,$J23,$L23,$N23,$P23,$R23,$T23,$V23,$X23),2)","v":0},{"$f":"LARGE(($H23,$J23,$L23,$N23,$P23,$R23,$T23,$V23,$X23),3)","v":0},{"$f":"LARGE(($H23,$J23,$L23,$N23,$P23,$R23,$T23,$V23,$X23),4)","v":0},{"$f":"LARGE(($H23,$J23,$L23,$N23,$P23,$R23,$T23,$V23,$X23),5)","v":0},{"$f":"LARGE(($H23,$J23,$L23,$N23,$P23,$R23,$T23,$V23,$X23),6)","v":0},{"$f":"LARGE(($H23,$J23,$L23,$N23,$P23,$R23,$T23,$V23,$X23),7)","v":0},{"$f":"LARGE(($H23,$J23,$L23,$N23,$P23,$R23,$T23,$V23,$X23),8)","v":0},{"$f":"LARGE(($H23,$J23,$L23,$N23,$P23,$R23,$T23,$V23,$X23),9)","v":0}]
[20,1999,"HAGBERG Johan","Avesta AK",79,79,null,{"$f":"LOOKUP(G24,Poängberäkning!$B$6:$B$97,Poängberäkning!$C$6:$C$97)","v":0},null,{"$f":"LOOKUP(I24,Poängberäkning!$B$6:$B$97,Poängberäkning!$C$6:$C$97)","v":0},null,{"$f":"LOOKUP(K24,Poängberäkning!$B$6:$B$97,Poängberäkning!$C$6:$C$97)","v":0},null,{"$f":"LOOKUP(M24,Poängberäkning!$B$6:$B$97,Poängberäkning!$C$6:$C$97)","v":0},null,{"$f":"LOOKUP(O24,Poängberäkning!$B$6:$B$97,Poängberäkning!$C$6:$C$97)","v":0},16,{"$f":"LOOKUP(Q24,[1]Poängberäkning!$B$6:$B$97,[1]Poängberäkning!$C$6:$C$97)","v":35},9,{"$f":"LOOKUP(S24,[1]Poängberäkning!$B$6:$B$97,[1]Poängberäkning!$C$6:$C$97)","v":44},null,{"$f":"LOOKUP(U24,[1]Poängberäkning!$B$6:$B$97,[1]Poängberäkning!$C$6:$C$97)","v":0},null,{"$f":"LOOKUP(W24,[1]Poängberäkning!$B$6:$B$97,[1]Poängberäkning!$C$6:$C$97)","v":0},{"$f":"LARGE(($H24,$J24,$L24,$N24,$P24,$R24,$T24,$V24,$X24),1)","v":44},{"$f":"LARGE(($H24,$J24,$L24,$N24,$P24,$R24,$T24,$V24,$X24),2)","v":35},{"$f":"LARGE(($H24,$J24,$L24,$N24,$P24,$R24,$T24,$V24,$X24),3)","v":0},{"$f":"LARGE(($H24,$J24,$L24,$N24,$P24,$R24,$T24,$V24,$X24),4)","v":0},{"$f":"LARGE(($H24,$J24,$L24,$N24,$P24,$R24,$T24,$V24,$X24),5)","v":0},{"$f":"LARGE(($H24,$J24,$L24,$N24,$P24,$R24,$T24,$V24,$X24),6)","v":0},{"$f":"LARGE(($H24,$J24,$L24,$N24,$P24,$R24,$T24,$V24,$X24),7)","v":0},{"$f":"LARGE(($H24,$J24,$L24,$N24,$P24,$R24,$T24,$V24,$X24),8)","v":0},{"$f":"LARGE(($H24,$J24,$L24,$N24,$P24,$R24,$T24,$V24,$X24),9)","v":0}]
[21,1996,"JERNKROK Claes","Bollnäs AK",75,75,null,{"$f":"LOOKUP(G25,Poängberäkning!$B$6:$B$97,Poängberäkning!$C$6:$C$97)","v":0},null,{"$f":"LOOKUP(I25,Poängberäkning!$B$6:$B$97,Poängberäkning!$C$6:$C$97)","v":0},null,{"$f":"LOOKUP(K25,Poängberäkning!$B$6:$B$97,Poängberäkning!$C$6:$C$97)","v":0},null,{"$f":"LOOKUP(M25,Poängberäkning!$B$6:$B$97,Poängberäkning!$C$6:$C$97)","v":0},null,{"$f":"LOOKUP(O25,Poängberäkning!$B$6:$B$97,Poängberäkning!$C$6:$C$97)","v":0},18,{"$f":"LOOKUP(Q25,[1]Poängberäkning!$B$6:$B$97,[1]Poängberäkning!$C$6:$C$97)","v":33},10,{"$f":"LOOKUP(S25,[1]Poängberäkning!$B$6:$B$97,[1]Poängberäkning!$C$6:$C$97)","v":42},null,{"$f":"LOOKUP(U25,[1]Poängberäkning!$B$6:$B$97,[1]Poängberäkning!$C$6:$C$97)","v":0},null,{"$f":"LOOKUP(W25,[1]Poängberäkning!$B$6:$B$97,[1]Poängberäkning!$C$6:$C$97)","v":0},{"$f":"LARGE(($H25,$J25,$L25,$N25,$P25,$R25,$T25,$V25,$X25),1)","v":42},{"$f":"LARGE(($H25,$J25,$L25,$N25,$P25,$R25,$T25,$V25,$X25),2)","v":33},{"$f":"LARGE(($H25,$J25,$L25,$N25,$P25,$R25,$T25,$V25,$X25),3)","v":0},{"$f":"LARGE(($H25,$J25,$L25,$N25,$P25,$R25,$T25,$V25,$X25),4)","v":0},{"$f":"LARGE(($H25,$J25,$L25,$N25,$P25,$R25,$T25,$V25,$X25),5)","v":0},{"$f":"LARGE(($H25,$J25,$L25,$N25,$P25,$R25,$T25,$V25,$X25),6)","v":0},{"$f":"LARGE(($H25,$J25,$L25,$N25,$P25,$R25,$T25,$V25,$X25),7)","v":0},{"$f":"LARGE(($H25,$J25,$L25,$N25,$P25,$R25,$T25,$V25,$X25),8)","v":0},{"$f":"LARGE(($H25,$J25,$L25,$N25,$P25,$R25,$T25,$V25,$X25),9)","v":0}]
[22,1999,"NILSSON Edvin","Sälens IF",75,75,null,{"$f":"LOOKUP(G26,Poängberäkning!$B$6:$B$97,Poängberäkning!$C$6:$C$97)","v":0},null,{"$f":"LOOKUP(I26,Poängberäkning!$B$6:$B$97,Poängberäkning!$C$6:$C$97)","v":0},null,{"$f":"LOOKUP(K26,Poängberäkning!$B$6:$B$97,Poängberäkning!$C$6:$C$97)","v":0},null,{"$f":"LOOKUP(M26,Poängberäkning!$B$6:$B$97,Poängberäkning!$C$6:$C$97)","v":0},null,{"$f":"LOOKUP(O26,Poängberäkning!$B$6:$B$97,Poängberäkning!$C$6:$C$97)","v":0},16,{"$f":"LOOKUP(Q26,[1]Poängberäkning!$B$6:$B$97,[1]Poängberäkning!$C$6:$C$97)","v":35},11,{"$f":"LOOKUP(S26,[1]Poängberäkning!$B$6:$B$97,[1]Poängberäkning!$C$6:$C$97)","v":40},null,{"$f":"LOOKUP(U26,[1]Poängberäkning!$B$6:$B$97,[1]Poängberäkning!$C$6:$C$97)","v":0},null,{"$f":"LOOKUP(W26,[1]Poängberäkning!$B$6:$B$97,[1]Poängberäkning!$C$6:$C$97)","v":0},{"$f":"LARGE(($H26,$J26,$L26,$N26,$P26,$R26,$T26,$V26,$X26),1)","v":40},{"$f":"LARGE(($H26,$J26,$L26,$N26,$P26,$R26,$T26,$V26,$X26),2)","v":35},{"$f":"LARGE(($H26,$J26,$L26,$N26,$P26,$R26,$T26,$V26,$X26),3)","v":0},{"$f":"LARGE(($H26,$J26,$L26,$N26,$P26,$R26,$T26,$V26,$X26),4)","v":0},{"$f":"LARGE(($H26,$J26,$L26,$N26,$P26,$R26,$T26,$V26,$X26),5)","v":0},{"$f":"LARGE(($H26,$J26,$L26,$N26,$P26,$R26,$T26,$V26,$X26),6)","v":0},{"$f":"LARGE(($H26,$J26,$L26,$N26,$P26,$R26,$T26,$V26,$X26),7)","v":0},{"$f":"LARGE(($H26,$J26,$L26,$N26,$P26,$R26,$T26,$V26,$X26),8)","v":0},{"$f":"LARGE(($H26,$J26,$L26,$N26,$P26,$R26,$T26,$V26,$X26),9)","v":0}]
[23,1999,"JOHANSSON Filip","Östersund-Frösö SLK",74,74,null,{"$f":"LOOKUP(G27,Poängberäkning!$B$6:$B$97,Poängberäkning!$C$6:$C$97)","v":0},null,{"$f":"LOOKUP(I27,Poängberäkning!$B$6:$B$97,Poängberäkning!$C$6:$C$97)","v":0},null,{"$f":"LOOKUP(K27,Poängberäkning!$B$6:$B$97,Poängberäkning!$C$6:$C$97)","v":0},null,{"$f":"LOOKUP(M27,Poängberäkning!$B$6:$B$97,Poängberäkning!$C$6:$C$97)","v":0},null,{"$f":"LOOKUP(O27,Poängberäkning!$B$6:$B$97,Poängberäkning!$C$6:$C$97)","v":0},15,{"$f":"LOOKUP(Q27,[1]Poängberäkning!$B$6:$B$97,[1]Poängberäkning!$C$6:$C$97)","v":36},13,{"$f":"LOOKUP(S27,[1]Poängberäkning!$B$6:$B$97,[1]Poängberäkning!$C$6:$C$97)","v":38},null,{"$f":"LOOKUP(U27,[1]Poängberäkning!$B$6:$B$97,[1]Poängberäkning!$C$6:$C$97)","v":0},null,{"$f":"LOOKUP(W27,[1]Poängberäkning!$B$6:$B$97,[1]Poängberäkning!$C$6:$C$97)","v":0},{"$f":"LARGE(($H27,$J27,$L27,$N27,$P27,$R27,$T27,$V27,$X27),1)","v":38},{"$f":"LARGE(($H27,$J27,$L27,$N27,$P27,$R27,$T27,$V27,$X27),2)","v":36},{"$f":"LARGE(($H27,$J27,$L27,$N27,$P27,$R27,$T27,$V27,$X27),3)","v":0},{"$f":"LARGE(($H27,$J27,$L27,$N27,$P27,$R27,$T27,$V27,$X27),4)","v":0},{"$f":"LARGE(($H27,$J27,$L27,$N27,$P27,$R27,$T27,$V27,$X27),5)","v":0},{"$f":"LARGE(($H27,$J27,$L27,$N27,$P27,$R27,$T27,$V27,$X27),6)","v":0},{"$f":"LARGE(($H27,$J27,$L27,$N27,$P27,$R27,$T27,$V27,$X27),7)","v":0},{"$f":"LARGE(($H27,$J27,$L27,$N27,$P27,$R27,$T27,$V27,$X27),8)","v":0},{"$f":"LARGE(($H27,$J27,$L27,$N27,$P27,$R27,$T27,$V27,$X27),9)","v":0}]
[24,1997,"FRISK Carl Fredrik","Väst Alpin SK Göteborg",66,66,null,{"$f":"LOOKUP(G28,Poängberäkning!$B$6:$B$97,Poängberäkning!$C$6:$C$97)","v":0},null,{"$f":"LOOKUP(I28,Poängberäkning!$B$6:$B$97,Poängberäkning!$C$6:$C$97)","v":0},null,{"$f":"LOOKUP(K28,Poängberäkning!$B$6:$B$97,Poängberäkning!$C$6:$C$97)","v":0},99,{"$f":"LOOKUP(M28,Poängberäkning!$B$6:$B$97,Poängberäkning!$C$6:$C$97)","v":0},null,{"$f":"LOOKUP(O28,Poängberäkning!$B$6:$B$97,Poängberäkning!$C$6:$C$97)","v":0},22,{"$f":"LOOKUP(Q28,[1]Poängberäkning!$B$6:$B$97,[1]Poängberäkning!$C$6:$C$97)","v":29},14,{"$f":"LOOKUP(S28,[1]Poängberäkning!$B$6:$B$97,[1]Poängberäkning!$C$6:$C$97)","v":37},null,{"$f":"LOOKUP(U28,[1]Poängberäkning!$B$6:$B$97,[1]Poängberäkning!$C$6:$C$97)","v":0},null,{"$f":"LOOKUP(W28,[1]Poängberäkning!$B$6:$B$97,[1]Poängberäkning!$C$6:$C$97)","v":0},{"$f":"LARGE(($H28,$J28,$L28,$N28,$P28,$R28,$T28,$V28,$X28),1)","v":37},{"$f":"LARGE(($H28,$J28,$L28,$N28,$P28,$R28,$T28,$V28,$X28),2)","v":29},{"$f":"LARGE(($H28,$J28,$L28,$N28,$P28,$R28,$T28,$V28,$X28),3)","v":0},{"$f":"LARGE(($H28,$J28,$L28,$N28,$P28,$R28,$T28,$V28,$X28),4)","v":0},{"$f":"LARGE(($H28,$J28,$L28,$N28,$P28,$R28,$T28,$V28,$X28),5)","v":0},{"$f":"LARGE(($H28,$J28,$L28,$N28,$P28,$R28,$T28,$V28,$X28),6)","v":0},{"$f":"LARGE(($H28,$J28,$L28,$N28,$P28,$R28,$T28,$V28,$X28),7)","v":0},{"$f":"LARGE(($H28,$J28,$L28,$N28,$P28,$R28,$T28,$V28,$X28),8)","v":0},{"$f":"LARGE(($H28,$J28,$L28,$N28,$P28,$R28,$T28,$V28,$X28),9)","v":0}]
[25,1997,"NYSTRÖM Henrik","Sollentuna SLK",64,64,null,{"$f":"LOOKUP(G29,Poängberäkning!$B$6:$B$97,Poängberäkning!$C$6:$C$97)","v":0},null,{"$f":"LOOKUP(I29,Poängberäkning!$B$6:$B$97,Poängberäkning!$C$6:$C$97)","v":0},null,{"$f":"LOOKUP(K29,Poängberäkning!$B$6:$B$97,Poängberäkning!$C$6:$C$97)","v":0},null,{"$f":"LOOKUP(M29,Poängberäkning!$B$6:$B$97,Poängberäkning!$C$6:$C$97)","v":0},null,{"$f":"LOOKUP(O29,Poängberäkning!$B$6:$B$97,Poängberäkning!$C$6:$C$97)","v":0},21,{"$f":"LOOKUP(Q29,[1]Poängberäkning!$B$6:$B$97,[1]Poängberäkning!$C$6:$C$97)","v":30},17,{"$f":"LOOKUP(S29,[1]Poängberäkning!$B$6:$B$97,[1]Poängberäkning!$C$6:$C$97)","v":34},null,{"$f":"LOOKUP(U29,[1]Poängberäkning!$B$6:$B$97,[1]Poängberäkning!$C$6:$C$97)","v":0},null,{"$f":"LOOKUP(W29,[1]Poängberäkning!$B$6:$B$97,[1]Poängberäkning!$C$6:$C$97)","v":0},{"$f":"LARGE(($H29,$J29,$L29,$N29,$P29,$R29,$T29,$V29,$X29),1)","v":34},{"$f":"LARGE(($H29,$J29,$L29,$N29,$P29,$R29,$T29,$V29,$X29),2)","v":30},{"$f":"LARGE(($H29,$J29,$L29,$N29,$P29,$R29,$T29,$V29,$X29),3)","v":0},{"$f":"LARGE(($H29,$J29,$L29,$N29,$P29,$R29,$T29,$V29,$X29),4)","v":0},{"$f":"LARGE(($H29,$J29,$L29,$N29,$P29,$R29,$T29,$V29,$X29),5)","v":0},{"$f":"LARGE(($H29,$J29,$L29,$N29,$P29,$R29,$T29,$V29,$X29),6)","v":0},{"$f":"LARGE(($H29,$J29,$L29,$N29,$P29,$R29,$T29,$V29,$X29),7)","v":0},{"$f":"LARGE(($H29,$J29,$L29,$N29,$P29,$R29,$T29,$V29,$X29),8)","v":0},{"$f":"LARGE(($H29,$J29,$L29,$N29,$P29,$R29,$T29,$V29,$X29),9)","v":0}]
[26,1997,"JORÄLV Daniel","Arvika SLK",62,62,null,{"$f":"LOOKUP(G30,Poängberäkning!$B$6:$B$97,Poängberäkning!$C$6:$C$97)","v":0},null,{"$f":"LOOKUP(I30,Poängberäkning!$B$6:$B$97,Poängberäkning!$C$6:$C$97)","v":0},null,{"$f":"LOOKUP(K30,Poängberäkning!$B$6:$B$97,Poängberäkning!$C$6:$C$97)","v":0},99,{"$f":"LOOKUP(M30,Poängberäkning!$B$6:$B$97,Poängberäkning!$C$6:$C$97)","v":0},null,{"$f":"LOOKUP(O30,Poängberäkning!$B$6:$B$97,Poängberäkning!$C$6:$C$97)","v":0},24,{"$f":"LOOKUP(Q30,[1]Poängberäkning!$B$6:$B$97,[1]Poängberäkning!$C$6:$C$97)","v":27},16,{"$f":"LOOKUP(S30,[1]Poängberäkning!$B$6:$B$97,[1]Poängberäkning!$C$6:$C$97)","v":35},null,{"$f":"LOOKUP(U30,[1]Poängberäkning!$B$6:$B$97,[1]Poängberäkning!$C$6:$C$97)","v":0},null,{"$f":"LOOKUP(W30,[1]Poängberäkning!$B$6:$B$97,[1]Poängberäkning!$C$6:$C$97)","v":0},{"$f":"LARGE(($H30,$J30,$L30,$N30,$P30,$R30,$T30,$V30,$X30),1)","v":35},{"$f":"LARGE(($H30,$J30,$L30,$N30,$P30,$R30,$T30,$V30,$X30),2)","v":27},{"$f":"LARGE(($H30,$J30,$L30,$N30,$P30,$R30,$T30,$V30,$X30),3)","v":0},{"$f":"LARGE(($H30,$J30,$L30,$N30,$P30,$R30,$T30,$V30,$X30),4)","v":0},{"$f":"LARGE(($H30,$J30,$L30,$N30,$P30,$R30,$T30,$V30,$X30),5)","v":0},{"$f":"LARGE(($H30,$J30,$L30,$N30,$P30,$R30,$T30,$V30,$X30),6)","v":0},{"$f":"LARGE(($H30,$J30,$L30,$N30,$P30,$R30,$T30,$V30,$X30),7)","v":0},{"$f":"LARGE(($H30,$J30,$L30,$N30,$P30,$R30,$T30,$V30,$X30),8)","v":0},{"$f":"LARGE(($H30,$J30,$L30,$N30,$P30,$R30,$T30,$V30,$X30),9)","v":0}]
[27,1972,"ÅNGSTRÖM Claes","Uppsala SLK",60,60,null,{"$f":"LOOKUP(G31,Poängberäkning!$B$6:$B$97,Poängberäkning!$C$6:$C$97)","v":0},null,{"$f":"LOOKUP(I31,Poängberäkning!$B$6:$B$97,Poängberäkning!$C$6:$C$97)","v":0},null,{"$f":"LOOKUP(K31,Poängberäkning!$B$6:$B$97,Poängberäkning!$C$6:$C$97)","v":0},null,{"$f":"LOOKUP(M31,Poängberäkning!$B$6:$B$97,Poängberäkning!$C$6:$C$97)","v":0},4,{"$f":"LOOKUP(O31,Poängberäkning!$B$6:$B$97,Poängberäkning!$C$6:$C$97)","v":60},null,{"$f":"LOOKUP(Q31,[1]Poängberäkning!$B$6:$B$97,[1]Poängberäkning!$C$6:$C$97)","v":0},null,{"$f":"LOOKUP(S31,[1]Poängberäkning!$B$6:$B$97,[1]Poängberäkning!$C$6:$C$97)","v":0},null,{"$f":"LOOKUP(U31,[1]Poängberäkning!$B$6:$B$97,[1]Poängberäkning!$C$6:$C$97)","v":0},null,{"$f":"LOOKUP(W31,[1]Poängberäkning!$B$6:$B$97,[1]Poängberäkning!$C$6:$C$97)","v":0},{"$f":"LARGE(($H31,$J31,$L31,$N31,$P31,$R31,$T31,$V31,$X31),1)","v":60},{"$f":"LARGE(($H31,$J31,$L31,$N31,$P31,$R31,$T31,$V31,$X31),2)","v":0},{"$f":"LARGE(($H31,$J31,$L31,$N31,$P31,$R31,$T31,$V31,$X31),3)","v":0},{"$f":"LARGE(($H31,$J31,$L31,$N31,$P31,$R31,$T31,$V31,$X31),4)","v":0},{"$f":"LARGE(($H31,$J31,$L31,$N31,$P31,$R31,$T31,$V31,$X31),5)","v":0},{"$f":"LARGE(($H31,$J31,$L31,$N31,$P31,$R31,$T31,$V31,$X31),6)","v":0},{"$f":"LARGE(($H31,$J31,$L31,$N31,$P31,$R31,$T31,$V31,$X31),7)","v":0},{"$f":"LARGE(($H31,$J31,$L31,$N31,$P31,$R31,$T31,$V31,$X31),8)","v":0},{"$f":"LARGE(($H31,$J31,$L31,$N31,$P31,$R31,$T31,$V31,$X31),9)","v":0}]
[28,1997,"SKÖRELID Jonathan","Bergsjö-Hassela AK",60,60,null,{"$f":"LOOKUP(G32,Poängberäkning!$B$6:$B$97,Poängberäkning!$C$6:$C$97)","v":0},null,{"$f":"LOOKUP(I32,Poängberäkning!$B$6:$B$97,Poängberäkning!$C$6:$C$97)","v":0},null,{"$f":"LOOKUP(K32,Poängberäkning!$B$6:$B$97,Poängberäkning!$C$6:$C$97)","v":0},null,{"$f":"LOOKUP(M32,Poängberäkning!$B$6:$B$97,Poängberäkning!$C$6:$C$97)","v":0},null,{"$f":"LOOKUP(O32,Poängberäkning!$B$6:$B$97,Poängberäkning!$C$6:$C$97)","v":0},4,{"$f":"LOOKUP(Q32,[1]Poängberäkning!$B$6:$B$97,[1]Poängberäkning!$C$6:$C$97)","v":60},99,{"$f":"LOOKUP(S32,[1]Poängberäkning!$B$6:$B$97,[1]Poängberäkning!$C$6:$C$97)","v":0},null,{"$f":"LOOKUP(U32,[1]Poängberäkning!$B$6:$B$97,[1]Poängberäkning!$C$6:$C$97)","v":0},null,{"$f":"LOOKUP(W32,[1]Poängberäkning!$B$6:$B$97,[1]Poängberäkning!$C$6:$C$97)","v":0},{"$f":"LARGE(($H32,$J32,$L32,$N32,$P32,$R32,$T32,$V32,$X32),1)","v":60},{"$f":"LARGE(($H32,$J32,$L32,$N32,$P32,$R32,$T32,$V32,$X32),2)","v":0},{"$f":"LARGE(($H32,$J32,$L32,$N32,$P32,$R32,$T32,$V32,$X32),3)","v":0},{"$f":"LARGE(($H32,$J32,$L32,$N32,$P32,$R32,$T32,$V32,$X32),4)","v":0},{"$f":"LARGE(($H32,$J32,$L32,$N32,$P32,$R32,$T32,$V32,$X32),5)","v":0},{"$f":"LARGE(($H32,$J32,$L32,$N32,$P32,$R32,$T32,$V32,$X32),6)","v":0},{"$f":"LARGE(($H32,$J32,$L32,$N32,$P32,$R32,$T32,$V32,$X32),7)","v":0},{"$f":"LARGE(($H32,$J32,$L32,$N32,$P32,$R32,$T32,$V32,$X32),8)","v":0},{"$f":"LARGE(($H32,$J32,$L32,$N32,$P32,$R32,$T32,$V32,$X32),9)","v":0}]
[29,1999,"BERTILSSON Erik","Höghedens SLK",58,58,null,{"$f":"LOOKUP(G33,Poängberäkning!$B$6:$B$97,Poängberäkning!$C$6:$C$97)","v":0},null,{"$f":"LOOKUP(I33,Poängberäkning!$B$6:$B$97,Poängberäkning!$C$6:$C$97)","v":0},null,{"$f":"LOOKUP(K33,Poängberäkning!$B$6:$B$97,Poängberäkning!$C$6:$C$97)","v":0},null,{"$f":"LOOKUP(M33,Poängberäkning!$B$6:$B$97,Poängberäkning!$C$6:$C$97)","v":0},null,{"$f":"LOOKUP(O33,Poängberäkning!$B$6:$B$97,Poängberäkning!$C$6:$C$97)","v":0},26,{"$f":"LOOKUP(Q33,[1]Poängberäkning!$B$6:$B$97,[1]Poängberäkning!$C$6:$C$97)","v":25},18,{"$f":"LOOKUP(S33,[1]Poängberäkning!$B$6:$B$97,[1]Poängberäkning!$C$6:$C$97)","v":33},null,{"$f":"LOOKUP(U33,[1]Poängberäkning!$B$6:$B$97,[1]Poängberäkning!$C$6:$C$97)","v":0},null,{"$f":"LOOKUP(W33,[1]Poängberäkning!$B$6:$B$97,[1]Poängberäkning!$C$6:$C$97)","v":0},{"$f":"LARGE(($H33,$J33,$L33,$N33,$P33,$R33,$T33,$V33,$X33),1)","v":33},{"$f":"LARGE(($H33,$J33,$L33,$N33,$P33,$R33,$T33,$V33,$X33),2)","v":25},{"$f":"LARGE(($H33,$J33,$L33,$N33,$P33,$R33,$T33,$V33,$X33),3)","v":0},{"$f":"LARGE(($H33,$J33,$L33,$N33,$P33,$R33,$T33,$V33,$X33),4)","v":0},{"$f":"LARGE(($H33,$J33,$L33,$N33,$P33,$R33,$T33,$V33,$X33),5)","v":0},{"$f":"LARGE(($H33,$J33,$L33,$N33,$P33,$R33,$T33,$V33,$X33),6)","v":0},{"$f":"LARGE(($H33,$J33,$L33,$N33,$P33,$R33,$T33,$V33,$X33),7)","v":0},{"$f":"LARGE(($H33,$J33,$L33,$N33,$P33,$R33,$T33,$V33,$X33),8)","v":0},{"$f":"LARGE(($H33,$J33,$L33,$N33,$P33,$R33,$T33,$V33,$X33),9)","v":0}]
[30,1999,"FONDBERG Keith Richard","Saltsjöbadens SLK",56,56,null,{"$f":"LOOKUP(G34,Poängberäkning!$B$6:$B$97,Poängberäkning!$C$6:$C$97)","v":0},null,{"$f":"LOOKUP(I34,Poängberäkning!$B$6:$B$97,Poängberäkning!$C$6:$C$97)","v":0},null,{"$f":"LOOKUP(K34,Poängberäkning!$B$6:$B$97,Poängberäkning!$C$6:$C$97)","v":0},null,{"$f":"LOOKUP(M34,Poängberäkning!$B$6:$B$97,Poängberäkning!$C$6:$C$97)","v":0},null,{"$f":"LOOKUP(O34,Poängberäkning!$B$6:$B$97,Poängberäkning!$C$6:$C$97)","v":0},25,{"$f":"LOOKUP(Q34,[1]Poängberäkning!$B$6:$B$97,[1]Poängberäkning!$C$6:$C$97)","v":26},21,{"$f":"LOOKUP(S34,[1]Poängberäkning!$B$6:$B$97,[1]Poängberäkning!$C$6:$C$97)","v":30},null,{"$f":"LOOKUP(U34,[1]Poängberäkning!$B$6:$B$97,[1]Poängberäkning!$C$6:$C$97)","v":0},null,{"$f":"LOOKUP(W34,[1]Poängberäkning!$B$6:$B$97,[1]Poängberäkning!$C$6:$C$97)","v":0},{"$f":"LARGE(($H34,$J34,$L34,$N34,$P34,$R34,$T34,$V34,$X34),1)","v":30},{"$f":"LARGE(($H34,$J34,$L34,$N34,$P34,$R34,$T34,$V34,$X34),2)","v":26},{"$f":"LARGE(($H34,$J34,$L34,$N34,$P34,$R34,$T34,$V34,$X34),3)","v":0},{"$f":"LARGE(($H34,$J34,$L34,$N34,$P34,$R34,$T34,$V34,$X34),4)","v":0},{"$f":"LARGE(($H34,$J34,$L34,$N34,$P34,$R34,$T34,$V34,$X34),5)","v":0},{"$f":"LARGE(($H34,$J34,$L34,$N34,$P34,$R34,$T34,$V34,$X34),6)","v":0},{"$f":"LARGE(($H34,$J34,$L34,$N34,$P34,$R34,$T34,$V34,$X34),7)","v":0},{"$f":"LARGE(($H34,$J34,$L34,$N34,$P34,$R34,$T34,$V34,$X34),8)","v":0},{"$f":"LARGE(($H34,$J34,$L34,$N34,$P34,$R34,$T34,$V34,$X34),9)","v":0}]
[31,1997,"SMITH Anton","Göteborgs SLK",54,54,null,{"$f":"LOOKUP(G35,Poängberäkning!$B$6:$B$97,Poängberäkning!$C$6:$C$97)","v":0},null,{"$f":"LOOKUP(I35,Poängberäkning!$B$6:$B$97,Poängberäkning!$C$6:$C$97)","v":0},null,{"$f":"LOOKUP(K35,Poängberäkning!$B$6:$B$97,Poängberäkning!$C$6:$C$97)","v":0},null,{"$f":"LOOKUP(M35,Poängberäkning!$B$6:$B$97,Poängberäkning!$C$6:$C$97)","v":0},null,{"$f":"LOOKUP(O35,Poängberäkning!$B$6:$B$97,Poängberäkning!$C$6:$C$97)","v":0},29,{"$f":"LOOKUP(Q35,[1]Poängberäkning!$B$6:$B$97,[1]Poängberäkning!$C$6:$C$97)","v":22},19,{"$f":"LOOKUP(S35,[1]Poängberäkning!$B$6:$B$97,[1]Poängberäkning!$C$6:$C$97)","v":32},null,{"$f":"LOOKUP(U35,[1]Poängberäkning!$B$6:$B$97,[1]Poängberäkning!$C$6:$C$97)","v":0},null,{"$f":"LOOKUP(W35,[1]Poängberäkning!$B$6:$B$97,[1]Poängberäkning!$C$6:$C$97)","v":0},{"$f":"LARGE(($H35,$J35,$L35,$N35,$P35,$R35,$T35,$V35,$X35),1)","v":32},{"$f":"LARGE(($H35,$J35,$L35,$N35,$P35,$R35,$T35,$V35,$X35),2)","v":22},{"$f":"LARGE(($H35,$J35,$L35,$N35,$P35,$R35,$T35,$V35,$X35),3)","v":0},{"$f":"LARGE(($H35,$J35,$L35,$N35,$P35,$R35,$T35,$V35,$X35),4)","v":0},{"$f":"LARGE(($H35,$J35,$L35,$N35,$P35,$R35,$T35,$V35,$X35),5)","v":0},{"$f":"LARGE(($H35,$J35,$L35,$N35,$P35,$R35,$T35,$V35,$X35),6)","v":0},{"$f":"LARGE(($H35,$J35,$L35,$N35,$P35,$R35,$T35,$V35,$X35),7)","v":0},{"$f":"LARGE(($H35,$J35,$L35,$N35,$P35,$R35,$T35,$V35,$X35),8)","v":0},{"$f":"LARGE(($H35,$J35,$L35,$N35,$P35,$R35,$T35,$V35,$X35),9)","v":0}]
[32,1997,"BERGMAN Martin","IFK Falun",53,53,null,{"$f":"LOOKUP(G36,Poängberäkning!$B$6:$B$97,Poängberäkning!$C$6:$C$97)","v":0},null,{"$f":"LOOKUP(I36,Poängberäkning!$B$6:$B$97,Poängberäkning!$C$6:$C$97)","v":0},null,{"$f":"LOOKUP(K36,Poängberäkning!$B$6:$B$97,Poängberäkning!$C$6:$C$97)","v":0},null,{"$f":"LOOKUP(M36,Poängberäkning!$B$6:$B$97,Poängberäkning!$C$6:$C$97)","v":0},null,{"$f":"LOOKUP(O36,Poängberäkning!$B$6:$B$97,Poängberäkning!$C$6:$C$97)","v":0},27,{"$f":"LOOKUP(Q36,[1]Poängberäkning!$B$6:$B$97,[1]Poängberäkning!$C$6:$C$97)","v":24},22,{"$f":"LOOKUP(S36,[1]Poängberäkning!$B$6:$B$97,[1]Poängberäkning!$C$6:$C$97)","v":29},null,{"$f":"LOOKUP(U36,[1]Poängberäkning!$B$6:$B$97,[1]Poängberäkning!$C$6:$C$97)","v":0},null,{"$f":"LOOKUP(W36,[1]Poängberäkning!$B$6:$B$97,[1]Poängberäkning!$C$6:$C$97)","v":0},{"$f":"LARGE(($H36,$J36,$L36,$N36,$P36,$R36,$T36,$V36,$X36),1)","v":29},{"$f":"LARGE(($H36,$J36,$L36,$N36,$P36,$R36,$T36,$V36,$X36),2)","v":24},{"$f":"LARGE(($H36,$J36,$L36,$N36,$P36,$R36,$T36,$V36,$X36),3)","v":0},{"$f":"LARGE(($H36,$J36,$L36,$N36,$P36,$R36,$T36,$V36,$X36),4)","v":0},{"$f":"LARGE(($H36,$J36,$L36,$N36,$P36,$R36,$T36,$V36,$X36),5)","v":0},{"$f":"LARGE(($H36,$J36,$L36,$N36,$P36,$R36,$T36,$V36,$X36),6)","v":0},{"$f":"LARGE(($H36,$J36,$L36,$N36,$P36,$R36,$T36,$V36,$X36),7)","v":0},{"$f":"LARGE(($H36,$J36,$L36,$N36,$P36,$R36,$T36,$V36,$X36),8)","v":0},{"$f":"LARGE(($H36,$J36,$L36,$N36,$P36,$R36,$T36,$V36,$X36),9)","v":0}]
[33,1997,"EDVINSSON Mattias","Kiruna BK",{"$f":"SUM(Y37:AC37)","v":50},{"$f":"H37+J37+L37+N37+P37+R37+T37+V37+X37","v":50},null,{"$f":"LOOKUP(G37,Poängberäkning!$B$6:$B$97,Poängberäkning!$C$6:$C$97)","v":0},null,{"$f":"LOOKUP(I37,Poängberäkning!$B$6:$B$97,Poängberäkning!$C$6:$C$97)","v":0},null,{"$f":"LOOKUP(K37,Poängberäkning!$B$6:$B$97,Poängberäkning!$C$6:$C$97)","v":0},null,{"$f":"LOOKUP(M37,Poängberäkning!$B$6:$B$97,Poängberäkning!$C$6:$C$97)","v":0},null,{"$f":"LOOKUP(O37,Poängberäkning!$B$6:$B$97,Poängberäkning!$C$6:$C$97)","v":0},28,{"$f":"LOOKUP(Q37,[1]Poängberäkning!$B$6:$B$97,[1]Poängberäkning!$C$6:$C$97)","v":23},24,{"$f":"LOOKUP(S37,[1]Poängberäkning!$B$6:$B$97,[1]Poängberäkning!$C$6:$C$97)","v":27},null,{"$f":"LOOKUP(U37,[1]Poängberäkning!$B$6:$B$97,[1]Poängberäkning!$C$6:$C$97)","v":0},null,{"$f":"LOOKUP(W37,[1]Poängberäkning!$B$6:$B$97,[1]Poängberäkning!$C$6:$C$97)","v":0},{"$f":"LARGE(($H37,$J37,$L37,$N37,$P37,$R37,$T37,$V37,$X37),1)","v":27},{"$f":"LARGE(($H37,$J37,$L37,$N37,$P37,$R37,$T37,$V37,$X37),2)","v":23},{"$f":"LARGE(($H37,$J37,$L37,$N37,$P37,$R37,$T37,$V37,$X37),3)","v":0},{"$f":"LARGE(($H37,$J37,$L37,$N37,$P37,$R37,$T37,$V37,$X37),4)","v":0},{"$f":"LARGE(($H37,$J37,$L37,$N37,$P37,$R37,$T37,$V37,$X37),5)","v":0},{"$f":"LARGE(($H37,$J37,$L37,$N37,$P37,$R37,$T37,$V37,$X37),6)","v":0},{"$f":"LARGE(($H37,$J37,$L37,$N37,$P37,$R37,$T37,$V37,$X37),7)","v":0},{"$f":"LARGE(($H37,$J37,$L37,$N37,$P37,$R37,$T37,$V37,$X37),8)","v":0},{"$f":"LARGE(($H37,$J37,$L37,$N37,$P37,$R37,$T37,$V37,$X37),9)","v":0}]
[34,1997,"HARTING Ludvig","Sollentuna SLK",49,49,null,{"$f":"LOOKUP(G38,Poängberäkning!$B$6:$B$97,Poängberäkning!$C$6:$C$97)","v":0},null,{"$f":"LOOKUP(I38,Poängberäkning!$B$6:$B$97,Poängberäkning!$C$6:$C$97)","v":0},null,{"$f":"LOOKUP(K38,Poängberäkning!$B$6:$B$97,Poängberäkning!$C$6:$C$97)","v":0},null,{"$f":"LOOKUP(M38,Poängberäkning!$B$6:$B$97,Poängberäkning!$C$6:$C$97)","v":0},null,{"$f":"LOOKUP(O38,Poängberäkning!$B$6:$B$97,Poängberäkning!$C$6:$C$97)","v":0},30,{"$f":"LOOKUP(Q38,[1]Poängberäkning!$B$6:$B$97,[1]Poängberäkning!$C$6:$C$97)","v":21},23,{"$f":"LOOKUP(S38,[1]Poängberäkning!$B$6:$B$97,[1]Poängberäkning!$C$6:$C$97)","v":28},null,{"$f":"LOOKUP(U38,[1]Poängberäkning!$B$6:$B$97,[1]Poängberäkning!$C$6:$C$97)","v":0},null,{"$f":"LOOKUP(W38,[1]Poängberäkning!$B$6:$B$97,[1]Poängberäkning!$C$6:$C$97)","v":0},{"$f":"LARGE(($H38,$J38,$L38,$N38,$P38,$R38,$T38,$V38,$X38),1)","v":28},{"$f":"LARGE(($H38,$J38,$L38,$N38,$P38,$R38,$T38,$V38,$X38),2)","v":21},{"$f":"LARGE(($H38,$J38,$L38,$N38,$P38,$R38,$T38,$V38,$X38),3)","v":0},{"$f":"LARGE(($H38,$J38,$L38,$N38,$P38,$R38,$T38,$V38,$X38),4)","v":0},{"$f":"LARGE(($H38,$J38,$L38,$N38,$P38,$R38,$T38,$V38,$X38),5)","v":0},{"$f":"LARGE(($H38,$J38,$L38,$N38,$P38,$R38,$T38,$V38,$X38),6)","v":0},{"$f":"LARGE(($H38,$J38,$L38,$N38,$P38,$R38,$T38,$V38,$X38),7)","v":0},{"$f":"LARGE(($H38,$J38,$L38,$N38,$P38,$R38,$T38,$V38,$X38),8)","v":0},{"$f":"LARGE(($H38,$J38,$L38,$N38,$P38,$R38,$T38,$V38,$X38),9)","v":0}]
[35,1999,"NIVRE Fredrik","Uppsala SLK",44,44,null,{"$f":"LOOKUP(G39,Poängberäkning!$B$6:$B$97,Poängberäkning!$C$6:$C$97)","v":0},null,{"$f":"LOOKUP(I39,Poängberäkning!$B$6:$B$97,Poängberäkning!$C$6:$C$97)","v":0},null,{"$f":"LOOKUP(K39,Poängberäkning!$B$6:$B$97,Poängberäkning!$C$6:$C$97)","v":0},null,{"$f":"LOOKUP(M39,Poängberäkning!$B$6:$B$97,Poängberäkning!$C$6:$C$97)","v":0},null,{"$f":"LOOKUP(O39,Poängberäkning!$B$6:$B$97,Poängberäkning!$C$6:$C$97)","v":0},31,{"$f":"LOOKUP(Q39,[1]Poängberäkning!$B$6:$B$97,[1]Poängberäkning!$C$6:$C$97)","v":20},27,{"$f":"LOOKUP(S39,[1]Poängberäkning!$B$6:$B$97,[1]Poängberäkning!$C$6:$C$97)","v":24},null,{"$f":"LOOKUP(U39,[1]Poängberäkning!$B$6:$B$97,[1]Poängberäkning!$C$6:$C$97)","v":0},null,{"$f":"LOOKUP(W39,[1]Poängberäkning!$B$6:$B$97,[1]Poängberäkning!$C$6:$C$97)","v":0},{"$f":"LARGE(($H39,$J39,$L39,$N39,$P39,$R39,$T39,$V39,$X39),1)","v":24},{"$f":"LARGE(($H39,$J39,$L39,$N39,$P39,$R39,$T39,$V39,$X39),2)","v":20},{"$f":"LARGE(($H39,$J39,$L39,$N39,$P39,$R39,$T39,$V39,$X39),3)","v":0},{"$f":"LARGE(($H39,$J39,$L39,$N39,$P39,$R39,$T39,$V39,$X39),4)","v":0},{"$f":"LARGE(($H39,$J39,$L39,$N39,$P39,$R39,$T39,$V39,$X39),5)","v":0},{"$f":"LARGE(($H39,$J39,$L39,$N39,$P39,$R39,$T39,$V39,$X39),6)","v":0},{"$f":"LARGE(($H39,$J39,$L39,$N39,$P39,$R39,$T39,$V39,$X39),7)","v":0},{"$f":"LARGE(($H39,$J39,$L39,$N39,$P39,$R39,$T39,$V39,$X39),8)","v":0},{"$f":"LARGE(($H39,$J39,$L39,$N39,$P39,$R39,$T39,$V39,$X39),9)","v":0}]
[36,1995,"SUNDSTRÖM Oscar","Gävle Alpina SK",42,42,null,{"$f":"LOOKUP(G40,Poängberäkning!$B$6:$B$97,Poängberäkning!$C$6:$C$97)","v":0},null,{"$f":"LOOKUP(I40,Poängberäkning!$B$6:$B$97,Poängberäkning!$C$6:$C$97)","v":0},null,{"$f":"LOOKUP(K40,Poängberäkning!$B$6:$B$97,Poängberäkning!$C$6:$C$97)","v":0},null,{"$f":"LOOKUP(M40,Poängberäkning!$B$6:$B$97,Poängberäkning!$C$6:$C$97)","v":0},null,{"$f":"LOOKUP(O40,Poängberäkning!$B$6:$B$97,Poängberäkning!$C$6:$C$97)","v":0},10,{"$f":"LOOKUP(Q40,[1]Poängberäkning!$B$6:$B$97,[1]Poängberäkning!$C$6:$C$97)","v":42},99,{"$f":"LOOKUP(S40,[1]Poängberäkning!$B$6:$B$97,[1]Poängberäkning!$C$6:$C$97)","v":0},null,{"$f":"LOOKUP(U40,[1]Poängberäkning!$B$6:$B$97,[1]Poängberäkning!$C$6:$C$97)","v":0},null,{"$f":"LOOKUP(W40,[1]Poängberäkning!$B$6:$B$97,[1]Poängberäkning!$C$6:$C$97)","v":0},{"$f":"LARGE(($H40,$J40,$L40,$N40,$P40,$R40,$T40,$V40,$X40),1)","v":42},{"$f":"LARGE(($H40,$J40,$L40,$N40,$P40,$R40,$T40,$V40,$X40),2)","v":0},{"$f":"LARGE(($H40,$J40,$L40,$N40,$P40,$R40,$T40,$V40,$X40),3)","v":0},{"$f":"LARGE(($H40,$J40,$L40,$N40,$P40,$R40,$T40,$V40,$X40),4)","v":0},{"$f":"LARGE(($H40,$J40,$L40,$N40,$P40,$R40,$T40,$V40,$X40),5)","v":0},{"$f":"LARGE(($H40,$J40,$L40,$N40,$P40,$R40,$T40,$V40,$X40),6)","v":0},{"$f":"LARGE(($H40,$J40,$L40,$N40,$P40,$R40,$T40,$V40,$X40),7)","v":0},{"$f":"LARGE(($H40,$J40,$L40,$N40,$P40,$R40,$T40,$V40,$X40),8)","v":0},{"$f":"LARGE(($H40,$J40,$L40,$N40,$P40,$R40,$T40,$V40,$X40),9)","v":0}]
[37,1991,"GABRIELSSON Erik","IFK Falun",41,41,null,{"$f":"LOOKUP(G41,Poängberäkning!$B$6:$B$97,Poängberäkning!$C$6:$C$97)","v":0},null,{"$f":"LOOKUP(I41,Poängberäkning!$B$6:$B$97,Poängberäkning!$C$6:$C$97)","v":0},null,{"$f":"LOOKUP(K41,Poängberäkning!$B$6:$B$97,Poängberäkning!$C$6:$C$97)","v":0},null,{"$f":"LOOKUP(M41,Poängberäkning!$B$6:$B$97,Poängberäkning!$C$6:$C$97)","v":0},null,{"$f":"LOOKUP(O41,Poängberäkning!$B$6:$B$97,Poängberäkning!$C$6:$C$97)","v":0},33,{"$f":"LOOKUP(Q41,[1]Poängberäkning!$B$6:$B$97,[1]Poängberäkning!$C$6:$C$97)","v":18},28,{"$f":"LOOKUP(S41,[1]Poängberäkning!$B$6:$B$97,[1]Poängberäkning!$C$6:$C$97)","v":23},null,{"$f":"LOOKUP(U41,[1]Poängberäkning!$B$6:$B$97,[1]Poängberäkning!$C$6:$C$97)","v":0},null,{"$f":"LOOKUP(W41,[1]Poängberäkning!$B$6:$B$97,[1]Poängberäkning!$C$6:$C$97)","v":0},{"$f":"LARGE(($H41,$J41,$L41,$N41,$P41,$R41,$T41,$V41,$X41),1)","v":23},{"$f":"LARGE(($H41,$J41,$L41,$N41,$P41,$R41,$T41,$V41,$X41),2)","v":18},{"$f":"LARGE(($H41,$J41,$L41,$N41,$P41,$R41,$T41,$V41,$X41),3)","v":0},{"$f":"LARGE(($H41,$J41,$L41,$N41,$P41,$R41,$T41,$V41,$X41),4)","v":0},{"$f":"LARGE(($H41,$J41,$L41,$N41,$P41,$R41,$T41,$V41,$X41),5)","v":0},{"$f":"LARGE(($H41,$J41,$L41,$N41,$P41,$R41,$T41,$V41,$X41),6)","v":0},{"$f":"LARGE(($H41,$J41,$L41,$N41,$P41,$R41,$T41,$V41,$X41),7)","v":0},{"$f":"LARGE(($H41,$J41,$L41,$N41,$P41,$R41,$T41,$V41,$X41),8)","v":0},{"$f":"LARGE(($H41,$J41,$L41,$N41,$P41,$R41,$T41,$V41,$X41),9)","v":0}]
[38,1999,"UHRAS Benjamin","Edsbyns IF Alpina Förening",40,40,null,{"$f":"LOOKUP(G42,Poängberäkning!$B$6:$B$97,Poängberäkning!$C$6:$C$97)","v":0},null,{"$f":"LOOKUP(I42,Poängberäkning!$B$6:$B$97,Poängberäkning!$C$6:$C$97)","v":0},null,{"$f":"LOOKUP(K42,Poängberäkning!$B$6:$B$97,Poängberäkning!$C$6:$C$97)","v":0},null,{"$f":"LOOKUP(M42,Poängberäkning!$B$6:$B$97,Poängberäkning!$C$6:$C$97)","v":0},null,{"$f":"LOOKUP(O42,Poängberäkning!$B$6:$B$97,Poängberäkning!$C$6:$C$97)","v":0},37,{"$f":"LOOKUP(Q42,[1]Poängberäkning!$B$6:$B$97,[1]Poängberäkning!$C$6:$C$97)","v":14},25,{"$f":"LOOKUP(S42,[1]Poängberäkning!$B$6:$B$97,[1]Poängberäkning!$C$6:$C$97)","v":26},null,{"$f":"LOOKUP(U42,[1]Poängberäkning!$B$6:$B$97,[1]Poängberäkning!$C$6:$C$97)","v":0},null,{"$f":"LOOKUP(W42,[1]Poängberäkning!$B$6:$B$97,[1]Poängberäkning!$C$6:$C$97)","v":0},{"$f":"LARGE(($H42,$J42,$L42,$N42,$P42,$R42,$T42,$V42,$X42),1)","v":26},{"$f":"LARGE(($H42,$J42,$L42,$N42,$P42,$R42,$T42,$V42,$X42),2)","v":14},{"$f":"LARGE(($H42,$J42,$L42,$N42,$P42,$R42,$T42,$V42,$X42),3)","v":0},{"$f":"LARGE(($H42,$J42,$L42,$N42,$P42,$R42,$T42,$V42,$X42),4)","v":0},{"$f":"LARGE(($H42,$J42,$L42,$N42,$P42,$R42,$T42,$V42,$X42),5)","v":0},{"$f":"LARGE(($H42,$J42,$L42,$N42,$P42,$R42,$T42,$V42,$X42),6)","v":0},{"$f":"LARGE(($H42,$J42,$L42,$N42,$P42,$R42,$T42,$V42,$X42),7)","v":0},{"$f":"LARGE(($H42,$J42,$L42,$N42,$P42,$R42,$T42,$V42,$X42),8)","v":0},{"$f":"LARGE(($H42,$J42,$L42,$N42,$P42,$R42,$T42,$V42,$X42),9)","v":0}]
[39,1997,"KLAUSNER WALDESJÖ Jonathan","Örebro SLF",39,39,null,{"$f":"LOOKUP(G43,Poängberäkning!$B$6:$B$97,Poängberäkning!$C$6:$C$97)","v":0},null,{"$f":"LOOKUP(I43,Poängberäkning!$B$6:$B$97,Poängberäkning!$C$6:$C$97)","v":0},null,{"$f":"LOOKUP(K43,Poängberäkning!$B$6:$B$97,Poängberäkning!$C$6:$C$97)","v":0},null,{"$f":"LOOKUP(M43,Poängberäkning!$B$6:$B$97,Poängberäkning!$C$6:$C$97)","v":0},null,{"$f":"LOOKUP(O43,Poängberäkning!$B$6:$B$97,Poängberäkning!$C$6:$C$97)","v":0},99,{"$f":"LOOKUP(Q43,[1]Poängberäkning!$B$6:$B$97,[1]Poängberäkning!$C$6:$C$97)","v":0},12,{"$f":"LOOKUP(S43,[1]Poängberäkning!$B$6:$B$97,[1]Poängberäkning!$C$6:$C$97)","v":39},null,{"$f":"LOOKUP(U43,[1]Poängberäkning!$B$6:$B$97,[1]Poängberäkning!$C$6:$C$97)","v":0},null,{"$f":"LOOKUP(W43,[1]Poängberäkning!$B$6:$B$97,[1]Poängberäkning!$C$6:$C$97)","v":0},{"$f":"LARGE(($H43,$J43,$L43,$N43,$P43,$R43,$T43,$V43,$X43),1)","v":39},{"$f":"LARGE(($H43,$J43,$L43,$N43,$P43,$R43,$T43,$V43,$X43),2)","v":0},{"$f":"LARGE(($H43,$J43,$L43,$N43,$P43,$R43,$T43,$V43,$X43),3)","v":0},{"$f":"LARGE(($H43,$J43,$L43,$N43,$P43,$R43,$T43,$V43,$X43),4)","v":0},{"$f":"LARGE(($H43,$J43,$L43,$N43,$P43,$R43,$T43,$V43,$X43),5)","v":0},{"$f":"LARGE(($H43,$J43,$L43,$N43,$P43,$R43,$T43,$V43,$X43),6)","v":0},{"$f":"LARGE(($H43,$J43,$L43,$N43,$P43,$R43,$T43,$V43,$X43),7)","v":0},{"$f":"LARGE(($H43,$J43,$L43,$N43,$P43,$R43,$T43,$V43,$X43),8)","v":0},{"$f":"LARGE(($H43,$J43,$L43,$N43,$P43,$R43,$T43,$V43,$X43),9)","v":0}]
[40,1997,"RUNDLÖF Marcus","Järfälla AK",39,39,null,{"$f":"LOOKUP(G44,Poängberäkning!$B$6:$B$97,Poängberäkning!$C$6:$C$97)","v":0},null,{"$f":"LOOKUP(I44,Poängberäkning!$B$6:$B$97,Poängberäkning!$C$6:$C$97)","v":0},null,{"$f":"LOOKUP(K44,Poängberäkning!$B$6:$B$97,Poängberäkning!$C$6:$C$97)","v":0},null,{"$f":"LOOKUP(M44,Poängberäkning!$B$6:$B$97,Poängberäkning!$C$6:$C$97)","v":0},null,{"$f":"LOOKUP(O44,Poängberäkning!$B$6:$B$97,Poängberäkning!$C$6:$C$97)","v":0},12,{"$f":"LOOKUP(Q44,[1]Poängberäkning!$B$6:$B$97,[1]Poängberäkning!$C$6:$C$97)","v":39},99,{"$f":"LOOKUP(S44,[1]Poängberäkning!$B$6:$B$97,[1]Poängberäkning!$C$6:$C$97)","v":0},null,{"$f":"LOOKUP(U44,[1]Poängberäkning!$B$6:$B$97,[1]Poängberäkning!$C$6:$C$97)","v":0},null,{"$f":"LOOKUP(W44,[1]Poängberäkning!$B$6:$B$97,[1]Poängberäkning!$C$6:$C$97)","v":0},{"$f":"LARGE(($H44,$J44,$L44,$N44,$P44,$R44,$T44,$V44,$X44),1)","v":39},{"$f":"LARGE(($H44,$J44,$L44,$N44,$P44,$R44,$T44,$V44,$X44),2)","v":0},{"$f":"LARGE(($H44,$J44,$L44,$N44,$P44,$R44,$T44,$V44,$X44),3)","v":0},{"$f":"LARGE(($H44,$J44,$L44,$N44,$P44,$R44,$T44,$V44,$X44),4)","v":0},{"$f":"LARGE(($H44,$J44,$L44,$N44,$P44,$R44,$T44,$V44,$X44),5)","v":0},{"$f":"LARGE(($H44,$J44,$L44,$N44,$P44,$R44,$T44,$V44,$X44),6)","v":0},{"$f":"LARGE(($H44,$J44,$L44,$N44,$P44,$R44,$T44,$V44,$X44),7)","v":0},{"$f":"LARGE(($H44,$J44,$L44,$N44,$P44,$R44,$T44,$V44,$X44),8)","v":0},{"$f":"LARGE(($H44,$J44,$L44,$N44,$P44,$R44,$T44,$V44,$X44),9)","v":0}]
[41,1996,"ERIKSSON Johan","Roslagens AK",38,38,null,{"$f":"LOOKUP(G45,Poängberäkning!$B$6:$B$97,Poängberäkning!$C$6:$C$97)","v":0},null,{"$f":"LOOKUP(I45,Poängberäkning!$B$6:$B$97,Poängberäkning!$C$6:$C$97)","v":0},null,{"$f":"LOOKUP(K45,Poängberäkning!$B$6:$B$97,Poängberäkning!$C$6:$C$97)","v":0},null,{"$f":"LOOKUP(M45,Poängberäkning!$B$6:$B$97,Poängberäkning!$C$6:$C$97)","v":0},null,{"$f":"LOOKUP(O45,Poängberäkning!$B$6:$B$97,Poängberäkning!$C$6:$C$97)","v":0},13,{"$f":"LOOKUP(Q45,[1]Poängberäkning!$B$6:$B$97,[1]Poängberäkning!$C$6:$C$97)","v":38},99,{"$f":"LOOKUP(S45,[1]Poängberäkning!$B$6:$B$97,[1]Poängberäkning!$C$6:$C$97)","v":0},null,{"$f":"LOOKUP(U45,[1]Poängberäkning!$B$6:$B$97,[1]Poängberäkning!$C$6:$C$97)","v":0},null,{"$f":"LOOKUP(W45,[1]Poängberäkning!$B$6:$B$97,[1]Poängberäkning!$C$6:$C$97)","v":0},{"$f":"LARGE(($H45,$J45,$L45,$N45,$P45,$R45,$T45,$V45,$X45),1)","v":38},{"$f":"LARGE(($H45,$J45,$L45,$N45,$P45,$R45,$T45,$V45,$X45),2)","v":0},{"$f":"LARGE(($H45,$J45,$L45,$N45,$P45,$R45,$T45,$V45,$X45),3)","v":0},{"$f":"LARGE(($H45,$J45,$L45,$N45,$P45,$R45,$T45,$V45,$X45),4)","v":0},{"$f":"LARGE(($H45,$J45,$L45,$N45,$P45,$R45,$T45,$V45,$X45),5)","v":0},{"$f":"LARGE(($H45,$J45,$L45,$N45,$P45,$R45,$T45,$V45,$X45),6)","v":0},{"$f":"LARGE(($H45,$J45,$L45,$N45,$P45,$R45,$T45,$V45,$X45),7)","v":0},{"$f":"LARGE(($H45,$J45,$L45,$N45,$P45,$R45,$T45,$V45,$X45),8)","v":0},{"$f":"LARGE(($H45,$J45,$L45,$N45,$P45,$R45,$T45,$V45,$X45),9)","v":0}]
[42,1999,"GUSTAFSON Wiliam","Uppsala SLK",38,38,null,{"$f":"LOOKUP(G46,Poängberäkning!$B$6:$B$97,Poängberäkning!$C$6:$C$97)","v":0},null,{"$f":"LOOKUP(I46,Poängberäkning!$B$6:$B$97,Poängberäkning!$C$6:$C$97)","v":0},null,{"$f":"LOOKUP(K46,Poängberäkning!$B$6:$B$97,Poängberäkning!$C$6:$C$97)","v":0},null,{"$f":"LOOKUP(M46,Poängberäkning!$B$6:$B$97,Poängberäkning!$C$6:$C$97)","v":0},null,{"$f":"LOOKUP(O46,Poängberäkning!$B$6:$B$97,Poängberäkning!$C$6:$C$97)","v":0},49,{"$f":"LOOKUP(Q46,[1]Poängberäkning!$B$6:$B$97,[1]Poängberäkning!$C$6:$C$97)","v":2},15,{"$f":"LOOKUP(S46,[1]Poängberäkning!$B$6:$B$97,[1]Poängberäkning!$C$6:$C$97)","v":36},null,{"$f":"LOOKUP(U46,[1]Poängberäkning!$B$6:$B$97,[1]Poängberäkning!$C$6:$C$97)","v":0},null,{"$f":"LOOKUP(W46,[1]Poängberäkning!$B$6:$B$97,[1]Poängberäkning!$C$6:$C$97)","v":0},{"$f":"LARGE(($H46,$J46,$L46,$N46,$P46,$R46,$T46,$V46,$X46),1)","v":36},{"$f":"LARGE(($H46,$J46,$L46,$N46,$P46,$R46,$T46,$V46,$X46),2)","v":2},{"$f":"LARGE(($H46,$J46,$L46,$N46,$P46,$R46,$T46,$V46,$X46),3)","v":0},{"$f":"LARGE(($H46,$J46,$L46,$N46,$P46,$R46,$T46,$V46,$X46),4)","v":0},{"$f":"LARGE(($H46,$J46,$L46,$N46,$P46,$R46,$T46,$V46,$X46),5)","v":0},{"$f":"LARGE(($H46,$J46,$L46,$N46,$P46,$R46,$T46,$V46,$X46),6)","v":0},{"$f":"LARGE(($H46,$J46,$L46,$N46,$P46,$R46,$T46,$V46,$X46),7)","v":0},{"$f":"LARGE(($H46,$J46,$L46,$N46,$P46,$R46,$T46,$V46,$X46),8)","v":0},{"$f":"LARGE(($H46,$J46,$L46,$N46,$P46,$R46,$T46,$V46,$X46),9)","v":0}]
[43,1999,"BORNEMAR Marcus","Sollentuna SLK",37,37,null,{"$f":"LOOKUP(G47,Poängberäkning!$B$6:$B$97,Poängberäkning!$C$6:$C$97)","v":0},null,{"$f":"LOOKUP(I47,Poängberäkning!$B$6:$B$97,Poängberäkning!$C$6:$C$97)","v":0},null,{"$f":"LOOKUP(K47,Poängberäkning!$B$6:$B$97,Poängberäkning!$C$6:$C$97)","v":0},null,{"$f":"LOOKUP(M47,Poängberäkning!$B$6:$B$97,Poängberäkning!$C$6:$C$97)","v":0},null,{"$f":"LOOKUP(O47,Poängberäkning!$B$6:$B$97,Poängberäkning!$C$6:$C$97)","v":0},39,{"$f":"LOOKUP(Q47,[1]Poängberäkning!$B$6:$B$97,[1]Poängberäkning!$C$6:$C$97)","v":12},26,{"$f":"LOOKUP(S47,[1]Poängberäkning!$B$6:$B$97,[1]Poängberäkning!$C$6:$C$97)","v":25},null,{"$f":"LOOKUP(U47,[1]Poängberäkning!$B$6:$B$97,[1]Poängberäkning!$C$6:$C$97)","v":0},null,{"$f":"LOOKUP(W47,[1]Poängberäkning!$B$6:$B$97,[1]Poängberäkning!$C$6:$C$97)","v":0},{"$f":"LARGE(($H47,$J47,$L47,$N47,$P47,$R47,$T47,$V47,$X47),1)","v":25},{"$f":"LARGE(($H47,$J47,$L47,$N47,$P47,$R47,$T47,$V47,$X47),2)","v":12},{"$f":"LARGE(($H47,$J47,$L47,$N47,$P47,$R47,$T47,$V47,$X47),3)","v":0},{"$f":"LARGE(($H47,$J47,$L47,$N47,$P47,$R47,$T47,$V47,$X47),4)","v":0},{"$f":"LARGE(($H47,$J47,$L47,$N47,$P47,$R47,$T47,$V47,$X47),5)","v":0},{"$f":"LARGE(($H47,$J47,$L47,$N47,$P47,$R47,$T47,$V47,$X47),6)","v":0},{"$f":"LARGE(($H47,$J47,$L47,$N47,$P47,$R47,$T47,$V47,$X47),7)","v":0},{"$f":"LARGE(($H47,$J47,$L47,$N47,$P47,$R47,$T47,$V47,$X47),8)","v":0},{"$f":"LARGE(($H47,$J47,$L47,$N47,$P47,$R47,$T47,$V47,$X47),9)","v":0}]
[44,1997,"LUNDIN Ludvig","Norrköpings SK",35,35,null,{"$f":"LOOKUP(G48,Poängberäkning!$B$6:$B$97,Poängberäkning!$C$6:$C$97)","v":0},null,{"$f":"LOOKUP(I48,Poängberäkning!$B$6:$B$97,Poängberäkning!$C$6:$C$97)","v":0},null,{"$f":"LOOKUP(K48,Poängberäkning!$B$6:$B$97,Poängberäkning!$C$6:$C$97)","v":0},null,{"$f":"LOOKUP(M48,Poängberäkning!$B$6:$B$97,Poängberäkning!$C$6:$C$97)","v":0},null,{"$f":"LOOKUP(O48,Poängberäkning!$B$6:$B$97,Poängberäkning!$C$6:$C$97)","v":0},36,{"$f":"LOOKUP(Q48,[1]Poängberäkning!$B$6:$B$97,[1]Poängberäkning!$C$6:$C$97)","v":15},31,{"$f":"LOOKUP(S48,[1]Poängberäkning!$B$6:$B$97,[1]Poängberäkning!$C$6:$C$97)","v":20},null,{"$f":"LOOKUP(U48,[1]Poängberäkning!$B$6:$B$97,[1]Poängberäkning!$C$6:$C$97)","v":0},null,{"$f":"LOOKUP(W48,[1]Poängberäkning!$B$6:$B$97,[1]Poängberäkning!$C$6:$C$97)","v":0},{"$f":"LARGE(($H48,$J48,$L48,$N48,$P48,$R48,$T48,$V48,$X48),1)","v":20},{"$f":"LARGE(($H48,$J48,$L48,$N48,$P48,$R48,$T48,$V48,$X48),2)","v":15},{"$f":"LARGE(($H48,$J48,$L48,$N48,$P48,$R48,$T48,$V48,$X48),3)","v":0},{"$f":"LARGE(($H48,$J48,$L48,$N48,$P48,$R48,$T48,$V48,$X48),4)","v":0},{"$f":"LARGE(($H48,$J48,$L48,$N48,$P48,$R48,$T48,$V48,$X48),5)","v":0},{"$f":"LARGE(($H48,$J48,$L48,$N48,$P48,$R48,$T48,$V48,$X48),6)","v":0},{"$f":"LARGE(($H48,$J48,$L48,$N48,$P48,$R48,$T48,$V48,$X48),7)","v":0},{"$f":"LARGE(($H48,$J48,$L48,$N48,$P48,$R48,$T48,$V48,$X48),8)","v":0},{"$f":"LARGE(($H48,$J48,$L48,$N48,$P48,$R48,$T48,$V48,$X48),9)","v":0}]
[45,1997,"BENGTSSON SOHLMAN William","IFK Lidingö Slalomklubb",32,32,null,{"$f":"LOOKUP(G49,Poängberäkning!$B$6:$B$97,Poängberäkning!$C$6:$C$97)","v":0},null,{"$f":"LOOKUP(I49,Poängberäkning!$B$6:$B$97,Poängberäkning!$C$6:$C$97)","v":0},null,{"$f":"LOOKUP(K49,Poängberäkning!$B$6:$B$97,Poängberäkning!$C$6:$C$97)","v":0},null,{"$f":"LOOKUP(M49,Poängberäkning!$B$6:$B$97,Poängberäkning!$C$6:$C$97)","v":0},null,{"$f":"LOOKUP(O49,Poängberäkning!$B$6:$B$97,Poängberäkning!$C$6:$C$97)","v":0},38,{"$f":"LOOKUP(Q49,[1]Poängberäkning!$B$6:$B$97,[1]Poängberäkning!$C$6:$C$97)","v":13},32,{"$f":"LOOKUP(S49,[1]Poängberäkning!$B$6:$B$97,[1]Poängberäkning!$C$6:$C$97)","v":19},null,{"$f":"LOOKUP(U49,[1]Poängberäkning!$B$6:$B$97,[1]Poängberäkning!$C$6:$C$97)","v":0},null,{"$f":"LOOKUP(W49,[1]Poängberäkning!$B$6:$B$97,[1]Poängberäkning!$C$6:$C$97)","v":0},{"$f":"LARGE(($H49,$J49,$L49,$N49,$P49,$R49,$T49,$V49,$X49),1)","v":19},{"$f":"LARGE(($H49,$J49,$L49,$N49,$P49,$R49,$T49,$V49,$X49),2)","v":13},{"$f":"LARGE(($H49,$J49,$L49,$N49,$P49,$R49,$T49,$V49,$X49),3)","v":0},{"$f":"LARGE(($H49,$J49,$L49,$N49,$P49,$R49,$T49,$V49,$X49),4)","v":0},{"$f":"LARGE(($H49,$J49,$L49,$N49,$P49,$R49,$T49,$V49,$X49),5)","v":0},{"$f":"LARGE(($H49,$J49,$L49,$N49,$P49,$R49,$T49,$V49,$X49),6)","v":0},{"$f":"LARGE(($H49,$J49,$L49,$N49,$P49,$R49,$T49,$V49,$X49),7)","v":0},{"$f":"LARGE(($H49,$J49,$L49,$N49,$P49,$R49,$T49,$V49,$X49),8)","v":0},{"$f":"LARGE(($H49,$J49,$L49,$N49,$P49,$R49,$T49,$V49,$X49),9)","v":0}]
[46,1997,"FAGERBLOM Albin","Falköpings AIK SLK",32,32,null,{"$f":"LOOKUP(G50,Poängberäkning!$B$6:$B$97,Poängberäkning!$C$6:$C$97)","v":0},null,{"$f":"LOOKUP(I50,Poängberäkning!$B$6:$B$97,Poängberäkning!$C$6:$C$97)","v":0},null,{"$f":"LOOKUP(K50,Poängberäkning!$B$6:$B$97,Poängberäkning!$C$6:$C$97)","v":0},null,{"$f":"LOOKUP(M50,Poängberäkning!$B$6:$B$97,Poängberäkning!$C$6:$C$97)","v":0},null,{"$f":"LOOKUP(O50,Poängberäkning!$B$6:$B$97,Poängberäkning!$C$6:$C$97)","v":0},40,{"$f":"LOOKUP(Q50,[1]Poängberäkning!$B$6:$B$97,[1]Poängberäkning!$C$6:$C$97)","v":11},30,{"$f":"LOOKUP(S50,[1]Poängberäkning!$B$6:$B$97,[1]Poängberäkning!$C$6:$C$97)","v":21},null,{"$f":"LOOKUP(U50,[1]Poängberäkning!$B$6:$B$97,[1]Poängberäkning!$C$6:$C$97)","v":0},null,{"$f":"LOOKUP(W50,[1]Poängberäkning!$B$6:$B$97,[1]Poängberäkning!$C$6:$C$97)","v":0},{"$f":"LARGE(($H50,$J50,$L50,$N50,$P50,$R50,$T50,$V50,$X50),1)","v":21},{"$f":"LARGE(($H50,$J50,$L50,$N50,$P50,$R50,$T50,$V50,$X50),2)","v":11},{"$f":"LARGE(($H50,$J50,$L50,$N50,$P50,$R50,$T50,$V50,$X50),3)","v":0},{"$f":"LARGE(($H50,$J50,$L50,$N50,$P50,$R50,$T50,$V50,$X50),4)","v":0},{"$f":"LARGE(($H50,$J50,$L50,$N50,$P50,$R50,$T50,$V50,$X50),5)","v":0},{"$f":"LARGE(($H50,$J50,$L50,$N50,$P50,$R50,$T50,$V50,$X50),6)","v":0},{"$f":"LARGE(($H50,$J50,$L50,$N50,$P50,$R50,$T50,$V50,$X50),7)","v":0},{"$f":"LARGE(($H50,$J50,$L50,$N50,$P50,$R50,$T50,$V50,$X50),8)","v":0},{"$f":"LARGE(($H50,$J50,$L50,$N50,$P50,$R50,$T50,$V50,$X50),9)","v":0}]
[47,1994,"STENBERG Viktor","Huddinge SK AF",32,32,null,{"$f":"LOOKUP(G51,Poängberäkning!$B$6:$B$97,Poängberäkning!$C$6:$C$97)","v":0},null,{"$f":"LOOKUP(I51,Poängberäkning!$B$6:$B$97,Poängberäkning!$C$6:$C$97)","v":0},null,{"$f":"LOOKUP(K51,Poängberäkning!$B$6:$B$97,Poängberäkning!$C$6:$C$97)","v":0},null,{"$f":"LOOKUP(M51,Poängberäkning!$B$6:$B$97,Poängberäkning!$C$6:$C$97)","v":0},null,{"$f":"LOOKUP(O51,Poängberäkning!$B$6:$B$97,Poängberäkning!$C$6:$C$97)","v":0},19,{"$f":"LOOKUP(Q51,[1]Poängberäkning!$B$6:$B$97,[1]Poängberäkning!$C$6:$C$97)","v":32},99,{"$f":"LOOKUP(S51,[1]Poängberäkning!$B$6:$B$97,[1]Poängberäkning!$C$6:$C$97)","v":0},null,{"$f":"LOOKUP(U51,[1]Poängberäkning!$B$6:$B$97,[1]Poängberäkning!$C$6:$C$97)","v":0},null,{"$f":"LOOKUP(W51,[1]Poängberäkning!$B$6:$B$97,[1]Poängberäkning!$C$6:$C$97)","v":0},{"$f":"LARGE(($H51,$J51,$L51,$N51,$P51,$R51,$T51,$V51,$X51),1)","v":32},{"$f":"LARGE(($H51,$J51,$L51,$N51,$P51,$R51,$T51,$V51,$X51),2)","v":0},{"$f":"LARGE(($H51,$J51,$L51,$N51,$P51,$R51,$T51,$V51,$X51),3)","v":0},{"$f":"LARGE(($H51,$J51,$L51,$N51,$P51,$R51,$T51,$V51,$X51),4)","v":0},{"$f":"LARGE(($H51,$J51,$L51,$N51,$P51,$R51,$T51,$V51,$X51),5)","v":0},{"$f":"LARGE(($H51,$J51,$L51,$N51,$P51,$R51,$T51,$V51,$X51),6)","v":0},{"$f":"LARGE(($H51,$J51,$L51,$N51,$P51,$R51,$T51,$V51,$X51),7)","v":0},{"$f":"LARGE(($H51,$J51,$L51,$N51,$P51,$R51,$T51,$V51,$X51),8)","v":0},{"$f":"LARGE(($H51,$J51,$L51,$N51,$P51,$R51,$T51,$V51,$X51),9)","v":0}]
[48,1997,"KARLSSON Filip","Uppsala SLK",31,31,null,{"$f":"LOOKUP(G52,Poängberäkning!$B$6:$B$97,Poängberäkning!$C$6:$C$97)","v":0},null,{"$f":"LOOKUP(I52,Poängberäkning!$B$6:$B$97,Poängberäkning!$C$6:$C$97)","v":0},null,{"$f":"LOOKUP(K52,Poängberäkning!$B$6:$B$97,Poängberäkning!$C$6:$C$97)","v":0},null,{"$f":"LOOKUP(M52,Poängberäkning!$B$6:$B$97,Poängberäkning!$C$6:$C$97)","v":0},null,{"$f":"LOOKUP(O52,Poängberäkning!$B$6:$B$97,Poängberäkning!$C$6:$C$97)","v":0},99,{"$f":"LOOKUP(Q52,[1]Poängberäkning!$B$6:$B$97,[1]Poängberäkning!$C$6:$C$97)","v":0},20,{"$f":"LOOKUP(S52,[1]Poängberäkning!$B$6:$B$97,[1]Poängberäkning!$C$6:$C$97)","v":31},null,{"$f":"LOOKUP(U52,[1]Poängberäkning!$B$6:$B$97,[1]Poängberäkning!$C$6:$C$97)","v":0},null,{"$f":"LOOKUP(W52,[1]Poängberäkning!$B$6:$B$97,[1]Poängberäkning!$C$6:$C$97)","v":0},{"$f":"LARGE(($H52,$J52,$L52,$N52,$P52,$R52,$T52,$V52,$X52),1)","v":31},{"$f":"LARGE(($H52,$J52,$L52,$N52,$P52,$R52,$T52,$V52,$X52),2)","v":0},{"$f":"LARGE(($H52,$J52,$L52,$N52,$P52,$R52,$T52,$V52,$X52),3)","v":0},{"$f":"LARGE(($H52,$J52,$L52,$N52,$P52,$R52,$T52,$V52,$X52),4)","v":0},{"$f":"LARGE(($H52,$J52,$L52,$N52,$P52,$R52,$T52,$V52,$X52),5)","v":0},{"$f":"LARGE(($H52,$J52,$L52,$N52,$P52,$R52,$T52,$V52,$X52),6)","v":0},{"$f":"LARGE(($H52,$J52,$L52,$N52,$P52,$R52,$T52,$V52,$X52),7)","v":0},{"$f":"LARGE(($H52,$J52,$L52,$N52,$P52,$R52,$T52,$V52,$X52),8)","v":0},{"$f":"LARGE(($H52,$J52,$L52,$N52,$P52,$R52,$T52,$V52,$X52),9)","v":0}]
[49,1999,"LUNDQUIST Linus","Karlstads SLK",31,31,null,{"$f":"LOOKUP(G53,Poängberäkning!$B$6:$B$97,Poängberäkning!$C$6:$C$97)","v":0},null,{"$f":"LOOKUP(I53,Poängberäkning!$B$6:$B$97,Poängberäkning!$C$6:$C$97)","v":0},null,{"$f":"LOOKUP(K53,Poängberäkning!$B$6:$B$97,Poängberäkning!$C$6:$C$97)","v":0},null,{"$f":"LOOKUP(M53,Poängberäkning!$B$6:$B$97,Poängberäkning!$C$6:$C$97)","v":0},null,{"$f":"LOOKUP(O53,Poängberäkning!$B$6:$B$97,Poängberäkning!$C$6:$C$97)","v":0},20,{"$f":"LOOKUP(Q53,[1]Poängberäkning!$B$6:$B$97,[1]Poängberäkning!$C$6:$C$97)","v":31},99,{"$f":"LOOKUP(S53,[1]Poängberäkning!$B$6:$B$97,[1]Poängberäkning!$C$6:$C$97)","v":0},null,{"$f":"LOOKUP(U53,[1]Poängberäkning!$B$6:$B$97,[1]Poängberäkning!$C$6:$C$97)","v":0},null,{"$f":"LOOKUP(W53,[1]Poängberäkning!$B$6:$B$97,[1]Poängberäkning!$C$6:$C$97)","v":0},{"$f":"LARGE(($H53,$J53,$L53,$N53,$P53,$R53,$T53,$V53,$X53),1)","v":31},{"$f":"LARGE(($H53,$J53,$L53,$N53,$P53,$R53,$T53,$V53,$X53),2)","v":0},{"$f":"LARGE(($H53,$J53,$L53,$N53,$P53,$R53,$T53,$V53,$X53),3)","v":0},{"$f":"LARGE(($H53,$J53,$L53,$N53,$P53,$R53,$T53,$V53,$X53),4)","v":0},{"$f":"LARGE(($H53,$J53,$L53,$N53,$P53,$R53,$T53,$V53,$X53),5)","v":0},{"$f":"LARGE(($H53,$J53,$L53,$N53,$P53,$R53,$T53,$V53,$X53),6)","v":0},{"$f":"LARGE(($H53,$J53,$L53,$N53,$P53,$R53,$T53,$V53,$X53),7)","v":0},{"$f":"LARGE(($H53,$J53,$L53,$N53,$P53,$R53,$T53,$V53,$X53),8)","v":0},{"$f":"LARGE(($H53,$J53,$L53,$N53,$P53,$R53,$T53,$V53,$X53),9)","v":0}]
[50,1998,"TÖRNQVIST David","IFK Borlänge",28,28,null,{"$f":"LOOKUP(G54,Poängberäkning!$B$6:$B$97,Poängberäkning!$C$6:$C$97)","v":0},null,{"$f":"LOOKUP(I54,Poängberäkning!$B$6:$B$97,Poängberäkning!$C$6:$C$97)","v":0},null,{"$f":"LOOKUP(K54,Poängberäkning!$B$6:$B$97,Poängberäkning!$C$6:$C$97)","v":0},null,{"$f":"LOOKUP(M54,Poängberäkning!$B$6:$B$97,Poängberäkning!$C$6:$C$97)","v":0},null,{"$f":"LOOKUP(O54,Poängberäkning!$B$6:$B$97,Poängberäkning!$C$6:$C$97)","v":0},23,{"$f":"LOOKUP(Q54,[1]Poängberäkning!$B$6:$B$97,[1]Poängberäkning!$C$6:$C$97)","v":28},99,{"$f":"LOOKUP(S54,[1]Poängberäkning!$B$6:$B$97,[1]Poängberäkning!$C$6:$C$97)","v":0},null,{"$f":"LOOKUP(U54,[1]Poängberäkning!$B$6:$B$97,[1]Poängberäkning!$C$6:$C$97)","v":0},null,{"$f":"LOOKUP(W54,[1]Poängberäkning!$B$6:$B$97,[1]Poängberäkning!$C$6:$C$97)","v":0},{"$f":"LARGE(($H54,$J54,$L54,$N54,$P54,$R54,$T54,$V54,$X54),1)","v":28},{"$f":"LARGE(($H54,$J54,$L54,$N54,$P54,$R54,$T54,$V54,$X54),2)","v":0},{"$f":"LARGE(($H54,$J54,$L54,$N54,$P54,$R54,$T54,$V54,$X54),3)","v":0},{"$f":"LARGE(($H54,$J54,$L54,$N54,$P54,$R54,$T54,$V54,$X54),4)","v":0},{"$f":"LARGE(($H54,$J54,$L54,$N54,$P54,$R54,$T54,$V54,$X54),5)","v":0},{"$f":"LARGE(($H54,$J54,$L54,$N54,$P54,$R54,$T54,$V54,$X54),6)","v":0},{"$f":"LARGE(($H54,$J54,$L54,$N54,$P54,$R54,$T54,$V54,$X54),7)","v":0},{"$f":"LARGE(($H54,$J54,$L54,$N54,$P54,$R54,$T54,$V54,$X54),8)","v":0},{"$f":"LARGE(($H54,$J54,$L54,$N54,$P54,$R54,$T54,$V54,$X54),9)","v":0}]
[51,1999,"BERGMAN Jakob","IFK Falun",23,23,null,{"$f":"LOOKUP(G55,Poängberäkning!$B$6:$B$97,Poängberäkning!$C$6:$C$97)","v":0},null,{"$f":"LOOKUP(I55,Poängberäkning!$B$6:$B$97,Poängberäkning!$C$6:$C$97)","v":0},null,{"$f":"LOOKUP(K55,Poängberäkning!$B$6:$B$97,Poängberäkning!$C$6:$C$97)","v":0},null,{"$f":"LOOKUP(M55,Poängberäkning!$B$6:$B$97,Poängberäkning!$C$6:$C$97)","v":0},null,{"$f":"LOOKUP(O55,Poängberäkning!$B$6:$B$97,Poängberäkning!$C$6:$C$97)","v":0},43,{"$f":"LOOKUP(Q55,[1]Poängberäkning!$B$6:$B$97,[1]Poängberäkning!$C$6:$C$97)","v":8},36,{"$f":"LOOKUP(S55,[1]Poängberäkning!$B$6:$B$97,[1]Poängberäkning!$C$6:$C$97)","v":15},null,{"$f":"LOOKUP(U55,[1]Poängberäkning!$B$6:$B$97,[1]Poängberäkning!$C$6:$C$97)","v":0},null,{"$f":"LOOKUP(W55,[1]Poängberäkning!$B$6:$B$97,[1]Poängberäkning!$C$6:$C$97)","v":0},{"$f":"LARGE(($H55,$J55,$L55,$N55,$P55,$R55,$T55,$V55,$X55),1)","v":15},{"$f":"LARGE(($H55,$J55,$L55,$N55,$P55,$R55,$T55,$V55,$X55),2)","v":8},{"$f":"LARGE(($H55,$J55,$L55,$N55,$P55,$R55,$T55,$V55,$X55),3)","v":0},{"$f":"LARGE(($H55,$J55,$L55,$N55,$P55,$R55,$T55,$V55,$X55),4)","v":0},{"$f":"LARGE(($H55,$J55,$L55,$N55,$P55,$R55,$T55,$V55,$X55),5)","v":0},{"$f":"LARGE(($H55,$J55,$L55,$N55,$P55,$R55,$T55,$V55,$X55),6)","v":0},{"$f":"LARGE(($H55,$J55,$L55,$N55,$P55,$R55,$T55,$V55,$X55),7)","v":0},{"$f":"LARGE(($H55,$J55,$L55,$N55,$P55,$R55,$T55,$V55,$X55),8)","v":0},{"$f":"LARGE(($H55,$J55,$L55,$N55,$P55,$R55,$T55,$V55,$X55),9)","v":0}]
[52,1998,"AXELSSON Adam","Avesta AK",22,22,null,{"$f":"LOOKUP(G56,Poängberäkning!$B$6:$B$97,Poängberäkning!$C$6:$C$97)","v":0},null,{"$f":"LOOKUP(I56,Poängberäkning!$B$6:$B$97,Poängberäkning!$C$6:$C$97)","v":0},null,{"$f":"LOOKUP(K56,Poängberäkning!$B$6:$B$97,Poängberäkning!$C$6:$C$97)","v":0},null,{"$f":"LOOKUP(M56,Poängberäkning!$B$6:$B$97,Poängberäkning!$C$6:$C$97)","v":0},null,{"$f":"LOOKUP(O56,Poängberäkning!$B$6:$B$97,Poängberäkning!$C$6:$C$97)","v":0},41,{"$f":"LOOKUP(Q56,[1]Poängberäkning!$B$6:$B$97,[1]Poängberäkning!$C$6:$C$97)","v":10},39,{"$f":"LOOKUP(S56,[1]Poängberäkning!$B$6:$B$97,[1]Poängberäkning!$C$6:$C$97)","v":12},null,{"$f":"LOOKUP(U56,[1]Poängberäkning!$B$6:$B$97,[1]Poängberäkning!$C$6:$C$97)","v":0},null,{"$f":"LOOKUP(W56,[1]Poängberäkning!$B$6:$B$97,[1]Poängberäkning!$C$6:$C$97)","v":0},{"$f":"LARGE(($H56,$J56,$L56,$N56,$P56,$R56,$T56,$V56,$X56),1)","v":12},{"$f":"LARGE(($H56,$J56,$L56,$N56,$P56,$R56,$T56,$V56,$X56),2)","v":10},{"$f":"LARGE(($H56,$J56,$L56,$N56,$P56,$R56,$T56,$V56,$X56),3)","v":0},{"$f":"LARGE(($H56,$J56,$L56,$N56,$P56,$R56,$T56,$V56,$X56),4)","v":0},{"$f":"LARGE(($H56,$J56,$L56,$N56,$P56,$R56,$T56,$V56,$X56),5)","v":0},{"$f":"LARGE(($H56,$J56,$L56,$N56,$P56,$R56,$T56,$V56,$X56),6)","v":0},{"$f":"LARGE(($H56,$J56,$L56,$N56,$P56,$R56,$T56,$V56,$X56),7)","v":0},{"$f":"LARGE(($H56,$J56,$L56,$N56,$P56,$R56,$T56,$V56,$X56),8)","v":0},{"$f":"LARGE(($H56,$J56,$L56,$N56,$P56,$R56,$T56,$V56,$X56),9)","v":0}]
[53,1999,"SJÖSTRAND Oscar","Åre SLK",22,22,null,{"$f":"LOOKUP(G57,Poängberäkning!$B$6:$B$97,Poängberäkning!$C$6:$C$97)","v":0},null,{"$f":"LOOKUP(I57,Poängberäkning!$B$6:$B$97,Poängberäkning!$C$6:$C$97)","v":0},null,{"$f":"LOOKUP(K57,Poängberäkning!$B$6:$B$97,Poängberäkning!$C$6:$C$97)","v":0},null,{"$f":"LOOKUP(M57,Poängberäkning!$B$6:$B$97,Poängberäkning!$C$6:$C$97)","v":0},null,{"$f":"LOOKUP(O57,Poängberäkning!$B$6:$B$97,Poängberäkning!$C$6:$C$97)","v":0},99,{"$f":"LOOKUP(Q57,[1]Poängberäkning!$B$6:$B$97,[1]Poängberäkning!$C$6:$C$97)","v":0},29,{"$f":"LOOKUP(S57,[1]Poängberäkning!$B$6:$B$97,[1]Poängberäkning!$C$6:$C$97)","v":22},null,{"$f":"LOOKUP(U57,[1]Poängberäkning!$B$6:$B$97,[1]Poängberäkning!$C$6:$C$97)","v":0},null,{"$f":"LOOKUP(W57,[1]Poängberäkning!$B$6:$B$97,[1]Poängberäkning!$C$6:$C$97)","v":0},{"$f":"LARGE(($H57,$J57,$L57,$N57,$P57,$R57,$T57,$V57,$X57),1)","v":22},{"$f":"LARGE(($H57,$J57,$L57,$N57,$P57,$R57,$T57,$V57,$X57),2)","v":0},{"$f":"LARGE(($H57,$J57,$L57,$N57,$P57,$R57,$T57,$V57,$X57),3)","v":0},{"$f":"LARGE(($H57,$J57,$L57,$N57,$P57,$R57,$T57,$V57,$X57),4)","v":0},{"$f":"LARGE(($H57,$J57,$L57,$N57,$P57,$R57,$T57,$V57,$X57),5)","v":0},{"$f":"LARGE(($H57,$J57,$L57,$N57,$P57,$R57,$T57,$V57,$X57),6)","v":0},{"$f":"LARGE(($H57,$J57,$L57,$N57,$P57,$R57,$T57,$V57,$X57),7)","v":0},{"$f":"LARGE(($H57,$J57,$L57,$N57,$P57,$R57,$T57,$V57,$X57),8)","v":0},{"$f":"LARGE(($H57,$J57,$L57,$N57,$P57,$R57,$T57,$V57,$X57),9)","v":0}]
[54,1999,"AXELSSON Fredrik","Karlstads SLK",19,19,null,{"$f":"LOOKUP(G58,Poängberäkning!$B$6:$B$97,Poängberäkning!$C$6:$C$97)","v":0},null,{"$f":"LOOKUP(I58,Poängberäkning!$B$6:$B$97,Poängberäkning!$C$6:$C$97)","v":0},null,{"$f":"LOOKUP(K58,Poängberäkning!$B$6:$B$97,Poängberäkning!$C$6:$C$97)","v":0},null,{"$f":"LOOKUP(M58,Poängberäkning!$B$6:$B$97,Poängberäkning!$C$6:$C$97)","v":0},null,{"$f":"LOOKUP(O58,Poängberäkning!$B$6:$B$97,Poängberäkning!$C$6:$C$97)","v":0},32,{"$f":"LOOKUP(Q58,[1]Poängberäkning!$B$6:$B$97,[1]Poängberäkning!$C$6:$C$97)","v":19},99,{"$f":"LOOKUP(S58,[1]Poängberäkning!$B$6:$B$97,[1]Poängberäkning!$C$6:$C$97)","v":0},null,{"$f":"LOOKUP(U58,[1]Poängberäkning!$B$6:$B$97,[1]Poängberäkning!$C$6:$C$97)","v":0},null,{"$f":"LOOKUP(W58,[1]Poängberäkning!$B$6:$B$97,[1]Poängberäkning!$C$6:$C$97)","v":0},{"$f":"LARGE(($H58,$J58,$L58,$N58,$P58,$R58,$T58,$V58,$X58),1)","v":19},{"$f":"LARGE(($H58,$J58,$L58,$N58,$P58,$R58,$T58,$V58,$X58),2)","v":0},{"$f":"LARGE(($H58,$J58,$L58,$N58,$P58,$R58,$T58,$V58,$X58),3)","v":0},{"$f":"LARGE(($H58,$J58,$L58,$N58,$P58,$R58,$T58,$V58,$X58),4)","v":0},{"$f":"LARGE(($H58,$J58,$L58,$N58,$P58,$R58,$T58,$V58,$X58),5)","v":0},{"$f":"LARGE(($H58,$J58,$L58,$N58,$P58,$R58,$T58,$V58,$X58),6)","v":0},{"$f":"LARGE(($H58,$J58,$L58,$N58,$P58,$R58,$T58,$V58,$X58),7)","v":0},{"$f":"LARGE(($H58,$J58,$L58,$N58,$P58,$R58,$T58,$V58,$X58),8)","v":0},{"$f":"LARGE(($H58,$J58,$L58,$N58,$P58,$R58,$T58,$V58,$X58),9)","v":0}]
[55,1997,"KINDBERG Alfred","Kils SLK",19,19,null,{"$f":"LOOKUP(G59,Poängberäkning!$B$6:$B$97,Poängberäkning!$C$6:$C$97)","v":0},null,{"$f":"LOOKUP(I59,Poängberäkning!$B$6:$B$97,Poängberäkning!$C$6:$C$97)","v":0},null,{"$f":"LOOKUP(K59,Poängberäkning!$B$6:$B$97,Poängberäkning!$C$6:$C$97)","v":0},null,{"$f":"LOOKUP(M59,Poängberäkning!$B$6:$B$97,Poängberäkning!$C$6:$C$97)","v":0},null,{"$f":"LOOKUP(O59,Poängberäkning!$B$6:$B$97,Poängberäkning!$C$6:$C$97)","v":0},46,{"$f":"LOOKUP(Q59,[1]Poängberäkning!$B$6:$B$97,[1]Poängberäkning!$C$6:$C$97)","v":5},37,{"$f":"LOOKUP(S59,[1]Poängberäkning!$B$6:$B$97,[1]Poängberäkning!$C$6:$C$97)","v":14},null,{"$f":"LOOKUP(U59,[1]Poängberäkning!$B$6:$B$97,[1]Poängberäkning!$C$6:$C$97)","v":0},null,{"$f":"LOOKUP(W59,[1]Poängberäkning!$B$6:$B$97,[1]Poängberäkning!$C$6:$C$97)","v":0},{"$f":"LARGE(($H59,$J59,$L59,$N59,$P59,$R59,$T59,$V59,$X59),1)","v":14},{"$f":"LARGE(($H59,$J59,$L59,$N59,$P59,$R59,$T59,$V59,$X59),2)","v":5},{"$f":"LARGE(($H59,$J59,$L59,$N59,$P59,$R59,$T59,$V59,$X59),3)","v":0},{"$f":"LARGE(($H59,$J59,$L59,$N59,$P59,$R59,$T59,$V59,$X59),4)","v":0},{"$f":"LARGE(($H59,$J59,$L59,$N59,$P59,$R59,$T59,$V59,$X59),5)","v":0},{"$f":"LARGE(($H59,$J59,$L59,$N59,$P59,$R59,$T59,$V59,$X59),6)","v":0},{"$f":"LARGE(($H59,$J59,$L59,$N59,$P59,$R59,$T59,$V59,$X59),7)","v":0},{"$f":"LARGE(($H59,$J59,$L59,$N59,$P59,$R59,$T59,$V59,$X59),8)","v":0},{"$f":"LARGE(($H59,$J59,$L59,$N59,$P59,$R59,$T59,$V59,$X59),9)","v":0}]
[56,1998,"WICKBERS Pontus","Bollnäs AK",18,18,null,{"$f":"LOOKUP(G60,Poängberäkning!$B$6:$B$97,Poängberäkning!$C$6:$C$97)","v":0},null,{"$f":"LOOKUP(I60,Poängberäkning!$B$6:$B$97,Poängberäkning!$C$6:$C$97)","v":0},null,{"$f":"LOOKUP(K60,Poängberäkning!$B$6:$B$97,Poängberäkning!$C$6:$C$97)","v":0},null,{"$f":"LOOKUP(M60,Poängberäkning!$B$6:$B$97,Poängberäkning!$C$6:$C$97)","v":0},null,{"$f":"LOOKUP(O60,Poängberäkning!$B$6:$B$97,Poängberäkning!$C$6:$C$97)","v":0},99,{"$f":"LOOKUP(Q60,[1]Poängberäkning!$B$6:$B$97,[1]Poängberäkning!$C$6:$C$97)","v":0},33,{"$f":"LOOKUP(S60,[1]Poängberäkning!$B$6:$B$97,[1]Poängberäkning!$C$6:$C$97)","v":18},null,{"$f":"LOOKUP(U60,[1]Poängberäkning!$B$6:$B$97,[1]Poängberäkning!$C$6:$C$97)","v":0},null,{"$f":"LOOKUP(W60,[1]Poängberäkning!$B$6:$B$97,[1]Poängberäkning!$C$6:$C$97)","v":0},{"$f":"LARGE(($H60,$J60,$L60,$N60,$P60,$R60,$T60,$V60,$X60),1)","v":18},{"$f":"LARGE(($H60,$J60,$L60,$N60,$P60,$R60,$T60,$V60,$X60),2)","v":0},{"$f":"LARGE(($H60,$J60,$L60,$N60,$P60,$R60,$T60,$V60,$X60),3)","v":0},{"$f":"LARGE(($H60,$J60,$L60,$N60,$P60,$R60,$T60,$V60,$X60),4)","v":0},{"$f":"LARGE(($H60,$J60,$L60,$N60,$P60,$R60,$T60,$V60,$X60),5)","v":0},{"$f":"LARGE(($H60,$J60,$L60,$N60,$P60,$R60,$T60,$V60,$X60),6)","v":0},{"$f":"LARGE(($H60,$J60,$L60,$N60,$P60,$R60,$T60,$V60,$X60),7)","v":0},{"$f":"LARGE(($H60,$J60,$L60,$N60,$P60,$R60,$T60,$V60,$X60),8)","v":0},{"$f":"LARGE(($H60,$J60,$L60,$N60,$P60,$R60,$T60,$V60,$X60),9)","v":0}]
[57,1998,"ANTFOLK Alexander","IFK Borlänge",17,17,null,{"$f":"LOOKUP(G61,Poängberäkning!$B$6:$B$97,Poängberäkning!$C$6:$C$97)","v":0},null,{"$f":"LOOKUP(I61,Poängberäkning!$B$6:$B$97,Poängberäkning!$C$6:$C$97)","v":0},null,{"$f":"LOOKUP(K61,Poängberäkning!$B$6:$B$97,Poängberäkning!$C$6:$C$97)","v":0},null,{"$f":"LOOKUP(M61,Poängberäkning!$B$6:$B$97,Poängberäkning!$C$6:$C$97)","v":0},null,{"$f":"LOOKUP(O61,Poängberäkning!$B$6:$B$97,Poängberäkning!$C$6:$C$97)","v":0},34,{"$f":"LOOKUP(Q61,[1]Poängberäkning!$B$6:$B$97,[1]Poängberäkning!$C$6:$C$97)","v":17},99,{"$f":"LOOKUP(S61,[1]Poängberäkning!$B$6:$B$97,[1]Poängberäkning!$C$6:$C$97)","v":0},null,{"$f":"LOOKUP(U61,[1]Poängberäkning!$B$6:$B$97,[1]Poängberäkning!$C$6:$C$97)","v":0},null,{"$f":"LOOKUP(W61,[1]Poängberäkning!$B$6:$B$97,[1]Poängberäkning!$C$6:$C$97)","v":0},{"$f":"LARGE(($H61,$J61,$L61,$N61,$P61,$R61,$T61,$V61,$X61),1)","v":17},{"$f":"LARGE(($H61,$J61,$L61,$N61,$P61,$R61,$T61,$V61,$X61),2)","v":0},{"$f":"LARGE(($H61,$J61,$L61,$N61,$P61,$R61,$T61,$V61,$X61),3)","v":0},{"$f":"LARGE(($H61,$J61,$L61,$N61,$P61,$R61,$T61,$V61,$X61),4)","v":0},{"$f":"LARGE(($H61,$J61,$L61,$N61,$P61,$R61,$T61,$V61,$X61),5)","v":0},{"$f":"LARGE(($H61,$J61,$L61,$N61,$P61,$R61,$T61,$V61,$X61),6)","v":0},{"$f":"LARGE(($H61,$J61,$L61,$N61,$P61,$R61,$T61,$V61,$X61),7)","v":0},{"$f":"LARGE(($H61,$J61,$L61,$N61,$P61,$R61,$T61,$V61,$X61),8)","v":0},{"$f":"LARGE(($H61,$J61,$L61,$N61,$P61,$R61,$T61,$V61,$X61),9)","v":0}]
[58,1999,"THERNSTRÖM Tobias","Sollentuna SLK",17,17,null,{"$f":"LOOKUP(G62,Poängberäkning!$B$6:$B$97,Poängberäkning!$C$6:$C$97)","v":0},null,{"$f":"LOOKUP(I62,Poängberäkning!$B$6:$B$97,Poängberäkning!$C$6:$C$97)","v":0},null,{"$f":"LOOKUP(K62,Poängberäkning!$B$6:$B$97,Poängberäkning!$C$6:$C$97)","v":0},99,{"$f":"LOOKUP(M62,Poängberäkning!$B$6:$B$97,Poängberäkning!$C$6:$C$97)","v":0},null,{"$f":"LOOKUP(O62,Poängberäkning!$B$6:$B$97,Poängberäkning!$C$6:$C$97)","v":0},99,{"$f":"LOOKUP(Q62,[1]Poängberäkning!$B$6:$B$97,[1]Poängberäkning!$C$6:$C$97)","v":0},34,{"$f":"LOOKUP(S62,[1]Poängberäkning!$B$6:$B$97,[1]Poängberäkning!$C$6:$C$97)","v":17},null,{"$f":"LOOKUP(U62,[1]Poängberäkning!$B$6:$B$97,[1]Poängberäkning!$C$6:$C$97)","v":0},null,{"$f":"LOOKUP(W62,[1]Poängberäkning!$B$6:$B$97,[1]Poängberäkning!$C$6:$C$97)","v":0},{"$f":"LARGE(($H62,$J62,$L62,$N62,$P62,$R62,$T62,$V62,$X62),1)","v":17},{"$f":"LARGE(($H62,$J62,$L62,$N62,$P62,$R62,$T62,$V62,$X62),2)","v":0},{"$f":"LARGE(($H62,$J62,$L62,$N62,$P62,$R62,$T62,$V62,$X62),3)","v":0},{"$f":"LARGE(($H62,$J62,$L62,$N62,$P62,$R62,$T62,$V62,$X62),4)","v":0},{"$f":"LARGE(($H62,$J62,$L62,$N62,$P62,$R62,$T62,$V62,$X62),5)","v":0},{"$f":"LARGE(($H62,$J62,$L62,$N62,$P62,$R62,$T62,$V62,$X62),6)","v":0},{"$f":"LARGE(($H62,$J62,$L62,$N62,$P62,$R62,$T62,$V62,$X62),7)","v":0},{"$f":"LARGE(($H62,$J62,$L62,$N62,$P62,$R62,$T62,$V62,$X62),8)","v":0},{"$f":"LARGE(($H62,$J62,$L62,$N62,$P62,$R62,$T62,$V62,$X62),9)","v":0}]
[59,1997,"HEDBERG Filip","IFK Falun",16,16,null,{"$f":"LOOKUP(G63,Poängberäkning!$B$6:$B$97,Poängberäkning!$C$6:$C$97)","v":0},null,{"$f":"LOOKUP(I63,Poängberäkning!$B$6:$B$97,Poängberäkning!$C$6:$C$97)","v":0},null,{"$f":"LOOKUP(K63,Poängberäkning!$B$6:$B$97,Poängberäkning!$C$6:$C$97)","v":0},null,{"$f":"LOOKUP(M63,Poängberäkning!$B$6:$B$97,Poängberäkning!$C$6:$C$97)","v":0},null,{"$f":"LOOKUP(O63,Poängberäkning!$B$6:$B$97,Poängberäkning!$C$6:$C$97)","v":0},48,{"$f":"LOOKUP(Q63,[1]Poängberäkning!$B$6:$B$97,[1]Poängberäkning!$C$6:$C$97)","v":3},38,{"$f":"LOOKUP(S63,[1]Poängberäkning!$B$6:$B$97,[1]Poängberäkning!$C$6:$C$97)","v":13},null,{"$f":"LOOKUP(U63,[1]Poängberäkning!$B$6:$B$97,[1]Poängberäkning!$C$6:$C$97)","v":0},null,{"$f":"LOOKUP(W63,[1]Poängberäkning!$B$6:$B$97,[1]Poängberäkning!$C$6:$C$97)","v":0},{"$f":"LARGE(($H63,$J63,$L63,$N63,$P63,$R63,$T63,$V63,$X63),1)","v":13},{"$f":"LARGE(($H63,$J63,$L63,$N63,$P63,$R63,$T63,$V63,$X63),2)","v":3},{"$f":"LARGE(($H63,$J63,$L63,$N63,$P63,$R63,$T63,$V63,$X63),3)","v":0},{"$f":"LARGE(($H63,$J63,$L63,$N63,$P63,$R63,$T63,$V63,$X63),4)","v":0},{"$f":"LARGE(($H63,$J63,$L63,$N63,$P63,$R63,$T63,$V63,$X63),5)","v":0},{"$f":"LARGE(($H63,$J63,$L63,$N63,$P63,$R63,$T63,$V63,$X63),6)","v":0},{"$f":"LARGE(($H63,$J63,$L63,$N63,$P63,$R63,$T63,$V63,$X63),7)","v":0},{"$f":"LARGE(($H63,$J63,$L63,$N63,$P63,$R63,$T63,$V63,$X63),8)","v":0},{"$f":"LARGE(($H63,$J63,$L63,$N63,$P63,$R63,$T63,$V63,$X63),9)","v":0}]
[60,1997,"ISRAELSSON Felix","Tunafors SK",16,16,null,{"$f":"LOOKUP(G64,Poängberäkning!$B$6:$B$97,Poängberäkning!$C$6:$C$97)","v":0},null,{"$f":"LOOKUP(I64,Poängberäkning!$B$6:$B$97,Poängberäkning!$C$6:$C$97)","v":0},null,{"$f":"LOOKUP(K64,Poängberäkning!$B$6:$B$97,Poängberäkning!$C$6:$C$97)","v":0},null,{"$f":"LOOKUP(M64,Poängberäkning!$B$6:$B$97,Poängberäkning!$C$6:$C$97)","v":0},null,{"$f":"LOOKUP(O64,Poängberäkning!$B$6:$B$97,Poängberäkning!$C$6:$C$97)","v":0},99,{"$f":"LOOKUP(Q64,[1]Poängberäkning!$B$6:$B$97,[1]Poängberäkning!$C$6:$C$97)","v":0},35,{"$f":"LOOKUP(S64,[1]Poängberäkning!$B$6:$B$97,[1]Poängberäkning!$C$6:$C$97)","v":16},null,{"$f":"LOOKUP(U64,[1]Poängberäkning!$B$6:$B$97,[1]Poängberäkning!$C$6:$C$97)","v":0},null,{"$f":"LOOKUP(W64,[1]Poängberäkning!$B$6:$B$97,[1]Poängberäkning!$C$6:$C$97)","v":0},{"$f":"LARGE(($H64,$J64,$L64,$N64,$P64,$R64,$T64,$V64,$X64),1)","v":16},{"$f":"LARGE(($H64,$J64,$L64,$N64,$P64,$R64,$T64,$V64,$X64),2)","v":0},{"$f":"LARGE(($H64,$J64,$L64,$N64,$P64,$R64,$T64,$V64,$X64),3)","v":0},{"$f":"LARGE(($H64,$J64,$L64,$N64,$P64,$R64,$T64,$V64,$X64),4)","v":0},{"$f":"LARGE(($H64,$J64,$L64,$N64,$P64,$R64,$T64,$V64,$X64),5)","v":0},{"$f":"LARGE(($H64,$J64,$L64,$N64,$P64,$R64,$T64,$V64,$X64),6)","v":0},{"$f":"LARGE(($H64,$J64,$L64,$N64,$P64,$R64,$T64,$V64,$X64),7)","v":0},{"$f":"LARGE(($H64,$J64,$L64,$N64,$P64,$R64,$T64,$V64,$X64),8)","v":0},{"$f":"LARGE(($H64,$J64,$L64,$N64,$P64,$R64,$T64,$V64,$X64),9)","v":0}]
[61,1997,"BÜLOW Philip","Mullsjö Alpina SK",12,12,null,{"$f":"LOOKUP(G65,Poängberäkning!$B$6:$B$97,Poängberäkning!$C$6:$C$97)","v":0},null,{"$f":"LOOKUP(I65,Poängberäkning!$B$6:$B$97,Poängberäkning!$C$6:$C$97)","v":0},null,{"$f":"LOOKUP(K65,Poängberäkning!$B$6:$B$97,Poängberäkning!$C$6:$C$97)","v":0},null,{"$f":"LOOKUP(M65,Poängberäkning!$B$6:$B$97,Poängberäkning!$C$6:$C$97)","v":0},null,{"$f":"LOOKUP(O65,Poängberäkning!$B$6:$B$97,Poängberäkning!$C$6:$C$97)","v":0},50,{"$f":"LOOKUP(Q65,[1]Poängberäkning!$B$6:$B$97,[1]Poängberäkning!$C$6:$C$97)","v":1},40,{"$f":"LOOKUP(S65,[1]Poängberäkning!$B$6:$B$97,[1]Poängberäkning!$C$6:$C$97)","v":11},null,{"$f":"LOOKUP(U65,[1]Poängberäkning!$B$6:$B$97,[1]Poängberäkning!$C$6:$C$97)","v":0},null,{"$f":"LOOKUP(W65,[1]Poängberäkning!$B$6:$B$97,[1]Poängberäkning!$C$6:$C$97)","v":0},{"$f":"LARGE(($H65,$J65,$L65,$N65,$P65,$R65,$T65,$V65,$X65),1)","v":11},{"$f":"LARGE(($H65,$J65,$L65,$N65,$P65,$R65,$T65,$V65,$X65),2)","v":1},{"$f":"LARGE(($H65,$J65,$L65,$N65,$P65,$R65,$T65,$V65,$X65),3)","v":0},{"$f":"LARGE(($H65,$J65,$L65,$N65,$P65,$R65,$T65,$V65,$X65),4)","v":0},{"$f":"LARGE(($H65,$J65,$L65,$N65,$P65,$R65,$T65,$V65,$X65),5)","v":0},{"$f":"LARGE(($H65,$J65,$L65,$N65,$P65,$R65,$T65,$V65,$X65),6)","v":0},{"$f":"LARGE(($H65,$J65,$L65,$N65,$P65,$R65,$T65,$V65,$X65),7)","v":0},{"$f":"LARGE(($H65,$J65,$L65,$N65,$P65,$R65,$T65,$V65,$X65),8)","v":0},{"$f":"LARGE(($H65,$J65,$L65,$N65,$P65,$R65,$T65,$V65,$X65),9)","v":0}]
[62,1999,"RAMNÖ Simon","Järfälla AK",9,9,null,{"$f":"LOOKUP(G66,Poängberäkning!$B$6:$B$97,Poängberäkning!$C$6:$C$97)","v":0},null,{"$f":"LOOKUP(I66,Poängberäkning!$B$6:$B$97,Poängberäkning!$C$6:$C$97)","v":0},null,{"$f":"LOOKUP(K66,Poängberäkning!$B$6:$B$97,Poängberäkning!$C$6:$C$97)","v":0},null,{"$f":"LOOKUP(M66,Poängberäkning!$B$6:$B$97,Poängberäkning!$C$6:$C$97)","v":0},null,{"$f":"LOOKUP(O66,Poängberäkning!$B$6:$B$97,Poängberäkning!$C$6:$C$97)","v":0},42,{"$f":"LOOKUP(Q66,[1]Poängberäkning!$B$6:$B$97,[1]Poängberäkning!$C$6:$C$97)","v":9},99,{"$f":"LOOKUP(S66,[1]Poängberäkning!$B$6:$B$97,[1]Poängberäkning!$C$6:$C$97)","v":0},null,{"$f":"LOOKUP(U66,[1]Poängberäkning!$B$6:$B$97,[1]Poängberäkning!$C$6:$C$97)","v":0},null,{"$f":"LOOKUP(W66,[1]Poängberäkning!$B$6:$B$97,[1]Poängberäkning!$C$6:$C$97)","v":0},{"$f":"LARGE(($H66,$J66,$L66,$N66,$P66,$R66,$T66,$V66,$X66),1)","v":9},{"$f":"LARGE(($H66,$J66,$L66,$N66,$P66,$R66,$T66,$V66,$X66),2)","v":0},{"$f":"LARGE(($H66,$J66,$L66,$N66,$P66,$R66,$T66,$V66,$X66),3)","v":0},{"$f":"LARGE(($H66,$J66,$L66,$N66,$P66,$R66,$T66,$V66,$X66),4)","v":0},{"$f":"LARGE(($H66,$J66,$L66,$N66,$P66,$R66,$T66,$V66,$X66),5)","v":0},{"$f":"LARGE(($H66,$J66,$L66,$N66,$P66,$R66,$T66,$V66,$X66),6)","v":0},{"$f":"LARGE(($H66,$J66,$L66,$N66,$P66,$R66,$T66,$V66,$X66),7)","v":0},{"$f":"LARGE(($H66,$J66,$L66,$N66,$P66,$R66,$T66,$V66,$X66),8)","v":0},{"$f":"LARGE(($H66,$J66,$L66,$N66,$P66,$R66,$T66,$V66,$X66),9)","v":0}]
[63,1999,"DALMALM Oscar","Sollentuna SLK",7,7,null,{"$f":"LOOKUP(G67,Poängberäkning!$B$6:$B$97,Poängberäkning!$C$6:$C$97)","v":0},null,{"$f":"LOOKUP(I67,Poängberäkning!$B$6:$B$97,Poängberäkning!$C$6:$C$97)","v":0},null,{"$f":"LOOKUP(K67,Poängberäkning!$B$6:$B$97,Poängberäkning!$C$6:$C$97)","v":0},null,{"$f":"LOOKUP(M67,Poängberäkning!$B$6:$B$97,Poängberäkning!$C$6:$C$97)","v":0},null,{"$f":"LOOKUP(O67,Poängberäkning!$B$6:$B$97,Poängberäkning!$C$6:$C$97)","v":0},44,{"$f":"LOOKUP(Q67,[1]Poängberäkning!$B$6:$B$97,[1]Poängberäkning!$C$6:$C$97)","v":7},99,{"$f":"LOOKUP(S67,[1]Poängberäkning!$B$6:$B$97,[1]Poängberäkning!$C$6:$C$97)","v":0},null,{"$f":"LOOKUP(U67,[1]Poängberäkning!$B$6:$B$97,[1]Poängberäkning!$C$6:$C$97)","v":0},null,{"$f":"LOOKUP(W67,[1]Poängberäkning!$B$6:$B$97,[1]Poängberäkning!$C$6:$C$97)","v":0},{"$f":"LARGE(($H67,$J67,$L67,$N67,$P67,$R67,$T67,$V67,$X67),1)","v":7},{"$f":"LARGE(($H67,$J67,$L67,$N67,$P67,$R67,$T67,$V67,$X67),2)","v":0},{"$f":"LARGE(($H67,$J67,$L67,$N67,$P67,$R67,$T67,$V67,$X67),3)","v":0},{"$f":"LARGE(($H67,$J67,$L67,$N67,$P67,$R67,$T67,$V67,$X67),4)","v":0},{"$f":"LARGE(($H67,$J67,$L67,$N67,$P67,$R67,$T67,$V67,$X67),5)","v":0},{"$f":"LARGE(($H67,$J67,$L67,$N67,$P67,$R67,$T67,$V67,$X67),6)","v":0},{"$f":"LARGE(($H67,$J67,$L67,$N67,$P67,$R67,$T67,$V67,$X67),7)","v":0},{"$f":"LARGE(($H67,$J67,$L67,$N67,$P67,$R67,$T67,$V67,$X67),8)","v":0},{"$f":"LARGE(($H67,$J67,$L67,$N67,$P67,$R67,$T67,$V67,$X67),9)","v":0}]
[64,1999,"GUSTAFSSON Benjamin","Sollentuna SLK",6,6,null,{"$f":"LOOKUP(G68,Poängberäkning!$B$6:$B$97,Poängberäkning!$C$6:$C$97)","v":0},null,{"$f":"LOOKUP(I68,Poängberäkning!$B$6:$B$97,Poängberäkning!$C$6:$C$97)","v":0},null,{"$f":"LOOKUP(K68,Poängberäkning!$B$6:$B$97,Poängberäkning!$C$6:$C$97)","v":0},null,{"$f":"LOOKUP(M68,Poängberäkning!$B$6:$B$97,Poängberäkning!$C$6:$C$97)","v":0},null,{"$f":"LOOKUP(O68,Poängberäkning!$B$6:$B$97,Poängberäkning!$C$6:$C$97)","v":0},45,{"$f":"LOOKUP(Q68,[1]Poängberäkning!$B$6:$B$97,[1]Poängberäkning!$C$6:$C$97)","v":6},99,{"$f":"LOOKUP(S68,[1]Poängberäkning!$B$6:$B$97,[1]Poängberäkning!$C$6:$C$97)","v":0},null,{"$f":"LOOKUP(U68,[1]Poängberäkning!$B$6:$B$97,[1]Poängberäkning!$C$6:$C$97)","v":0},null,{"$f":"LOOKUP(W68,[1]Poängberäkning!$B$6:$B$97,[1]Poängberäkning!$C$6:$C$97)","v":0},{"$f":"LARGE(($H68,$J68,$L68,$N68,$P68,$R68,$T68,$V68,$X68),1)","v":6},{"$f":"LARGE(($H68,$J68,$L68,$N68,$P68,$R68,$T68,$V68,$X68),2)","v":0},{"$f":"LARGE(($H68,$J68,$L68,$N68,$P68,$R68,$T68,$V68,$X68),3)","v":0},{"$f":"LARGE(($H68,$J68,$L68,$N68,$P68,$R68,$T68,$V68,$X68),4)","v":0},{"$f":"LARGE(($H68,$J68,$L68,$N68,$P68,$R68,$T68,$V68,$X68),5)","v":0},{"$f":"LARGE(($H68,$J68,$L68,$N68,$P68,$R68,$T68,$V68,$X68),6)","v":0},{"$f":"LARGE(($H68,$J68,$L68,$N68,$P68,$R68,$T68,$V68,$X68),7)","v":0},{"$f":"LARGE(($H68,$J68,$L68,$N68,$P68,$R68,$T68,$V68,$X68),8)","v":0},{"$f":"LARGE(($H68,$J68,$L68,$N68,$P68,$R68,$T68,$V68,$X68),9)","v":0}]
[65,1995,"ENGBERG Niclas","Täby SLK",{"$f":"SUM(Y69:AC69)","v":0},{"$f":"H69+J69+L69+N69+P69+R69+T69+V69+X69","v":0},null,{"$f":"LOOKUP(G69,Poängberäkning!$B$6:$B$97,Poängberäkning!$C$6:$C$97)","v":0},null,{"$f":"LOOKUP(I69,Poängberäkning!$B$6:$B$97,Poängberäkning!$C$6:$C$97)","v":0},null,{"$f":"LOOKUP(K69,Poängberäkning!$B$6:$B$97,Poängberäkning!$C$6:$C$97)","v":0},null,{"$f":"LOOKUP(M69,Poängberäkning!$B$6:$B$97,Poängberäkning!$C$6:$C$97)","v":0},null,{"$f":"LOOKUP(O69,Poängberäkning!$B$6:$B$97,Poängberäkning!$C$6:$C$97)","v":0},99,{"$f":"LOOKUP(Q69,[1]Poängberäkning!$B$6:$B$97,[1]Poängberäkning!$C$6:$C$97)","v":0},99,{"$f":"LOOKUP(S69,[1]Poängberäkning!$B$6:$B$97,[1]Poängberäkning!$C$6:$C$97)","v":0},null,{"$f":"LOOKUP(U69,[1]Poängberäkning!$B$6:$B$97,[1]Poängberäkning!$C$6:$C$97)","v":0},null,{"$f":"LOOKUP(W69,[1]Poängberäkning!$B$6:$B$97,[1]Poängberäkning!$C$6:$C$97)","v":0},{"$f":"LARGE(($H69,$J69,$L69,$N69,$P69,$R69,$T69,$V69,$X69),1)","v":0},{"$f":"LARGE(($H69,$J69,$L69,$N69,$P69,$R69,$T69,$V69,$X69),2)","v":0},{"$f":"LARGE(($H69,$J69,$L69,$N69,$P69,$R69,$T69,$V69,$X69),3)","v":0},{"$f":"LARGE(($H69,$J69,$L69,$N69,$P69,$R69,$T69,$V69,$X69),4)","v":0},{"$f":"LARGE(($H69,$J69,$L69,$N69,$P69,$R69,$T69,$V69,$X69),5)","v":0},{"$f":"LARGE(($H69,$J69,$L69,$N69,$P69,$R69,$T69,$V69,$X69),6)","v":0},{"$f":"LARGE(($H69,$J69,$L69,$N69,$P69,$R69,$T69,$V69,$X69),7)","v":0},{"$f":"LARGE(($H69,$J69,$L69,$N69,$P69,$R69,$T69,$V69,$X69),8)","v":0},{"$f":"LARGE(($H69,$J69,$L69,$N69,$P69,$R69,$T69,$V69,$X69),9)","v":0}]
[66,1998,"HARDEBERG Love","IFK Lidingö Slalomklubb",0,0,null,{"$f":"LOOKUP(G70,Poängberäkning!$B$6:$B$97,Poängberäkning!$C$6:$C$97)","v":0},null,{"$f":"LOOKUP(I70,Poängberäkning!$B$6:$B$97,Poängberäkning!$C$6:$C$97)","v":0},null,{"$f":"LOOKUP(K70,Poängberäkning!$B$6:$B$97,Poängberäkning!$C$6:$C$97)","v":0},null,{"$f":"LOOKUP(M70,Poängberäkning!$B$6:$B$97,Poängberäkning!$C$6:$C$97)","v":0},null,{"$f":"LOOKUP(O70,Poängberäkning!$B$6:$B$97,Poängberäkning!$C$6:$C$97)","v":0},99,{"$f":"LOOKUP(Q70,[1]Poängberäkning!$B$6:$B$97,[1]Poängberäkning!$C$6:$C$97)","v":0},99,{"$f":"LOOKUP(S70,[1]Poängberäkning!$B$6:$B$97,[1]Poängberäkning!$C$6:$C$97)","v":0},null,{"$f":"LOOKUP(U70,[1]Poängberäkning!$B$6:$B$97,[1]Poängberäkning!$C$6:$C$97)","v":0},null,{"$f":"LOOKUP(W70,[1]Poängberäkning!$B$6:$B$97,[1]Poängberäkning!$C$6:$C$97)","v":0},{"$f":"LARGE(($H70,$J70,$L70,$N70,$P70,$R70,$T70,$V70,$X70),1)","v":0},{"$f":"LARGE(($H70,$J70,$L70,$N70,$P70,$R70,$T70,$V70,$X70),2)","v":0},{"$f":"LARGE(($H70,$J70,$L70,$N70,$P70,$R70,$T70,$V70,$X70),3)","v":0},{"$f":"LARGE(($H70,$J70,$L70,$N70,$P70,$R70,$T70,$V70,$X70),4)","v":0},{"$f":"LARGE(($H70,$J70,$L70,$N70,$P70,$R70,$T70,$V70,$X70),5)","v":0},{"$f":"LARGE(($H70,$J70,$L70,$N70,$P70,$R70,$T70,$V70,$X70),6)","v":0},{"$f":"LARGE(($H70,$J70,$L70,$N70,$P70,$R70,$T70,$V70,$X70),7)","v":0},{"$f":"LARGE(($H70,$J70,$L70,$N70,$P70,$R70,$T70,$V70,$X70),8)","v":0},{"$f":"LARGE(($H70,$J70,$L70,$N70,$P70,$R70,$T70,$V70,$X70),9)","v":0}]
[67,1997,"SEBZDA William","Järfälla AK",0,0,null,{"$f":"LOOKUP(G71,Poängberäkning!$B$6:$B$97,Poängberäkning!$C$6:$C$97)","v":0},null,{"$f":"LOOKUP(I71,Poängberäkning!$B$6:$B$97,Poängberäkning!$C$6:$C$97)","v":0},null,{"$f":"LOOKUP(K71,Poängberäkning!$B$6:$B$97,Poängberäkning!$C$6:$C$97)","v":0},null,{"$f":"LOOKUP(M71,Poängberäkning!$B$6:$B$97,Poängberäkning!$C$6:$C$97)","v":0},null,{"$f":"LOOKUP(O71,Poängberäkning!$B$6:$B$97,Poängberäkning!$C$6:$C$97)","v":0},99,{"$f":"LOOKUP(Q71,[1]Poängberäkning!$B$6:$B$97,[1]Poängberäkning!$C$6:$C$97)","v":0},99,{"$f":"LOOKUP(S71,[1]Poängberäkning!$B$6:$B$97,[1]Poängberäkning!$C$6:$C$97)","v":0},null,{"$f":"LOOKUP(U71,[1]Poängberäkning!$B$6:$B$97,[1]Poängberäkning!$C$6:$C$97)","v":0},null,{"$f":"LOOKUP(W71,[1]Poängberäkning!$B$6:$B$97,[1]Poängberäkning!$C$6:$C$97)","v":0},{"$f":"LARGE(($H71,$J71,$L71,$N71,$P71,$R71,$T71,$V71,$X71),1)","v":0},{"$f":"LARGE(($H71,$J71,$L71,$N71,$P71,$R71,$T71,$V71,$X71),2)","v":0},{"$f":"LARGE(($H71,$J71,$L71,$N71,$P71,$R71,$T71,$V71,$X71),3)","v":0},{"$f":"LARGE(($H71,$J71,$L71,$N71,$P71,$R71,$T71,$V71,$X71),4)","v":0},{"$f":"LARGE(($H71,$J71,$L71,$N71,$P71,$R71,$T71,$V71,$X71),5)","v":0},{"$f":"LARGE(($H71,$J71,$L71,$N71,$P71,$R71,$T71,$V71,$X71),6)","v":0},{"$f":"LARGE(($H71,$J71,$L71,$N71,$P71,$R71,$T71,$V71,$X71),7)","v":0},{"$f":"LARGE(($H71,$J71,$L71,$N71,$P71,$R71,$T71,$V71,$X71),8)","v":0},{"$f":"LARGE(($H71,$J71,$L71,$N71,$P71,$R71,$T71,$V71,$X71),9)","v":0}]
[{"$f":"A71+1","v":68},null,null,null,0,0,null,{"$f":"LOOKUP(G72,Poängberäkning!$B$6:$B$97,Poängberäkning!$C$6:$C$97)","v":0},null,{"$f":"LOOKUP(I72,Poängberäkning!$B$6:$B$97,Poängberäkning!$C$6:$C$97)","v":0},null,{"$f":"LOOKUP(K72,Poängberäkning!$B$6:$B$97,Poängberäkning!$C$6:$C$97)","v":0},null,{"$f":"LOOKUP(M72,Poängberäkning!$B$6:$B$97,Poängberäkning!$C$6:$C$97)","v":0},null,{"$f":"LOOKUP(O72,Poängberäkning!$B$6:$B$97,Poängberäkning!$C$6:$C$97)","v":0},null,{"$f":"LOOKUP(Q72,[1]Poängberäkning!$B$6:$B$97,[1]Poängberäkning!$C$6:$C$97)","v":0},null,{"$f":"LOOKUP(S72,[1]Poängberäkning!$B$6:$B$97,[1]Poängberäkning!$C$6:$C$97)","v":0},null,{"$f":"LOOKUP(U72,[1]Poängberäkning!$B$6:$B$97,[1]Poängberäkning!$C$6:$C$97)","v":0},null,{"$f":"LOOKUP(W72,[1]Poängberäkning!$B$6:$B$97,[1]Poängberäkning!$C$6:$C$97)","v":0},{"$f":"LARGE(($H72,$J72,$L72,$N72,$P72,$R72,$T72,$V72,$X72),1)","v":0},{"$f":"LARGE(($H72,$J72,$L72,$N72,$P72,$R72,$T72,$V72,$X72),2)","v":0},{"$f":"LARGE(($H72,$J72,$L72,$N72,$P72,$R72,$T72,$V72,$X72),3)","v":0},{"$f":"LARGE(($H72,$J72,$L72,$N72,$P72,$R72,$T72,$V72,$X72),4)","v":0},{"$f":"LARGE(($H72,$J72,$L72,$N72,$P72,$R72,$T72,$V72,$X72),5)","v":0},{"$f":"LARGE(($H72,$J72,$L72,$N72,$P72,$R72,$T72,$V72,$X72),6)","v":0},{"$f":"LARGE(($H72,$J72,$L72,$N72,$P72,$R72,$T72,$V72,$X72),7)","v":0},{"$f":"LARGE(($H72,$J72,$L72,$N72,$P72,$R72,$T72,$V72,$X72),8)","v":0},{"$f":"LARGE(($H72,$J72,$L72,$N72,$P72,$R72,$T72,$V72,$X72),9)","v":0}]
[69,null,null,null,0,0,null,{"$f":"LOOKUP(G73,Poängberäkning!$B$6:$B$97,Poängberäkning!$C$6:$C$97)","v":0},null,{"$f":"LOOKUP(I73,Poängberäkning!$B$6:$B$97,Poängberäkning!$C$6:$C$97)","v":0},null,{"$f":"LOOKUP(K73,Poängberäkning!$B$6:$B$97,Poängberäkning!$C$6:$C$97)","v":0},null,{"$f":"LOOKUP(M73,Poängberäkning!$B$6:$B$97,Poängberäkning!$C$6:$C$97)","v":0},null,{"$f":"LOOKUP(O73,Poängberäkning!$B$6:$B$97,Poängberäkning!$C$6:$C$97)","v":0},null,{"$f":"LOOKUP(Q73,[1]Poängberäkning!$B$6:$B$97,[1]Poängberäkning!$C$6:$C$97)","v":0},null,{"$f":"LOOKUP(S73,[1]Poängberäkning!$B$6:$B$97,[1]Poängberäkning!$C$6:$C$97)","v":0},null,{"$f":"LOOKUP(U73,[1]Poängberäkning!$B$6:$B$97,[1]Poängberäkning!$C$6:$C$97)","v":0},null,{"$f":"LOOKUP(W73,[1]Poängberäkning!$B$6:$B$97,[1]Poängberäkning!$C$6:$C$97)","v":0},{"$f":"LARGE(($H73,$J73,$L73,$N73,$P73,$R73,$T73,$V73,$X73),1)","v":0},{"$f":"LARGE(($H73,$J73,$L73,$N73,$P73,$R73,$T73,$V73,$X73),2)","v":0},{"$f":"LARGE(($H73,$J73,$L73,$N73,$P73,$R73,$T73,$V73,$X73),3)","v":0},{"$f":"LARGE(($H73,$J73,$L73,$N73,$P73,$R73,$T73,$V73,$X73),4)","v":0},{"$f":"LARGE(($H73,$J73,$L73,$N73,$P73,$R73,$T73,$V73,$X73),5)","v":0},{"$f":"LARGE(($H73,$J73,$L73,$N73,$P73,$R73,$T73,$V73,$X73),6)","v":0},{"$f":"LARGE(($H73,$J73,$L73,$N73,$P73,$R73,$T73,$V73,$X73),7)","v":0},{"$f":"LARGE(($H73,$J73,$L73,$N73,$P73,$R73,$T73,$V73,$X73),8)","v":0},{"$f":"LARGE(($H73,$J73,$L73,$N73,$P73,$R73,$T73,$V73,$X73),9)","v":0}]
[70,null,null,null,0,0,null,{"$f":"LOOKUP(G74,Poängberäkning!$B$6:$B$97,Poängberäkning!$C$6:$C$97)","v":0},null,{"$f":"LOOKUP(I74,Poängberäkning!$B$6:$B$97,Poängberäkning!$C$6:$C$97)","v":0},null,{"$f":"LOOKUP(K74,Poängberäkning!$B$6:$B$97,Poängberäkning!$C$6:$C$97)","v":0},null,{"$f":"LOOKUP(M74,Poängberäkning!$B$6:$B$97,Poängberäkning!$C$6:$C$97)","v":0},null,{"$f":"LOOKUP(O74,Poängberäkning!$B$6:$B$97,Poängberäkning!$C$6:$C$97)","v":0},null,{"$f":"LOOKUP(Q74,[1]Poängberäkning!$B$6:$B$97,[1]Poängberäkning!$C$6:$C$97)","v":0},null,{"$f":"LOOKUP(S74,[1]Poängberäkning!$B$6:$B$97,[1]Poängberäkning!$C$6:$C$97)","v":0},null,{"$f":"LOOKUP(U74,[1]Poängberäkning!$B$6:$B$97,[1]Poängberäkning!$C$6:$C$97)","v":0},null,{"$f":"LOOKUP(W74,[1]Poängberäkning!$B$6:$B$97,[1]Poängberäkning!$C$6:$C$97)","v":0},{"$f":"LARGE(($H74,$J74,$L74,$N74,$P74,$R74,$T74,$V74,$X74),1)","v":0},{"$f":"LARGE(($H74,$J74,$L74,$N74,$P74,$R74,$T74,$V74,$X74),2)","v":0},{"$f":"LARGE(($H74,$J74,$L74,$N74,$P74,$R74,$T74,$V74,$X74),3)","v":0},{"$f":"LARGE(($H74,$J74,$L74,$N74,$P74,$R74,$T74,$V74,$X74),4)","v":0},{"$f":"LARGE(($H74,$J74,$L74,$N74,$P74,$R74,$T74,$V74,$X74),5)","v":0},{"$f":"LARGE(($H74,$J74,$L74,$N74,$P74,$R74,$T74,$V74,$X74),6)","v":0},{"$f":"LARGE(($H74,$J74,$L74,$N74,$P74,$R74,$T74,$V74,$X74),7)","v":0},{"$f":"LARGE(($H74,$J74,$L74,$N74,$P74,$R74,$T74,$V74,$X74),8)","v":0},{"$f":"LARGE(($H74,$J74,$L74,$N74,$P74,$R74,$T74,$V74,$X74),9)","v":0}]
[71,null,null,null,0,0,null,{"$f":"LOOKUP(G75,Poängberäkning!$B$6:$B$97,Poängberäkning!$C$6:$C$97)","v":0},null,{"$f":"LOOKUP(I75,Poängberäkning!$B$6:$B$97,Poängberäkning!$C$6:$C$97)","v":0},null,{"$f":"LOOKUP(K75,Poängberäkning!$B$6:$B$97,Poängberäkning!$C$6:$C$97)","v":0},null,{"$f":"LOOKUP(M75,Poängberäkning!$B$6:$B$97,Poängberäkning!$C$6:$C$97)","v":0},null,{"$f":"LOOKUP(O75,Poängberäkning!$B$6:$B$97,Poängberäkning!$C$6:$C$97)","v":0},null,{"$f":"LOOKUP(Q75,[1]Poängberäkning!$B$6:$B$97,[1]Poängberäkning!$C$6:$C$97)","v":0},null,{"$f":"LOOKUP(S75,[1]Poängberäkning!$B$6:$B$97,[1]Poängberäkning!$C$6:$C$97)","v":0},null,{"$f":"LOOKUP(U75,[1]Poängberäkning!$B$6:$B$97,[1]Poängberäkning!$C$6:$C$97)","v":0},null,{"$f":"LOOKUP(W75,[1]Poängberäkning!$B$6:$B$97,[1]Poängberäkning!$C$6:$C$97)","v":0},{"$f":"LARGE(($H75,$J75,$L75,$N75,$P75,$R75,$T75,$V75,$X75),1)","v":0},{"$f":"LARGE(($H75,$J75,$L75,$N75,$P75,$R75,$T75,$V75,$X75),2)","v":0},{"$f":"LARGE(($H75,$J75,$L75,$N75,$P75,$R75,$T75,$V75,$X75),3)","v":0},{"$f":"LARGE(($H75,$J75,$L75,$N75,$P75,$R75,$T75,$V75,$X75),4)","v":0},{"$f":"LARGE(($H75,$J75,$L75,$N75,$P75,$R75,$T75,$V75,$X75),5)","v":0},{"$f":"LARGE(($H75,$J75,$L75,$N75,$P75,$R75,$T75,$V75,$X75),6)","v":0},{"$f":"LARGE(($H75,$J75,$L75,$N75,$P75,$R75,$T75,$V75,$X75),7)","v":0},{"$f":"LARGE(($H75,$J75,$L75,$N75,$P75,$R75,$T75,$V75,$X75),8)","v":0},{"$f":"LARGE(($H75,$J75,$L75,$N75,$P75,$R75,$T75,$V75,$X75),9)","v":0}]
[72,null,null,null,0,0,null,{"$f":"LOOKUP(G76,Poängberäkning!$B$6:$B$97,Poängberäkning!$C$6:$C$97)","v":0},null,{"$f":"LOOKUP(I76,Poängberäkning!$B$6:$B$97,Poängberäkning!$C$6:$C$97)","v":0},null,{"$f":"LOOKUP(K76,Poängberäkning!$B$6:$B$97,Poängberäkning!$C$6:$C$97)","v":0},null,{"$f":"LOOKUP(M76,Poängberäkning!$B$6:$B$97,Poängberäkning!$C$6:$C$97)","v":0},null,{"$f":"LOOKUP(O76,Poängberäkning!$B$6:$B$97,Poängberäkning!$C$6:$C$97)","v":0},null,{"$f":"LOOKUP(Q76,[1]Poängberäkning!$B$6:$B$97,[1]Poängberäkning!$C$6:$C$97)","v":0},null,{"$f":"LOOKUP(S76,[1]Poängberäkning!$B$6:$B$97,[1]Poängberäkning!$C$6:$C$97)","v":0},null,{"$f":"LOOKUP(U76,[1]Poängberäkning!$B$6:$B$97,[1]Poängberäkning!$C$6:$C$97)","v":0},null,{"$f":"LOOKUP(W76,[1]Poängberäkning!$B$6:$B$97,[1]Poängberäkning!$C$6:$C$97)","v":0},{"$f":"LARGE(($H76,$J76,$L76,$N76,$P76,$R76,$T76,$V76,$X76),1)","v":0},{"$f":"LARGE(($H76,$J76,$L76,$N76,$P76,$R76,$T76,$V76,$X76),2)","v":0},{"$f":"LARGE(($H76,$J76,$L76,$N76,$P76,$R76,$T76,$V76,$X76),3)","v":0},{"$f":"LARGE(($H76,$J76,$L76,$N76,$P76,$R76,$T76,$V76,$X76),4)","v":0},{"$f":"LARGE(($H76,$J76,$L76,$N76,$P76,$R76,$T76,$V76,$X76),5)","v":0},{"$f":"LARGE(($H76,$J76,$L76,$N76,$P76,$R76,$T76,$V76,$X76),6)","v":0},{"$f":"LARGE(($H76,$J76,$L76,$N76,$P76,$R76,$T76,$V76,$X76),7)","v":0},{"$f":"LARGE(($H76,$J76,$L76,$N76,$P76,$R76,$T76,$V76,$X76),8)","v":0},{"$f":"LARGE(($H76,$J76,$L76,$N76,$P76,$R76,$T76,$V76,$X76),9)","v":0}]
[73,null,null,null,0,0,null,{"$f":"LOOKUP(G77,Poängberäkning!$B$6:$B$97,Poängberäkning!$C$6:$C$97)","v":0},null,{"$f":"LOOKUP(I77,Poängberäkning!$B$6:$B$97,Poängberäkning!$C$6:$C$97)","v":0},null,{"$f":"LOOKUP(K77,Poängberäkning!$B$6:$B$97,Poängberäkning!$C$6:$C$97)","v":0},null,{"$f":"LOOKUP(M77,Poängberäkning!$B$6:$B$97,Poängberäkning!$C$6:$C$97)","v":0},null,{"$f":"LOOKUP(O77,Poängberäkning!$B$6:$B$97,Poängberäkning!$C$6:$C$97)","v":0},null,{"$f":"LOOKUP(Q77,[1]Poängberäkning!$B$6:$B$97,[1]Poängberäkning!$C$6:$C$97)","v":0},null,{"$f":"LOOKUP(S77,[1]Poängberäkning!$B$6:$B$97,[1]Poängberäkning!$C$6:$C$97)","v":0},null,{"$f":"LOOKUP(U77,[1]Poängberäkning!$B$6:$B$97,[1]Poängberäkning!$C$6:$C$97)","v":0},null,{"$f":"LOOKUP(W77,[1]Poängberäkning!$B$6:$B$97,[1]Poängberäkning!$C$6:$C$97)","v":0},{"$f":"LARGE(($H77,$J77,$L77,$N77,$P77,$R77,$T77,$V77,$X77),1)","v":0},{"$f":"LARGE(($H77,$J77,$L77,$N77,$P77,$R77,$T77,$V77,$X77),2)","v":0},{"$f":"LARGE(($H77,$J77,$L77,$N77,$P77,$R77,$T77,$V77,$X77),3)","v":0},{"$f":"LARGE(($H77,$J77,$L77,$N77,$P77,$R77,$T77,$V77,$X77),4)","v":0},{"$f":"LARGE(($H77,$J77,$L77,$N77,$P77,$R77,$T77,$V77,$X77),5)","v":0},{"$f":"LARGE(($H77,$J77,$L77,$N77,$P77,$R77,$T77,$V77,$X77),6)","v":0},{"$f":"LARGE(($H77,$J77,$L77,$N77,$P77,$R77,$T77,$V77,$X77),7)","v":0},{"$f":"LARGE(($H77,$J77,$L77,$N77,$P77,$R77,$T77,$V77,$X77),8)","v":0},{"$f":"LARGE(($H77,$J77,$L77,$N77,$P77,$R77,$T77,$V77,$X77),9)","v":0}]
[74,null,null,null,0,0,null,{"$f":"LOOKUP(G78,Poängberäkning!$B$6:$B$97,Poängberäkning!$C$6:$C$97)","v":0},null,{"$f":"LOOKUP(I78,Poängberäkning!$B$6:$B$97,Poängberäkning!$C$6:$C$97)","v":0},null,{"$f":"LOOKUP(K78,Poängberäkning!$B$6:$B$97,Poängberäkning!$C$6:$C$97)","v":0},null,{"$f":"LOOKUP(M78,Poängberäkning!$B$6:$B$97,Poängberäkning!$C$6:$C$97)","v":0},null,{"$f":"LOOKUP(O78,Poängberäkning!$B$6:$B$97,Poängberäkning!$C$6:$C$97)","v":0},null,{"$f":"LOOKUP(Q78,[1]Poängberäkning!$B$6:$B$97,[1]Poängberäkning!$C$6:$C$97)","v":0},null,{"$f":"LOOKUP(S78,[1]Poängberäkning!$B$6:$B$97,[1]Poängberäkning!$C$6:$C$97)","v":0},null,{"$f":"LOOKUP(U78,[1]Poängberäkning!$B$6:$B$97,[1]Poängberäkning!$C$6:$C$97)","v":0},null,{"$f":"LOOKUP(W78,[1]Poängberäkning!$B$6:$B$97,[1]Poängberäkning!$C$6:$C$97)","v":0},{"$f":"LARGE(($H78,$J78,$L78,$N78,$P78,$R78,$T78,$V78,$X78),1)","v":0},{"$f":"LARGE(($H78,$J78,$L78,$N78,$P78,$R78,$T78,$V78,$X78),2)","v":0},{"$f":"LARGE(($H78,$J78,$L78,$N78,$P78,$R78,$T78,$V78,$X78),3)","v":0},{"$f":"LARGE(($H78,$J78,$L78,$N78,$P78,$R78,$T78,$V78,$X78),4)","v":0},{"$f":"LARGE(($H78,$J78,$L78,$N78,$P78,$R78,$T78,$V78,$X78),5)","v":0},{"$f":"LARGE(($H78,$J78,$L78,$N78,$P78,$R78,$T78,$V78,$X78),6)","v":0},{"$f":"LARGE(($H78,$J78,$L78,$N78,$P78,$R78,$T78,$V78,$X78),7)","v":0},{"$f":"LARGE(($H78,$J78,$L78,$N78,$P78,$R78,$T78,$V78,$X78),8)","v":0},{"$f":"LARGE(($H78,$J78,$L78,$N78,$P78,$R78,$T78,$V78,$X78),9)","v":0}]
[75,null,null,null,0,0,null,{"$f":"LOOKUP(G79,Poängberäkning!$B$6:$B$97,Poängberäkning!$C$6:$C$97)","v":0},null,{"$f":"LOOKUP(I79,Poängberäkning!$B$6:$B$97,Poängberäkning!$C$6:$C$97)","v":0},null,{"$f":"LOOKUP(K79,Poängberäkning!$B$6:$B$97,Poängberäkning!$C$6:$C$97)","v":0},null,{"$f":"LOOKUP(M79,Poängberäkning!$B$6:$B$97,Poängberäkning!$C$6:$C$97)","v":0},null,{"$f":"LOOKUP(O79,Poängberäkning!$B$6:$B$97,Poängberäkning!$C$6:$C$97)","v":0},null,{"$f":"LOOKUP(Q79,[1]Poängberäkning!$B$6:$B$97,[1]Poängberäkning!$C$6:$C$97)","v":0},null,{"$f":"LOOKUP(S79,[1]Poängberäkning!$B$6:$B$97,[1]Poängberäkning!$C$6:$C$97)","v":0},null,{"$f":"LOOKUP(U79,[1]Poängberäkning!$B$6:$B$97,[1]Poängberäkning!$C$6:$C$97)","v":0},null,{"$f":"LOOKUP(W79,[1]Poängberäkning!$B$6:$B$97,[1]Poängberäkning!$C$6:$C$97)","v":0},{"$f":"LARGE(($H79,$J79,$L79,$N79,$P79,$R79,$T79,$V79,$X79),1)","v":0},{"$f":"LARGE(($H79,$J79,$L79,$N79,$P79,$R79,$T79,$V79,$X79),2)","v":0},{"$f":"LARGE(($H79,$J79,$L79,$N79,$P79,$R79,$T79,$V79,$X79),3)","v":0},{"$f":"LARGE(($H79,$J79,$L79,$N79,$P79,$R79,$T79,$V79,$X79),4)","v":0},{"$f":"LARGE(($H79,$J79,$L79,$N79,$P79,$R79,$T79,$V79,$X79),5)","v":0},{"$f":"LARGE(($H79,$J79,$L79,$N79,$P79,$R79,$T79,$V79,$X79),6)","v":0},{"$f":"LARGE(($H79,$J79,$L79,$N79,$P79,$R79,$T79,$V79,$X79),7)","v":0},{"$f":"LARGE(($H79,$J79,$L79,$N79,$P79,$R79,$T79,$V79,$X79),8)","v":0},{"$f":"LARGE(($H79,$J79,$L79,$N79,$P79,$R79,$T79,$V79,$X79),9)","v":0}]
[{"$f":"A79+1","v":76},null,null,null,0,0,null,{"$f":"LOOKUP(G80,Poängberäkning!$B$6:$B$97,Poängberäkning!$C$6:$C$97)","v":0},null,{"$f":"LOOKUP(I80,Poängberäkning!$B$6:$B$97,Poängberäkning!$C$6:$C$97)","v":0},null,{"$f":"LOOKUP(K80,Poängberäkning!$B$6:$B$97,Poängberäkning!$C$6:$C$97)","v":0},null,{"$f":"LOOKUP(M80,Poängberäkning!$B$6:$B$97,Poängberäkning!$C$6:$C$97)","v":0},null,{"$f":"LOOKUP(O80,Poängberäkning!$B$6:$B$97,Poängberäkning!$C$6:$C$97)","v":0},null,{"$f":"LOOKUP(Q80,[1]Poängberäkning!$B$6:$B$97,[1]Poängberäkning!$C$6:$C$97)","v":0},null,{"$f":"LOOKUP(S80,[1]Poängberäkning!$B$6:$B$97,[1]Poängberäkning!$C$6:$C$97)","v":0},null,{"$f":"LOOKUP(U80,[1]Poängberäkning!$B$6:$B$97,[1]Poängberäkning!$C$6:$C$97)","v":0},null,{"$f":"LOOKUP(W80,[1]Poängberäkning!$B$6:$B$97,[1]Poängberäkning!$C$6:$C$97)","v":0},{"$f":"LARGE(($H80,$J80,$L80,$N80,$P80,$R80,$T80,$V80,$X80),1)","v":0},{"$f":"LARGE(($H80,$J80,$L80,$N80,$P80,$R80,$T80,$V80,$X80),2)","v":0},{"$f":"LARGE(($H80,$J80,$L80,$N80,$P80,$R80,$T80,$V80,$X80),3)","v":0},{"$f":"LARGE(($H80,$J80,$L80,$N80,$P80,$R80,$T80,$V80,$X80),4)","v":0},{"$f":"LARGE(($H80,$J80,$L80,$N80,$P80,$R80,$T80,$V80,$X80),5)","v":0},{"$f":"LARGE(($H80,$J80,$L80,$N80,$P80,$R80,$T80,$V80,$X80),6)","v":0},{"$f":"LARGE(($H80,$J80,$L80,$N80,$P80,$R80,$T80,$V80,$X80),7)","v":0},{"$f":"LARGE(($H80,$J80,$L80,$N80,$P80,$R80,$T80,$V80,$X80),8)","v":0},{"$f":"LARGE(($H80,$J80,$L80,$N80,$P80,$R80,$T80,$V80,$X80),9)","v":0}]
[{"$f":"A80+1","v":77},null,null,null,0,0,null,{"$f":"LOOKUP(G81,Poängberäkning!$B$6:$B$97,Poängberäkning!$C$6:$C$97)","v":0},null,{"$f":"LOOKUP(I81,Poängberäkning!$B$6:$B$97,Poängberäkning!$C$6:$C$97)","v":0},null,{"$f":"LOOKUP(K81,Poängberäkning!$B$6:$B$97,Poängberäkning!$C$6:$C$97)","v":0},null,{"$f":"LOOKUP(M81,Poängberäkning!$B$6:$B$97,Poängberäkning!$C$6:$C$97)","v":0},null,{"$f":"LOOKUP(O81,Poängberäkning!$B$6:$B$97,Poängberäkning!$C$6:$C$97)","v":0},null,{"$f":"LOOKUP(Q81,[1]Poängberäkning!$B$6:$B$97,[1]Poängberäkning!$C$6:$C$97)","v":0},null,{"$f":"LOOKUP(S81,[1]Poängberäkning!$B$6:$B$97,[1]Poängberäkning!$C$6:$C$97)","v":0},null,{"$f":"LOOKUP(U81,[1]Poängberäkning!$B$6:$B$97,[1]Poängberäkning!$C$6:$C$97)","v":0},null,{"$f":"LOOKUP(W81,[1]Poängberäkning!$B$6:$B$97,[1]Poängberäkning!$C$6:$C$97)","v":0},{"$f":"LARGE(($H81,$J81,$L81,$N81,$P81,$R81,$T81,$V81,$X81),1)","v":0},{"$f":"LARGE(($H81,$J81,$L81,$N81,$P81,$R81,$T81,$V81,$X81),2)","v":0},{"$f":"LARGE(($H81,$J81,$L81,$N81,$P81,$R81,$T81,$V81,$X81),3)","v":0},{"$f":"LARGE(($H81,$J81,$L81,$N81,$P81,$R81,$T81,$V81,$X81),4)","v":0},{"$f":"LARGE(($H81,$J81,$L81,$N81,$P81,$R81,$T81,$V81,$X81),5)","v":0},{"$f":"LARGE(($H81,$J81,$L81,$N81,$P81,$R81,$T81,$V81,$X81),6)","v":0},{"$f":"LARGE(($H81,$J81,$L81,$N81,$P81,$R81,$T81,$V81,$X81),7)","v":0},{"$f":"LARGE(($H81,$J81,$L81,$N81,$P81,$R81,$T81,$V81,$X81),8)","v":0},{"$f":"LARGE(($H81,$J81,$L81,$N81,$P81,$R81,$T81,$V81,$X81),9)","v":0}]
[{"$f":"A81+1","v":78},null,null,null,0,0,null,{"$f":"LOOKUP(G82,Poängberäkning!$B$6:$B$97,Poängberäkning!$C$6:$C$97)","v":0},null,{"$f":"LOOKUP(I82,Poängberäkning!$B$6:$B$97,Poängberäkning!$C$6:$C$97)","v":0},null,{"$f":"LOOKUP(K82,Poängberäkning!$B$6:$B$97,Poängberäkning!$C$6:$C$97)","v":0},null,{"$f":"LOOKUP(M82,Poängberäkning!$B$6:$B$97,Poängberäkning!$C$6:$C$97)","v":0},null,{"$f":"LOOKUP(O82,Poängberäkning!$B$6:$B$97,Poängberäkning!$C$6:$C$97)","v":0},null,{"$f":"LOOKUP(Q82,[1]Poängberäkning!$B$6:$B$97,[1]Poängberäkning!$C$6:$C$97)","v":0},null,{"$f":"LOOKUP(S82,[1]Poängberäkning!$B$6:$B$97,[1]Poängberäkning!$C$6:$C$97)","v":0},null,{"$f":"LOOKUP(U82,[1]Poängberäkning!$B$6:$B$97,[1]Poängberäkning!$C$6:$C$97)","v":0},null,{"$f":"LOOKUP(W82,[1]Poängberäkning!$B$6:$B$97,[1]Poängberäkning!$C$6:$C$97)","v":0},{"$f":"LARGE(($H82,$J82,$L82,$N82,$P82,$R82,$T82,$V82,$X82),1)","v":0},{"$f":"LARGE(($H82,$J82,$L82,$N82,$P82,$R82,$T82,$V82,$X82),2)","v":0},{"$f":"LARGE(($H82,$J82,$L82,$N82,$P82,$R82,$T82,$V82,$X82),3)","v":0},{"$f":"LARGE(($H82,$J82,$L82,$N82,$P82,$R82,$T82,$V82,$X82),4)","v":0},{"$f":"LARGE(($H82,$J82,$L82,$N82,$P82,$R82,$T82,$V82,$X82),5)","v":0},{"$f":"LARGE(($H82,$J82,$L82,$N82,$P82,$R82,$T82,$V82,$X82),6)","v":0},{"$f":"LARGE(($H82,$J82,$L82,$N82,$P82,$R82,$T82,$V82,$X82),7)","v":0},{"$f":"LARGE(($H82,$J82,$L82,$N82,$P82,$R82,$T82,$V82,$X82),8)","v":0},{"$f":"LARGE(($H82,$J82,$L82,$N82,$P82,$R82,$T82,$V82,$X82),9)","v":0}]
[79,null,null,null,0,0,null,{"$f":"LOOKUP(G83,Poängberäkning!$B$6:$B$97,Poängberäkning!$C$6:$C$97)","v":0},null,{"$f":"LOOKUP(I83,Poängberäkning!$B$6:$B$97,Poängberäkning!$C$6:$C$97)","v":0},null,{"$f":"LOOKUP(K83,Poängberäkning!$B$6:$B$97,Poängberäkning!$C$6:$C$97)","v":0},null,{"$f":"LOOKUP(M83,Poängberäkning!$B$6:$B$97,Poängberäkning!$C$6:$C$97)","v":0},null,{"$f":"LOOKUP(O83,Poängberäkning!$B$6:$B$97,Poängberäkning!$C$6:$C$97)","v":0},null,{"$f":"LOOKUP(Q83,[1]Poängberäkning!$B$6:$B$97,[1]Poängberäkning!$C$6:$C$97)","v":0},null,{"$f":"LOOKUP(S83,[1]Poängberäkning!$B$6:$B$97,[1]Poängberäkning!$C$6:$C$97)","v":0},null,{"$f":"LOOKUP(U83,[1]Poängberäkning!$B$6:$B$97,[1]Poängberäkning!$C$6:$C$97)","v":0},null,{"$f":"LOOKUP(W83,[1]Poängberäkning!$B$6:$B$97,[1]Poängberäkning!$C$6:$C$97)","v":0},{"$f":"LARGE(($H83,$J83,$L83,$N83,$P83,$R83,$T83,$V83,$X83),1)","v":0},{"$f":"LARGE(($H83,$J83,$L83,$N83,$P83,$R83,$T83,$V83,$X83),2)","v":0},{"$f":"LARGE(($H83,$J83,$L83,$N83,$P83,$R83,$T83,$V83,$X83),3)","v":0},{"$f":"LARGE(($H83,$J83,$L83,$N83,$P83,$R83,$T83,$V83,$X83),4)","v":0},{"$f":"LARGE(($H83,$J83,$L83,$N83,$P83,$R83,$T83,$V83,$X83),5)","v":0},{"$f":"LARGE(($H83,$J83,$L83,$N83,$P83,$R83,$T83,$V83,$X83),6)","v":0},{"$f":"LARGE(($H83,$J83,$L83,$N83,$P83,$R83,$T83,$V83,$X83),7)","v":0},{"$f":"LARGE(($H83,$J83,$L83,$N83,$P83,$R83,$T83,$V83,$X83),8)","v":0},{"$f":"LARGE(($H83,$J83,$L83,$N83,$P83,$R83,$T83,$V83,$X83),9)","v":0}]
[80,null,null,null,0,0,null,{"$f":"LOOKUP(G84,Poängberäkning!$B$6:$B$97,Poängberäkning!$C$6:$C$97)","v":0},null,{"$f":"LOOKUP(I84,Poängberäkning!$B$6:$B$97,Poängberäkning!$C$6:$C$97)","v":0},null,{"$f":"LOOKUP(K84,Poängberäkning!$B$6:$B$97,Poängberäkning!$C$6:$C$97)","v":0},null,{"$f":"LOOKUP(M84,Poängberäkning!$B$6:$B$97,Poängberäkning!$C$6:$C$97)","v":0},null,{"$f":"LOOKUP(O84,Poängberäkning!$B$6:$B$97,Poängberäkning!$C$6:$C$97)","v":0},null,{"$f":"LOOKUP(Q84,[1]Poängberäkning!$B$6:$B$97,[1]Poängberäkning!$C$6:$C$97)","v":0},null,{"$f":"LOOKUP(S84,[1]Poängberäkning!$B$6:$B$97,[1]Poängberäkning!$C$6:$C$97)","v":0},null,{"$f":"LOOKUP(U84,[1]Poängberäkning!$B$6:$B$97,[1]Poängberäkning!$C$6:$C$97)","v":0},null,{"$f":"LOOKUP(W84,[1]Poängberäkning!$B$6:$B$97,[1]Poängberäkning!$C$6:$C$97)","v":0},{"$f":"LARGE(($H84,$J84,$L84,$N84,$P84,$R84,$T84,$V84,$X84),1)","v":0},{"$f":"LARGE(($H84,$J84,$L84,$N84,$P84,$R84,$T84,$V84,$X84),2)","v":0},{"$f":"LARGE(($H84,$J84,$L84,$N84,$P84,$R84,$T84,$V84,$X84),3)","v":0},{"$f":"LARGE(($H84,$J84,$L84,$N84,$P84,$R84,$T84,$V84,$X84),4)","v":0},{"$f":"LARGE(($H84,$J84,$L84,$N84,$P84,$R84,$T84,$V84,$X84),5)","v":0},{"$f":"LARGE(($H84,$J84,$L84,$N84,$P84,$R84,$T84,$V84,$X84),6)","v":0},{"$f":"LARGE(($H84,$J84,$L84,$N84,$P84,$R84,$T84,$V84,$X84),7)","v":0},{"$f":"LARGE(($H84,$J84,$L84,$N84,$P84,$R84,$T84,$V84,$X84),8)","v":0},{"$f":"LARGE(($H84,$J84,$L84,$N84,$P84,$R84,$T84,$V84,$X84),9)","v":0}]
[81,null,null,null,0,0,null,{"$f":"LOOKUP(G85,Poängberäkning!$B$6:$B$97,Poängberäkning!$C$6:$C$97)","v":0},null,{"$f":"LOOKUP(I85,Poängberäkning!$B$6:$B$97,Poängberäkning!$C$6:$C$97)","v":0},null,{"$f":"LOOKUP(K85,Poängberäkning!$B$6:$B$97,Poängberäkning!$C$6:$C$97)","v":0},null,{"$f":"LOOKUP(M85,Poängberäkning!$B$6:$B$97,Poängberäkning!$C$6:$C$97)","v":0},null,{"$f":"LOOKUP(O85,Poängberäkning!$B$6:$B$97,Poängberäkning!$C$6:$C$97)","v":0},null,{"$f":"LOOKUP(Q85,[1]Poängberäkning!$B$6:$B$97,[1]Poängberäkning!$C$6:$C$97)","v":0},null,{"$f":"LOOKUP(S85,[1]Poängberäkning!$B$6:$B$97,[1]Poängberäkning!$C$6:$C$97)","v":0},null,{"$f":"LOOKUP(U85,[1]Poängberäkning!$B$6:$B$97,[1]Poängberäkning!$C$6:$C$97)","v":0},null,{"$f":"LOOKUP(W85,[1]Poängberäkning!$B$6:$B$97,[1]Poängberäkning!$C$6:$C$97)","v":0},{"$f":"LARGE(($H85,$J85,$L85,$N85,$P85,$R85,$T85,$V85,$X85),1)","v":0},{"$f":"LARGE(($H85,$J85,$L85,$N85,$P85,$R85,$T85,$V85,$X85),2)","v":0},{"$f":"LARGE(($H85,$J85,$L85,$N85,$P85,$R85,$T85,$V85,$X85),3)","v":0},{"$f":"LARGE(($H85,$J85,$L85,$N85,$P85,$R85,$T85,$V85,$X85),4)","v":0},{"$f":"LARGE(($H85,$J85,$L85,$N85,$P85,$R85,$T85,$V85,$X85),5)","v":0},{"$f":"LARGE(($H85,$J85,$L85,$N85,$P85,$R85,$T85,$V85,$X85),6)","v":0},{"$f":"LARGE(($H85,$J85,$L85,$N85,$P85,$R85,$T85,$V85,$X85),7)","v":0},{"$f":"LARGE(($H85,$J85,$L85,$N85,$P85,$R85,$T85,$V85,$X85),8)","v":0},{"$f":"LARGE(($H85,$J85,$L85,$N85,$P85,$R85,$T85,$V85,$X85),9)","v":0}]
[82,null,null,null,0,0,null,{"$f":"LOOKUP(G86,Poängberäkning!$B$6:$B$97,Poängberäkning!$C$6:$C$97)","v":0},null,{"$f":"LOOKUP(I86,Poängberäkning!$B$6:$B$97,Poängberäkning!$C$6:$C$97)","v":0},null,{"$f":"LOOKUP(K86,Poängberäkning!$B$6:$B$97,Poängberäkning!$C$6:$C$97)","v":0},null,{"$f":"LOOKUP(M86,Poängberäkning!$B$6:$B$97,Poängberäkning!$C$6:$C$97)","v":0},null,{"$f":"LOOKUP(O86,Poängberäkning!$B$6:$B$97,Poängberäkning!$C$6:$C$97)","v":0},null,{"$f":"LOOKUP(Q86,[1]Poängberäkning!$B$6:$B$97,[1]Poängberäkning!$C$6:$C$97)","v":0},null,{"$f":"LOOKUP(S86,[1]Poängberäkning!$B$6:$B$97,[1]Poängberäkning!$C$6:$C$97)","v":0},null,{"$f":"LOOKUP(U86,[1]Poängberäkning!$B$6:$B$97,[1]Poängberäkning!$C$6:$C$97)","v":0},null,{"$f":"LOOKUP(W86,[1]Poängberäkning!$B$6:$B$97,[1]Poängberäkning!$C$6:$C$97)","v":0},{"$f":"LARGE(($H86,$J86,$L86,$N86,$P86,$R86,$T86,$V86,$X86),1)","v":0},{"$f":"LARGE(($H86,$J86,$L86,$N86,$P86,$R86,$T86,$V86,$X86),2)","v":0},{"$f":"LARGE(($H86,$J86,$L86,$N86,$P86,$R86,$T86,$V86,$X86),3)","v":0},{"$f":"LARGE(($H86,$J86,$L86,$N86,$P86,$R86,$T86,$V86,$X86),4)","v":0},{"$f":"LARGE(($H86,$J86,$L86,$N86,$P86,$R86,$T86,$V86,$X86),5)","v":0},{"$f":"LARGE(($H86,$J86,$L86,$N86,$P86,$R86,$T86,$V86,$X86),6)","v":0},{"$f":"LARGE(($H86,$J86,$L86,$N86,$P86,$R86,$T86,$V86,$X86),7)","v":0},{"$f":"LARGE(($H86,$J86,$L86,$N86,$P86,$R86,$T86,$V86,$X86),8)","v":0},{"$f":"LARGE(($H86,$J86,$L86,$N86,$P86,$R86,$T86,$V86,$X86),9)","v":0}]
[83,null,null,null,0,0,null,{"$f":"LOOKUP(G87,Poängberäkning!$B$6:$B$97,Poängberäkning!$C$6:$C$97)","v":0},null,{"$f":"LOOKUP(I87,Poängberäkning!$B$6:$B$97,Poängberäkning!$C$6:$C$97)","v":0},null,{"$f":"LOOKUP(K87,Poängberäkning!$B$6:$B$97,Poängberäkning!$C$6:$C$97)","v":0},null,{"$f":"LOOKUP(M87,Poängberäkning!$B$6:$B$97,Poängberäkning!$C$6:$C$97)","v":0},null,{"$f":"LOOKUP(O87,Poängberäkning!$B$6:$B$97,Poängberäkning!$C$6:$C$97)","v":0},null,{"$f":"LOOKUP(Q87,[1]Poängberäkning!$B$6:$B$97,[1]Poängberäkning!$C$6:$C$97)","v":0},null,{"$f":"LOOKUP(S87,[1]Poängberäkning!$B$6:$B$97,[1]Poängberäkning!$C$6:$C$97)","v":0},null,{"$f":"LOOKUP(U87,[1]Poängberäkning!$B$6:$B$97,[1]Poängberäkning!$C$6:$C$97)","v":0},null,{"$f":"LOOKUP(W87,[1]Poängberäkning!$B$6:$B$97,[1]Poängberäkning!$C$6:$C$97)","v":0},{"$f":"LARGE(($H87,$J87,$L87,$N87,$P87,$R87,$T87,$V87,$X87),1)","v":0},{"$f":"LARGE(($H87,$J87,$L87,$N87,$P87,$R87,$T87,$V87,$X87),2)","v":0},{"$f":"LARGE(($H87,$J87,$L87,$N87,$P87,$R87,$T87,$V87,$X87),3)","v":0},{"$f":"LARGE(($H87,$J87,$L87,$N87,$P87,$R87,$T87,$V87,$X87),4)","v":0},{"$f":"LARGE(($H87,$J87,$L87,$N87,$P87,$R87,$T87,$V87,$X87),5)","v":0},{"$f":"LARGE(($H87,$J87,$L87,$N87,$P87,$R87,$T87,$V87,$X87),6)","v":0},{"$f":"LARGE(($H87,$J87,$L87,$N87,$P87,$R87,$T87,$V87,$X87),7)","v":0},{"$f":"LARGE(($H87,$J87,$L87,$N87,$P87,$R87,$T87,$V87,$X87),8)","v":0},{"$f":"LARGE(($H87,$J87,$L87,$N87,$P87,$R87,$T87,$V87,$X87),9)","v":0}]
[84,null,null,null,0,0,null,{"$f":"LOOKUP(G88,Poängberäkning!$B$6:$B$97,Poängberäkning!$C$6:$C$97)","v":0},null,{"$f":"LOOKUP(I88,Poängberäkning!$B$6:$B$97,Poängberäkning!$C$6:$C$97)","v":0},null,{"$f":"LOOKUP(K88,Poängberäkning!$B$6:$B$97,Poängberäkning!$C$6:$C$97)","v":0},null,{"$f":"LOOKUP(M88,Poängberäkning!$B$6:$B$97,Poängberäkning!$C$6:$C$97)","v":0},null,{"$f":"LOOKUP(O88,Poängberäkning!$B$6:$B$97,Poängberäkning!$C$6:$C$97)","v":0},null,{"$f":"LOOKUP(Q88,[1]Poängberäkning!$B$6:$B$97,[1]Poängberäkning!$C$6:$C$97)","v":0},null,{"$f":"LOOKUP(S88,[1]Poängberäkning!$B$6:$B$97,[1]Poängberäkning!$C$6:$C$97)","v":0},null,{"$f":"LOOKUP(U88,[1]Poängberäkning!$B$6:$B$97,[1]Poängberäkning!$C$6:$C$97)","v":0},null,{"$f":"LOOKUP(W88,[1]Poängberäkning!$B$6:$B$97,[1]Poängberäkning!$C$6:$C$97)","v":0},{"$f":"LARGE(($H88,$J88,$L88,$N88,$P88,$R88,$T88,$V88,$X88),1)","v":0},{"$f":"LARGE(($H88,$J88,$L88,$N88,$P88,$R88,$T88,$V88,$X88),2)","v":0},{"$f":"LARGE(($H88,$J88,$L88,$N88,$P88,$R88,$T88,$V88,$X88),3)","v":0},{"$f":"LARGE(($H88,$J88,$L88,$N88,$P88,$R88,$T88,$V88,$X88),4)","v":0},{"$f":"LARGE(($H88,$J88,$L88,$N88,$P88,$R88,$T88,$V88,$X88),5)","v":0},{"$f":"LARGE(($H88,$J88,$L88,$N88,$P88,$R88,$T88,$V88,$X88),6)","v":0},{"$f":"LARGE(($H88,$J88,$L88,$N88,$P88,$R88,$T88,$V88,$X88),7)","v":0},{"$f":"LARGE(($H88,$J88,$L88,$N88,$P88,$R88,$T88,$V88,$X88),8)","v":0},{"$f":"LARGE(($H88,$J88,$L88,$N88,$P88,$R88,$T88,$V88,$X88),9)","v":0}]
[85,null,null,null,0,0,null,{"$f":"LOOKUP(G89,Poängberäkning!$B$6:$B$97,Poängberäkning!$C$6:$C$97)","v":0},null,{"$f":"LOOKUP(I89,Poängberäkning!$B$6:$B$97,Poängberäkning!$C$6:$C$97)","v":0},null,{"$f":"LOOKUP(K89,Poängberäkning!$B$6:$B$97,Poängberäkning!$C$6:$C$97)","v":0},null,{"$f":"LOOKUP(M89,Poängberäkning!$B$6:$B$97,Poängberäkning!$C$6:$C$97)","v":0},null,{"$f":"LOOKUP(O89,Poängberäkning!$B$6:$B$97,Poängberäkning!$C$6:$C$97)","v":0},null,{"$f":"LOOKUP(Q89,[1]Poängberäkning!$B$6:$B$97,[1]Poängberäkning!$C$6:$C$97)","v":0},null,{"$f":"LOOKUP(S89,[1]Poängberäkning!$B$6:$B$97,[1]Poängberäkning!$C$6:$C$97)","v":0},null,{"$f":"LOOKUP(U89,[1]Poängberäkning!$B$6:$B$97,[1]Poängberäkning!$C$6:$C$97)","v":0},null,{"$f":"LOOKUP(W89,[1]Poängberäkning!$B$6:$B$97,[1]Poängberäkning!$C$6:$C$97)","v":0},{"$f":"LARGE(($H89,$J89,$L89,$N89,$P89,$R89,$T89,$V89,$X89),1)","v":0},{"$f":"LARGE(($H89,$J89,$L89,$N89,$P89,$R89,$T89,$V89,$X89),2)","v":0},{"$f":"LARGE(($H89,$J89,$L89,$N89,$P89,$R89,$T89,$V89,$X89),3)","v":0},{"$f":"LARGE(($H89,$J89,$L89,$N89,$P89,$R89,$T89,$V89,$X89),4)","v":0},{"$f":"LARGE(($H89,$J89,$L89,$N89,$P89,$R89,$T89,$V89,$X89),5)","v":0},{"$f":"LARGE(($H89,$J89,$L89,$N89,$P89,$R89,$T89,$V89,$X89),6)","v":0},{"$f":"LARGE(($H89,$J89,$L89,$N89,$P89,$R89,$T89,$V89,$X89),7)","v":0},{"$f":"LARGE(($H89,$J89,$L89,$N89,$P89,$R89,$T89,$V89,$X89),8)","v":0},{"$f":"LARGE(($H89,$J89,$L89,$N89,$P89,$R89,$T89,$V89,$X89),9)","v":0}]
[{"$f":"A89+1","v":86},null,null,null,0,0,null,{"$f":"LOOKUP(G90,Poängberäkning!$B$6:$B$97,Poängberäkning!$C$6:$C$97)","v":0},null,{"$f":"LOOKUP(I90,Poängberäkning!$B$6:$B$97,Poängberäkning!$C$6:$C$97)","v":0},null,{"$f":"LOOKUP(K90,Poängberäkning!$B$6:$B$97,Poängberäkning!$C$6:$C$97)","v":0},null,{"$f":"LOOKUP(M90,Poängberäkning!$B$6:$B$97,Poängberäkning!$C$6:$C$97)","v":0},null,{"$f":"LOOKUP(O90,Poängberäkning!$B$6:$B$97,Poängberäkning!$C$6:$C$97)","v":0},null,{"$f":"LOOKUP(Q90,[1]Poängberäkning!$B$6:$B$97,[1]Poängberäkning!$C$6:$C$97)","v":0},null,{"$f":"LOOKUP(S90,[1]Poängberäkning!$B$6:$B$97,[1]Poängberäkning!$C$6:$C$97)","v":0},null,{"$f":"LOOKUP(U90,[1]Poängberäkning!$B$6:$B$97,[1]Poängberäkning!$C$6:$C$97)","v":0},null,{"$f":"LOOKUP(W90,[1]Poängberäkning!$B$6:$B$97,[1]Poängberäkning!$C$6:$C$97)","v":0},{"$f":"LARGE(($H90,$J90,$L90,$N90,$P90,$R90,$T90,$V90,$X90),1)","v":0},{"$f":"LARGE(($H90,$J90,$L90,$N90,$P90,$R90,$T90,$V90,$X90),2)","v":0},{"$f":"LARGE(($H90,$J90,$L90,$N90,$P90,$R90,$T90,$V90,$X90),3)","v":0},{"$f":"LARGE(($H90,$J90,$L90,$N90,$P90,$R90,$T90,$V90,$X90),4)","v":0},{"$f":"LARGE(($H90,$J90,$L90,$N90,$P90,$R90,$T90,$V90,$X90),5)","v":0},{"$f":"LARGE(($H90,$J90,$L90,$N90,$P90,$R90,$T90,$V90,$X90),6)","v":0},{"$f":"LARGE(($H90,$J90,$L90,$N90,$P90,$R90,$T90,$V90,$X90),7)","v":0},{"$f":"LARGE(($H90,$J90,$L90,$N90,$P90,$R90,$T90,$V90,$X90),8)","v":0},{"$f":"LARGE(($H90,$J90,$L90,$N90,$P90,$R90,$T90,$V90,$X90),9)","v":0}]

{"sheet":"Nya namn","index":13,"n_rows":86,"n_cols":13,"rows_kept":86,"cut":false,"hidden":true,"merged":[]}
[]
[null,"För att undvika dubbletter i listan över åkare följ instruktionerna i högra kanten."]
[null,"Klass: H 17-"]
[null,"Befintliga värden från tidigare tävling",null,null,null,"Anmälningar till ny tävling. Klistra in värdena i ruta E7.",null,null,null,null,null,null,"De befintliga namnen är inlagda genom makrot."]
[]
["Årtal","Namn","Klubb",null,"Årtal","Namn","Klubb",null,"Formelfält",null,"Namn + Klubb redan inlagda","Namn + Klubb, nya ska läggas till"]
[1998,"GRANATH Jona","IFK Falun",null,1999,"KARLSSON Adam","Båsenberga SLK",null,{"$f":"IF(ISERROR(MATCH(L7,$K$7:$K$90,0)),F7)","v":"KARLSSON Adam"},null,{"$f":"CONCATENATE(B7,C7)","v":"GRANATH JonaIFK Falun"},{"$f":"CONCATENATE(F7,G7)","v":"KARLSSON AdamBåsenberga SLK"},"När ett namn står i formelfältet innebär det att"]
[1999,"KARLBERG Lukas","Mälaröarnas Alpina SK",null,1983,"RAINER Niklas","IFK Borlänge",null,"RAINER Niklas",null,{"$f":"CONCATENATE(B8,C8)","v":"KARLBERG LukasMälaröarnas Alpina SK"},{"$f":"CONCATENATE(F8,G8)","v":"RAINER NiklasIFK Borlänge"},"namnet saknas i tidigare tävlingar. Ska alltså läggas till."]
[1996,"ÖSTMARK Anton","Gävle Alpina SK",null,1972,"ÅNGSTRÖM Claes","Uppsala SLK",null,"ÅNGSTRÖM Claes",null,"ÖSTMARK AntonGävle Alpina SK","ÅNGSTRÖM ClaesUppsala SLK","Hänsyn tas till både namn och klubb. Samma namn kan alltså"]
[1966,"MICHELASSI Giannetto","Uppsala SLK",null,1998,"GRANATH Jona","IFK Falun",null,false,null,"MICHELASSI GiannettoUppsala SLK","GRANATH JonaIFK Falun","accepteras om det är annan klubb.  OBS !"]
[1997,"KNUTSSON Oscar","Norrköpings SK",null,1966,"MICHELASSI Giannetto","Uppsala SLK",null,false,null,"KNUTSSON OscarNorrköpings SK","MICHELASSI GiannettoUppsala SLK","När det står  FALSKT i formelfältet innebär det att namnet"]
[1999,"ANDERSSON Jonathan","Järfälla AK",null,1980,"STRANDBERG Peter","IFK Falun",null,false,null,"ANDERSSON JonathanJärfälla AK","STRANDBERG PeterIFK Falun","redan finns från tidigare tävling. Skall alltså inte läggas till."]
[1997,"NYMAN Fabian","Sälens IF",null,1999,"TEGMARK David","IFK Falun",null,false,null,"NYMAN FabianSälens IF","TEGMARK DavidIFK Falun","Gör på följande sätt:"]
[1999,"BRÄNDHOLM Jesper","Sälens IF",null,null,null,null,null,false,null,"BRÄNDHOLM JesperSälens IF",""]
[1999,"TEGMARK David","IFK Falun",null,null,null,null,null,false,null,"TEGMARK DavidIFK Falun","","Klicka på knappen  Sortera här ovanför"]
[1995,"LIFVENDAHL Ludvig","Sälens IF",null,null,null,null,null,false,null,"LIFVENDAHL LudvigSälens IF",""]
[1996,"SILFÄLT Johan","Valfjällets SLK",null,null,null,null,null,false,null,"SILFÄLT JohanValfjällets SLK","","Resultatet blir att alla namn som skall adderas till dom "]
[1997,"ERIKSSON Oskar","Sollentuna SLK",null,null,null,null,null,false,null,"ERIKSSON OskarSollentuna SLK","","ursprungliga namnen hamnar samlade."]
[1995,"ERIKSSON Dennis","IFK Borlänge",null,null,null,null,null,false,null,"ERIKSSON DennisIFK Borlänge",""]
[1997,"LARSSON Måns","Huddinge SK AF",null,null,null,null,null,false,null,"LARSSON MånsHuddinge SK AF","","Kopiera namnen, kolumn E, F och G  och gå till fliken"]
[1996,"KARLSSON Hampus","Gävle Alpina SK",null,null,null,null,null,false,null,"KARLSSON HampusGävle Alpina SK","","för den aktuella klassen."]
[1971,"NILSSON Magnus","Tunafors SK",null,null,null,null,null,false,null,"NILSSON MagnusTunafors SK","","Klistra in namnen längst ner under sista befintliga namn."]
[1999,"HAGBERG Johan","Avesta AK",null,null,null,null,null,false,null,"HAGBERG JohanAvesta AK",""]
[1996,"JERNKROK Claes","Bollnäs AK",null,null,null,null,null,false,null,"JERNKROK ClaesBollnäs AK",""]
[1999,"NILSSON Edvin","Sälens IF",null,null,null,null,null,false,null,"NILSSON EdvinSälens IF",""]
[1999,"JOHANSSON Filip","Östersund-Frösö SLK",null,null,null,null,null,false,null,"JOHANSSON FilipÖstersund-Frösö SLK",""]
[1980,"STRANDBERG Peter","IFK Falun",null,null,null,null,null,false,null,"STRANDBERG PeterIFK Falun",""]
[1997,"FRISK Carl Fredrik","Väst Alpin SK Göteborg",null,null,null,null,null,false,null,"FRISK Carl FredrikVäst Alpin SK Göteborg",""]
[1997,"NYSTRÖM Henrik","Sollentuna SLK",null,null,null,null,null,false,null,"NYSTRÖM HenrikSollentuna SLK",""]
[1997,"JORÄLV Daniel","Arvika SLK",null,null,null,null,null,false,null,"JORÄLV DanielArvika SLK",""]
[1997,"SKÖRELID Jonathan","Bergsjö-Hassela AK",null,null,null,null,null,false,null,"SKÖRELID JonathanBergsjö-Hassela AK",""]
[1999,"BERTILSSON Erik","Höghedens SLK",null,null,null,null,null,false,null,"BERTILSSON ErikHöghedens SLK",""]
[1999,"FONDBERG Keith Richard","Saltsjöbadens SLK",null,null,null,null,null,false,null,"FONDBERG Keith RichardSaltsjöbadens SLK",""]
[1997,"SMITH Anton","Göteborgs SLK",null,null,null,null,null,false,null,"SMITH AntonGöteborgs SLK",""]
[1997,"BERGMAN Martin","IFK Falun",null,null,null,null,null,false,null,"BERGMAN MartinIFK Falun",""]
[1997,"EDVINSSON Mattias","Kiruna BK",null,null,null,null,null,false,null,"EDVINSSON MattiasKiruna BK",""]
[1997,"HARTING Ludvig","Sollentuna SLK",null,null,null,null,null,false,null,"HARTING LudvigSollentuna SLK",""]
[1999,"NIVRE Fredrik","Uppsala SLK",null,null,null,null,null,false,null,"NIVRE FredrikUppsala SLK",""]
[1995,"SUNDSTRÖM Oscar","Gävle Alpina SK",null,null,null,null,null,{"$f":"IF(ISERROR(MATCH(L39,$K$7:$K$90,0)),F39)","v":false},null,"SUNDSTRÖM OscarGävle Alpina SK",""]
[1991,"GABRIELSSON Erik","IFK Falun",null,null,null,null,null,false,null,"GABRIELSSON ErikIFK Falun",""]
[1999,"UHRAS Benjamin","Edsbyns IF Alpina Förening",null,null,null,null,null,false,null,"UHRAS BenjaminEdsbyns IF Alpina Förening",""]
[1997,"KLAUSNER WALDESJÖ Jonathan","Örebro SLF",null,null,null,null,null,false,null,"KLAUSNER WALDESJÖ JonathanÖrebro SLF",""]
[1997,"RUNDLÖF Marcus","Järfälla AK",null,null,null,null,null,false,null,"RUNDLÖF MarcusJärfälla AK",""]
[1996,"ERIKSSON Johan","Roslagens AK",null,null,null,null,null,false,null,"ERIKSSON JohanRoslagens AK",""]
[1999,"GUSTAFSON Wiliam","Uppsala SLK",null,null,null,null,null,false,null,"GUSTAFSON WiliamUppsala SLK",""]
[1999,"BORNEMAR Marcus","Sollentuna SLK",null,null,null,null,null,false,null,"BORNEMAR MarcusSollentuna SLK",""]
[1997,"LUNDIN Ludvig","Norrköpings SK",null,null,null,null,null,false,null,"LUNDIN LudvigNorrköpings SK",""]
[1997,"BENGTSSON SOHLMAN William","IFK Lidingö Slalomklubb",null,null,null,null,null,false,null,"BENGTSSON SOHLMAN WilliamIFK Lidingö Slalomklubb",""]
[1997,"FAGERBLOM Albin","Falköpings AIK SLK",null,null,null,null,null,false,null,"FAGERBLOM AlbinFalköpings AIK SLK",""]
[1994,"STENBERG Viktor","Huddinge SK AF",null,null,null,null,null,false,null,"STENBERG ViktorHuddinge SK AF",""]
[1997,"KARLSSON Filip","Uppsala SLK",null,null,null,null,null,false,null,"KARLSSON FilipUppsala SLK",""]
[1999,"LUNDQUIST Linus","Karlstads SLK",null,null,null,null,null,false,null,"LUNDQUIST LinusKarlstads SLK",""]
[1998,"TÖRNQVIST David","IFK Borlänge",null,null,null,null,null,false,null,"TÖRNQVIST DavidIFK Borlänge",""]
[1999,"BERGMAN Jakob","IFK Falun",null,null,null,null,null,false,null,"BERGMAN JakobIFK Falun",""]
[1998,"AXELSSON Adam","Avesta AK",null,null,null,null,null,false,null,"AXELSSON AdamAvesta AK",""]
[1999,"SJÖSTRAND Oscar","Åre SLK",null,null,null,null,null,false,null,"SJÖSTRAND OscarÅre SLK",""]
[1999,"AXELSSON Fredrik","Karlstads SLK",null,null,null,null,null,false,null,"AXELSSON FredrikKarlstads SLK",""]
[1997,"KINDBERG Alfred","Kils SLK",null,null,null,null,null,false,null,"KINDBERG AlfredKils SLK",""]
[1998,"WICKBERS Pontus","Bollnäs AK",null,null,null,null,null,false,null,"WICKBERS PontusBollnäs AK",""]
[1999,"THERNSTRÖM Tobias","Sollentuna SLK",null,null,null,null,null,false,null,"THERNSTRÖM TobiasSollentuna SLK",""]
[1998,"ANTFOLK Alexander","IFK Borlänge",null,null,null,null,null,false,null,"ANTFOLK AlexanderIFK Borlänge",""]
[1997,"HEDBERG Filip","IFK Falun",null,null,null,null,null,false,null,"HEDBERG FilipIFK Falun",""]
[1997,"ISRAELSSON Felix","Tunafors SK",null,null,null,null,null,false,null,"ISRAELSSON FelixTunafors SK",""]
[1997,"BÜLOW Philip","Mullsjö Alpina SK",null,null,null,null,null,false,null,"BÜLOW PhilipMullsjö Alpina SK",""]
[1999,"RAMNÖ Simon","Järfälla AK",null,null,null,null,null,false,null,"RAMNÖ SimonJärfälla AK",""]
[1999,"DALMALM Oscar","Sollentuna SLK",null,null,null,null,null,false,null,"DALMALM OscarSollentuna SLK",""]
[1999,"GUSTAFSSON Benjamin","Sollentuna SLK",null,null,null,null,null,false,null,"GUSTAFSSON BenjaminSollentuna SLK",""]
[1995,"ENGBERG Niclas","Täby SLK",null,null,null,null,null,false,null,"ENGBERG NiclasTäby SLK",""]
[1998,"HARDEBERG Love","IFK Lidingö Slalomklubb",null,null,null,null,null,false,null,"HARDEBERG LoveIFK Lidingö Slalomklubb",""]
[1997,"SEBZDA William","Järfälla AK",null,null,null,null,null,false,null,"SEBZDA WilliamJärfälla AK",""]
[null,null,null,null,null,null,null,null,{"$f":"IF(ISERROR(MATCH(L71,$K$7:$K$90,0)),F71)","v":false},null,"",""]
[null,null,null,null,null,null,null,null,false,null,{"$f":"CONCATENATE(B72,C72)","v":""},{"$f":"CONCATENATE(F72,G72)","v":""}]
[null,null,null,null,null,null,null,null,false,null,"",""]
[null,null,null,null,null,null,null,null,false,null,"",""]
[null,null,null,null,null,null,null,null,false,null,"",""]
[null,null,null,null,null,null,null,null,false,null,"",""]
[null,null,null,null,null,null,null,null,false,null,"",""]
[null,null,null,null,null,null,null,null,false,null,"",""]
[null,null,null,null,null,null,null,null,false,null,"",""]
[null,null,null,null,null,null,null,null,false,null,"",""]
[null,null,null,null,null,null,null,null,false,null,"",""]
[null,null,null,null,null,null,null,null,false,null,"",""]
[null,null,null,null,null,null,null,null,false,null,"",""]
[null,null,null,null,null,null,null,null,false,null,"",""]
[null,null,null,null,null,null,null,null,false,null,"",""]
[null,null,null,null,null,null,null,null,false,null,"",""]

{"sheet":"Res D9-10","index":14,"n_rows":90,"n_cols":7,"rows_kept":90,"cut":false,"hidden":true,"merged":[[1,2,1,5]]}
[]
[null,null,{"$f":"CONCATENATE(\"Resultat Dalacupen\",\"  \",'D 9-10'!B1)","v":"Resultat Dalacupen  2016"}]
[null,"Klass :","D 9 - 10"]
[null,"Placering","Född","Namn","Klubb","Poäng Bästa 3","Poäng Totalt"]
[null,1,2006,"NORLING Julia","Leksands SLK",260,340]
[null,{"$f":"IF(F6>0,+B5+1,\"  \")","v":2},2007,"WESSUNG Lina","IFK Mora AK",220,264]
[null,3,2006,"ANDERSSON Siri","IFK Borlänge",205,247]
[null,4,2006,"ERKERS Hanna","Leksands SLK",164,164]
[null,5,2006,"JONSSON Lovisa","Sälens IF",155,155]
[null,6,2006,"LINDBERG Lisa","Arboga Alpina",148,148]
[null,7,2007,"GUSTAFSSON Wilma","Örebro SLF",147,147]
[null,8,2007,"BORGLJUNG Agnes","IFK Falun",115,115]
[null,9,2007,"SANDBERG Klara","Örebro SLF",103,103]
[null,10,2006,"CERWALL Sandra","Karlstads SLK",100,100]
[null,10,2006,"PETRELIUS Ellen","Kungsbergets AK",100,100]
[null,12,2007,"LINGEMYR Amanda","Gävle Alpina SK",82,82]
[null,13,2006,"VIKING Nike","Uppsala SLK",70,70]
[null,14,2006,"CERWALL Emilia","Karlskoga SLK",60,60]
[null,14,1900,"ANDERSSON Emma","Norrbärke SK Alpin",60,60]
[null,16,1900,"BÄCK Maja","IFK Falun",55,55]
[null,17,2006,"TJÄRNÅS Tilde","Vemdalens IF",50,50]
[null,17,2007,"TÖRNQVIST Ida","IFK Borlänge",50,50]
[null,19,2007,"AHLENIUS Clara","Orsa Alpina Klubb",48,48]
[null,19,2006,"KIEKSI Anna","IFK Borlänge",48,48]
[null,21,2006,"GEZELIUS Elin","IFK Mora AK",46,46]
[null,22,2006,"ROSBERG Ellinor","Kungsbergets AK",40,40]
[null,23,2007,"HEDLUND Gry","Kungsbergets AK",39,39]
[null,24,2006,"PETTERSSON Irma","Kungsbergets AK",38,38]
[null,25,2007,"LOFT Melina","Klövsjö Alpina",36,36]
[null,26,2007,"FJÄLLRYD Alice","Örebro SLF",35,35]
[null,27,2006,"WIKZELL Athena","Rättviks SLK",33,33]
[null,28,2007,"LODIN Astrid","Branäs AK",31,31]
[null,29,2007,"HÖGLUND Helle","IFK Mora AK",30,30]
[null,30,2007,"WIBORG Nova","Orsa Alpina Klubb",29,29]
[null,31,2006,"MAGNUSSON Irma","Västerås Slalomklubb",28,28]
[null,"  ",2007,"ANDERSSON Tiffany","Avesta AK",0,0]
[null,"  ",2007,"HAHLIN Elin","IFK Mora AK",0,0]
[null,"  ",2006,"LINDSTRÖM Stella","Åre SLK",0,0]
[null,"  ",null,null,null,0,0]
[null,"  ",null,null,null,0,0]
[null,"  ",null,null,null,0,0]
[null,"  ",null,null,null,0,0]
[null,"  ",null,null,null,0,0]
[null,"  ",null,null,null,0,0]
[null,"  ",null,null,null,0,0]
[null,"  ",null,null,null,0,0]
[null,null,null,null,null,0,0]
[null,null,null,null,null,0,0]
[null,null,null,null,null,0,0]
[null,null,null,null,null,0,0]
[null,null,null,null,null,0,0]
[null,null,null,null,null,0,0]
[null,null,null,null,null,0,0]
[null,null,null,null,null,0,0]
[null,null,null,null,null,0,0]
[null,null,null,null,null,0,0]
[null,null,null,null,null,0,0]
[null,null,null,null,null,0,0]
[null,null,null,null,null,0,0]
[null,null,null,null,null,0,0]
[null,null,null,null,null,0,0]
[null,null,null,null,null,0,0]
[null,null,null,null,null,0,0]
[null,null,null,null,null,0,0]
[null,null,null,null,null,0,0]
[null,null,null,null,null,0,0]
[null,null,null,null,null,0,0]
[null,null,null,null,null,0,0]
[null,{"$f":"IF(F69>0,+B68+1,\"  \")","v":"  "},null,null,null,0,0]
[null,{"$f":"IF(F70>0,+B69+1,\"  \")","v":"  "},null,null,null,0,0]
[null,"  ",null,null,null,0,0]
[null,"  ",null,null,null,0,0]
[null,"  ",null,null,null,0,0]
[null,"  ",null,null,null,0,0]
[null,"  ",null,null,null,0,0]
[null,"  ",null,null,null,0,0]
[null,"  ",null,null,null,0,0]
[null,"  ",null,null,null,0,0]
[null,"  ",null,null,null,0,0]
[null,"  ",null,null,null,0,0]
[null,"  ",null,null,null,0,0]
[null,"  ",null,null,null,0,0]
[null,"  ",null,null,null,0,0]
[null,"  ",null,null,null,0,0]
[null,"  ",null,null,null,0,0]
[null,"  ",null,null,null,0,0]
[null,"  ",null,null,null,0,0]
[null,"  ",null,null,null,0,0]
[null,"  ",null,null,null,0,0]
[null,"  ",null,null,null,0,0]

{"sheet":"Res H9-10","index":15,"n_rows":90,"n_cols":7,"rows_kept":90,"cut":false,"hidden":true,"merged":[[1,2,1,5]]}
[]
[null,null,{"$f":"CONCATENATE(\"Resultat Dalacupen\",\"  \",'D 9-10'!B1)","v":"Resultat Dalacupen  2016"}]
[null,"Klass :","H 9 - 10"]
[null,"Placering","Född","Namn","Klubb","Poäng Bästa 3","Poäng Totalt"]
[null,1,2006,"LILJENBORG Liam","IFK Falun",300,380]
[null,{"$f":"IF(F6>0,+B5+1,\"  \")","v":2},2006,"ARAPOGLOU Pontus","Rättviks SLK",220,247]
[null,3,2006,"WESTLUND Elliot","Kungsbergets AK",200,200]
[null,{"$f":"IF(F8>0,+B7+1,\"  \")","v":4},2007,"PALMÉR Hugo","Örebro SLF",198,244]
[null,5,2006,"ÅKERSTRÖM Mattias","Örebro SLF",195,274]
[null,6,2007,"GRIMBERG Axel","IFK Falun",170,254]
[null,7,2007,"STRANDBERG Oliver","IFK Falun",121,121]
[null,8,2006,"FROST Olle","IFK Mora AK",120,120]
[null,9,2006,"LARSSON Felix","Uppsala SLK",80,80]
[null,10,2007,"HANSSON Julian","Sälens IF",79,79]
[null,11,2007,"KARELIUS Maximus","Sälens IF",78,78]
[null,12,2007,"WAHMAN Olle","Örebro SLF",75,75]
[null,13,2006,"KARLSSON Petter","Västerås Slalomklubb",70,70]
[null,13,2006,"PÅLSSON Max","Sälens IF",70,70]
[null,15,2006,"HARLIN Ludvig","IFK Falun",55,55]
[null,15,2006,"HJELMSTRÖM Carl","Uppsala SLK",55,55]
[null,15,2007,"JAKOBSSON Gustav","Norrbärke SK Alpin",55,55]
[null,15,2007,"OSKARSSON Ludvig","Sälens IF",55,55]
[null,18,2007,"HOLMSTRÖM Herman","IFK Mora AK",50,50]
[null,18,2006,"MOVERARE Sixten","Rättviks SLK",50,50]
[null,20,2006,"BERKEBO Daniel","IFK Borlänge",48,48]
[null,20,2006,"JOHANSSON Edwin","Bollnäs AK",48,48]
[null,22,2007,"LJUNGQVIST Lucas","IFK Falun",48,48]
[null,23,2006,"NORD Alexander","IFK Borlänge",46,46]
[null,24,2007,"BJÖRKMAN Oliver","IFK Mora AK",44,44]
[null,24,2006,"LUND Jonas","Järvsö IF",44,44]
[null,24,2007,"NOACK Måns","Gävle Alpina SK",44,44]
[null,27,2007,"OLSSON Theodor","Kils SLK",42,42]
[null,28,2006,"EDSTRÖM Hugo","Örebro SLF",40,40]
[null,29,2007,"HOLTH LYSTAD Filip","Valfjällets SLK",36,36]
[null,30,2006,"LUNDEBERG Filip","Västerås Slalomklubb",34,34]
[null,31,2006,"PÄNDEL Edvin","Gävle Alpina SK",32,32]
[null,32,2007,"MANI Oscar","Uppsala SLK",31,31]
[null,33,2007,"HOLMLUND Felix","Västerås Slalomklubb",30,30]
[null,34,2007,"DAHLBERG Nemo","Västerås Slalomklubb",28,28]
[null,"  ",2007,"AXELSSON Lukas","IFK Mora AK",0,0]
[null,"  ",2007,"HANSSON Kasper","Kungsbergets AK",0,0]
[null,"  ",2006,"LANGER Aston","Uppsala SLK",0,0]
[null,"  ",2006,"RÅDSTRÖM Teddy","Branäs AK",0,0]
[null,"  ",null,null,null,0,0]
[null,"  ",null,null,null,0,0]
[null,"  ",null,null,null,0,0]
[null,"  ",null,null,null,0,0]
[null,"  ",null,null,null,0,0]
[null,"  ",null,null,null,0,0]
[null,"  ",null,null,null,0,0]
[null,"  ",null,null,null,0,0]
[null,"  ",null,null,null,0,0]
[null,"  ",null,null,null,0,0]
[null,"  ",null,null,null,0,0]
[null,"  ",null,null,null,0,0]
[null,"  ",null,null,null,0,0]
[null,"  ",null,null,null,0,0]
[null,"  ",null,null,null,0,0]
[null,"  ",null,null,null,0,0]
[null,"  ",null,null,null,0,0]
[null,"  ",null,null,null,0,0]
[null,"  ",null,null,null,0,0]
[null,"  ",null,null,null,0,0]
[null,"  ",null,null,null,0,0]
[null,"  ",null,null,null,0,0]
[null,"  ",null,null,null,0,0]
[null,"  ",null,null,null,0,0]
[null,"  ",null,null,null,0,0]
[null,"  ",null,null,null,0,0]
[null,{"$f":"IF(F70>0,+B69+1,\"  \")","v":"  "},null,null,null,0,0]
[null,"  ",null,null,null,0,0]
[null,"  ",null,null,null,0,0]
[null,"  ",null,null,null,0,0]
[null,"  ",null,null,null,0,0]
[null,"  ",null,null,null,0,0]
[null,"  ",null,null,null,0,0]
[null,"  ",null,null,null,0,0]
[null,"  ",null,null,null,0,0]
[null,"  ",null,null,null,0,0]
[null,"  ",null,null,null,0,0]
[null,"  ",null,null,null,0,0]
[null,"  ",null,null,null,0,0]
[null,"  ",null,null,null,0,0]
[null,"  ",null,null,null,0,0]
[null,"  ",null,null,null,0,0]
[null,"  ",null,null,null,0,0]
[null,"  ",null,null,null,0,0]
[null,"  ",null,null,null,0,0]
[null,"  ",null,null,null,0,0]
[null,{"$f":"IF(F90>0,+B89+1,\"  \")","v":"  "},null,null,null,0,0]

{"sheet":"Res D1-12","index":16,"n_rows":90,"n_cols":7,"rows_kept":90,"cut":false,"hidden":true,"merged":[[1,2,1,5]]}
[]
[null,null,{"$f":"CONCATENATE(\"Resultat Dalacupen\",\"  \",'D 9-10'!B1)","v":"Resultat Dalacupen  2016"}]
[null,"Klass :","D 11-12"]
[null,"Placering","Född","Namn","Klubb","Poäng Bästa 3","Poäng Totalt"]
[null,1,2004,"SANDBERG Hilma","Rättviks SLK",250,310]
[null,{"$f":"IF(F6>0,+B5+1,\"  \")","v":2},2004,"WENGRUD Nova","Leksands SLK",215,287]
[null,3,2004,"ÅKERSTRÖM Matilda","Örebro SLF",195,259]
[null,4,2004,"ELIASSON Mimmi","Rättviks SLK",160,160]
[null,5,2004,"GATU Alma","Rättviks SLK",154,154]
[null,5,2004,"TÖRNQVIST Nova","IFK Borlänge",154,154]
[null,5,2004,"TÖRNQVIST Nellie","IFK Borlänge",144,152]
[null,7,2005,"LANDSTRÖM Moa","Västerås Slalomklubb",140,140]
[null,8,2005,"LINDBERG Julia","Leksands SLK",136,199]
[null,9,2005,"GUSTAFSSON Rebecka","Örebro SLF",134,136]
[null,10,2005,"BJÖRNHAGER Clara","Norrbärke SK Alpin",124,124]
[null,11,2004,"PERSSON Emma","IFK Borlänge",123,166]
[null,12,2005,"ANDERSSON Melinda","Örebro SLF",121,121]
[null,13,2004,"JOHANSSON Alice","Bollnäs AK",100,100]
[null,13,2005,"HOLMQVIST Emma","Järfälla AK",100,100]
[null,13,2004,"KANDELL Tuva","Leksands SLK",100,100]
[null,16,2005,"NYHEM Frida","Norrbärke SK Alpin",83,83]
[null,17,2004,"MICKELSSON Lisa","IF Hudik Alpin",80,80]
[null,18,2005,"SEGER Nellie","Norrbärke SK Alpin",78,78]
[null,19,2004,"ENGBERG Tindra","IFK Mora AK",76,76]
[null,20,2004,"LARSEN Ida","Gävle Alpina SK",74,74]
[null,21,2004,"SANDBERG Lovisa","Tunafors SK",70,70]
[null,21,1900,"ANDERSSON Matilda","Norrbärke SK Alpin",70,70]
[null,21,2005,"SANDBERG Ida","Örebro SLF",70,70]
[null,21,2004,"ZACHO Felicia","Landskrona SC",70,70]
[null,25,2005,"NYMAN Karin","Norrbärke SK Alpin",68,68]
[null,26,2005,"LUNDBERG Emma","Arboga Alpina",65,65]
[null,27,2005,"MÅRTENSSON Ester","Huddinge SK AF",60,60]
[null,28,2005,"VON REEDTZ Johanna","Gävle Alpina SK",56,56]
[null,29,2004,"ÖIEN Iris","Karlstads SLK",55,55]
[null,29,2005,"SAHLANDER Hilda","IFK Mora AK",55,55]
[null,29,2005,"WAHMAN Rut","Örebro SLF",55,55]
[null,32,2005,"FROST Elsa","IFK Mora AK",51,51]
[null,33,2005,"SILFWERPLATZ Maya","Malungs SLK",51,51]
[null,34,2004,"FORSBERG Karin","Sollentuna SLK",50,50]
[null,35,2004,"BJÖRKMAN Saga","Uppsala SLK",48,48]
[null,36,2005,"BENGTSSON Hilda","Bollnäs AK",44,44]
[null,37,2005,"BENGTSSON Linnea","Bollnäs AK",42,42]
[null,37,2005,"NILSSON Linn","Tunafors SK",42,42]
[null,39,2005,"GRANATH Nella","IFK Falun",40,40]
[null,39,2004,"MALMBERG Marissa","Sälens IF",40,40]
[null,41,2005,"DALSLÅEN Ellen","Sunne A K",38,38]
[null,41,2004,"MARRAKCHI Sara","Sälens IF",38,38]
[null,43,2005,"BJÖRKLUND Ellen","Norrbärke SK Alpin",37,37]
[null,44,2005,"MÅRTENSSON Tilda","Högby Alpina SLK",35,35]
[null,45,2004,"LARSSON Tilde","Uppsala SLK",34,34]
[null,46,2004,"MÖRTBERG Klara","Uppsala SLK",34,34]
[null,46,2004,"GROPGÅRD Ella","Leksands SLK",34,34]
[null,46,2005,"HEDLÖF Ebba","Gävle Alpina SK",31,31]
[null,49,2005,"LORENTSSON Moa","IFK Mora AK",30,30]
[null,50,2004,"TJÄRNESTIG Meja","Valfjällets SLK",29,29]
[null,51,2005,"RIHPA MANN Agnes","Vemdalens IF",28,28]
[null,52,2004,"DAHLBERG Meja","Västerås Slalomklubb",27,27]
[null,53,2004,"FERNSTEN Filippa","Arboga Alpina",25,25]
[null,54,2005,"BERG Hilda","IFK Mora AK",23,23]
[null,55,2005,"THOMASSON Sofia","Orsa Alpina Klubb",22,22]
[null,56,2005,"HÖGLUND Tilde","IFK Mora AK",20,20]
[null,57,2005,"HEDLUND Tea","Kungsbergets AK",18,18]
[null,58,2005,"WENGELIN Irma","Kungsbergets AK",17,17]
[null,59,2005,"BERGSTRÖM stina","Uppsala SLK",13,13]
[null,60,2005,"ULVENVALL Linn","Sollentuna SLK",11,11]
[null,61,2005,"KRISTOFFERSSON Nelly","Härnösands Alpina Klubb",10,10]
[null,62,2005,"AXELSSON Clara","IFK Mora AK",7,7]
[null,63,2005,"ROMBO Indra","IFK Mora AK",5,5]
[null,64,2005,"MAGNUSSON Elise","Uppsala SLK",4,4]
[null,{"$f":"IF(F70>0,+B69+1,\"  \")","v":65},2004,"LARSSON Wilmah","Båsenberga SLK",3,3]
[null,66,2005,"HOLLWIN ANDERSSON Lovisa","Norrköpings SK",1,1]
[null,66,2004,"FAST Ellen","IFK Sävsjö",1,1]
[null,"  ",2005,"OLEBRO-LUNDHOLM Elsa","Gävle Alpina SK",0,0]
[null,"  ",2004,"GUSTAFSSON Saga","Västerås Slalomklubb",0,0]
[null,"  ",2005,"HEDERSTRÖM Ellen","Kungsbergets AK",0,0]
[null,"  ",2005,"RYLANDER Elsa","Västerås Slalomklubb",0,0]
[null,"  ",2004,"TYRÉN Klara","Bollnäs AK",0,0]
[null,"  ",2005,"VIBERG Alma","IFK Sävsjö",0,0]
[null,"  ",null,null,null,0,0]
[null,"  ",null,null,null,0,0]
[null,"  ",null,null,null,0,0]
[null,"  ",null,null,null,0,0]
[null,"  ",null,null,null,0,0]
[null,"  ",null,null,null,0,0]
[null,"  ",null,null,null,0,0]
[null,"  ",null,null,null,0,0]
[null,"  ",null,null,null,0,0]
[null,"  ",null,null,null,0,0]
[null,"  ",null,null,null,0,0]
[null,{"$f":"IF(F90>0,+B89+1,\"  \")","v":"  "},null,null,null,0,0]

{"sheet":"Res H11-12","index":17,"n_rows":90,"n_cols":7,"rows_kept":90,"cut":false,"hidden":true,"merged":[[1,2,1,5]]}
[]
[null,null,{"$f":"CONCATENATE(\"Resultat Dalacupen\",\"  \",'D 9-10'!B1)","v":"Resultat Dalacupen  2016"}]
[null,"Klass :","H 11-12"]
[null,"Placering","Född","Namn","Klubb","Poäng Bästa 3","Poäng Totalt"]
[null,1,2004,"SÖDERLIND Linus","Örebro SLF",280,280]
[null,{"$f":"IF(F6>0,+B5+1,\"  \")","v":2},2004,"WIKZELL Dante","Rättviks SLK",210,260]
[null,3,2004,"WAHLBERG David","IFK Falun",186,186]
[null,4,2005,"ANDERSSON Erik","Båsenberga SLK",185,213]
[null,5,2005,"BOHM Adam","Huddinge SK AF",180,180]
[null,6,2005,"GRIMBERG Nils","IFK Falun",163,211]
[null,7,2004,"LISON ALMKVIST Beppe","Norrköpings SK",155,155]
[null,8,2005,"KARLSSON George","Arboga Alpina",150,150]
[null,9,2005,"LARSSON Måns","Sälens IF",118,118]
[null,10,2005,"MÖLLER Måns","Sollentuna SLK",106,106]
[null,11,2004,"SORBE Andre","Tunafors SK",100,100]
[null,12,2005,"WESTIN Linus","Örebro SLF",98,98]
[null,13,2005,"WENGELIN Albin","Kungsbergets AK",94,94]
[null,14,2005,"ANDERSSON Kalle","Norrbärke SK Alpin",92,92]
[null,15,2005,"HABING Erik","Sälens IF",88,88]
[null,16,2005,"LUNDQUIST Gabriel","Rättviks SLK",81,81]
[null,17,2004,"NORLINDER Felix","IFK Borlänge",80,80]
[null,18,2004,"LARSSON Albin","Sälens IF",70,70]
[null,19,2004,"STRÖMBERG Oscar","IFK Borlänge",70,70]
[null,20,2005,"HAGMAN John","Sollentuna SLK",60,60]
[null,21,2005,"LIND Carl","IFK Borlänge",60,60]
[null,22,2005,"EKLUND Hampus","Täby SLK",48,48]
[null,23,2004,"HOLMA Buster","IFK Lidingö Slalomklubb",46,46]
[null,24,2005,"JAKOBSSON Axel","Norrbärke SK Alpin",46,46]
[null,25,2004,"ABRAHAMSSON Sixten","IFK Falun",44,44]
[null,26,2005,"ERIKSSON Lucas","IFK Borlänge",44,44]
[null,27,2004,"HUSS Noel","Sollentuna SLK",42,42]
[null,28,2005,"JAEGERFALK Theo","Roslagens AK",40,40]
[null,29,2005,"DAHLBORG Fred","IFK Lidingö Slalomklubb",40,40]
[null,30,2005,"ENEQVIST Viktor","Djurgårdens IF AF",39,39]
[null,31,2004,"BOJFELT Sebastian","IFK Borlänge",39,39]
[null,32,2004,"LORD Max","Tunafors SK",37,37]
[null,33,2004,"NILSSON Hugo","Edsbyns IF Alpina Förening",36,36]
[null,34,2004,"HELLERSTEDT Isak","IFK Sävsjö",35,35]
[null,35,2004,"HERMANSSON Hugo","IFK Sävsjö",34,34]
[null,36,2005,"ÅNGSTRÖM Erik","Uppsala SLK",31,31]
[null,37,2004,"ELIASSON Noel","Arboga Alpina",29,29]
[null,38,2004,"WIBORG Noel","Orsa Alpina Klubb",27,27]
[null,39,2005,"OLLAS Filip","Edsbyns IF Alpina Förening",26,26]
[null,40,2004,"BERGELIN Calle","Båsenberga SLK",25,25]
[null,41,2004,"HJORTSTAM Aron","Västerås Slalomklubb",24,24]
[null,42,2005,"NORDSTRÖM Hampus","Boge SLK",23,23]
[null,43,2005,"JÖNSSON Albin","IFK Sävsjö",22,22]
[null,44,2005,"PETTERSSON August","IFK Grängesberg AK",21,21]
[null,45,2004,"EKELUND Isak","Gävle Alpina SK",20,20]
[null,46,2005,"LODIN Edvin","Branäs AK",19,19]
[null,"  ",2004,"FÜHR Adrian","Båsenberga SLK",0,0]
[null,"  ",2005,"MÅNSSON Arthur","Täby SLK",0,0]
[null,"  ",2004,"PETERSSON Sam","Kungsbergets AK",0,0]
[null,"  ",2004,"SVED Nils","IF Hudik Alpin",0,0]
[null,"  ",2004,"NOACK Felix","Gävle Alpina SK",0,0]
[null,"  ",2004,"PETTERSSON NOORD Nils","IFK Lidingö Slalomklubb",0,0]
[null,"  ",2004,"REYNIER Lucas","Djurgårdens IF AF",0,0]
[null,"  ",2005,"VESTBERG Rasmus","Väst Alpin SK Göteborg",0,0]
[null,"  ",null,null,null,0,0]
[null,"  ",null,null,null,0,0]
[null,"  ",null,null,null,0,0]
[null,"  ",null,null,null,0,0]
[null,"  ",null,null,null,0,0]
[null,"  ",null,null,null,0,0]
[null,"  ",null,null,null,0,0]
[null,"  ",null,null,null,0,0]
[null,"  ",null,null,null,0,0]
[null,"  ",null,null,null,0,0]
[null,"  ",null,null,null,0,0]
[null,{"$f":"IF(F70>0,+B69+1,\"  \")","v":"  "},null,null,null,0,0]
[null,"  ",null,null,null,0,0]
[null,"  ",null,null,null,0,0]
[null,"  ",null,null,null,0,0]
[null,"  ",null,null,null,0,0]
[null,"  ",null,null,null,0,0]
[null,"  ",null,null,null,0,0]
[null,"  ",null,null,null,0,0]
[null,"  ",null,null,null,0,0]
[null,"  ",null,null,null,0,0]
[null,"  ",null,null,null,0,0]
[null,"  ",null,null,null,0,0]
[null,"  ",null,null,null,0,0]
[null,"  ",null,null,null,0,0]
[null,"  ",null,null,null,0,0]
[null,"  ",null,null,null,0,0]
[null,"  ",null,null,null,0,0]
[null,"  ",null,null,null,0,0]
[null,"  ",null,null,null,0,0]
[null,"  ",null,null,null,0,0]
[null,{"$f":"IF(F90>0,+B89+1,\"  \")","v":"  "},null,null,null,0,0]

{"sheet":"Res D13-14","index":18,"n_rows":90,"n_cols":7,"rows_kept":90,"cut":false,"hidden":true,"merged":[[1,2,1,5]]}
[]
[null,null,{"$f":"CONCATENATE(\"Resultat Dalacupen\",\"  \",'D 9-10'!B1)","v":"Resultat Dalacupen  2016"}]
[null,"Klass :","D 13-14"]
[null,"Placering","Född","Namn","Klubb","Poäng Bästa 3","Poäng Totalt"]
[null,1,2002,"JOBS Maja","Leksands SLK",250,271]
[null,{"$f":"IF(F6>0,+B5+1,\"  \")","v":2},2002,"LILJENBORG Lova","IFK Falun",200,283]
[null,3,2003,"BERGNER Emma","Malungs SLK",186,204]
[null,4,2002,"LAGGAR Karin","Rättviks SLK",171,171]
[null,5,2003,"LOVÉN Clara","Orsa Alpina Klubb",166,196]
[null,6,2002,"INGMARSSON Elvira","IFK Borlänge",155,218]
[null,7,2003,"EKSTRÖM Lisa","IFK Falun",151,176]
[null,8,2003,"OSKARSSON Hedvig","Sälens IF",148,148]
[null,9,2002,"VEDIN Erica","Malungs SLK",143,166]
[null,10,2002,"BORELIUS Emma","IFK Falun",137,137]
[null,11,2002,"FRIDÉN Ebba","Väst Alpin SK Göteborg",130,130]
[null,12,2002,"ANDERSSON Ella","Båsenberga SLK",123,123]
[null,13,2003,"NARVING Maja","Örebro SLF",122,122]
[null,14,2002,"WENGRUD Saga","Leksands SLK",121,168]
[null,15,2003,"FORSMAN Jennefer","IFK Borlänge",108,114]
[null,16,2002,"EDLUND Elin","IFK Falun",102,102]
[null,17,2002,"DAHLIN Ronja","IF Hudik Alpin",100,100]
[null,18,2002,"MALM Cecilia","Sollentuna SLK",100,100]
[null,19,2002,"BACK-NILSSON Anna","Leksands SLK",82,82]
[null,20,2002,"VON REEDTZ Sofia","Gävle Alpina SK",80,80]
[null,21,2002,"HELLMAN Josefine","IFK Falun",80,80]
[null,22,2002,"STRÖMSTEDT Ella-Carolina","Östersund-Frösö SLK",80,80]
[null,23,2003,"PERES Saga","IFK Falun",77,77]
[null,24,2003,"BÄCK Nellie","IFK Falun",67,67]
[null,25,2003,"NYMAN Ingrid","Norrbärke SK Alpin",67,67]
[null,26,2003,"ELFVING Alva","IFK Borlänge",66,66]
[null,27,2002,"NORLING Filippa","Leksands SLK",63,63]
[null,28,2002,"PETERSON Elin","Valfjällets SLK",60,60]
[null,29,2002,"HERLIN Annie","SK Vitesse",55,55]
[null,30,2002,"SILFWERPLATZ Matilda","Malungs SLK",54,54]
[null,31,2002,"LOFT Celine","Klövsjö Alpina",50,50]
[null,32,2002,"KLARÉUS Frida","Roslagens AK",49,49]
[null,33,2002,"ÅRSJÖ Maja","Norrköpings SK",48,48]
[null,34,2003,"LUNDÉN Lova","Sollentuna SLK",48,48]
[null,35,2002,"SJÖSTEN Tilde","Hjortens SK",46,46]
[null,36,2003,"AICHER Emma","Sundsvalls SLK",44,44]
[null,37,2002,"JANSSON Tova","Uppsala SLK",42,42]
[null,38,2002,"WESTLUND Ellen","Ekshärads SLK",40,40]
[null,39,2003,"FOLKESSON Elin","Malungs SLK",40,40]
[null,40,2003,"EKWALL Alva","IFK Falun",40,40]
[null,41,2002,"LÖVSTRAND Emilia","IFK Borlänge",39,39]
[null,42,2002,"EKLUND Mathilda","Täby SLK",38,38]
[null,43,2002,"GRIND My","IFK Borlänge",38,38]
[null,44,2003,"CARIS Ofelia","IFK Falun",37,37]
[null,45,2002,"SELINDER Elinor","Huddinge SK AF",37,37]
[null,46,2003,"WIDESTRAND Anna","Örebro SLF",37,37]
[null,47,2002,"HANSSON Mathilda","SK Vitesse",36,36]
[null,48,2002,"JACOBSEN Louise","Norrbärke SK Alpin",36,36]
[null,49,2002,"LJUNGGREN JONSSON Zara","Huddinge SK AF",36,36]
[null,50,2003,"OLERS Wilma","Sälens IF",35,35]
[null,51,2003,"SELANDER Ella","Örebro SLF",35,35]
[null,52,2003,"STERNFELDT Lova","Boge SLK",34,34]
[null,53,2002,"HEIKKINEN Lovisa","Orsa Alpina Klubb",34,34]
[null,54,2003,"DAHLBORG Stella","IFK Lidingö Slalomklubb",34,34]
[null,55,2002,"TJÄDER Jeanette","Bollnäs AK",33,33]
[null,56,2002,"EKMAN Isabelle","Gävle Alpina SK",32,32]
[null,57,2003,"SANDBERG Thea","IFK Falun",31,31]
[null,58,2003,"JALKESTEN Sophie","Huddinge SK AF",28,28]
[null,59,2002,"MICKELSSON Emelie","IF Hudik Alpin",26,26]
[null,60,2002,"STEINWALL Kajsa","IFK Sävsjö",25,25]
[null,61,2003,"RYDÉN Anné","Östersund-Frösö SLK",22,22]
[null,62,2002,"HOLLWIN ANDERSSON Klara","Norrköpings SK",20,20]
[null,63,2003,"HEDIN Elin","Karlstads SLK",17,17]
[null,64,2002,"AXBERG Wilma","Båsenberga SLK",15,15]
[null,65,null,"ABENIUS Lovisa","Väst Alpin SK Göteborg",12,12]
[null,{"$f":"IF(F70>0,+B69+1,\"  \")","v":66},2002,"BRAATZ Linnéa","Huddinge SK AF",11,11]
[null,67,2003,"AHLENIUS Linn","Orsa Alpina Klubb",9,9]
[null,68,2003,"GRAN Dorotea","SK Vitesse",8,8]
[null,69,2002,"BÄCKMAN Alma","Valfjällets SLK",7,7]
[null,70,2002,"PERSSON Elin","Roslagens AK",5,5]
[null,71,2003,"LUND Julia","Järvsö IF",4,4]
[null,72,2003,"KARLSSON Frida","Västerås Slalomklubb",2,2]
[null,73,2002,"DALSLÅEN Moa","Sunne A K",1,1]
[null,74,2003,"CERWALL Antonia","Karlskoga SLK",1,1]
[null,75,2003,"JOHNSSON Hanna","Västerås Slalomklubb",1,1]
[null,76,2003,"MATSDOTTER Engla","Orsa Alpina Klubb",1,1]
[null,77,2002,"ODEHEIM Ida","Västerås Slalomklubb",1,1]
[null,"  ",2003,"STRIDH Alice","Örebro SLF",0,0]
[null,"  ",2003,"FRESK Nike","Arboga Alpina",0,0]
[null,"  ",2003,"HAGERIUS Alva","Örebro SLF",0,0]
[null,"  ",2003,"HEDIN Frida","Karlstads SLK",0,0]
[null,"  ",2003,"HJÄLM Max","IFK Grängesberg AK",0,0]
[null,"  ",2002,"TJÄRNESTIG Ebba","Valfjällets SLK",0,0]
[null,"  ",null,null,null,0,0]
[null,"  ",null,null,null,0,0]
[null,{"$f":"IF(F90>0,+B89+1,\"  \")","v":"  "},null,null,null,0,0]

{"sheet":"Res H13-14","index":19,"n_rows":90,"n_cols":7,"rows_kept":90,"cut":false,"hidden":true,"merged":[[1,2,1,5]]}
[]
[null,null,{"$f":"CONCATENATE(\"Resultat Dalacupen\",\"  \",'D 9-10'!B1)","v":"Resultat Dalacupen  2016"}]
[null,"Klass :","H 13-14"]
[null,"Placering","Född","Namn","Klubb","Poäng Bästa 3","Poäng Totalt"]
[null,1,2002,"WAHLBERG Erik","IFK Falun",260,260]
[null,{"$f":"IF(F6>0,+B5+1,\"  \")","v":2},2002,"SVEDBERG Melvin","IFK Borlänge",250,320]
[null,3,2002,"PRAGNERT Adam","Örebro SLF",185,240]
[null,4,2003,"PALMÉR Adam","Örebro SLF",180,180]
[null,5,2002,"GILLBERG Oskar","Täby SLK",160,160]
[null,6,2002,"ANDERSSON Rasmus","Sälens IF",155,155]
[null,7,2002,"STRÖMBERG Samuel","IFK Borlänge",150,150]
[null,8,2002,"MICHELASSI Lapo","Uppsala SLK",136,178]
[null,9,2003,"ÖJERTEG Jesper","IFK Borlänge",134,162]
[null,10,2003,"MIDÉR Erik","Norrbärke SK Alpin",116,163]
[null,11,2002,"GATU Gustaf","Rättviks SLK",105,105]
[null,12,2002,"JOHANSSON Gustav","Högby Alpina SLK",101,101]
[null,13,2002,"HEDMAN Gustav","IFK Borlänge",101,101]
[null,14,2002,"RÖSNÄS Anton","Vemdalens IF",100,100]
[null,15,2003,"VOGT Kalle","Norrbärke SK Alpin",98,98]
[null,16,2002,"LANDER Linus","Sunne A K",80,80]
[null,17,2003,"LANDSTRÖM Simon","Västerås Slalomklubb",80,80]
[null,18,2002,"HOLMLUND Carl-Johan","Västerås Slalomklubb",80,80]
[null,19,2003,"FLODBERG Hugo","IFK Falun",80,80]
[null,20,2003,"PÅLSSON Erik","Norrbärke SK Alpin",74,74]
[null,21,2003,"FREDRIKSSON Isak","Norrbärke SK Alpin",72,72]
[null,22,2002,"GRANATH Gabriel","IFK Falun",70,70]
[null,23,2002,"HOLMQVIST Oscar","Järfälla AK",70,70]
[null,24,2003,"ANDERSSON Felix","Järfälla AK",50,50]
[null,25,2003,"LARSSON Kasper","Sälens IF",50,50]
[null,26,2003,"PETTERSON Simon","Örebro SLF",50,50]
[null,27,2003,"HOLMGREN Henrik","Djurgårdens IF AF",48,48]
[null,28,2002,"ANDREASSON Olle","Väst Alpin SK Göteborg",48,48]
[null,29,2003,"WESTLUND Charlie","Kungsbergets AK",48,48]
[null,30,2003,"BJÖRKMAN Filip","IFK Mora AK",46,46]
[null,31,2002,"FLODMARK Jonas","Uppsala SLK",44,44]
[null,32,2003,"PALMÉR Pontus","Kumla SF",44,44]
[null,33,2002,"BARCK Manfred","IFK Falun",42,42]
[null,34,2003,"SCHULTZ Anton","IFK Falun",42,42]
[null,35,2003,"WENGELIN Joel","Kungsbergets AK",42,42]
[null,36,2003,"ENEQVIST Hugo","Djurgårdens IF AF",40,40]
[null,37,2003,"BÅNG-ØYGARD Edwin","Kungsbergets AK",39,39]
[null,38,2002,"WERKMÄSTAR Johan","Rättviks SLK",38,38]
[null,39,2002,"TÄRNSBY Emil","Huddinge SK AF",37,37]
[null,40,2002,"LINDHOLM Adam","IFK Grängesberg AK",37,37]
[null,41,2003,"ÅNGSTRÖM Gustaf","Uppsala SLK",36,36]
[null,42,1900,"HJÄLM Max","IFK Grängesberg",36,36]
[null,43,2003,"PERSSON Victor","IFK Grängesberg AK",36,36]
[null,44,2003,"WELANDER Elis","Kungsbergets AK",35,35]
[null,45,2003,"HOLTH LYSTAD Oliver","Valfjällets SLK",33,33]
[null,46,2003,"LINDKVIST Alexander","Djurgårdens IF AF",32,32]
[null,47,2003,"FJÄLLRYD Axel","Örebro SLF",31,31]
[null,48,2003,"JALKESTEN Marcus","Huddinge SK AF",30,30]
[null,49,2003,"ENGSTRÖM Anton","Täby SLK",29,29]
[null,50,2003,"BJÖRKMAN Gustav","Uppsala SLK",27,27]
[null,51,2003,"MÖRTBERG David","Uppsala SLK",26,26]
[null,52,2003,"RYLANDER Jakob","Västerås Slalomklubb",25,25]
[null,53,2003,"MÖLLER Petter","Sollentuna SLK",24,24]
[null,54,2002,"SWANBERG Henrik","Västerås Slalomklubb",23,23]
[null,55,2003,"LUNDEBERG Viktor","Västerås Slalomklubb",22,22]
[null,56,2003,"BERLIN Rasmus","Båsenberga SLK",21,21]
[null,57,2003,"ULVENVALL Joel","Sollentuna SLK",20,20]
[null,58,2003,"TOLLAN Markus","Tunafors SK",19,19]
[null,59,2002,"VRETBLOM Martin","Kungsbergets AK",17,17]
[null,60,2002,"NILSSON Emil","Huddinge SK AF",16,16]
[null,61,2003,"BERGSTRÖM Oskar","Uppsala SLK",15,15]
[null,"  ",2002,"LÖFGREEN Didrik","Saltsjöbadens SLK",0,0]
[null,"  ",2003,"FLAM Gustav","Västerås Slalomklubb",0,0]
[null,"  ",2002,"FORSMAN Carl Johan","Malungs SLK",0,0]
[null,"  ",2002,"GRANQVIST Jesper","Edsbyns IF Alpina Förening",0,0]
[null,{"$f":"IF(F70>0,+B69+1,\"  \")","v":"  "},2003,"KLYS Arvid","Leksands SLK",0,0]
[null,"  ",2002,"NILSSON Frode","Västerås Slalomklubb",0,0]
[null,"  ",2003,"STRAUSS Ian","IFK Lidingö Slalomklubb",0,0]
[null,"  ",2003,"SZEGNER Sebastian","Täby SLK",0,0]
[null,"  ",2003,"WESSLÉN Noah Bucht","Djurgårdens IF AF",0,0]
[null,"  ",2003,"WREDMARK Fabian","IFK Lidingö Slalomklubb",0,0]
[null,"  ",null,null,null,0,0]
[null,"  ",null,null,null,0,0]
[null,"  ",null,null,null,0,0]
[null,"  ",null,null,null,0,0]
[null,"  ",null,null,null,0,0]
[null,"  ",null,null,null,0,0]
[null,"  ",null,null,null,0,0]
[null,"  ",null,null,null,0,0]
[null,"  ",null,null,null,0,0]
[null,"  ",null,null,null,0,0]
[null,"  ",null,null,null,0,0]
[null,"  ",null,null,null,0,0]
[null,"  ",null,null,null,0,0]
[null,"  ",null,null,null,0,0]
[null,{"$f":"IF(F90>0,+B89+1,\"  \")","v":"  "}]

{"sheet":"Res D15-16","index":20,"n_rows":90,"n_cols":7,"rows_kept":90,"cut":false,"hidden":true,"merged":[[1,2,1,5]]}
[]
[null,null,{"$f":"CONCATENATE(\"Resultat Dalacupen\",\"  \",'D 9-10'!B1)","v":"Resultat Dalacupen  2016"}]
[null,"Klass :","D 15-16"]
[null,"Placering","Född","Namn","Klubb","Poäng Bästa 3","Poäng Totalt"]
[null,1,2000,"KLING ANDERSSON Ebba","IFK Borlänge",280,330]
[null,{"$f":"IF(F6>0,+B5+1,\"  \")","v":2},2001,"KARLSSON Kathrine","Arboga Alpina",154,154]
[null,{"$f":"IF(F7>0,+B6+1,\"  \")","v":3},2001,"GRANBOM Rebecca","Karlstads SLK",126,126]
[null,3,2000,"ANTFOLK Wilma","IFK Borlänge",109,109]
[null,5,2001,"ROBÈRT Ellen","Bollnäs AK",100,100]
[null,6,2000,"FLODBERG Hanna","IFK Falun",100,100]
[null,7,2000,"LARSSON Alice","Sälens IF",100,100]
[null,8,2001,"ZETTERLUND Alma","Norrbärke SK Alpin",100,100]
[null,9,2001,"HERTZBERG Anna","Karlstads SLK",98,98]
[null,10,2001,"ARNESSON Moa","Karlstads SLK",97,97]
[null,11,2001,"MAGNERYD Hanna","Norrbärke SK Alpin",80,80]
[null,12,2001,"RAZPOTNIK Lovisa","Västerås Slalomklubb",80,80]
[null,13,2000,"VESTMAN Andréa","Östersund-Frösö SLK",70,70]
[null,14,2000,"PETTERSON Elin","Örebro SLF",70,70]
[null,15,2000,"ENEQVIST Ebba","Saltsjöbadens SLK",60,60]
[null,16,2001,"KONDRADSSON Wilma","Sälens IF",60,60]
[null,17,2001,"SAKS Clara","Sollentuna SLK",60,60]
[null,18,2001,"ULLE Fia","Uppsala SLK",55,55]
[null,19,2001,"BÄCCMAN Elin","Karlstads SLK",55,55]
[null,20,2001,"HJÄLM Molly","IFK Grängesberg AK",55,55]
[null,21,2000,"SJÖSTEN Nellie","Hjortens SK",50,50]
[null,22,2001,"EKMYR Saga","Uppsala SLK",48,48]
[null,23,2001,"KANDELL Tilde","Leksands SLK",46,46]
[null,24,2001,"NORDSTRÖM Julia","Boge SLK",44,44]
[null,25,2001,"KARLSSON Alva","Avesta AK",44,44]
[null,26,2001,"VOGT Lisa","Norrbärke SK Alpin",44,44]
[null,27,2001,"VIKSTRÖM Tuva","Rättviks SLK",42,42]
[null,28,2001,"JALKESTEN Rebecka","Huddinge SK AF",40,40]
[null,29,2000,"ASKMAN Linn","Valfjällets SLK",40,40]
[null,30,2001,"MIDÉR Maja","Norrbärke SK Alpin",39,39]
[null,31,2001,"BJÖRKMAN Wilma","IFK Mora AK",38,38]
[null,32,2001,"STAM Nora","Kils SLK",37,37]
[null,33,2001,"ANDERSSON Madeleine","Örebro SLF",36,36]
[null,34,2001,"KYRK Clara","Grums SLK",35,35]
[null,35,2001,"ÖSTMARK Elsa","Gävle Alpina SK",34,34]
[null,36,2000,"SANDBERG Ahnoo","IFK Falun",33,33]
[null,37,2000,"HÅKANSSON Ida","Valfjällets SLK",32,32]
[null,38,2001,"MOLNSTRAND Ramona","Örebro SLF",31,31]
[null,39,2000,"JADING Rebecka","Idre SK",29,29]
[null,40,2001,"HELLGREN Stina","Idre SK",28,28]
[null,41,2000,"PETTERSSON Linn","Idre SK",28,28]
[null,42,2000,"HEDGREN Sofia","Malungs SLK",26,26]
[null,43,2000,"KINDBERG Ellen","Kils SLK",25,25]
[null,44,2000,"FROHM Ellen","Idre SK",24,24]
[null,45,2000,"SÖDERLIND Ida","Örebro SLF",23,23]
[null,46,2001,"KARLSSON Felicia","Valfjällets SLK",22,22]
[null,"  ",2000,"BRANDÅS Agnes","Båsenberga SLK",0,0]
[null,"  ",2000,"GÄFVERT Linn","Norrköpings SK",0,0]
[null,"  ",2001,"AXELSSON Sofia","Mälaröarnas Alpina SK",0,0]
[null,"  ",2001,"CARLSSON Emilia","Karlstads SLK",0,0]
[null,"  ",2001,"HEDERSTRÖM Linnea","Kungsbergets AK",0,0]
[null,"  ",2001,"KARLSSON Ronja","Valfjällets SLK",0,0]
[null,"  ",2000,"LIND Felicia","IFK Borlänge",0,0]
[null,"  ",2000,"WAHLGREN Sara","Idre SK",0,0]
[null,"  ",2001,"WREDMARK Ofelia","IFK Lidingö Slalomklubb",0,0]
[null,"  ",null,null,null,0,0]
[null,"  ",null,null,null,0,0]
[null,"  ",null,null,null,0,0]
[null,"  ",null,null,null,0,0]
[null,"  ",null,null,null,0,0]
[null,"  ",null,null,null,0,0]
[null,"  ",null,null,null,0,0]
[null,"  ",null,null,null,0,0]
[null,"  ",null,null,null,0,0]
[null,"  ",null,null,null,0,0]
[null,{"$f":"IF(F70>0,+B69+1,\"  \")","v":"  "},null,null,null,0,0]
[null,"  ",null,null,null,0,0]
[null,"  ",null,null,null,0,0]
[null,"  ",null,null,null,0,0]
[null,"  ",null,null,null,0,0]
[null,"  ",null,null,null,0,0]
[null,"  ",null,null,null,0,0]
[null,"  ",null,null,null,0,0]
[null,"  ",null,null,null,0,0]
[null,"  ",null,null,null,0,0]
[null,"  ",null,null,null,0,0]
[null,"  ",null,null,null,0,0]
[null,"  ",null,null,null,0,0]
[null,"  ",null,null,null,0,0]
[null,"  ",null,null,null,0,0]
[null,"  ",null,null,null,0,0]
[null,"  ",null,null,null,0,0]
[null,"  ",null,null,null,0,0]
[null,"  ",null,null,null,0,0]
[null,"  ",null,null,null,0,0]
[null,{"$f":"IF(F90>0,+B89+1,\"  \")","v":"  "},null,null,null,0,0]

{"sheet":"Res H15-16","index":21,"n_rows":90,"n_cols":7,"rows_kept":90,"cut":false,"hidden":true,"merged":[[1,2,1,5]]}
[]
[null,null,{"$f":"CONCATENATE(\"Resultat Dalacupen\",\"  \",'D 9-10'!B1)","v":"Resultat Dalacupen  2016"}]
[null,"Klass :","H 15-16"]
[null,"Placering","Född","Namn","Klubb","Poäng Bästa 3","Poäng Totalt"]
[null,1,2001,"CONRADSSON Samuel","Högby Alpina SLK",200,200]
[null,{"$f":"IF(F6>0,+B5+1,\"  \")","v":2},2000,"BERGLUND Gusten","Karlstads SLK",180,180]
[null,3,2001,"SETTERSTRÖM Martin","Karlstads SLK",126,126]
[null,3,2000,"SUTHER Oliver","Rättviks SLK",126,126]
[null,5,2001,"MICHELASSI Hendrik","Uppsala SLK",114,114]
[null,6,2000,"GATU Mathias","Rättviks SLK",113,113]
[null,7,2000,"LUND Oskar","Idre SK",110,110]
[null,8,2001,"LARSSON Oscar-William","Uppsala SLK",102,102]
[null,9,2001,"VIKSTRÖM Alfred","Edsbyns IF Alpina Förening",100,100]
[null,10,2001,"JOHANSSON Timmy","Tunafors SK",100,100]
[null,11,2001,"SELLING Kevin","IFK Mora AK",100,100]
[null,12,2000,"RASK Noah","Boge SLK",80,80]
[null,13,2000,"SUNDBERG Edvin","Örebro SLF",70,70]
[null,14,2001,"LAGER Linus","Idre SK",68,68]
[null,15,2001,"ANDRÉN Odd","Idre SK",63,63]
[null,16,2001,"GRAN Herbert","SK Vitesse",60,60]
[null,17,2001,"OLSSON Linus","Valfjällets SLK",60,60]
[null,18,2000,"ENGLUND Joel","IF Hudik Alpin",55,55]
[null,19,2001,"JORÄLV Filip","Arvika SLK",55,55]
[null,20,2001,"MOBERG Erik","Karlstads SLK",50,50]
[null,21,2001,"KARLSSON Jonathan","Båsenberga SLK",48,48]
[null,22,2000,"SETTERSTRÖM Carl","Karlstads SLK",48,48]
[null,23,2001,"JOHNSSON Filip","Västerås Slalomklubb",46,46]
[null,24,2001,"HAGBERG Petter","Avesta AK",44,44]
[null,25,2000,"LINDSTRÖM Filip","Kumla SF",42,42]
[null,26,2001,"ÖNNERDAL Isac","Uppsala SLK",39,39]
[null,27,2001,"SCHMIDT Niklas","Idre SK",39,39]
[null,28,2001,"HANSSON Liam","Valfjällets SLK",38,38]
[null,29,2001,"STRÖMBERG Isac","Karlstads SLK",37,37]
[null,30,2001,"BRÅNANDER Gustav","Karlstads SLK",36,36]
[null,31,2001,"RAIJ Carl","Kils SLK",35,35]
[null,32,2001,"STJERNLÖF Philip","Avesta AK",34,34]
[null,33,2001,"LÖVKVIST Mattias","IFK Falun",32,32]
[null,34,2000,"HEDIN Johan","IFK Borlänge",31,31]
[null,35,2000,"FORSMAN Rickard","Malungs SLK",30,30]
[null,36,2001,"PALMÉR Albin","Kumla SF",29,29]
[null,37,2001,"HEDMAN Anton","IFK Borlänge",27,27]
[null,38,2000,"ANDRÉN Palle","Idre SK",24,24]
[null,"  ",2001,"CERNY Alexander","Tunafors SK",0,0]
[null,"  ",2001,"HJORTSTAM Albin","Västerås Slalomklubb",0,0]
[null,"  ",2001,"DOUGHERTY Bastian","Orsa Alpina Klubb",0,0]
[null,"  ",2000,"LINDSTRÖM Aaron","SK Vitesse",0,0]
[null,"  ",2001,"NARKINIEMI Isak","Högby Alpina SLK",0,0]
[null,"  ",2000,"NORDIN Linus","Täby SLK",0,0]
[null,"  ",2001,"OSKARSSON Albin","Kumla SF",0,0]
[null,"  ",2001,"ROSENQVIST Lukas","Sollentuna SLK",0,0]
[null,"  ",2001,"SKOTTE Axel","IFK Mora AK",0,0]
[null,"  ",2001,"TEGSTRÖM Pontus","Sollentuna SLK",0,0]
[null,"  ",2000,"ZAUNBRECHER Fynn","Orsa Alpina Klubb",0,0]
[null,"  ",2000,"ÖHMAN Edvin","Västerås Slalomklubb",0,0]
[null,"  ",null,null,null,0,0]
[null,"  ",null,null,null,0,0]
[null,"  ",null,null,null,0,0]
[null,"  ",null,null,null,0,0]
[null,"  ",null,null,null,0,0]
[null,"  ",null,null,null,0,0]
[null,"  ",null,null,null,0,0]
[null,"  ",null,null,null,0,0]
[null,"  ",null,null,null,0,0]
[null,"  ",null,null,null,0,0]
[null,"  ",null,null,null,0,0]
[null,"  ",null,null,null,0,0]
[null,"  ",null,null,null,0,0]
[null,"  ",null,null,null,0,0]
[null,"  ",null,null,null,0,0]
[null,{"$f":"IF(F70>0,+B69+1,\"  \")","v":"  "},null,null,null,0,0]
[null,"  ",null,null,null,0,0]
[null,"  ",null,null,null,0,0]
[null,"  ",null,null,null,0,0]
[null,"  ",null,null,null,0,0]
[null,"  ",null,null,null,0,0]
[null,"  ",null,null,null,0,0]
[null,"  ",null,null,null,0,0]
[null,"  ",null,null,null,0,0]
[null,"  ",null,null,null,0,0]
[null,"  ",null,null,null,0,0]
[null,"  ",null,null,null,0,0]
[null,"  ",null,null,null,0,0]
[null,"  ",null,null,null,0,0]
[null,"  ",null,null,null,0,0]
[null,"  ",null,null,null,0,0]
[null,"  ",null,null,null,0,0]
[null,"  ",null,null,null,0,0]
[null,"  ",null,null,null,0,0]
[null,"  ",null,null,null,0,0]
[null,{"$f":"IF(F90>0,+B89+1,\"  \")","v":"  "},null,null,null,0,0]

{"sheet":"Res D17-","index":22,"n_rows":90,"n_cols":7,"rows_kept":90,"cut":false,"hidden":true,"merged":[[1,2,1,5]]}
[]
[null,null,{"$f":"CONCATENATE(\"Resultat Dalacupen\",\"  \",'D 9-10'!B1)","v":"Resultat Dalacupen  2016"}]
[null,"Klass :","D 17-"]
[null,"Placering","Född","Namn","Klubb","Poäng Bästa 5","Poäng Totalt"]
[null,1,1997,"MIDÉR Fanny","Norrbärke SK Alpin",374,374]
[null,{"$f":"IF(F6>0,+B5+1,\"  \")","v":2},1999,"WÄHL Emma","Norrbärke SK Alpin",365,373]
[null,3,1999,"HÅKONSEN Hanna","Norrbärke SK Alpin",255,255]
[null,4,1997,"ÖGREN Hanna","UHSK Umeå SK",200,200]
[null,5,1991,"HINDERS Anna","IFK Falun",158,158]
[null,6,1999,"DAHLIN Agnes","IF Hudik Alpin",140,140]
[null,7,1999,"FREDRIKSSON Evelina","Huddinge SK AF",122,122]
[null,8,1998,"STRANDBERG Ebba","Saltsjöbadens SLK",115,115]
[null,9,1999,"HENNING Emelie","Järfälla AK",108,108]
[null,10,1999,"DANNEWITZ Ida","Uppsala SLK",105,105]
[null,11,1984,"HINDERS Ida","IFK Falun",100,100]
[null,12,1998,"EDSÅS Karin","Åre SLK",94,94]
[null,13,1998,"AXELSSON Fanny","IFK Mora AK",90,90]
[null,14,1997,"OLOFSSON Elin","Åre SLK",90,90]
[null,15,1997,"NILSSON Emma","Huddinge SK AF",87,87]
[null,16,1997,"LIFVENDAHL Lisa","Sälens IF",80,80]
[null,17,1996,"JANSSON Sandra","Höghedens SLK",79,79]
[null,18,1996,"CHRISTENSEN Helena","Sundsvalls SLK",72,72]
[null,19,1999,"SIGURDSSON Linn","Järvsö IF",72,72]
[null,20,1999,"RIBRANT Mikaela","Järfälla AK",70,70]
[null,21,1998,"HAGERIUS Julia","Örebro SLF",67,67]
[null,22,1999,"SAKS Elin","Sollentuna SLK",64,64]
[null,23,1997,"CHRISTMANSSON Anna","Östersund-Frösö SLK",60,60]
[null,24,1999,"ÖSTLUND Amanda","Norrbärke SK Alpin",60,60]
[null,25,1999,"STRANDBERG Sanna","Sundsvalls SLK",59,59]
[null,26,1999,"LÖVSTRÖM Freja","Tunafors SK",55,55]
[null,27,1999,"ANDERSSON Ida-Stina","Norrbärke SK Alpin",55,55]
[null,28,1998,"LUNDBÄCK Emma","Huddinge SK AF",54,54]
[null,29,1997,"WEDIN Matilda","Uppsala SLK",53,53]
[null,30,1986,"HINDERS Elin","IFK Falun",50,50]
[null,31,1997,"OLSSON Klara","Uppsala SLK",49,49]
[null,32,1998,"MÅNGS Elin","Idre SK",48,48]
[null,33,1995,"OLSSON Hanna","Uppsala SLK",47,47]
[null,34,1999,"JENSEN Lovisa","Orsa Alpina Klubb",45,45]
[null,35,1998,"BROWALDH Siri","Djurgårdens IF AF",44,44]
[null,36,1999,"ANDERSSON Filippa","Täby SLK",41,41]
[null,37,1999,"MIDNÄS Wilma","Falköpings AIK SLK",40,40]
[null,38,1999,"BOIARDT Johanna","Östersund-Frösö SLK",39,39]
[null,39,1997,"ISRAELSSON Elsa","Sundsvalls SLK",38,38]
[null,40,1999,"ANTMAN Stina","Västerås Slalomklubb",36,36]
[null,41,1997,"RAIJ Sofia","Kils SLK",33,33]
[null,42,1998,"THUNELL Elida","Järvsö IF",33,33]
[null,43,1999,"ÅBERG Julia","Avesta AK",32,32]
[null,44,1999,"SAHLGREN Maja","Huddinge SK AF",30,30]
[null,45,1997,"NETINDER Julia","Uppsala SLK",29,29]
[null,46,1999,"ANDERSSON Vilma","Falköpings AIK SLK",27,27]
[null,47,1999,"SANDBERG Clara","Luleå AK",26,26]
[null,48,1997,"DELIN Hedda","IFK Lidingö Slalomklubb",25,25]
[null,49,1994,"JOHANSSON Amanda","Östersund-Frösö SLK",23,23]
[null,50,1999,"THORWID Alice","Sollentuna SLK",23,23]
[null,51,1996,"NYSTRÖM Amanda","Hestra Skid o SK",18,18]
[null,52,1997,"ÖSTERBERG Lina","Norrbärke SK Alpin",18,18]
[null,53,1996,"ULLBERG Malin","Sundsvalls SLK",16,16]
[null,54,1998,"ANDERSON Victoria","IFK Falun",13,13]
[null,55,1999,"KARLSSON Märta","Huddinge SK AF",13,13]
[null,56,1997,"DAHLGREN Evelina","Tunafors SK",12,12]
[null,57,1999,"FRIES Hedvig","IFK Borlänge",7,7]
[null,58,1998,"NYGÅRD Signe","Rättviks SLK",5,5]
[null,"  ",1996,"ANDERSSON Ebba","Saltsjöbadens SLK",0,0]
[null,"  ",1999,"DOUGHERTY Eira","Orsa Alpina Klubb",0,0]
[null,"  ",1998,"EKMAN Ebba","Bollnäs AK",0,0]
[null,"  ",1999,"LITZÉN Julia","Idre SK",0,0]
[null,"  ",1999,"SVENINGSSON Filippa","Hestra Skid o SK",0,0]
[null,"  ",null,null,null,0,0]
[null,"  ",null,null,null,0,0]
[null,{"$f":"IF(F70>0,+B69+1,\"  \")","v":"  "},null,null,null,0,0]
[null,"  ",null,null,null,0,0]
[null,"  ",null,null,null,0,0]
[null,"  ",null,null,null,0,0]
[null,"  ",null,null,null,0,0]
[null,"  ",null,null,null,0,0]
[null,"  ",null,null,null,0,0]
[null,"  ",null,null,null,0,0]
[null,"  ",null,null,null,0,0]
[null,"  ",null,null,null,0,0]
[null,"  ",null,null,null,0,0]
[null,"  ",null,null,null,0,0]
[null,"  ",null,null,null,0,0]
[null,"  ",null,null,null,0,0]
[null,"  ",null,null,null,0,0]
[null,"  ",null,null,null,0,0]
[null,"  ",null,null,null,0,0]
[null,"  ",null,null,null,0,0]
[null,"  ",null,null,null,0,0]
[null,"  ",null,null,null,0,0]
[null,{"$f":"IF(F90>0,+B89+1,\"  \")","v":"  "},null,null,null,0,0]

{"sheet":"Res H17- ","index":23,"n_rows":90,"n_cols":7,"rows_kept":90,"cut":false,"hidden":true,"merged":[[1,2,1,5]]}
[]
[null,null,{"$f":"CONCATENATE(\"Resultat Dalacupen\",\"  \",'D 9-10'!B1)","v":"Resultat Dalacupen  2016"}]
[null,"Klass :","H 17-"]
[null,"Placering","Född","Namn","Klubb","Poäng Bästa 5","Poäng Totalt"]
[null,1,1998,"GRANATH Jona","IFK Falun",244,244]
[null,{"$f":"IF(F6>0,+B5+1,\"  \")","v":2},1966,"MICHELASSI Giannetto","Uppsala SLK",195,195]
[null,3,1999,"KARLBERG Lukas","Mälaröarnas Alpina SK",155,155]
[null,4,1996,"ÖSTMARK Anton","Gävle Alpina SK",150,150]
[null,5,1997,"KNUTSSON Oscar","Norrköpings SK",125,125]
[null,6,1980,"STRANDBERG Peter","IFK Falun",120,120]
[null,7,1999,"ANDERSSON Jonathan","Järfälla AK",116,116]
[null,8,1997,"NYMAN Fabian","Sälens IF",110,110]
[null,9,1999,"BRÄNDHOLM Jesper","Sälens IF",106,106]
[null,10,1983,"RAINER Niklas","IFK Borlänge",100,100]
[null,11,1995,"LIFVENDAHL Ludvig","Sälens IF",100,100]
[null,12,1999,"TEGMARK David","IFK Falun",100,100]
[null,13,1996,"SILFÄLT Johan","Valfjällets SLK",95,95]
[null,14,1997,"ERIKSSON Oskar","Sollentuna SLK",92,92]
[null,15,1995,"ERIKSSON Dennis","IFK Borlänge",83,83]
[null,16,1999,"KARLSSON Adam","Båsenberga SLK",80,80]
[null,17,1996,"KARLSSON Hampus","Gävle Alpina SK",80,80]
[null,18,1997,"LARSSON Måns","Huddinge SK AF",80,80]
[null,19,1971,"NILSSON Magnus","Tunafors SK",80,80]
[null,20,1999,"HAGBERG Johan","Avesta AK",79,79]
[null,21,1996,"JERNKROK Claes","Bollnäs AK",75,75]
[null,22,1999,"NILSSON Edvin","Sälens IF",75,75]
[null,23,1999,"JOHANSSON Filip","Östersund-Frösö SLK",74,74]
[null,24,1997,"FRISK Carl Fredrik","Väst Alpin SK Göteborg",66,66]
[null,25,1997,"NYSTRÖM Henrik","Sollentuna SLK",64,64]
[null,26,1997,"JORÄLV Daniel","Arvika SLK",62,62]
[null,27,1972,"ÅNGSTRÖM Claes","Uppsala SLK",60,60]
[null,28,1997,"SKÖRELID Jonathan","Bergsjö-Hassela AK",60,60]
[null,29,1999,"BERTILSSON Erik","Höghedens SLK",58,58]
[null,30,1999,"FONDBERG Keith Richard","Saltsjöbadens SLK",56,56]
[null,31,1997,"SMITH Anton","Göteborgs SLK",54,54]
[null,32,1997,"BERGMAN Martin","IFK Falun",53,53]
[null,33,1997,"EDVINSSON Mattias","Kiruna BK",50,50]
[null,34,1997,"HARTING Ludvig","Sollentuna SLK",49,49]
[null,35,1999,"NIVRE Fredrik","Uppsala SLK",44,44]
[null,36,1995,"SUNDSTRÖM Oscar","Gävle Alpina SK",42,42]
[null,37,1991,"GABRIELSSON Erik","IFK Falun",41,41]
[null,38,1999,"UHRAS Benjamin","Edsbyns IF Alpina Förening",40,40]
[null,39,1997,"KLAUSNER WALDESJÖ Jonathan","Örebro SLF",39,39]
[null,40,1997,"RUNDLÖF Marcus","Järfälla AK",39,39]
[null,41,1996,"ERIKSSON Johan","Roslagens AK",38,38]
[null,42,1999,"GUSTAFSON Wiliam","Uppsala SLK",38,38]
[null,43,1999,"BORNEMAR Marcus","Sollentuna SLK",37,37]
[null,44,1997,"LUNDIN Ludvig","Norrköpings SK",35,35]
[null,45,1997,"BENGTSSON SOHLMAN William","IFK Lidingö Slalomklubb",32,32]
[null,46,1997,"FAGERBLOM Albin","Falköpings AIK SLK",32,32]
[null,47,1994,"STENBERG Viktor","Huddinge SK AF",32,32]
[null,48,1997,"KARLSSON Filip","Uppsala SLK",31,31]
[null,49,1999,"LUNDQUIST Linus","Karlstads SLK",31,31]
[null,50,1998,"TÖRNQVIST David","IFK Borlänge",28,28]
[null,51,1999,"BERGMAN Jakob","IFK Falun",23,23]
[null,52,1998,"AXELSSON Adam","Avesta AK",22,22]
[null,53,1999,"SJÖSTRAND Oscar","Åre SLK",22,22]
[null,54,1999,"AXELSSON Fredrik","Karlstads SLK",19,19]
[null,55,1997,"KINDBERG Alfred","Kils SLK",19,19]
[null,56,1998,"WICKBERS Pontus","Bollnäs AK",18,18]
[null,57,1998,"ANTFOLK Alexander","IFK Borlänge",17,17]
[null,58,1999,"THERNSTRÖM Tobias","Sollentuna SLK",17,17]
[null,59,1997,"HEDBERG Filip","IFK Falun",16,16]
[null,60,1997,"ISRAELSSON Felix","Tunafors SK",16,16]
[null,61,1997,"BÜLOW Philip","Mullsjö Alpina SK",12,12]
[null,62,1999,"RAMNÖ Simon","Järfälla AK",9,9]
[null,63,1999,"DALMALM Oscar","Sollentuna SLK",7,7]
[null,64,1999,"GUSTAFSSON Benjamin","Sollentuna SLK",6,6]
[null,"  ",1995,"ENGBERG Niclas","Täby SLK",0,0]
[null,{"$f":"IF(F70>0,+B69+1,\"  \")","v":"  "},1998,"HARDEBERG Love","IFK Lidingö Slalomklubb",0,0]
[null,"  ",1997,"SEBZDA William","Järfälla AK",0,0]
[null,"  ",null,null,null,0,0]
[null,"  ",null,null,null,0,0]
[null,"  ",null,null,null,0,0]
[null,"  ",null,null,null,0,0]
[null,"  ",null,null,null,0,0]
[null,"  ",null,null,null,0,0]
[null,"  ",null,null,null,0,0]
[null,"  ",null,null,null,0,0]
[null,"  ",null,null,null,0,0]
[null,"  ",null,null,null,0,0]
[null,"  ",null,null,null,0,0]
[null,"  ",null,null,null,0,0]
[null,"  ",null,null,null,0,0]
[null,"  ",null,null,null,0,0]
[null,"  ",null,null,null,0,0]
[null,"  ",null,null,null,0,0]
[null,"  ",null,null,null,0,0]
[null,"  ",null,null,null,0,0]
[null,{"$f":"IF(F90>0,+B89+1,\"  \")","v":"  "},null,null,null,0,0]

{"sheet":"Manual","index":24,"n_rows":79,"n_cols":19,"rows_kept":79,"cut":false,"hidden":true,"merged":[]}
[]
[null,"Manual.   Sammanställning DalaCupen."]
[null,null,null,"Klass","Disciplin","Anmälningsdatum","PersonID","FIS-kod","Efternamn","Förnamn","Kön","Födelsedatum","Klubb","Nation",null,"Klass","År","Namn","Klubb"]
[null,"Excelformuläret är gjort för att fungera även kommande år. I cellen B1 (D 9-10), den gulmarkerade, är ett årtal inlagt.",null,"D 11-12","Super-G","2014-02-07 20:48:53","IID931715","","Narving","Maja","L","2003-05-06","Örebro SLF","SWE",{"$f":"UPPER(I4)","v":"NARVING"},{"$f":"D4","v":"D 11-12"},{"$f":"MID(L4,1,4)","v":"2003"},{"$f":"CONCATENATE(O4,\" \",J4)","v":"NARVING Maja"},{"$f":"M4","v":"Örebro SLF"}]
[null,"När året ändras till exv. 2016 så ändras även årtalet på samtliga rapporter.",null,"H 9-10","Super-G","2014-02-08 18:06:14","IID2493571","","Larsson","Måns","M","2005-08-15","Sälens IF","SWE",{"$f":"UPPER(I5)","v":"LARSSON"},{"$f":"D5","v":"H 9-10"},{"$f":"MID(L5,1,4)","v":"2005"},{"$f":"CONCATENATE(O5,\" \",J5)","v":"LARSSON Måns"},{"$f":"M5","v":"Sälens IF"}]
[null,null,null,"H 11-12","Super-G","2014-02-08 18:07:46","IID2493569","","Larsson","Kasper","M","2003-12-28","Sälens IF","SWE","LARSSON","H 11-12","2003","LARSSON Kasper","Sälens IF"]
[null,"Alla anmälningar hämtas in via IdrottOnLine i Excel-format. Tyvärr stämmer inte utseendet med vad som är tänkt att gälla",null,"D 13-14","Super-G","2014-02-09 07:53:26","IID896167","","Andersson Hedgren","Sofia","L","2000-10-06","Malungs SLK","SWE","ANDERSSON HEDGREN","D 13-14","2000","ANDERSSON HEDGREN Sofia","Malungs SLK"]
[null,"för det här Excelformuläret.",null,"D 11-12","Super-G","2014-02-09 21:13:51","IID2727346","","Folkesson","Elin","L","2003-01-22","Malungs SLK","SWE","FOLKESSON","D 11-12","2003","FOLKESSON Elin","Malungs SLK"]
[null,"Det är enkel att fixa enl. exemplet här till höger. Kolla formlerna som ligger i det färgade området. Kopiera formlerna till ",null,"D 13-14","Super-G","2014-02-09 21:35:05","IID274729","","Andersson","Madeleine","L","2001-03-26","Örebro SLF","SWE","ANDERSSON","D 13-14","2001","ANDERSSON Madeleine","Örebro SLF"]
[null,"ditt eget inladdade excelblad. Ändra  vilken cell som gäller i ditt excelark. ",null,"D 9-10","Super-G","2014-02-09 21:37:28","IID274728","","Andersson","Melinda","L","2005-02-04","Örebro SLF","SWE","ANDERSSON","D 9-10","2005","ANDERSSON Melinda","Örebro SLF"]
[null,null,null,"H 11-12","Super-G","2014-02-10 09:19:11","IID387424","","Barck","Manfred","M","2002-11-17","IFK Falun","SWE","BARCK","H 11-12","2002","BARCK Manfred","IFK Falun"]
[null,"Sker inläggningen till allra första tävlingen i DalaCupen så är det bara att kopiera in alla namn under resp flik."]
[null,"Längst ner på Excelbladet finns små flikar märkta  D 9-10, H 9-10, D 11-12 o.s.v. Varje flik visar resp tävlingsklass."]
[null,null,null,null,null,null,null,null,"Kolla formlerna i  O, P, Q, R och S."]
[null,"Inför nästa tävling ska den tävlingens åkare läggas till de redan befintliga. För att undvika att samma åkare läggs till som",null,null,null,null,null,null,"Kopiera sedan kolumnerna P, Q, R och S"]
[null,"redan finns registread så gör du på följande sätt. :"]
[null,"Klicka på knappen Nya namn. Då öppnas ett nytt blad där redan befintliga åkare för den valda klassen är inlagda",null,null,null,null,null,null,"Klistra sedan in med kommando Klistra in Special och markera värden i ett nytt blad."]
[null,"i den vänstra kolumnen.",null,null,null,null,null,null,"Sortera på klass så har du enkelt att sedan gå vidare med att klistra in i sammanställningen för DalaCupen."]
[null,"Lägg därefter in de nya namnen i de högra kolumnerna, Formlerna i Formelfältet registrerar vilka namn som finns och"]
[null," vilka som ska läggas till.  Följ instruktionerna i det gula fältet till höger på bladet."]
[]
[]
[]
[]
[]
[]
[]
[]
[]
[]
[]
[]
[]
[]
[]
[]
[]
[]
[]
[]
[]
[]
[]
[]
[null,"Efter genomförd tävling förs resultatet in på resp klass. Placeringen noteras och poäng sätts automatiskt. "]
[null,"1:a 100 poäng, 2:a 80 o.s.v."]
[null,"Det är minst sagt kämpigt att söka rätt på rätt namn i listan när man utgår från resultatlistan. Det tar tid."]
[null,"Gör istället så här.  Klicka på knappen Sortera namn. Då får du alla åkare i bokstavsordning och det går "]
[null,"snabbt att bläddra fram rätt namn."]
[null,"När alla resultat är inlagda så klickar du på knappen Sortera poäng. Då hamnnar alla åkare i fallande ordning "]
[null,"enl. kolumn Bäst av 3."]
[]
[null,"Klickar du på  Utskrift får du en rapport på den aktuella ställningen i DalaCup."]
[]
[null,"Är du osäker på om du registrerat placeringarna rätt ?  Då kan du kolla genom att ovanför den aktuella tävlingen"]
[null,"klicka på knappen Sort. Då får du fram hela listan sorterad på resultatet på tävlingen och enkelt kan jämföra"]
[null,"med resultatlistan du utgått ifrån. Klicka sen på Sortera poäng så ser det ut som vanligt."]
[]
[]
[]
[]
[]
[]
[]
[]
[]
[]
[null,"Efter att alla deltävlingar som ingår I DalaCupen är körda så är det dags för Slutresultat."]
[]
[null,"Se till att alla klasser är sorterade och utskrivna.  Klicka därefter på Slutresultat. "]
[null,"Den knappen finns på fliken för H 17-."]
[null,"Du får då en lista på de 6 bästa i resp. klass."]
[]
[null,"Om det är mer än en på samma poäng så får man justera det manuellt på slutresultatlistan."]
[null,"Reglerna för hur samma poäng hanteras finns i förutsättningarna för DalaCupen."]
[null,"Måste du låsa upp låset för sidan så är lösenordet =  dala."]
[]
[]
[null,"Hittar ni fel i Excelformuläret får du justera om du är kunnig. Du kan också kontakta Lars Nordell, 070-5618283."]